{"text_format":"1","workbook":"xlsx","n_sheets":3,"sheets":["Elenco Prezzi2","sal","Foglio1"],"not_rendered":{"charts":0,"images":1,"macros":1,"external_links":0,"defined_names":7,"comments":0,"pivot_tables":0},"unopened":[],"bounds":{"document_bytes":16777216,"sheet_cells":100000,"rows_first":2000,"rows_last":500,"rows_between":2000,"halvings":0,"cell_chars":16384,"cell_head_chars":4096},"cells_cut":0,"cells_raw":0,"read":"whole","date_system":"1900"}

{"sheet":"Elenco Prezzi2","index":0,"n_rows":206,"n_cols":5,"rows_kept":206,"cut":false,"hidden":false,"merged":[]}
["Codice\nArticolo","DESCRIZIONE DEI LAVORI\nE DELLE SOMMINISTRAZIONI","Unità di misura","Quantita'\n","Prezzo\nunitario"]
[1,"SAULEA ADA","mq",10,10]
[2,"PEPPINO PIPPO","mq",10,10]
[3,"HALAM SALAM","mq",10,10]
[4,"SINGH SINGHIOZZO000000000000000000000000000010002","mq",10,10]
[5,"TOPO LINO","mq",10,10]
[6,"TOPO LINA","mq",10,10]
[7,"MARINELA BELLA","mq",10,10]
[8,"COCCO COCCOLINOooooooooooooooooooooooo1ooooooo2oooooooooo3oooooooooooooo4ooooooooooooo5oooooooo","mq",10,10]
[9,"òkladf àadklg sdàògk àtojkg àoaùropgk ùdrògka ùpàdrak ùarpgk ùarògopk aùrgpoka rùgoagk aùroògk aùoòrgk aùroògk aùroògka ùoògkùWEPGK ùAEOòRKG Ùaeropk ùaekoòrrg 1","mq",10,10]
[10,"òkladf àadklg sdàògk àtojkg àoaùropgk ùdrògka ùpàdrak ùarpgk ùarògopk aùrgpoka rùgoagk aùroògk aùoòrgk aùroògk aùroògka ùoògkùWEPGK ùAEOòRKG Ùaeropk ùaekoòrrg 2","mq",10,10]
[11,"òkladf àadklg sdàògk àtojkg àoaùropgk ùdrògka ùpàdrak ùarpgk ùarògopk aùrgpoka rùgoagk aùroògk aùoòrgk aùroògk aùroògka ùoògkùWEPGK ùAEOòRKG Ùaeropk ùaekoòrrg 3","mq",10,10]
[12,"òkladf àadklg sdàògk àtojkg àoaùropgk ùdrògka ùpàdrak ùarpgk ùarògopk aùrgpoka rùgoagk aùroògk aùoòrgk aùroògk aùroògka ùoògkùWEPGK ùAEOòRKG Ùaeropk ùaekoòrrg 4","mq",10,10]
[]
[]
[]
[]
[]
[]
[]
[]
[]
[]
[]
[]
[]
[]
[]
[]
[]
[]
[]
[]
[]
[]
[]
[]
[]
[]
[]
[]
[]
[]
[]
[]
[]
[]
[]
[]
[]
[]
[]
[]
[]
[]
[]
[]
[]
[]
[]
[]
[]
[]
[]
[]
[]
[]
[]
[]
[]
[]
[]
[]
[]
[]
[]
[]
[]
[]
[]
[]
[]
[]
[]
[]
[]
[]
[]
[]
[]
[]
[]
[]
[]
[]
[]
[]
[]
[]
[]
[]
[]
[]
[]
[]
[]
[]
[]
[]
[]
[]
[]
[]
[]
[]
[]
[]
[]
[]
[]
[]
[]
[]
[]
[]
[]
[]
[]
[]
[]
[]
[]
[]
[]
[]
[]
[]
[]
[]
[]
[]
[]
[]
[]
[]
[]
[]
[]
[]
[]
[]
[]
[]
[]
[]
[]
[]
[]
[]
[]
[]
[]
[]
[]
[]
[]
[]
[]
[]
[]
[]
[]
[]
[]
[]
[]
[]
[]
[]
[]
[]
[]
[]
[]
[]
[]
[]
[]
[]
[]
[]
[]
[]
[]
[]
[]
[]
[]
[]
[]
[]
[]
[]
[]
[]
["Questa riga NON deve essere cancellata, MAI!!!  (ma può rimanere tranquillamente NASCOSTA!)","Questa riga NON deve essere cancellata, MAI!!!  (ma può rimanere tranquillamente NASCOSTA!)","Questa riga NON deve essere cancellata, MAI!!!  (ma può rimanere tranquillamente NASCOSTA!)","Questa riga NON deve essere cancellata, MAI!!!  (ma può rimanere tranquillamente NASCOSTA!)"]

{"sheet":"sal","index":1,"n_rows":1784,"n_cols":44,"rows_kept":1784,"cut":false,"hidden":false,"merged":[]}
[null,null,null,null,null,null,null,null,null,null,null,null,null,null,null,null,null,null,null,null,null,null,null,null,null,null,null,null,"criteri"]
[null,null,null,null,null,null,null,{"$f":"IFERROR(IF(PRODUCT(D2:G2)=0,\"\",PRODUCT(D2:G2)),\"\")","v":""},null,null,null,null,null,null,null,null,null,null,null,null,null,null,"imp cat","importo",0,0,"importo sub cat",{"$f":"ADDRESS(ROW(R1639),COLUMN(R1639),4)","v":"R1639"},true]
[null,null,null,null,null,null,null,null,null,null,null,null,null,null,null,null,null,{"$f":"R1640","v":200}]
["N.","Articolo","DESIGNAZIONE DEI LAVORI\nE DELLE SOMMINISTRAZIONI","misure","P.U.\nCoeff.","Lung.","Larg.","Alt.\nPeso","Quantità","Colonna3","Prezzo\nunitario","PU","LUNG","LARG","ALT/PESO",null,"di cui\nsicurezza","Importo €",null,"Se \"s\" = quantita' da computo se \"n\" quantita' personalizzata",null,null,null,null,{"$f":"IF(AO4=\"\",Y2,Y2+AO4)","v":0},0,null,null,{"$f":"ROWS($AC4:AC$4)","v":1},{"$f":"IF(AB4=\"ok\",AC4,\"\")","v":""},{"$f":"IFERROR(SMALL($AD$4:$AD$1642,ROWS($AD$4:AD4)),\"\")","v":3},null,{"$f":"IFERROR(INDEX($A$4:$R$1642,$AE4,COLUMNS($A:$B)),\"\")","v":1},{"$f":"IFERROR(INDEX($A$4:$R$1642,$AE4,COLUMNS($A:$C)),\"\")","v":"dd"},{"$f":"IFERROR(INDEX($A$4:$R$1642,$AE4,COLUMNS($A:$R)),\"\")","v":100},null,null,null,null,null,null,null,null,{"$f":"IF(AQ4=\"\",AR3,AR3+AQ4)","v":0}]
[null,null,null,null,null,null,null,null,null,null,null,null,null,null,null,null,null,null,null,null,null,null,null,null,{"$f":"IF(AO5=\"\",Y4,Y4+AO5)","v":0},0,null,{"$f":"IF(W5>0,\"OK\",\"\")","v":""},{"$f":"ROWS($AC$4:AC5)","v":2},"",{"$f":"IFERROR(SMALL($AD$4:$AD$1642,ROWS($AD$4:AD5)),\"\")","v":30},null,{"$f":"IFERROR(INDEX($A$4:$R$1642,$AE5,COLUMNS($A:$B)),\"\")","v":2},{"$f":"IFERROR(INDEX($A$4:$R$1642,$AE5,COLUMNS($A:$C)),\"\")","v":"ff"},{"$f":"IFERROR(INDEX($A$4:$R$1642,$AE5,COLUMNS($A:$R)),\"\")","v":100},null,null,null,null,null,null,null,null,{"$f":"IF(AQ5=\"\",AR4,AR4+AQ5)","v":0}]
[null,{"$f":"Y6","v":1},"dd",null,null,null,null,null,null,null,null,null,null,null,null,null,null,{"$f":"W6","v":100},null,null,null,null,{"$f":"SUMIFS(X:X,Y:Y,Y6)","v":100},null,{"$f":"IF(AO6=\"\",Y5,Y5+AO6)","v":1},0,null,"OK",{"$f":"ROWS($AC$4:AC6)","v":3},3,{"$f":"IFERROR(SMALL($AD$4:$AD$1642,ROWS($AD$4:AD6)),\"\")","v":""},null,{"$f":"IFERROR(INDEX($A$4:$R$1642,$AE6,COLUMNS($A:$B)),\"\")","v":""},{"$f":"IFERROR(INDEX($A$4:$R$1642,$AE6,COLUMNS($A:$C)),\"\")","v":""},{"$f":"IFERROR(INDEX($A$4:$R$1642,$AE6,COLUMNS($A:$R)),\"\")","v":""},null,null,null,null,null,1,null,null,0]
[null,null,null,null,null,null,null,null,null,null,null,null,null,null,null,null,null,null,null,null,null,null,null,null,{"$f":"IF(AO7=\"\",Y6,Y6+AO7)","v":1},0,null,{"$f":"IF(W7>0,\"OK\",\"\")","v":""},{"$f":"ROWS($AC$4:AC7)","v":4},{"$f":"IF(AB7=\"ok\",AC7,\"\")","v":""},{"$f":"IFERROR(SMALL($AD$4:$AD$1642,ROWS($AD$4:AD7)),\"\")","v":""},null,{"$f":"IFERROR(INDEX($A$4:$R$1642,$AE7,COLUMNS($A:$B)),\"\")","v":""},{"$f":"IFERROR(INDEX($A$4:$R$1642,$AE7,COLUMNS($A:$C)),\"\")","v":""},{"$f":"IFERROR(INDEX($A$4:$R$1642,$AE7,COLUMNS($A:$R)),\"\")","v":""},null,null,null,null,null,null,null,null,{"$f":"IF(AQ7=\"\",AR6,AR6+AQ7)","v":0}]
[{"$f":"AR8","v":1},1,{"$f":"(VLOOKUP($B8,'Elenco Prezzi2'!$A$2:$E$201,2,FALSE))","v":"SAULEA ADA"},null,null,null,null,null,null,null,null,null,null,null,null,null,null,null,null,null,null,null,null,null,1,0,null,{"$f":"IF(W8>0,\"OK\",\"\")","v":""},{"$f":"ROWS($AC$4:AC8)","v":5},{"$f":"IF(AB8=\"ok\",AC8,\"\")","v":""},{"$f":"IFERROR(SMALL($AD$4:$AD$1642,ROWS($AD$4:AD8)),\"\")","v":""},null,{"$f":"IFERROR(INDEX($A$4:$R$1642,$AE8,COLUMNS($A:$B)),\"\")","v":""},{"$f":"IFERROR(INDEX($A$4:$R$1642,$AE8,COLUMNS($A:$C)),\"\")","v":""},{"$f":"IFERROR(INDEX($A$4:$R$1642,$AE8,COLUMNS($A:$R)),\"\")","v":""},null,null,null,null,null,null,null,1,1]
[null,null,null,{"$f":"CONCATENATE(AK9&AL9&AM9&AN9)","v":""},null,null,null,null,{"$f":"IFERROR(IF(PRODUCT(E9:H9)=0,\"\",PRODUCT(E9:H9)),\"\")","v":""},{"$f":"I9","v":""},null,{"$f":"IF(E9>0,\" (p/u) \"&Modulo2.GetFormula(E9),\"\")","v":""},{"$f":"IF(F9>0,\" (lu) \"&Modulo2.GetFormula(F9),\"\")","v":""},{"$f":"IF(G9>0,\" (la) \"&Modulo2.GetFormula(G9),\"\")","v":""},{"$f":"IF(H9>0,\" (H) \"&Modulo2.GetFormula(H9),\"\")","v":""},null,null,null,null,null,null,null,null,null,{"$f":"IF(AO9=\"\",Y8,Y8+AO9)","v":1},{"$f":"IF(AP9=\"\",Z8,Z8+AP9)","v":0},null,"",{"$f":"ROWS($AC$4:AC9)","v":6},"",{"$f":"IFERROR(SMALL($AD$4:$AD$1642,ROWS($AD$4:AD9)),\"\")","v":""},null,{"$f":"IFERROR(INDEX($A$4:$R$1642,$AE9,COLUMNS($A:$B)),\"\")","v":""},{"$f":"IFERROR(INDEX($A$4:$R$1642,$AE9,COLUMNS($A:$C)),\"\")","v":""},{"$f":"IFERROR(INDEX($A$4:$R$1642,$AE9,COLUMNS($A:$R)),\"\")","v":""},null,{"$f":"IFERROR(IF(SEARCH(\"=\",L9),L9,\"\"),\"\")","v":""},{"$f":"IFERROR(IF(SEARCH(\"=\",M9),M9,\"\"),\"\")","v":""},{"$f":"IFERROR(IF(SEARCH(\"=\",N9),N9,\"\"),\"\")","v":""},{"$f":"IFERROR(IF(SEARCH(\"=\",O9),O9,\"\"),\"\")","v":""},null,null,null,1]
[null,null,null,"",null,null,null,null,"","",null,{"$f":"IF(E10>0,\" (p/u) \"&Modulo2.GetFormula(E10),\"\")","v":""},{"$f":"IF(F10>0,\" (lu) \"&Modulo2.GetFormula(F10),\"\")","v":""},{"$f":"IF(G10>0,\" (la) \"&Modulo2.GetFormula(G10),\"\")","v":""},{"$f":"IF(H10>0,\" (H) \"&Modulo2.GetFormula(H10),\"\")","v":""},null,null,null,null,null,null,null,null,null,1,0,null,"",{"$f":"ROWS($AC$4:AC10)","v":7},"",{"$f":"IFERROR(SMALL($AD$4:$AD$1642,ROWS($AD$4:AD10)),\"\")","v":""},null,{"$f":"IFERROR(INDEX($A$4:$R$1642,$AE10,COLUMNS($A:$B)),\"\")","v":""},{"$f":"IFERROR(INDEX($A$4:$R$1642,$AE10,COLUMNS($A:$C)),\"\")","v":""},{"$f":"IFERROR(INDEX($A$4:$R$1642,$AE10,COLUMNS($A:$R)),\"\")","v":""},null,"","","","",null,null,null,1]
[null,null,null,"",null,null,null,null,"","",null,{"$f":"IF(E11>0,\" (p/u) \"&Modulo2.GetFormula(E11),\"\")","v":""},{"$f":"IF(F11>0,\" (lu) \"&Modulo2.GetFormula(F11),\"\")","v":""},{"$f":"IF(G11>0,\" (la) \"&Modulo2.GetFormula(G11),\"\")","v":""},{"$f":"IF(H11>0,\" (H) \"&Modulo2.GetFormula(H11),\"\")","v":""},null,null,null,null,null,null,null,null,null,1,0,null,"",{"$f":"ROWS($AC$4:AC11)","v":8},"",{"$f":"IFERROR(SMALL($AD$4:$AD$1642,ROWS($AD$4:AD11)),\"\")","v":""},null,{"$f":"IFERROR(INDEX($A$4:$R$1642,$AE11,COLUMNS($A:$B)),\"\")","v":""},{"$f":"IFERROR(INDEX($A$4:$R$1642,$AE11,COLUMNS($A:$C)),\"\")","v":""},{"$f":"IFERROR(INDEX($A$4:$R$1642,$AE11,COLUMNS($A:$R)),\"\")","v":""},null,"","","","",null,null,null,1]
[null,null,null,null,null,null,null,{"$f":"CONCATENATE(\"SOMMANO [\",VLOOKUP(B8,'Elenco Prezzi2'!$A$2:$E$201,3,FALSE()),\"]\")","v":"SOMMANO [mq]"},{"$f":"IF(T12=\"s\",V13,SUBTOTAL(9,I8:I12))","v":10},null,{"$f":"VLOOKUP(B8,'Elenco Prezzi2'!$A$2:$E$201,5,FALSE)","v":10},null,null,null,null,null,null,{"$f":"IFERROR(I12*K12,\"\")","v":100},null,"s",null,null,null,{"$f":"R12","v":100},1,0,null,"",{"$f":"ROWS($AC$4:AC12)","v":9},"",{"$f":"IFERROR(SMALL($AD$4:$AD$1642,ROWS($AD$4:AD12)),\"\")","v":""},null,{"$f":"IFERROR(INDEX($A$4:$R$1642,$AE12,COLUMNS($A:$B)),\"\")","v":""},{"$f":"IFERROR(INDEX($A$4:$R$1642,$AE12,COLUMNS($A:$C)),\"\")","v":""},{"$f":"IFERROR(INDEX($A$4:$R$1642,$AE12,COLUMNS($A:$R)),\"\")","v":""},null,null,null,null,null,null,null,null,1]
[null,null,null,null,null,null,null,{"$f":"IF(I13<0,\"a detrarre\",\"\")","v":""},{"$f":"SUMIF(I8:I11,\"<0\")","v":0},null,null,null,null,null,null,null,null,null,{"$f":"R12","v":100},null,null,{"$f":"VLOOKUP(B8,'Elenco Prezzi2'!$A$1:$H$199,4,FALSE)","v":10},null,null,1,0,null,"",{"$f":"ROWS($AC$4:AC13)","v":10},"",{"$f":"IFERROR(SMALL($AD$4:$AD$1642,ROWS($AD$4:AD13)),\"\")","v":""},null,{"$f":"IFERROR(INDEX($A$4:$R$1642,$AE13,COLUMNS($A:$B)),\"\")","v":""},{"$f":"IFERROR(INDEX($A$4:$R$1642,$AE13,COLUMNS($A:$C)),\"\")","v":""},{"$f":"IFERROR(INDEX($A$4:$R$1642,$AE13,COLUMNS($A:$R)),\"\")","v":""},null,null,null,null,null,null,null,null,1]
[null,null,null,null,null,null,null,null,null,null,null,null,null,null,null,null,null,null,null,null,null,null,null,null,1,0,null,"",{"$f":"ROWS($AC$4:AC14)","v":11},"",{"$f":"IFERROR(SMALL($AD$4:$AD$1642,ROWS($AD14:AD$51)),\"\")","v":""},null,{"$f":"IFERROR(INDEX($A$4:$R$1642,$AE14,COLUMNS($A:$B)),\"\")","v":""},{"$f":"IFERROR(INDEX($A$4:$R$1642,$AE14,COLUMNS($A:$C)),\"\")","v":""},{"$f":"IFERROR(INDEX($A$4:$R$1642,$AE14,COLUMNS($A:$R)),\"\")","v":""},null,null,null,null,null,null,null,null,1]
[{"$f":"AR15","v":2},null,{"$f":"(VLOOKUP($B15,'Elenco Prezzi2'!$A$2:$E$201,2,FALSE))","v":{"$error":"#N/A"}},null,null,null,null,null,null,null,null,null,null,null,null,null,null,null,null,null,null,null,null,null,1,0,null,"",{"$f":"ROWS($AC$4:AC15)","v":12},"",{"$f":"IFERROR(SMALL($AD$4:$AD$1642,ROWS($AD15:AD$51)),\"\")","v":""},null,{"$f":"IFERROR(INDEX($A$4:$R$1642,$AE15,COLUMNS($A:$B)),\"\")","v":""},{"$f":"IFERROR(INDEX($A$4:$R$1642,$AE15,COLUMNS($A:$C)),\"\")","v":""},{"$f":"IFERROR(INDEX($A$4:$R$1642,$AE15,COLUMNS($A:$R)),\"\")","v":""},null,null,null,null,null,null,null,1,2]
[null,null,null,{"$f":"CONCATENATE(AK16&AL16&AM16&AN16)","v":""},null,null,null,null,{"$f":"IFERROR(IF(PRODUCT(E16:H16)=0,\"\",PRODUCT(E16:H16)),\"\")","v":""},{"$f":"I16","v":""},null,{"$f":"IF(E16>0,\" (p/u) \"&Modulo2.GetFormula(E16),\"\")","v":""},{"$f":"IF(F16>0,\" (lu) \"&Modulo2.GetFormula(F16),\"\")","v":""},{"$f":"IF(G16>0,\" (la) \"&Modulo2.GetFormula(G16),\"\")","v":""},{"$f":"IF(H16>0,\" (H) \"&Modulo2.GetFormula(H16),\"\")","v":""},null,null,null,null,null,null,null,null,null,1,0,null,"",{"$f":"ROWS($AC$4:AC16)","v":13},"",{"$f":"IFERROR(SMALL($AD$4:$AD$1642,ROWS($AD16:AD$51)),\"\")","v":""},null,{"$f":"IFERROR(INDEX($A$4:$R$1642,$AE16,COLUMNS($A:$B)),\"\")","v":""},{"$f":"IFERROR(INDEX($A$4:$R$1642,$AE16,COLUMNS($A:$C)),\"\")","v":""},{"$f":"IFERROR(INDEX($A$4:$R$1642,$AE16,COLUMNS($A:$R)),\"\")","v":""},null,{"$f":"IFERROR(IF(SEARCH(\"=\",L16),L16,\"\"),\"\")","v":""},{"$f":"IFERROR(IF(SEARCH(\"=\",M16),M16,\"\"),\"\")","v":""},{"$f":"IFERROR(IF(SEARCH(\"=\",N16),N16,\"\"),\"\")","v":""},{"$f":"IFERROR(IF(SEARCH(\"=\",O16),O16,\"\"),\"\")","v":""},null,null,null,2]
[null,null,null,"",null,null,null,null,"","",null,{"$f":"IF(E17>0,\" (p/u) \"&Modulo2.GetFormula(E17),\"\")","v":""},{"$f":"IF(F17>0,\" (lu) \"&Modulo2.GetFormula(F17),\"\")","v":""},{"$f":"IF(G17>0,\" (la) \"&Modulo2.GetFormula(G17),\"\")","v":""},{"$f":"IF(H17>0,\" (H) \"&Modulo2.GetFormula(H17),\"\")","v":""},null,null,null,null,null,null,null,null,null,1,0,null,"",{"$f":"ROWS($AC$4:AC17)","v":14},"",{"$f":"IFERROR(SMALL($AD$4:$AD$1642,ROWS($AD17:AD$51)),\"\")","v":""},null,{"$f":"IFERROR(INDEX($A$4:$R$1642,$AE17,COLUMNS($A:$B)),\"\")","v":""},{"$f":"IFERROR(INDEX($A$4:$R$1642,$AE17,COLUMNS($A:$C)),\"\")","v":""},{"$f":"IFERROR(INDEX($A$4:$R$1642,$AE17,COLUMNS($A:$R)),\"\")","v":""},null,"","","","",null,null,null,2]
[null,null,null,"",null,null,null,null,"","",null,{"$f":"IF(E18>0,\" (p/u) \"&Modulo2.GetFormula(E18),\"\")","v":""},{"$f":"IF(F18>0,\" (lu) \"&Modulo2.GetFormula(F18),\"\")","v":""},{"$f":"IF(G18>0,\" (la) \"&Modulo2.GetFormula(G18),\"\")","v":""},{"$f":"IF(H18>0,\" (H) \"&Modulo2.GetFormula(H18),\"\")","v":""},null,null,null,null,null,null,null,null,null,1,0,null,"",{"$f":"ROWS($AC$4:AC18)","v":15},"",{"$f":"IFERROR(SMALL($AD$4:$AD$1642,ROWS($AD18:AD$51)),\"\")","v":""},null,{"$f":"IFERROR(INDEX($A$4:$R$1642,$AE18,COLUMNS($A:$B)),\"\")","v":""},{"$f":"IFERROR(INDEX($A$4:$R$1642,$AE18,COLUMNS($A:$C)),\"\")","v":""},{"$f":"IFERROR(INDEX($A$4:$R$1642,$AE18,COLUMNS($A:$R)),\"\")","v":""},null,"","","","",null,null,null,2]
[null,null,null,null,null,null,null,{"$f":"CONCATENATE(\"SOMMANO [\",VLOOKUP(V20,'Elenco Prezzi2'!$A$2:$E$201,3,FALSE()),\"]\")","v":{"$error":"#REF!"}},{"$f":"IF(T19=\"s\",V20,SUBTOTAL(9,I15:I19))","v":{"$error":"#REF!"}},null,{"$f":"VLOOKUP(B15,'Elenco Prezzi2'!$A$2:$E$201,5,FALSE)","v":{"$error":"#N/A"}},null,null,null,null,null,null,{"$f":"IFERROR(I19*K19,\"\")","v":""},null,"s",null,null,null,{"$f":"R19","v":""},1,0,null,"",{"$f":"ROWS($AC$4:AC19)","v":16},"",{"$f":"IFERROR(SMALL($AD$4:$AD$1642,ROWS($AD19:AD$51)),\"\")","v":""},null,{"$f":"IFERROR(INDEX($A$4:$R$1642,$AE19,COLUMNS($A:$B)),\"\")","v":""},{"$f":"IFERROR(INDEX($A$4:$R$1642,$AE19,COLUMNS($A:$C)),\"\")","v":""},{"$f":"IFERROR(INDEX($A$4:$R$1642,$AE19,COLUMNS($A:$R)),\"\")","v":""},null,null,null,null,null,null,null,null,2]
[null,null,null,null,null,null,null,{"$f":"IF(I20<0,\"a detrarre\",\"\")","v":""},{"$f":"SUMIF(I15:I18,\"<0\")","v":0},null,null,null,null,null,null,null,null,null,{"$f":"R19","v":""},null,null,{"$f":"VLOOKUP(B15,#REF!,4,FALSE)","v":{"$error":"#REF!"}},null,null,1,0,null,"",{"$f":"ROWS($AC$4:AC20)","v":17},"",{"$f":"IFERROR(SMALL($AD$4:$AD$1642,ROWS($AD20:AD$51)),\"\")","v":""},null,{"$f":"IFERROR(INDEX($A$4:$R$1642,$AE20,COLUMNS($A:$B)),\"\")","v":""},{"$f":"IFERROR(INDEX($A$4:$R$1642,$AE20,COLUMNS($A:$C)),\"\")","v":""},{"$f":"IFERROR(INDEX($A$4:$R$1642,$AE20,COLUMNS($A:$R)),\"\")","v":""},null,null,null,null,null,null,null,null,2]
[null,null,null,null,null,null,null,null,null,null,null,null,null,null,null,null,null,null,null,null,null,null,null,null,1,0,null,"",{"$f":"ROWS($AC$4:AC21)","v":18},"",{"$f":"IFERROR(SMALL($AD$4:$AD$1642,ROWS($AD21:AD$51)),\"\")","v":""},null,{"$f":"IFERROR(INDEX($A$4:$R$1642,$AE21,COLUMNS($A:$B)),\"\")","v":""},{"$f":"IFERROR(INDEX($A$4:$R$1642,$AE21,COLUMNS($A:$C)),\"\")","v":""},{"$f":"IFERROR(INDEX($A$4:$R$1642,$AE21,COLUMNS($A:$R)),\"\")","v":""},null,null,null,null,null,null,null,null,2]
[null,null,null,null,null,null,null,null,null,null,null,null,null,null,null,null,null,null,null,null,null,null,null,null,1,0,null,"",{"$f":"ROWS($AC$4:AC22)","v":19},"",{"$f":"IFERROR(SMALL($AD$4:$AD$1642,ROWS($AD22:AD$51)),\"\")","v":""},null,{"$f":"IFERROR(INDEX($A$4:$R$1642,$AE22,COLUMNS($A:$B)),\"\")","v":""},{"$f":"IFERROR(INDEX($A$4:$R$1642,$AE22,COLUMNS($A:$C)),\"\")","v":""},{"$f":"IFERROR(INDEX($A$4:$R$1642,$AE22,COLUMNS($A:$R)),\"\")","v":""},null,null,null,null,null,null,null,null,2]
[null,null,null,null,null,null,null,null,null,null,null,null,null,null,null,null,null,null,null,null,null,null,null,null,{"$f":"IF(AO23=\"\",Y22,Y22+AO23)","v":1},{"$f":"IF(AP23=\"\",Z22,Z22+AP23)","v":0},null,"",{"$f":"ROWS($AC$4:AC23)","v":20},"",{"$f":"IFERROR(SMALL($AD$4:$AD$1642,ROWS($AD23:AD$51)),\"\")","v":""},null,{"$f":"IFERROR(INDEX($A$4:$R$1642,$AE23,COLUMNS($A:$B)),\"\")","v":""},{"$f":"IFERROR(INDEX($A$4:$R$1642,$AE23,COLUMNS($A:$C)),\"\")","v":""},{"$f":"IFERROR(INDEX($A$4:$R$1642,$AE23,COLUMNS($A:$R)),\"\")","v":""},null,null,null,null,null,null,null,null,2]
[{"$f":"AR24","v":3},null,{"$f":"(VLOOKUP($B24,'Elenco Prezzi2'!$A$2:$E$201,2,FALSE))","v":{"$error":"#N/A"}},null,null,null,null,null,null,null,null,null,null,null,null,null,null,null,null,null,null,null,null,null,1,0,null,"",{"$f":"ROWS($AC$4:AC24)","v":21},"",{"$f":"IFERROR(SMALL($AD$4:$AD$1642,ROWS($AD24:AD$51)),\"\")","v":""},null,{"$f":"IFERROR(INDEX($A$4:$R$1642,$AE24,COLUMNS($A:$B)),\"\")","v":""},{"$f":"IFERROR(INDEX($A$4:$R$1642,$AE24,COLUMNS($A:$C)),\"\")","v":""},{"$f":"IFERROR(INDEX($A$4:$R$1642,$AE24,COLUMNS($A:$R)),\"\")","v":""},null,null,null,null,null,null,null,1,3]
[null,null,null,{"$f":"CONCATENATE(AK25&AL25&AM25&AN25)","v":""},null,null,null,null,{"$f":"IFERROR(IF(PRODUCT(E25:H25)=0,\"\",PRODUCT(E25:H25)),\"\")","v":""},{"$f":"I25","v":""},null,{"$f":"IF(E25>0,\" (p/u) \"&Modulo2.GetFormula(E25),\"\")","v":""},{"$f":"IF(F25>0,\" (lu) \"&Modulo2.GetFormula(F25),\"\")","v":""},{"$f":"IF(G25>0,\" (la) \"&Modulo2.GetFormula(G25),\"\")","v":""},{"$f":"IF(H25>0,\" (H) \"&Modulo2.GetFormula(H25),\"\")","v":""},null,null,null,null,null,null,null,null,null,1,0,null,"",{"$f":"ROWS($AC$4:AC25)","v":22},"",{"$f":"IFERROR(SMALL($AD$4:$AD$1642,ROWS($AD25:AD$51)),\"\")","v":""},null,{"$f":"IFERROR(INDEX($A$4:$R$1642,$AE25,COLUMNS($A:$B)),\"\")","v":""},{"$f":"IFERROR(INDEX($A$4:$R$1642,$AE25,COLUMNS($A:$C)),\"\")","v":""},{"$f":"IFERROR(INDEX($A$4:$R$1642,$AE25,COLUMNS($A:$R)),\"\")","v":""},null,{"$f":"IFERROR(IF(SEARCH(\"=\",L25),L25,\"\"),\"\")","v":""},{"$f":"IFERROR(IF(SEARCH(\"=\",M25),M25,\"\"),\"\")","v":""},{"$f":"IFERROR(IF(SEARCH(\"=\",N25),N25,\"\"),\"\")","v":""},{"$f":"IFERROR(IF(SEARCH(\"=\",O25),O25,\"\"),\"\")","v":""},null,null,null,3]
[null,null,null,"",null,null,null,null,"","",null,{"$f":"IF(E26>0,\" (p/u) \"&Modulo2.GetFormula(E26),\"\")","v":""},{"$f":"IF(F26>0,\" (lu) \"&Modulo2.GetFormula(F26),\"\")","v":""},{"$f":"IF(G26>0,\" (la) \"&Modulo2.GetFormula(G26),\"\")","v":""},{"$f":"IF(H26>0,\" (H) \"&Modulo2.GetFormula(H26),\"\")","v":""},null,null,null,null,null,null,null,null,null,1,0,null,"",{"$f":"ROWS($AC$4:AC26)","v":23},"",{"$f":"IFERROR(SMALL($AD$4:$AD$1642,ROWS($AD26:AD$51)),\"\")","v":""},null,{"$f":"IFERROR(INDEX($A$4:$R$1642,$AE26,COLUMNS($A:$B)),\"\")","v":""},{"$f":"IFERROR(INDEX($A$4:$R$1642,$AE26,COLUMNS($A:$C)),\"\")","v":""},{"$f":"IFERROR(INDEX($A$4:$R$1642,$AE26,COLUMNS($A:$R)),\"\")","v":""},null,"","","","",null,null,null,3]
[null,null,null,"",null,null,null,null,"","",null,{"$f":"IF(E27>0,\" (p/u) \"&Modulo2.GetFormula(E27),\"\")","v":""},{"$f":"IF(F27>0,\" (lu) \"&Modulo2.GetFormula(F27),\"\")","v":""},{"$f":"IF(G27>0,\" (la) \"&Modulo2.GetFormula(G27),\"\")","v":""},{"$f":"IF(H27>0,\" (H) \"&Modulo2.GetFormula(H27),\"\")","v":""},null,null,null,null,null,null,null,null,null,1,0,null,"",{"$f":"ROWS($AC$4:AC27)","v":24},"",{"$f":"IFERROR(SMALL($AD$4:$AD$1642,ROWS($AD27:AD$51)),\"\")","v":""},null,{"$f":"IFERROR(INDEX($A$4:$R$1642,$AE27,COLUMNS($A:$B)),\"\")","v":""},{"$f":"IFERROR(INDEX($A$4:$R$1642,$AE27,COLUMNS($A:$C)),\"\")","v":""},{"$f":"IFERROR(INDEX($A$4:$R$1642,$AE27,COLUMNS($A:$R)),\"\")","v":""},null,"","","","",null,null,null,3]
[null,null,null,null,null,null,null,{"$f":"CONCATENATE(\"SOMMANO [\",VLOOKUP(V29,'Elenco Prezzi2'!$A$2:$E$201,3,FALSE()),\"]\")","v":{"$error":"#REF!"}},{"$f":"IF(T28=\"s\",V29,SUBTOTAL(9,I24:I28))","v":{"$error":"#REF!"}},null,{"$f":"VLOOKUP(B24,'Elenco Prezzi2'!$A$2:$E$201,5,FALSE)","v":{"$error":"#N/A"}},null,null,null,null,null,null,{"$f":"IFERROR(I28*K28,\"\")","v":""},null,"s",null,null,null,{"$f":"R28","v":""},1,0,null,"",{"$f":"ROWS($AC$4:AC28)","v":25},"",{"$f":"IFERROR(SMALL($AD$4:$AD$1642,ROWS($AD28:AD$51)),\"\")","v":""},null,{"$f":"IFERROR(INDEX($A$4:$R$1642,$AE28,COLUMNS($A:$B)),\"\")","v":""},{"$f":"IFERROR(INDEX($A$4:$R$1642,$AE28,COLUMNS($A:$C)),\"\")","v":""},{"$f":"IFERROR(INDEX($A$4:$R$1642,$AE28,COLUMNS($A:$R)),\"\")","v":""},null,null,null,null,null,null,null,null,3]
[null,null,null,null,null,null,null,{"$f":"IF(I29<0,\"a detrarre\",\"\")","v":""},{"$f":"SUMIF(I24:I27,\"<0\")","v":0},null,null,null,null,null,null,null,null,null,{"$f":"R28","v":""},null,null,{"$f":"VLOOKUP(B24,#REF!,4,FALSE)","v":{"$error":"#REF!"}},null,null,1,0,null,"",{"$f":"ROWS($AC$4:AC29)","v":26},"",{"$f":"IFERROR(SMALL($AD$4:$AD$1642,ROWS($AD29:AD$51)),\"\")","v":""},null,{"$f":"IFERROR(INDEX($A$4:$R$1642,$AE29,COLUMNS($A:$B)),\"\")","v":""},{"$f":"IFERROR(INDEX($A$4:$R$1642,$AE29,COLUMNS($A:$C)),\"\")","v":""},{"$f":"IFERROR(INDEX($A$4:$R$1642,$AE29,COLUMNS($A:$R)),\"\")","v":""},null,null,null,null,null,null,null,null,3]
[null,null,null,null,null,null,null,null,null,null,null,null,null,null,null,null,null,null,null,null,null,null,null,null,1,0,null,"",{"$f":"ROWS($AC$4:AC30)","v":27},"",{"$f":"IFERROR(SMALL($AD$4:$AD$1642,ROWS($AD30:AD$51)),\"\")","v":""},null,{"$f":"IFERROR(INDEX($A$4:$R$1642,$AE30,COLUMNS($A:$B)),\"\")","v":""},{"$f":"IFERROR(INDEX($A$4:$R$1642,$AE30,COLUMNS($A:$C)),\"\")","v":""},{"$f":"IFERROR(INDEX($A$4:$R$1642,$AE30,COLUMNS($A:$R)),\"\")","v":""},null,null,null,null,null,null,null,null,3]
[null,null,null,null,null,null,null,null,null,null,null,null,null,null,null,null,null,null,null,null,null,null,null,null,1,0,null,"",{"$f":"ROWS($AC$4:AC31)","v":28},"",{"$f":"IFERROR(SMALL($AD$4:$AD$1642,ROWS($AD31:AD$51)),\"\")","v":""},null,{"$f":"IFERROR(INDEX($A$4:$R$1642,$AE31,COLUMNS($A:$B)),\"\")","v":""},{"$f":"IFERROR(INDEX($A$4:$R$1642,$AE31,COLUMNS($A:$C)),\"\")","v":""},{"$f":"IFERROR(INDEX($A$4:$R$1642,$AE31,COLUMNS($A:$R)),\"\")","v":""},null,null,null,null,null,null,null,null,3]
[null,null,null,null,null,null,null,null,null,null,null,null,null,null,null,null,null,null,null,null,null,null,null,null,{"$f":"IF(AO32=\"\",Y31,Y31+AO32)","v":1},{"$f":"IF(AP32=\"\",Z31,Z31+AP32)","v":0},null,"",{"$f":"ROWS($AC$4:AC32)","v":29},"",{"$f":"IFERROR(SMALL($AD$4:$AD$1642,ROWS($AD$4:AD32)),\"\")","v":""},null,{"$f":"IFERROR(INDEX($A$4:$R$1642,$AE32,COLUMNS($A:$B)),\"\")","v":""},{"$f":"IFERROR(INDEX($A$4:$R$1642,$AE32,COLUMNS($A:$C)),\"\")","v":""},{"$f":"IFERROR(INDEX($A$4:$R$1642,$AE32,COLUMNS($A:$R)),\"\")","v":""},null,null,null,null,null,null,null,null,3]
[null,{"$f":"Y33","v":2},"ff",null,null,null,null,null,null,null,null,null,null,null,null,null,null,{"$f":"W33","v":100},null,null,null,null,{"$f":"SUMIFS(X:X,Y:Y,Y33)","v":100},null,{"$f":"IF(AO33=\"\",Y32,Y32+AO33)","v":2},0,null,{"$f":"IF(W33>0,\"OK\",\"\")","v":"OK"},{"$f":"ROWS($AC$4:AC33)","v":30},{"$f":"IF(AB33=\"ok\",AC33,\"\")","v":30},{"$f":"IFERROR(SMALL($AD$4:$AD$1642,ROWS($AD$4:AD33)),\"\")","v":""},null,{"$f":"IFERROR(INDEX($A$4:$R$1642,$AE33,COLUMNS($A:$B)),\"\")","v":""},{"$f":"IFERROR(INDEX($A$4:$R$1642,$AE33,COLUMNS($A:$C)),\"\")","v":""},{"$f":"IFERROR(INDEX($A$4:$R$1642,$AE33,COLUMNS($A:$R)),\"\")","v":""},null,null,null,null,null,1,null,null,3]
[null,null,null,null,null,null,null,null,null,null,null,null,null,null,null,null,null,null,null,null,null,null,null,null,{"$f":"IF(AO34=\"\",Y33,Y33+AO34)","v":2},0,null,"",{"$f":"ROWS($AC$4:AC34)","v":31},"",{"$f":"IFERROR(SMALL($AD$4:$AD$1642,ROWS($AD$4:AD34)),\"\")","v":""},null,{"$f":"IFERROR(INDEX($A$4:$R$1642,$AE34,COLUMNS($A:$B)),\"\")","v":""},{"$f":"IFERROR(INDEX($A$4:$R$1642,$AE34,COLUMNS($A:$C)),\"\")","v":""},{"$f":"IFERROR(INDEX($A$4:$R$1642,$AE34,COLUMNS($A:$R)),\"\")","v":""},null,null,null,null,null,null,null,null,{"$f":"IF(AQ34=\"\",AR33,AR33+AQ34)","v":3}]
[{"$f":"AR35","v":4},1,{"$f":"(VLOOKUP($B35,'Elenco Prezzi2'!$A$2:$E$201,2,FALSE))","v":"SAULEA ADA"},null,null,null,null,null,null,null,null,null,null,null,null,null,null,null,null,null,null,null,null,null,2,0,null,{"$f":"IF(W35>0,\"OK\",\"\")","v":""},{"$f":"ROWS($AC$4:AC35)","v":32},{"$f":"IF(AB35=\"ok\",AC35,\"\")","v":""},{"$f":"IFERROR(SMALL($AD$4:$AD$1642,ROWS($AD$4:AD35)),\"\")","v":""},null,{"$f":"IFERROR(INDEX($A$4:$R$1642,$AE35,COLUMNS($A:$B)),\"\")","v":""},{"$f":"IFERROR(INDEX($A$4:$R$1642,$AE35,COLUMNS($A:$C)),\"\")","v":""},{"$f":"IFERROR(INDEX($A$4:$R$1642,$AE35,COLUMNS($A:$R)),\"\")","v":""},null,null,null,null,null,null,null,1,{"$f":"IF(AQ35=\"\",AR34,AR34+AQ35)","v":4}]
[null,null,null,{"$f":"CONCATENATE(AK36&AL36&AM36&AN36)","v":""},null,null,null,null,{"$f":"IFERROR(IF(PRODUCT(E36:H36)=0,\"\",PRODUCT(E36:H36)),\"\")","v":""},{"$f":"I36","v":""},null,{"$f":"IF(E36>0,\" (p/u) \"&Modulo2.GetFormula(E36),\"\")","v":""},{"$f":"IF(F36>0,\" (lu) \"&Modulo2.GetFormula(F36),\"\")","v":""},{"$f":"IF(G36>0,\" (la) \"&Modulo2.GetFormula(G36),\"\")","v":""},{"$f":"IF(H36>0,\" (H) \"&Modulo2.GetFormula(H36),\"\")","v":""},null,null,null,null,null,null,null,null,null,{"$f":"IF(AO36=\"\",Y35,Y35+AO36)","v":2},{"$f":"IF(AP36=\"\",Z35,Z35+AP36)","v":0},null,"",{"$f":"ROWS($AC$4:AC36)","v":33},"",{"$f":"IFERROR(SMALL($AD$4:$AD$1642,ROWS($AD$4:AD36)),\"\")","v":""},null,{"$f":"IFERROR(INDEX($A$4:$R$1642,$AE36,COLUMNS($A:$B)),\"\")","v":""},{"$f":"IFERROR(INDEX($A$4:$R$1642,$AE36,COLUMNS($A:$C)),\"\")","v":""},{"$f":"IFERROR(INDEX($A$4:$R$1642,$AE36,COLUMNS($A:$R)),\"\")","v":""},null,{"$f":"IFERROR(IF(SEARCH(\"=\",L36),L36,\"\"),\"\")","v":""},{"$f":"IFERROR(IF(SEARCH(\"=\",M36),M36,\"\"),\"\")","v":""},{"$f":"IFERROR(IF(SEARCH(\"=\",N36),N36,\"\"),\"\")","v":""},{"$f":"IFERROR(IF(SEARCH(\"=\",O36),O36,\"\"),\"\")","v":""},null,null,null,4]
[null,null,null,"",null,null,null,null,"","",null,{"$f":"IF(E37>0,\" (p/u) \"&Modulo2.GetFormula(E37),\"\")","v":""},{"$f":"IF(F37>0,\" (lu) \"&Modulo2.GetFormula(F37),\"\")","v":""},{"$f":"IF(G37>0,\" (la) \"&Modulo2.GetFormula(G37),\"\")","v":""},{"$f":"IF(H37>0,\" (H) \"&Modulo2.GetFormula(H37),\"\")","v":""},null,null,null,null,null,null,null,null,null,2,0,null,"",{"$f":"ROWS($AC$4:AC37)","v":34},"",{"$f":"IFERROR(SMALL($AD$4:$AD$1642,ROWS($AD$4:AD37)),\"\")","v":""},null,{"$f":"IFERROR(INDEX($A$4:$R$1642,$AE37,COLUMNS($A:$B)),\"\")","v":""},{"$f":"IFERROR(INDEX($A$4:$R$1642,$AE37,COLUMNS($A:$C)),\"\")","v":""},{"$f":"IFERROR(INDEX($A$4:$R$1642,$AE37,COLUMNS($A:$R)),\"\")","v":""},null,"","","","",null,null,null,4]
[null,null,null,"",null,null,null,null,"","",null,{"$f":"IF(E38>0,\" (p/u) \"&Modulo2.GetFormula(E38),\"\")","v":""},{"$f":"IF(F38>0,\" (lu) \"&Modulo2.GetFormula(F38),\"\")","v":""},{"$f":"IF(G38>0,\" (la) \"&Modulo2.GetFormula(G38),\"\")","v":""},{"$f":"IF(H38>0,\" (H) \"&Modulo2.GetFormula(H38),\"\")","v":""},null,null,null,null,null,null,null,null,null,2,0,null,"",{"$f":"ROWS($AC$4:AC38)","v":35},"",{"$f":"IFERROR(SMALL($AD$4:$AD$1642,ROWS($AD$4:AD38)),\"\")","v":""},null,{"$f":"IFERROR(INDEX($A$4:$R$1642,$AE38,COLUMNS($A:$B)),\"\")","v":""},{"$f":"IFERROR(INDEX($A$4:$R$1642,$AE38,COLUMNS($A:$C)),\"\")","v":""},{"$f":"IFERROR(INDEX($A$4:$R$1642,$AE38,COLUMNS($A:$R)),\"\")","v":""},null,"","","","",null,null,null,4]
[null,null,null,null,null,null,null,{"$f":"CONCATENATE(\"SOMMANO [\",VLOOKUP(B35,'Elenco Prezzi2'!$A$2:$E$201,3,FALSE()),\"]\")","v":"SOMMANO [mq]"},{"$f":"IF(T39=\"s\",V40,SUBTOTAL(9,I36:I39))","v":10},null,{"$f":"VLOOKUP(B35,'Elenco Prezzi2'!$A$2:$E$201,5,FALSE)","v":10},null,null,null,null,null,null,{"$f":"IFERROR(I39*K39,\"\")","v":100},null,"s",null,null,null,{"$f":"R39","v":100},2,0,null,"",{"$f":"ROWS($AC$4:AC39)","v":36},"",{"$f":"IFERROR(SMALL($AD$4:$AD$1642,ROWS($AD$4:AD39)),\"\")","v":""},null,{"$f":"IFERROR(INDEX($A$4:$R$1642,$AE39,COLUMNS($A:$B)),\"\")","v":""},{"$f":"IFERROR(INDEX($A$4:$R$1642,$AE39,COLUMNS($A:$C)),\"\")","v":""},{"$f":"IFERROR(INDEX($A$4:$R$1642,$AE39,COLUMNS($A:$R)),\"\")","v":""},null,null,null,null,null,null,null,null,4]
[null,null,null,null,null,null,null,{"$f":"IF(I40<0,\"a detrarre\",\"\")","v":""},{"$f":"SUMIF(I35:I38,\"<0\")","v":0},null,null,null,null,null,null,null,null,null,{"$f":"R39","v":100},null,null,{"$f":"VLOOKUP(B35,'Elenco Prezzi2'!$A$1:$H$199,4,FALSE)","v":10},null,null,2,0,null,"",{"$f":"ROWS($AC$4:AC40)","v":37},"",{"$f":"IFERROR(SMALL($AD$4:$AD$1642,ROWS($AD$4:AD40)),\"\")","v":""},null,{"$f":"IFERROR(INDEX($A$4:$R$1642,$AE40,COLUMNS($A:$B)),\"\")","v":""},{"$f":"IFERROR(INDEX($A$4:$R$1642,$AE40,COLUMNS($A:$C)),\"\")","v":""},{"$f":"IFERROR(INDEX($A$4:$R$1642,$AE40,COLUMNS($A:$R)),\"\")","v":""},null,null,null,null,null,null,null,null,4]
[null,null,null,null,null,null,null,null,null,null,null,null,null,null,null,null,null,null,null,null,null,null,null,null,2,0,null,"",{"$f":"ROWS($AC$4:AC41)","v":38},"",{"$f":"IFERROR(SMALL($AD$4:$AD$1642,ROWS($AD$4:AD41)),\"\")","v":""},null,{"$f":"IFERROR(INDEX($A$4:$R$1642,$AE41,COLUMNS($A:$B)),\"\")","v":""},{"$f":"IFERROR(INDEX($A$4:$R$1642,$AE41,COLUMNS($A:$C)),\"\")","v":""},{"$f":"IFERROR(INDEX($A$4:$R$1642,$AE41,COLUMNS($A:$R)),\"\")","v":""},null,null,null,null,null,null,null,null,4]
[null,null,null,null,null,null,null,null,null,null,null,null,null,null,null,null,null,null,null,null,null,null,null,null,2,0,null,"",{"$f":"ROWS($AC$4:AC42)","v":39},"",{"$f":"IFERROR(SMALL($AD$4:$AD$1642,ROWS($AD$4:AD42)),\"\")","v":""},null,{"$f":"IFERROR(INDEX($A$4:$R$1642,$AE42,COLUMNS($A:$B)),\"\")","v":""},{"$f":"IFERROR(INDEX($A$4:$R$1642,$AE42,COLUMNS($A:$C)),\"\")","v":""},{"$f":"IFERROR(INDEX($A$4:$R$1642,$AE42,COLUMNS($A:$R)),\"\")","v":""},null,null,null,null,null,null,null,null,4]
[{"$f":"AR43","v":5},null,{"$f":"(VLOOKUP($B43,'Elenco Prezzi2'!$A$2:$E$201,2,FALSE))","v":{"$error":"#N/A"}},null,null,null,null,null,null,null,null,null,null,null,null,null,null,null,null,null,null,null,null,null,2,0,null,"",{"$f":"ROWS($AC$4:AC43)","v":40},"",{"$f":"IFERROR(SMALL($AD$4:$AD$1642,ROWS($AD$4:AD43)),\"\")","v":""},null,{"$f":"IFERROR(INDEX($A$4:$R$1642,$AE43,COLUMNS($A:$B)),\"\")","v":""},{"$f":"IFERROR(INDEX($A$4:$R$1642,$AE43,COLUMNS($A:$C)),\"\")","v":""},{"$f":"IFERROR(INDEX($A$4:$R$1642,$AE43,COLUMNS($A:$R)),\"\")","v":""},null,null,null,null,null,null,null,1,5]
[null,null,null,{"$f":"CONCATENATE(AK44&AL44&AM44&AN44)","v":""},null,null,null,null,{"$f":"IFERROR(IF(PRODUCT(E44:H44)=0,\"\",PRODUCT(E44:H44)),\"\")","v":""},{"$f":"I44","v":""},null,{"$f":"IF(E44>0,\" (p/u) \"&Modulo2.GetFormula(E44),\"\")","v":""},{"$f":"IF(F44>0,\" (lu) \"&Modulo2.GetFormula(F44),\"\")","v":""},{"$f":"IF(G44>0,\" (la) \"&Modulo2.GetFormula(G44),\"\")","v":""},{"$f":"IF(H44>0,\" (H) \"&Modulo2.GetFormula(H44),\"\")","v":""},null,null,null,null,null,null,null,null,null,2,0,null,"",{"$f":"ROWS($AC$4:AC44)","v":41},"",{"$f":"IFERROR(SMALL($AD$4:$AD$1642,ROWS($AD$4:AD44)),\"\")","v":""},null,{"$f":"IFERROR(INDEX($A$4:$R$1642,$AE44,COLUMNS($A:$B)),\"\")","v":""},{"$f":"IFERROR(INDEX($A$4:$R$1642,$AE44,COLUMNS($A:$C)),\"\")","v":""},{"$f":"IFERROR(INDEX($A$4:$R$1642,$AE44,COLUMNS($A:$R)),\"\")","v":""},null,{"$f":"IFERROR(IF(SEARCH(\"=\",L44),L44,\"\"),\"\")","v":""},{"$f":"IFERROR(IF(SEARCH(\"=\",M44),M44,\"\"),\"\")","v":""},{"$f":"IFERROR(IF(SEARCH(\"=\",N44),N44,\"\"),\"\")","v":""},{"$f":"IFERROR(IF(SEARCH(\"=\",O44),O44,\"\"),\"\")","v":""},null,null,null,5]
[null,null,null,"",null,null,null,null,"","",null,{"$f":"IF(E45>0,\" (p/u) \"&Modulo2.GetFormula(E45),\"\")","v":""},{"$f":"IF(F45>0,\" (lu) \"&Modulo2.GetFormula(F45),\"\")","v":""},{"$f":"IF(G45>0,\" (la) \"&Modulo2.GetFormula(G45),\"\")","v":""},{"$f":"IF(H45>0,\" (H) \"&Modulo2.GetFormula(H45),\"\")","v":""},null,null,null,null,null,null,null,null,null,2,0,null,"",{"$f":"ROWS($AC$4:AC45)","v":42},"",{"$f":"IFERROR(SMALL($AD$4:$AD$1642,ROWS($AD$4:AD45)),\"\")","v":""},null,{"$f":"IFERROR(INDEX($A$4:$R$1642,$AE45,COLUMNS($A:$B)),\"\")","v":""},{"$f":"IFERROR(INDEX($A$4:$R$1642,$AE45,COLUMNS($A:$C)),\"\")","v":""},{"$f":"IFERROR(INDEX($A$4:$R$1642,$AE45,COLUMNS($A:$R)),\"\")","v":""},null,"","","","",null,null,null,5]
[null,null,null,"",null,null,null,null,"","",null,{"$f":"IF(E46>0,\" (p/u) \"&Modulo2.GetFormula(E46),\"\")","v":""},{"$f":"IF(F46>0,\" (lu) \"&Modulo2.GetFormula(F46),\"\")","v":""},{"$f":"IF(G46>0,\" (la) \"&Modulo2.GetFormula(G46),\"\")","v":""},{"$f":"IF(H46>0,\" (H) \"&Modulo2.GetFormula(H46),\"\")","v":""},null,null,null,null,null,null,null,null,null,2,0,null,"",{"$f":"ROWS($AC$4:AC46)","v":43},"",{"$f":"IFERROR(SMALL($AD$4:$AD$1642,ROWS($AD$4:AD46)),\"\")","v":""},null,{"$f":"IFERROR(INDEX($A$4:$R$1642,$AE46,COLUMNS($A:$B)),\"\")","v":""},{"$f":"IFERROR(INDEX($A$4:$R$1642,$AE46,COLUMNS($A:$C)),\"\")","v":""},{"$f":"IFERROR(INDEX($A$4:$R$1642,$AE46,COLUMNS($A:$R)),\"\")","v":""},null,"","","","",null,null,null,5]
[null,null,null,null,null,null,null,{"$f":"CONCATENATE(\"SOMMANO [\",VLOOKUP(B43,'Elenco Prezzi2'!$A$2:$E$201,3,FALSE()),\"]\")","v":{"$error":"#N/A"}},{"$f":"IF(T47=\"s\",V48,SUBTOTAL(9,I43:I47))","v":{"$error":"#REF!"}},null,{"$f":"VLOOKUP(B43,'Elenco Prezzi2'!$A$2:$E$201,5,FALSE)","v":{"$error":"#N/A"}},null,null,null,null,null,null,{"$f":"IFERROR(I47*K47,\"\")","v":""},null,"s",null,null,null,{"$f":"R47","v":""},2,0,null,"",{"$f":"ROWS($AC$4:AC47)","v":44},"",{"$f":"IFERROR(SMALL($AD$4:$AD$1642,ROWS($AD$4:AD47)),\"\")","v":""},null,{"$f":"IFERROR(INDEX($A$4:$R$1642,$AE47,COLUMNS($A:$B)),\"\")","v":""},{"$f":"IFERROR(INDEX($A$4:$R$1642,$AE47,COLUMNS($A:$C)),\"\")","v":""},{"$f":"IFERROR(INDEX($A$4:$R$1642,$AE47,COLUMNS($A:$R)),\"\")","v":""},null,null,null,null,null,null,null,null,5]
[null,null,null,null,null,null,null,{"$f":"IF(I48<0,\"a detrarre\",\"\")","v":""},{"$f":"SUMIF(I43:I46,\"<0\")","v":0},null,null,null,null,null,null,null,null,null,{"$f":"R47","v":""},null,null,{"$f":"VLOOKUP(B43,#REF!,4,FALSE)","v":{"$error":"#REF!"}},null,null,2,0,null,"",{"$f":"ROWS($AC$4:AC48)","v":45},"",{"$f":"IFERROR(SMALL($AD$4:$AD$1642,ROWS($AD$4:AD48)),\"\")","v":""},null,{"$f":"IFERROR(INDEX($A$4:$R$1642,$AE48,COLUMNS($A:$B)),\"\")","v":""},{"$f":"IFERROR(INDEX($A$4:$R$1642,$AE48,COLUMNS($A:$C)),\"\")","v":""},{"$f":"IFERROR(INDEX($A$4:$R$1642,$AE48,COLUMNS($A:$R)),\"\")","v":""},null,null,null,null,null,null,null,null,5]
[null,null,null,null,null,null,null,null,null,null,null,null,null,null,null,null,null,null,null,null,null,null,null,null,2,0,null,"",{"$f":"ROWS($AC$4:AC49)","v":46},"",{"$f":"IFERROR(SMALL($AD$4:$AD$1642,ROWS($AD$4:AD49)),\"\")","v":""},null,{"$f":"IFERROR(INDEX($A$4:$R$1642,$AE49,COLUMNS($A:$B)),\"\")","v":""},{"$f":"IFERROR(INDEX($A$4:$R$1642,$AE49,COLUMNS($A:$C)),\"\")","v":""},{"$f":"IFERROR(INDEX($A$4:$R$1642,$AE49,COLUMNS($A:$R)),\"\")","v":""},null,null,null,null,null,null,null,null,5]
[null,null,null,null,null,null,null,null,null,null,null,null,null,null,null,null,null,null,null,null,null,null,null,null,2,0,null,"",{"$f":"ROWS($AC$4:AC50)","v":47},"",{"$f":"IFERROR(SMALL($AD$4:$AD$1642,ROWS($AD$4:AD50)),\"\")","v":""},null,{"$f":"IFERROR(INDEX($A$4:$R$1642,$AE50,COLUMNS($A:$B)),\"\")","v":""},{"$f":"IFERROR(INDEX($A$4:$R$1642,$AE50,COLUMNS($A:$C)),\"\")","v":""},{"$f":"IFERROR(INDEX($A$4:$R$1642,$AE50,COLUMNS($A:$R)),\"\")","v":""},null,null,null,null,null,null,null,null,5]
[{"$f":"AR51","v":6},null,{"$f":"(VLOOKUP($B51,'Elenco Prezzi2'!$A$2:$E$201,2,FALSE))","v":{"$error":"#N/A"}},null,null,null,null,null,null,null,null,null,null,null,null,null,null,null,null,null,null,null,null,null,2,0,null,"",{"$f":"ROWS($AC$4:AC51)","v":48},"",{"$f":"IFERROR(SMALL($AD$4:$AD$1642,ROWS($AD$4:AD51)),\"\")","v":""},null,{"$f":"IFERROR(INDEX($A$4:$R$1642,$AE51,COLUMNS($A:$B)),\"\")","v":""},{"$f":"IFERROR(INDEX($A$4:$R$1642,$AE51,COLUMNS($A:$C)),\"\")","v":""},{"$f":"IFERROR(INDEX($A$4:$R$1642,$AE51,COLUMNS($A:$R)),\"\")","v":""},null,null,null,null,null,null,null,1,6]
[null,null,null,{"$f":"CONCATENATE(AK52&AL52&AM52&AN52)","v":""},null,null,null,null,{"$f":"IFERROR(IF(PRODUCT(E52:H52)=0,\"\",PRODUCT(E52:H52)),\"\")","v":""},{"$f":"I52","v":""},null,{"$f":"IF(E52>0,\" (p/u) \"&Modulo2.GetFormula(E52),\"\")","v":""},{"$f":"IF(F52>0,\" (lu) \"&Modulo2.GetFormula(F52),\"\")","v":""},{"$f":"IF(G52>0,\" (la) \"&Modulo2.GetFormula(G52),\"\")","v":""},{"$f":"IF(H52>0,\" (H) \"&Modulo2.GetFormula(H52),\"\")","v":""},null,null,null,null,null,null,null,null,null,2,0,null,"",{"$f":"ROWS($AC$4:AC52)","v":49},"",{"$f":"IFERROR(SMALL($AD$4:$AD$1642,ROWS($AD$4:AD52)),\"\")","v":""},null,{"$f":"IFERROR(INDEX($A$4:$R$1642,$AE52,COLUMNS($A:$B)),\"\")","v":""},{"$f":"IFERROR(INDEX($A$4:$R$1642,$AE52,COLUMNS($A:$C)),\"\")","v":""},{"$f":"IFERROR(INDEX($A$4:$R$1642,$AE52,COLUMNS($A:$R)),\"\")","v":""},null,{"$f":"IFERROR(IF(SEARCH(\"=\",L52),L52,\"\"),\"\")","v":""},{"$f":"IFERROR(IF(SEARCH(\"=\",M52),M52,\"\"),\"\")","v":""},{"$f":"IFERROR(IF(SEARCH(\"=\",N52),N52,\"\"),\"\")","v":""},{"$f":"IFERROR(IF(SEARCH(\"=\",O52),O52,\"\"),\"\")","v":""},null,null,null,6]
[null,null,null,"",null,null,null,null,"","",null,{"$f":"IF(E53>0,\" (p/u) \"&Modulo2.GetFormula(E53),\"\")","v":""},{"$f":"IF(F53>0,\" (lu) \"&Modulo2.GetFormula(F53),\"\")","v":""},{"$f":"IF(G53>0,\" (la) \"&Modulo2.GetFormula(G53),\"\")","v":""},{"$f":"IF(H53>0,\" (H) \"&Modulo2.GetFormula(H53),\"\")","v":""},null,null,null,null,null,null,null,null,null,2,0,null,"",{"$f":"ROWS($AC$4:AC53)","v":50},"",{"$f":"IFERROR(SMALL($AD$4:$AD$1642,ROWS($AD$4:AD53)),\"\")","v":""},null,{"$f":"IFERROR(INDEX($A$4:$R$1642,$AE53,COLUMNS($A:$B)),\"\")","v":""},{"$f":"IFERROR(INDEX($A$4:$R$1642,$AE53,COLUMNS($A:$C)),\"\")","v":""},{"$f":"IFERROR(INDEX($A$4:$R$1642,$AE53,COLUMNS($A:$R)),\"\")","v":""},null,"","","","",null,null,null,6]
[null,null,null,"",null,null,null,null,"","",null,{"$f":"IF(E54>0,\" (p/u) \"&Modulo2.GetFormula(E54),\"\")","v":""},{"$f":"IF(F54>0,\" (lu) \"&Modulo2.GetFormula(F54),\"\")","v":""},{"$f":"IF(G54>0,\" (la) \"&Modulo2.GetFormula(G54),\"\")","v":""},{"$f":"IF(H54>0,\" (H) \"&Modulo2.GetFormula(H54),\"\")","v":""},null,null,null,null,null,null,null,null,null,2,0,null,"",{"$f":"ROWS($AC$4:AC54)","v":51},"",{"$f":"IFERROR(SMALL($AD$4:$AD$1642,ROWS($AD$4:AD54)),\"\")","v":""},null,{"$f":"IFERROR(INDEX($A$4:$R$1642,$AE54,COLUMNS($A:$B)),\"\")","v":""},{"$f":"IFERROR(INDEX($A$4:$R$1642,$AE54,COLUMNS($A:$C)),\"\")","v":""},{"$f":"IFERROR(INDEX($A$4:$R$1642,$AE54,COLUMNS($A:$R)),\"\")","v":""},null,"","","","",null,null,null,6]
[null,null,null,null,null,null,null,{"$f":"CONCATENATE(\"SOMMANO [\",VLOOKUP(B51,'Elenco Prezzi2'!$A$2:$E$201,3,FALSE()),\"]\")","v":{"$error":"#N/A"}},{"$f":"IF(T55=\"s\",V56,SUBTOTAL(9,I51:I55))","v":{"$error":"#REF!"}},null,{"$f":"VLOOKUP(B51,'Elenco Prezzi2'!$A$2:$E$201,5,FALSE)","v":{"$error":"#N/A"}},null,null,null,null,null,null,{"$f":"IFERROR(I55*K55,\"\")","v":""},null,"s",null,null,null,{"$f":"R55","v":""},2,0,null,"",{"$f":"ROWS($AC$4:AC55)","v":52},"",{"$f":"IFERROR(SMALL($AD$4:$AD$1642,ROWS($AD$4:AD55)),\"\")","v":""},null,{"$f":"IFERROR(INDEX($A$4:$R$1642,$AE55,COLUMNS($A:$B)),\"\")","v":""},{"$f":"IFERROR(INDEX($A$4:$R$1642,$AE55,COLUMNS($A:$C)),\"\")","v":""},{"$f":"IFERROR(INDEX($A$4:$R$1642,$AE55,COLUMNS($A:$R)),\"\")","v":""},null,null,null,null,null,null,null,null,6]
[null,null,null,null,null,null,null,{"$f":"IF(I56<0,\"a detrarre\",\"\")","v":""},{"$f":"SUMIF(I51:I54,\"<0\")","v":0},null,null,null,null,null,null,null,null,null,{"$f":"R55","v":""},null,null,{"$f":"VLOOKUP(B51,#REF!,4,FALSE)","v":{"$error":"#REF!"}},null,null,2,0,null,"",{"$f":"ROWS($AC$4:AC56)","v":53},"",{"$f":"IFERROR(SMALL($AD$4:$AD$1642,ROWS($AD$4:AD56)),\"\")","v":""},null,{"$f":"IFERROR(INDEX($A$4:$R$1642,$AE56,COLUMNS($A:$B)),\"\")","v":""},{"$f":"IFERROR(INDEX($A$4:$R$1642,$AE56,COLUMNS($A:$C)),\"\")","v":""},{"$f":"IFERROR(INDEX($A$4:$R$1642,$AE56,COLUMNS($A:$R)),\"\")","v":""},null,null,null,null,null,null,null,null,6]
[null,null,null,null,null,null,null,null,null,null,null,null,null,null,null,null,null,null,null,null,null,null,null,null,2,0,null,"",{"$f":"ROWS($AC$4:AC57)","v":54},"",{"$f":"IFERROR(SMALL($AD$4:$AD$1642,ROWS($AD$4:AD57)),\"\")","v":""},null,{"$f":"IFERROR(INDEX($A$4:$R$1642,$AE57,COLUMNS($A:$B)),\"\")","v":""},{"$f":"IFERROR(INDEX($A$4:$R$1642,$AE57,COLUMNS($A:$C)),\"\")","v":""},{"$f":"IFERROR(INDEX($A$4:$R$1642,$AE57,COLUMNS($A:$R)),\"\")","v":""},null,null,null,null,null,null,null,null,6]
[null,null,null,null,null,null,null,null,null,null,null,null,null,null,null,null,null,null,null,null,null,null,null,null,2,0,null,"",{"$f":"ROWS($AC$4:AC58)","v":55},"",{"$f":"IFERROR(SMALL($AD$4:$AD$1642,ROWS($AD$4:AD58)),\"\")","v":""},null,{"$f":"IFERROR(INDEX($A$4:$R$1642,$AE58,COLUMNS($A:$B)),\"\")","v":""},{"$f":"IFERROR(INDEX($A$4:$R$1642,$AE58,COLUMNS($A:$C)),\"\")","v":""},{"$f":"IFERROR(INDEX($A$4:$R$1642,$AE58,COLUMNS($A:$R)),\"\")","v":""},null,null,null,null,null,null,null,null,6]
[{"$f":"AR59","v":7},null,{"$f":"(VLOOKUP($B59,'Elenco Prezzi2'!$A$2:$E$201,2,FALSE))","v":{"$error":"#N/A"}},null,null,null,null,null,null,null,null,null,null,null,null,null,null,null,null,null,null,null,null,null,2,0,null,"",{"$f":"ROWS($AC$4:AC59)","v":56},"",{"$f":"IFERROR(SMALL($AD$4:$AD$1642,ROWS($AD$4:AD59)),\"\")","v":""},null,{"$f":"IFERROR(INDEX($A$4:$R$1642,$AE59,COLUMNS($A:$B)),\"\")","v":""},{"$f":"IFERROR(INDEX($A$4:$R$1642,$AE59,COLUMNS($A:$C)),\"\")","v":""},{"$f":"IFERROR(INDEX($A$4:$R$1642,$AE59,COLUMNS($A:$R)),\"\")","v":""},null,null,null,null,null,null,null,1,7]
[null,null,null,{"$f":"CONCATENATE(AK60&AL60&AM60&AN60)","v":""},null,null,null,null,{"$f":"IFERROR(IF(PRODUCT(E60:H60)=0,\"\",PRODUCT(E60:H60)),\"\")","v":""},{"$f":"I60","v":""},null,{"$f":"IF(E60>0,\" (p/u) \"&Modulo2.GetFormula(E60),\"\")","v":""},{"$f":"IF(F60>0,\" (lu) \"&Modulo2.GetFormula(F60),\"\")","v":""},{"$f":"IF(G60>0,\" (la) \"&Modulo2.GetFormula(G60),\"\")","v":""},{"$f":"IF(H60>0,\" (H) \"&Modulo2.GetFormula(H60),\"\")","v":""},null,null,null,null,null,null,null,null,null,2,0,null,"",{"$f":"ROWS($AC$4:AC60)","v":57},"",{"$f":"IFERROR(SMALL($AD$4:$AD$1642,ROWS($AD$4:AD60)),\"\")","v":""},null,{"$f":"IFERROR(INDEX($A$4:$R$1642,$AE60,COLUMNS($A:$B)),\"\")","v":""},{"$f":"IFERROR(INDEX($A$4:$R$1642,$AE60,COLUMNS($A:$C)),\"\")","v":""},{"$f":"IFERROR(INDEX($A$4:$R$1642,$AE60,COLUMNS($A:$R)),\"\")","v":""},null,{"$f":"IFERROR(IF(SEARCH(\"=\",L60),L60,\"\"),\"\")","v":""},{"$f":"IFERROR(IF(SEARCH(\"=\",M60),M60,\"\"),\"\")","v":""},{"$f":"IFERROR(IF(SEARCH(\"=\",N60),N60,\"\"),\"\")","v":""},{"$f":"IFERROR(IF(SEARCH(\"=\",O60),O60,\"\"),\"\")","v":""},null,null,null,7]
[null,null,null,"",null,null,null,null,"","",null,{"$f":"IF(E61>0,\" (p/u) \"&Modulo2.GetFormula(E61),\"\")","v":""},{"$f":"IF(F61>0,\" (lu) \"&Modulo2.GetFormula(F61),\"\")","v":""},{"$f":"IF(G61>0,\" (la) \"&Modulo2.GetFormula(G61),\"\")","v":""},{"$f":"IF(H61>0,\" (H) \"&Modulo2.GetFormula(H61),\"\")","v":""},null,null,null,null,null,null,null,null,null,2,0,null,"",{"$f":"ROWS($AC$4:AC61)","v":58},"",{"$f":"IFERROR(SMALL($AD$4:$AD$1642,ROWS($AD$4:AD61)),\"\")","v":""},null,{"$f":"IFERROR(INDEX($A$4:$R$1642,$AE61,COLUMNS($A:$B)),\"\")","v":""},{"$f":"IFERROR(INDEX($A$4:$R$1642,$AE61,COLUMNS($A:$C)),\"\")","v":""},{"$f":"IFERROR(INDEX($A$4:$R$1642,$AE61,COLUMNS($A:$R)),\"\")","v":""},null,"","","","",null,null,null,7]
[null,null,null,"",null,null,null,null,"","",null,{"$f":"IF(E62>0,\" (p/u) \"&Modulo2.GetFormula(E62),\"\")","v":""},{"$f":"IF(F62>0,\" (lu) \"&Modulo2.GetFormula(F62),\"\")","v":""},{"$f":"IF(G62>0,\" (la) \"&Modulo2.GetFormula(G62),\"\")","v":""},{"$f":"IF(H62>0,\" (H) \"&Modulo2.GetFormula(H62),\"\")","v":""},null,null,null,null,null,null,null,null,null,2,0,null,"",{"$f":"ROWS($AC$4:AC62)","v":59},"",{"$f":"IFERROR(SMALL($AD$4:$AD$1642,ROWS($AD$4:AD62)),\"\")","v":""},null,{"$f":"IFERROR(INDEX($A$4:$R$1642,$AE62,COLUMNS($A:$B)),\"\")","v":""},{"$f":"IFERROR(INDEX($A$4:$R$1642,$AE62,COLUMNS($A:$C)),\"\")","v":""},{"$f":"IFERROR(INDEX($A$4:$R$1642,$AE62,COLUMNS($A:$R)),\"\")","v":""},null,"","","","",null,null,null,7]
[null,null,null,null,null,null,null,{"$f":"CONCATENATE(\"SOMMANO [\",VLOOKUP(B59,'Elenco Prezzi2'!$A$2:$E$201,3,FALSE()),\"]\")","v":{"$error":"#N/A"}},{"$f":"IF(T63=\"s\",V64,SUBTOTAL(9,I59:I63))","v":{"$error":"#REF!"}},null,{"$f":"VLOOKUP(B59,'Elenco Prezzi2'!$A$2:$E$201,5,FALSE)","v":{"$error":"#N/A"}},null,null,null,null,null,null,{"$f":"IFERROR(I63*K63,\"\")","v":""},null,"s",null,null,null,{"$f":"R63","v":""},2,0,null,"",{"$f":"ROWS($AC$4:AC63)","v":60},"",{"$f":"IFERROR(SMALL($AD$4:$AD$1642,ROWS($AD$4:AD63)),\"\")","v":""},null,{"$f":"IFERROR(INDEX($A$4:$R$1642,$AE63,COLUMNS($A:$B)),\"\")","v":""},{"$f":"IFERROR(INDEX($A$4:$R$1642,$AE63,COLUMNS($A:$C)),\"\")","v":""},{"$f":"IFERROR(INDEX($A$4:$R$1642,$AE63,COLUMNS($A:$R)),\"\")","v":""},null,null,null,null,null,null,null,null,7]
[null,null,null,null,null,null,null,{"$f":"IF(I64<0,\"a detrarre\",\"\")","v":""},{"$f":"SUMIF(I59:I62,\"<0\")","v":0},null,null,null,null,null,null,null,null,null,{"$f":"R63","v":""},null,null,{"$f":"VLOOKUP(B59,#REF!,4,FALSE)","v":{"$error":"#REF!"}},null,null,2,0,null,"",{"$f":"ROWS($AC$4:AC64)","v":61},"",{"$f":"IFERROR(SMALL($AD$4:$AD$1642,ROWS($AD$4:AD64)),\"\")","v":""},null,{"$f":"IFERROR(INDEX($A$4:$R$1642,$AE64,COLUMNS($A:$B)),\"\")","v":""},{"$f":"IFERROR(INDEX($A$4:$R$1642,$AE64,COLUMNS($A:$C)),\"\")","v":""},{"$f":"IFERROR(INDEX($A$4:$R$1642,$AE64,COLUMNS($A:$R)),\"\")","v":""},null,null,null,null,null,null,null,null,7]
[null,null,null,null,null,null,null,null,null,null,null,null,null,null,null,null,null,null,null,null,null,null,null,null,2,0,null,"",{"$f":"ROWS($AC$4:AC65)","v":62},"",{"$f":"IFERROR(SMALL($AD$4:$AD$1642,ROWS($AD$4:AD65)),\"\")","v":""},null,{"$f":"IFERROR(INDEX($A$4:$R$1642,$AE65,COLUMNS($A:$B)),\"\")","v":""},{"$f":"IFERROR(INDEX($A$4:$R$1642,$AE65,COLUMNS($A:$C)),\"\")","v":""},{"$f":"IFERROR(INDEX($A$4:$R$1642,$AE65,COLUMNS($A:$R)),\"\")","v":""},null,null,null,null,null,null,null,null,7]
[null,null,null,null,null,null,null,null,null,null,null,null,null,null,null,null,null,null,null,null,null,null,null,null,2,0,null,"",{"$f":"ROWS($AC$4:AC66)","v":63},"",{"$f":"IFERROR(SMALL($AD$4:$AD$1642,ROWS($AD$4:AD66)),\"\")","v":""},null,{"$f":"IFERROR(INDEX($A$4:$R$1642,$AE66,COLUMNS($A:$B)),\"\")","v":""},{"$f":"IFERROR(INDEX($A$4:$R$1642,$AE66,COLUMNS($A:$C)),\"\")","v":""},{"$f":"IFERROR(INDEX($A$4:$R$1642,$AE66,COLUMNS($A:$R)),\"\")","v":""},null,null,null,null,null,null,null,null,7]
[{"$f":"AR67","v":8},null,{"$f":"(VLOOKUP($B67,'Elenco Prezzi2'!$A$2:$E$201,2,FALSE))","v":{"$error":"#N/A"}},null,null,null,null,null,null,null,null,null,null,null,null,null,null,null,null,null,null,null,null,null,2,0,null,"",{"$f":"ROWS($AC$4:AC67)","v":64},"",{"$f":"IFERROR(SMALL($AD$4:$AD$1642,ROWS($AD$4:AD67)),\"\")","v":""},null,{"$f":"IFERROR(INDEX($A$4:$R$1642,$AE67,COLUMNS($A:$B)),\"\")","v":""},{"$f":"IFERROR(INDEX($A$4:$R$1642,$AE67,COLUMNS($A:$C)),\"\")","v":""},{"$f":"IFERROR(INDEX($A$4:$R$1642,$AE67,COLUMNS($A:$R)),\"\")","v":""},null,null,null,null,null,null,null,1,8]
[null,null,null,{"$f":"CONCATENATE(AK68&AL68&AM68&AN68)","v":""},null,null,null,null,{"$f":"IFERROR(IF(PRODUCT(E68:H68)=0,\"\",PRODUCT(E68:H68)),\"\")","v":""},{"$f":"I68","v":""},null,{"$f":"IF(E68>0,\" (p/u) \"&Modulo2.GetFormula(E68),\"\")","v":""},{"$f":"IF(F68>0,\" (lu) \"&Modulo2.GetFormula(F68),\"\")","v":""},{"$f":"IF(G68>0,\" (la) \"&Modulo2.GetFormula(G68),\"\")","v":""},{"$f":"IF(H68>0,\" (H) \"&Modulo2.GetFormula(H68),\"\")","v":""},null,null,null,null,null,null,null,null,null,2,0,null,"",{"$f":"ROWS($AC$4:AC68)","v":65},"",{"$f":"IFERROR(SMALL($AD$4:$AD$1642,ROWS($AD$4:AD68)),\"\")","v":""},null,{"$f":"IFERROR(INDEX($A$4:$R$1642,$AE68,COLUMNS($A:$B)),\"\")","v":""},{"$f":"IFERROR(INDEX($A$4:$R$1642,$AE68,COLUMNS($A:$C)),\"\")","v":""},{"$f":"IFERROR(INDEX($A$4:$R$1642,$AE68,COLUMNS($A:$R)),\"\")","v":""},null,{"$f":"IFERROR(IF(SEARCH(\"=\",L68),L68,\"\"),\"\")","v":""},{"$f":"IFERROR(IF(SEARCH(\"=\",M68),M68,\"\"),\"\")","v":""},{"$f":"IFERROR(IF(SEARCH(\"=\",N68),N68,\"\"),\"\")","v":""},{"$f":"IFERROR(IF(SEARCH(\"=\",O68),O68,\"\"),\"\")","v":""},null,null,null,8]
[null,null,null,"",null,null,null,null,"","",null,{"$f":"IF(E69>0,\" (p/u) \"&Modulo2.GetFormula(E69),\"\")","v":""},{"$f":"IF(F69>0,\" (lu) \"&Modulo2.GetFormula(F69),\"\")","v":""},{"$f":"IF(G69>0,\" (la) \"&Modulo2.GetFormula(G69),\"\")","v":""},{"$f":"IF(H69>0,\" (H) \"&Modulo2.GetFormula(H69),\"\")","v":""},null,null,null,null,null,null,null,null,null,2,0,null,"",{"$f":"ROWS($AC$4:AC69)","v":66},"",{"$f":"IFERROR(SMALL($AD$4:$AD$1642,ROWS($AD$4:AD69)),\"\")","v":""},null,{"$f":"IFERROR(INDEX($A$4:$R$1642,$AE69,COLUMNS($A:$B)),\"\")","v":""},{"$f":"IFERROR(INDEX($A$4:$R$1642,$AE69,COLUMNS($A:$C)),\"\")","v":""},{"$f":"IFERROR(INDEX($A$4:$R$1642,$AE69,COLUMNS($A:$R)),\"\")","v":""},null,"","","","",null,null,null,8]
[null,null,null,"",null,null,null,null,"","",null,{"$f":"IF(E70>0,\" (p/u) \"&Modulo2.GetFormula(E70),\"\")","v":""},{"$f":"IF(F70>0,\" (lu) \"&Modulo2.GetFormula(F70),\"\")","v":""},{"$f":"IF(G70>0,\" (la) \"&Modulo2.GetFormula(G70),\"\")","v":""},{"$f":"IF(H70>0,\" (H) \"&Modulo2.GetFormula(H70),\"\")","v":""},null,null,null,null,null,null,null,null,null,2,0,null,"",{"$f":"ROWS($AC$4:AC70)","v":67},"",{"$f":"IFERROR(SMALL($AD$4:$AD$1642,ROWS($AD$4:AD70)),\"\")","v":""},null,{"$f":"IFERROR(INDEX($A$4:$R$1642,$AE70,COLUMNS($A:$B)),\"\")","v":""},{"$f":"IFERROR(INDEX($A$4:$R$1642,$AE70,COLUMNS($A:$C)),\"\")","v":""},{"$f":"IFERROR(INDEX($A$4:$R$1642,$AE70,COLUMNS($A:$R)),\"\")","v":""},null,"","","","",null,null,null,8]
[null,null,null,null,null,null,null,{"$f":"CONCATENATE(\"SOMMANO [\",VLOOKUP(B67,'Elenco Prezzi2'!$A$2:$E$201,3,FALSE()),\"]\")","v":{"$error":"#N/A"}},{"$f":"IF(T71=\"s\",V72,SUBTOTAL(9,I67:I71))","v":{"$error":"#REF!"}},null,{"$f":"VLOOKUP(B67,'Elenco Prezzi2'!$A$2:$E$201,5,FALSE)","v":{"$error":"#N/A"}},null,null,null,null,null,null,{"$f":"IFERROR(I71*K71,\"\")","v":""},null,"s",null,null,null,{"$f":"R71","v":""},2,0,null,"",{"$f":"ROWS($AC$4:AC71)","v":68},"",{"$f":"IFERROR(SMALL($AD$4:$AD$1642,ROWS($AD$4:AD71)),\"\")","v":""},null,{"$f":"IFERROR(INDEX($A$4:$R$1642,$AE71,COLUMNS($A:$B)),\"\")","v":""},{"$f":"IFERROR(INDEX($A$4:$R$1642,$AE71,COLUMNS($A:$C)),\"\")","v":""},{"$f":"IFERROR(INDEX($A$4:$R$1642,$AE71,COLUMNS($A:$R)),\"\")","v":""},null,null,null,null,null,null,null,null,8]
[null,null,null,null,null,null,null,{"$f":"IF(I72<0,\"a detrarre\",\"\")","v":""},{"$f":"SUMIF(I67:I70,\"<0\")","v":0},null,null,null,null,null,null,null,null,null,{"$f":"R71","v":""},null,null,{"$f":"VLOOKUP(B67,#REF!,4,FALSE)","v":{"$error":"#REF!"}},null,null,2,0,null,"",{"$f":"ROWS($AC$4:AC72)","v":69},"",{"$f":"IFERROR(SMALL($AD$4:$AD$1642,ROWS($AD$4:AD72)),\"\")","v":""},null,{"$f":"IFERROR(INDEX($A$4:$R$1642,$AE72,COLUMNS($A:$B)),\"\")","v":""},{"$f":"IFERROR(INDEX($A$4:$R$1642,$AE72,COLUMNS($A:$C)),\"\")","v":""},{"$f":"IFERROR(INDEX($A$4:$R$1642,$AE72,COLUMNS($A:$R)),\"\")","v":""},null,null,null,null,null,null,null,null,8]
[null,null,null,null,null,null,null,null,null,null,null,null,null,null,null,null,null,null,null,null,null,null,null,null,2,0,null,"",{"$f":"ROWS($AC$4:AC73)","v":70},"",{"$f":"IFERROR(SMALL($AD$4:$AD$1642,ROWS($AD$4:AD73)),\"\")","v":""},null,{"$f":"IFERROR(INDEX($A$4:$R$1642,$AE73,COLUMNS($A:$B)),\"\")","v":""},{"$f":"IFERROR(INDEX($A$4:$R$1642,$AE73,COLUMNS($A:$C)),\"\")","v":""},{"$f":"IFERROR(INDEX($A$4:$R$1642,$AE73,COLUMNS($A:$R)),\"\")","v":""},null,null,null,null,null,null,null,null,8]
[null,null,null,null,null,null,null,null,null,null,null,null,null,null,null,null,null,null,null,null,null,null,null,null,2,0,null,"",{"$f":"ROWS($AC$4:AC74)","v":71},"",{"$f":"IFERROR(SMALL($AD$4:$AD$1642,ROWS($AD$4:AD74)),\"\")","v":""},null,{"$f":"IFERROR(INDEX($A$4:$R$1642,$AE74,COLUMNS($A:$B)),\"\")","v":""},{"$f":"IFERROR(INDEX($A$4:$R$1642,$AE74,COLUMNS($A:$C)),\"\")","v":""},{"$f":"IFERROR(INDEX($A$4:$R$1642,$AE74,COLUMNS($A:$R)),\"\")","v":""},null,null,null,null,null,null,null,null,8]
[{"$f":"AR75","v":9},null,{"$f":"(VLOOKUP($B75,'Elenco Prezzi2'!$A$2:$E$201,2,FALSE))","v":{"$error":"#N/A"}},null,null,null,null,null,null,null,null,null,null,null,null,null,null,null,null,null,null,null,null,null,2,0,null,"",{"$f":"ROWS($AC$4:AC75)","v":72},"",{"$f":"IFERROR(SMALL($AD$4:$AD$1642,ROWS($AD$4:AD75)),\"\")","v":""},null,{"$f":"IFERROR(INDEX($A$4:$R$1642,$AE75,COLUMNS($A:$B)),\"\")","v":""},{"$f":"IFERROR(INDEX($A$4:$R$1642,$AE75,COLUMNS($A:$C)),\"\")","v":""},{"$f":"IFERROR(INDEX($A$4:$R$1642,$AE75,COLUMNS($A:$R)),\"\")","v":""},null,null,null,null,null,null,null,1,9]
[null,null,null,{"$f":"CONCATENATE(AK76&AL76&AM76&AN76)","v":""},null,null,null,null,{"$f":"IFERROR(IF(PRODUCT(E76:H76)=0,\"\",PRODUCT(E76:H76)),\"\")","v":""},{"$f":"I76","v":""},null,{"$f":"IF(E76>0,\" (p/u) \"&Modulo2.GetFormula(E76),\"\")","v":""},{"$f":"IF(F76>0,\" (lu) \"&Modulo2.GetFormula(F76),\"\")","v":""},{"$f":"IF(G76>0,\" (la) \"&Modulo2.GetFormula(G76),\"\")","v":""},{"$f":"IF(H76>0,\" (H) \"&Modulo2.GetFormula(H76),\"\")","v":""},null,null,null,null,null,null,null,null,null,2,0,null,"",{"$f":"ROWS($AC$4:AC76)","v":73},"",{"$f":"IFERROR(SMALL($AD$4:$AD$1642,ROWS($AD$4:AD76)),\"\")","v":""},null,{"$f":"IFERROR(INDEX($A$4:$R$1642,$AE76,COLUMNS($A:$B)),\"\")","v":""},{"$f":"IFERROR(INDEX($A$4:$R$1642,$AE76,COLUMNS($A:$C)),\"\")","v":""},{"$f":"IFERROR(INDEX($A$4:$R$1642,$AE76,COLUMNS($A:$R)),\"\")","v":""},null,{"$f":"IFERROR(IF(SEARCH(\"=\",L76),L76,\"\"),\"\")","v":""},{"$f":"IFERROR(IF(SEARCH(\"=\",M76),M76,\"\"),\"\")","v":""},{"$f":"IFERROR(IF(SEARCH(\"=\",N76),N76,\"\"),\"\")","v":""},{"$f":"IFERROR(IF(SEARCH(\"=\",O76),O76,\"\"),\"\")","v":""},null,null,null,9]
[null,null,null,"",null,null,null,null,"","",null,{"$f":"IF(E77>0,\" (p/u) \"&Modulo2.GetFormula(E77),\"\")","v":""},{"$f":"IF(F77>0,\" (lu) \"&Modulo2.GetFormula(F77),\"\")","v":""},{"$f":"IF(G77>0,\" (la) \"&Modulo2.GetFormula(G77),\"\")","v":""},{"$f":"IF(H77>0,\" (H) \"&Modulo2.GetFormula(H77),\"\")","v":""},null,null,null,null,null,null,null,null,null,2,0,null,"",{"$f":"ROWS($AC$4:AC77)","v":74},"",{"$f":"IFERROR(SMALL($AD$4:$AD$1642,ROWS($AD$4:AD77)),\"\")","v":""},null,{"$f":"IFERROR(INDEX($A$4:$R$1642,$AE77,COLUMNS($A:$B)),\"\")","v":""},{"$f":"IFERROR(INDEX($A$4:$R$1642,$AE77,COLUMNS($A:$C)),\"\")","v":""},{"$f":"IFERROR(INDEX($A$4:$R$1642,$AE77,COLUMNS($A:$R)),\"\")","v":""},null,"","","","",null,null,null,9]
[null,null,null,"",null,null,null,null,"","",null,{"$f":"IF(E78>0,\" (p/u) \"&Modulo2.GetFormula(E78),\"\")","v":""},{"$f":"IF(F78>0,\" (lu) \"&Modulo2.GetFormula(F78),\"\")","v":""},{"$f":"IF(G78>0,\" (la) \"&Modulo2.GetFormula(G78),\"\")","v":""},{"$f":"IF(H78>0,\" (H) \"&Modulo2.GetFormula(H78),\"\")","v":""},null,null,null,null,null,null,null,null,null,2,0,null,"",{"$f":"ROWS($AC$4:AC78)","v":75},"",{"$f":"IFERROR(SMALL($AD$4:$AD$1642,ROWS($AD$4:AD78)),\"\")","v":""},null,{"$f":"IFERROR(INDEX($A$4:$R$1642,$AE78,COLUMNS($A:$B)),\"\")","v":""},{"$f":"IFERROR(INDEX($A$4:$R$1642,$AE78,COLUMNS($A:$C)),\"\")","v":""},{"$f":"IFERROR(INDEX($A$4:$R$1642,$AE78,COLUMNS($A:$R)),\"\")","v":""},null,"","","","",null,null,null,9]
[null,null,null,null,null,null,null,{"$f":"CONCATENATE(\"SOMMANO [\",VLOOKUP(B75,'Elenco Prezzi2'!$A$2:$E$201,3,FALSE()),\"]\")","v":{"$error":"#N/A"}},{"$f":"IF(T79=\"s\",V80,SUBTOTAL(9,I75:I79))","v":{"$error":"#REF!"}},null,{"$f":"VLOOKUP(B75,'Elenco Prezzi2'!$A$2:$E$201,5,FALSE)","v":{"$error":"#N/A"}},null,null,null,null,null,null,{"$f":"IFERROR(I79*K79,\"\")","v":""},null,"s",null,null,null,{"$f":"R79","v":""},2,0,null,"",{"$f":"ROWS($AC$4:AC79)","v":76},"",{"$f":"IFERROR(SMALL($AD$4:$AD$1642,ROWS($AD$4:AD79)),\"\")","v":""},null,{"$f":"IFERROR(INDEX($A$4:$R$1642,$AE79,COLUMNS($A:$B)),\"\")","v":""},{"$f":"IFERROR(INDEX($A$4:$R$1642,$AE79,COLUMNS($A:$C)),\"\")","v":""},{"$f":"IFERROR(INDEX($A$4:$R$1642,$AE79,COLUMNS($A:$R)),\"\")","v":""},null,null,null,null,null,null,null,null,9]
[null,null,null,null,null,null,null,{"$f":"IF(I80<0,\"a detrarre\",\"\")","v":""},{"$f":"SUMIF(I75:I78,\"<0\")","v":0},null,null,null,null,null,null,null,null,null,{"$f":"R79","v":""},null,null,{"$f":"VLOOKUP(B75,#REF!,4,FALSE)","v":{"$error":"#REF!"}},null,null,2,0,null,"",{"$f":"ROWS($AC$4:AC80)","v":77},"",{"$f":"IFERROR(SMALL($AD$4:$AD$1642,ROWS($AD$4:AD80)),\"\")","v":""},null,{"$f":"IFERROR(INDEX($A$4:$R$1642,$AE80,COLUMNS($A:$B)),\"\")","v":""},{"$f":"IFERROR(INDEX($A$4:$R$1642,$AE80,COLUMNS($A:$C)),\"\")","v":""},{"$f":"IFERROR(INDEX($A$4:$R$1642,$AE80,COLUMNS($A:$R)),\"\")","v":""},null,null,null,null,null,null,null,null,9]
[null,null,null,null,null,null,null,null,null,null,null,null,null,null,null,null,null,null,null,null,null,null,null,null,2,0,null,"",{"$f":"ROWS($AC$4:AC81)","v":78},"",{"$f":"IFERROR(SMALL($AD$4:$AD$1642,ROWS($AD$4:AD81)),\"\")","v":""},null,{"$f":"IFERROR(INDEX($A$4:$R$1642,$AE81,COLUMNS($A:$B)),\"\")","v":""},{"$f":"IFERROR(INDEX($A$4:$R$1642,$AE81,COLUMNS($A:$C)),\"\")","v":""},{"$f":"IFERROR(INDEX($A$4:$R$1642,$AE81,COLUMNS($A:$R)),\"\")","v":""},null,null,null,null,null,null,null,null,9]
[null,null,null,null,null,null,null,null,null,null,null,null,null,null,null,null,null,null,null,null,null,null,null,null,2,0,null,"",{"$f":"ROWS($AC$4:AC82)","v":79},"",{"$f":"IFERROR(SMALL($AD$4:$AD$1642,ROWS($AD$4:AD82)),\"\")","v":""},null,{"$f":"IFERROR(INDEX($A$4:$R$1642,$AE82,COLUMNS($A:$B)),\"\")","v":""},{"$f":"IFERROR(INDEX($A$4:$R$1642,$AE82,COLUMNS($A:$C)),\"\")","v":""},{"$f":"IFERROR(INDEX($A$4:$R$1642,$AE82,COLUMNS($A:$R)),\"\")","v":""},null,null,null,null,null,null,null,null,9]
[{"$f":"AR83","v":10},null,{"$f":"(VLOOKUP($B83,'Elenco Prezzi2'!$A$2:$E$201,2,FALSE))","v":{"$error":"#N/A"}},null,null,null,null,null,null,null,null,null,null,null,null,null,null,null,null,null,null,null,null,null,2,0,null,"",{"$f":"ROWS($AC$4:AC83)","v":80},"",{"$f":"IFERROR(SMALL($AD$4:$AD$1642,ROWS($AD$4:AD83)),\"\")","v":""},null,{"$f":"IFERROR(INDEX($A$4:$R$1642,$AE83,COLUMNS($A:$B)),\"\")","v":""},{"$f":"IFERROR(INDEX($A$4:$R$1642,$AE83,COLUMNS($A:$C)),\"\")","v":""},{"$f":"IFERROR(INDEX($A$4:$R$1642,$AE83,COLUMNS($A:$R)),\"\")","v":""},null,null,null,null,null,null,null,1,10]
[null,null,null,{"$f":"CONCATENATE(AK84&AL84&AM84&AN84)","v":""},null,null,null,null,{"$f":"IFERROR(IF(PRODUCT(E84:H84)=0,\"\",PRODUCT(E84:H84)),\"\")","v":""},{"$f":"I84","v":""},null,{"$f":"IF(E84>0,\" (p/u) \"&Modulo2.GetFormula(E84),\"\")","v":""},{"$f":"IF(F84>0,\" (lu) \"&Modulo2.GetFormula(F84),\"\")","v":""},{"$f":"IF(G84>0,\" (la) \"&Modulo2.GetFormula(G84),\"\")","v":""},{"$f":"IF(H84>0,\" (H) \"&Modulo2.GetFormula(H84),\"\")","v":""},null,null,null,null,null,null,null,null,null,2,0,null,"",{"$f":"ROWS($AC$4:AC84)","v":81},"",{"$f":"IFERROR(SMALL($AD$4:$AD$1642,ROWS($AD$4:AD84)),\"\")","v":""},null,{"$f":"IFERROR(INDEX($A$4:$R$1642,$AE84,COLUMNS($A:$B)),\"\")","v":""},{"$f":"IFERROR(INDEX($A$4:$R$1642,$AE84,COLUMNS($A:$C)),\"\")","v":""},{"$f":"IFERROR(INDEX($A$4:$R$1642,$AE84,COLUMNS($A:$R)),\"\")","v":""},null,{"$f":"IFERROR(IF(SEARCH(\"=\",L84),L84,\"\"),\"\")","v":""},{"$f":"IFERROR(IF(SEARCH(\"=\",M84),M84,\"\"),\"\")","v":""},{"$f":"IFERROR(IF(SEARCH(\"=\",N84),N84,\"\"),\"\")","v":""},{"$f":"IFERROR(IF(SEARCH(\"=\",O84),O84,\"\"),\"\")","v":""},null,null,null,10]
[null,null,null,"",null,null,null,null,"","",null,{"$f":"IF(E85>0,\" (p/u) \"&Modulo2.GetFormula(E85),\"\")","v":""},{"$f":"IF(F85>0,\" (lu) \"&Modulo2.GetFormula(F85),\"\")","v":""},{"$f":"IF(G85>0,\" (la) \"&Modulo2.GetFormula(G85),\"\")","v":""},{"$f":"IF(H85>0,\" (H) \"&Modulo2.GetFormula(H85),\"\")","v":""},null,null,null,null,null,null,null,null,null,2,0,null,"",{"$f":"ROWS($AC$4:AC85)","v":82},"",{"$f":"IFERROR(SMALL($AD$4:$AD$1642,ROWS($AD$4:AD85)),\"\")","v":""},null,{"$f":"IFERROR(INDEX($A$4:$R$1642,$AE85,COLUMNS($A:$B)),\"\")","v":""},{"$f":"IFERROR(INDEX($A$4:$R$1642,$AE85,COLUMNS($A:$C)),\"\")","v":""},{"$f":"IFERROR(INDEX($A$4:$R$1642,$AE85,COLUMNS($A:$R)),\"\")","v":""},null,"","","","",null,null,null,10]
[null,null,null,"",null,null,null,null,"","",null,{"$f":"IF(E86>0,\" (p/u) \"&Modulo2.GetFormula(E86),\"\")","v":""},{"$f":"IF(F86>0,\" (lu) \"&Modulo2.GetFormula(F86),\"\")","v":""},{"$f":"IF(G86>0,\" (la) \"&Modulo2.GetFormula(G86),\"\")","v":""},{"$f":"IF(H86>0,\" (H) \"&Modulo2.GetFormula(H86),\"\")","v":""},null,null,null,null,null,null,null,null,null,2,0,null,"",{"$f":"ROWS($AC$4:AC86)","v":83},"",{"$f":"IFERROR(SMALL($AD$4:$AD$1642,ROWS($AD$4:AD86)),\"\")","v":""},null,{"$f":"IFERROR(INDEX($A$4:$R$1642,$AE86,COLUMNS($A:$B)),\"\")","v":""},{"$f":"IFERROR(INDEX($A$4:$R$1642,$AE86,COLUMNS($A:$C)),\"\")","v":""},{"$f":"IFERROR(INDEX($A$4:$R$1642,$AE86,COLUMNS($A:$R)),\"\")","v":""},null,"","","","",null,null,null,10]
[null,null,null,null,null,null,null,{"$f":"CONCATENATE(\"SOMMANO [\",VLOOKUP(B83,'Elenco Prezzi2'!$A$2:$E$201,3,FALSE()),\"]\")","v":{"$error":"#N/A"}},{"$f":"IF(T87=\"s\",V88,SUBTOTAL(9,I83:I87))","v":{"$error":"#REF!"}},null,{"$f":"VLOOKUP(B83,'Elenco Prezzi2'!$A$2:$E$201,5,FALSE)","v":{"$error":"#N/A"}},null,null,null,null,null,null,{"$f":"IFERROR(I87*K87,\"\")","v":""},null,"s",null,null,null,{"$f":"R87","v":""},2,0,null,"",{"$f":"ROWS($AC$4:AC87)","v":84},"",{"$f":"IFERROR(SMALL($AD$4:$AD$1642,ROWS($AD$4:AD87)),\"\")","v":""},null,{"$f":"IFERROR(INDEX($A$4:$R$1642,$AE87,COLUMNS($A:$B)),\"\")","v":""},{"$f":"IFERROR(INDEX($A$4:$R$1642,$AE87,COLUMNS($A:$C)),\"\")","v":""},{"$f":"IFERROR(INDEX($A$4:$R$1642,$AE87,COLUMNS($A:$R)),\"\")","v":""},null,null,null,null,null,null,null,null,10]
[null,null,null,null,null,null,null,{"$f":"IF(I88<0,\"a detrarre\",\"\")","v":""},{"$f":"SUMIF(I83:I86,\"<0\")","v":0},null,null,null,null,null,null,null,null,null,{"$f":"R87","v":""},null,null,{"$f":"VLOOKUP(B83,#REF!,4,FALSE)","v":{"$error":"#REF!"}},null,null,2,0,null,"",{"$f":"ROWS($AC$4:AC88)","v":85},"",{"$f":"IFERROR(SMALL($AD$4:$AD$1642,ROWS($AD$4:AD88)),\"\")","v":""},null,{"$f":"IFERROR(INDEX($A$4:$R$1642,$AE88,COLUMNS($A:$B)),\"\")","v":""},{"$f":"IFERROR(INDEX($A$4:$R$1642,$AE88,COLUMNS($A:$C)),\"\")","v":""},{"$f":"IFERROR(INDEX($A$4:$R$1642,$AE88,COLUMNS($A:$R)),\"\")","v":""},null,null,null,null,null,null,null,null,10]
[null,null,null,null,null,null,null,null,null,null,null,null,null,null,null,null,null,null,null,null,null,null,null,null,2,0,null,"",{"$f":"ROWS($AC$4:AC89)","v":86},"",{"$f":"IFERROR(SMALL($AD$4:$AD$1642,ROWS($AD$4:AD89)),\"\")","v":""},null,{"$f":"IFERROR(INDEX($A$4:$R$1642,$AE89,COLUMNS($A:$B)),\"\")","v":""},{"$f":"IFERROR(INDEX($A$4:$R$1642,$AE89,COLUMNS($A:$C)),\"\")","v":""},{"$f":"IFERROR(INDEX($A$4:$R$1642,$AE89,COLUMNS($A:$R)),\"\")","v":""},null,null,null,null,null,null,null,null,10]
[null,null,null,null,null,null,null,null,null,null,null,null,null,null,null,null,null,null,null,null,null,null,null,null,2,0,null,"",{"$f":"ROWS($AC$4:AC90)","v":87},"",{"$f":"IFERROR(SMALL($AD$4:$AD$1642,ROWS($AD$4:AD90)),\"\")","v":""},null,{"$f":"IFERROR(INDEX($A$4:$R$1642,$AE90,COLUMNS($A:$B)),\"\")","v":""},{"$f":"IFERROR(INDEX($A$4:$R$1642,$AE90,COLUMNS($A:$C)),\"\")","v":""},{"$f":"IFERROR(INDEX($A$4:$R$1642,$AE90,COLUMNS($A:$R)),\"\")","v":""},null,null,null,null,null,null,null,null,10]
[{"$f":"AR91","v":11},null,{"$f":"(VLOOKUP($B91,'Elenco Prezzi2'!$A$2:$E$201,2,FALSE))","v":{"$error":"#N/A"}},null,null,null,null,null,null,null,null,null,null,null,null,null,null,null,null,null,null,null,null,null,2,0,null,"",{"$f":"ROWS($AC$4:AC91)","v":88},"",{"$f":"IFERROR(SMALL($AD$4:$AD$1642,ROWS($AD$4:AD91)),\"\")","v":""},null,{"$f":"IFERROR(INDEX($A$4:$R$1642,$AE91,COLUMNS($A:$B)),\"\")","v":""},{"$f":"IFERROR(INDEX($A$4:$R$1642,$AE91,COLUMNS($A:$C)),\"\")","v":""},{"$f":"IFERROR(INDEX($A$4:$R$1642,$AE91,COLUMNS($A:$R)),\"\")","v":""},null,null,null,null,null,null,null,1,11]
[null,null,null,{"$f":"CONCATENATE(AK92&AL92&AM92&AN92)","v":""},null,null,null,null,{"$f":"IFERROR(IF(PRODUCT(E92:H92)=0,\"\",PRODUCT(E92:H92)),\"\")","v":""},{"$f":"I92","v":""},null,{"$f":"IF(E92>0,\" (p/u) \"&Modulo2.GetFormula(E92),\"\")","v":""},{"$f":"IF(F92>0,\" (lu) \"&Modulo2.GetFormula(F92),\"\")","v":""},{"$f":"IF(G92>0,\" (la) \"&Modulo2.GetFormula(G92),\"\")","v":""},{"$f":"IF(H92>0,\" (H) \"&Modulo2.GetFormula(H92),\"\")","v":""},null,null,null,null,null,null,null,null,null,2,0,null,"",{"$f":"ROWS($AC$4:AC92)","v":89},"",{"$f":"IFERROR(SMALL($AD$4:$AD$1642,ROWS($AD$4:AD92)),\"\")","v":""},null,{"$f":"IFERROR(INDEX($A$4:$R$1642,$AE92,COLUMNS($A:$B)),\"\")","v":""},{"$f":"IFERROR(INDEX($A$4:$R$1642,$AE92,COLUMNS($A:$C)),\"\")","v":""},{"$f":"IFERROR(INDEX($A$4:$R$1642,$AE92,COLUMNS($A:$R)),\"\")","v":""},null,{"$f":"IFERROR(IF(SEARCH(\"=\",L92),L92,\"\"),\"\")","v":""},{"$f":"IFERROR(IF(SEARCH(\"=\",M92),M92,\"\"),\"\")","v":""},{"$f":"IFERROR(IF(SEARCH(\"=\",N92),N92,\"\"),\"\")","v":""},{"$f":"IFERROR(IF(SEARCH(\"=\",O92),O92,\"\"),\"\")","v":""},null,null,null,11]
[null,null,null,"",null,null,null,null,"","",null,{"$f":"IF(E93>0,\" (p/u) \"&Modulo2.GetFormula(E93),\"\")","v":""},{"$f":"IF(F93>0,\" (lu) \"&Modulo2.GetFormula(F93),\"\")","v":""},{"$f":"IF(G93>0,\" (la) \"&Modulo2.GetFormula(G93),\"\")","v":""},{"$f":"IF(H93>0,\" (H) \"&Modulo2.GetFormula(H93),\"\")","v":""},null,null,null,null,null,null,null,null,null,2,0,null,"",{"$f":"ROWS($AC$4:AC93)","v":90},"",{"$f":"IFERROR(SMALL($AD$4:$AD$1642,ROWS($AD$4:AD93)),\"\")","v":""},null,{"$f":"IFERROR(INDEX($A$4:$R$1642,$AE93,COLUMNS($A:$B)),\"\")","v":""},{"$f":"IFERROR(INDEX($A$4:$R$1642,$AE93,COLUMNS($A:$C)),\"\")","v":""},{"$f":"IFERROR(INDEX($A$4:$R$1642,$AE93,COLUMNS($A:$R)),\"\")","v":""},null,"","","","",null,null,null,11]
[null,null,null,"",null,null,null,null,"","",null,{"$f":"IF(E94>0,\" (p/u) \"&Modulo2.GetFormula(E94),\"\")","v":""},{"$f":"IF(F94>0,\" (lu) \"&Modulo2.GetFormula(F94),\"\")","v":""},{"$f":"IF(G94>0,\" (la) \"&Modulo2.GetFormula(G94),\"\")","v":""},{"$f":"IF(H94>0,\" (H) \"&Modulo2.GetFormula(H94),\"\")","v":""},null,null,null,null,null,null,null,null,null,2,0,null,"",{"$f":"ROWS($AC$4:AC94)","v":91},"",{"$f":"IFERROR(SMALL($AD$4:$AD$1642,ROWS($AD$4:AD94)),\"\")","v":""},null,{"$f":"IFERROR(INDEX($A$4:$R$1642,$AE94,COLUMNS($A:$B)),\"\")","v":""},{"$f":"IFERROR(INDEX($A$4:$R$1642,$AE94,COLUMNS($A:$C)),\"\")","v":""},{"$f":"IFERROR(INDEX($A$4:$R$1642,$AE94,COLUMNS($A:$R)),\"\")","v":""},null,"","","","",null,null,null,11]
[null,null,null,null,null,null,null,{"$f":"CONCATENATE(\"SOMMANO [\",VLOOKUP(B91,'Elenco Prezzi2'!$A$2:$E$201,3,FALSE()),\"]\")","v":{"$error":"#N/A"}},{"$f":"IF(T95=\"s\",V96,SUBTOTAL(9,I91:I95))","v":{"$error":"#REF!"}},null,{"$f":"VLOOKUP(B91,'Elenco Prezzi2'!$A$2:$E$201,5,FALSE)","v":{"$error":"#N/A"}},null,null,null,null,null,null,{"$f":"IFERROR(I95*K95,\"\")","v":""},null,"s",null,null,null,{"$f":"R95","v":""},2,0,null,"",{"$f":"ROWS($AC$4:AC95)","v":92},"",{"$f":"IFERROR(SMALL($AD$4:$AD$1642,ROWS($AD$4:AD95)),\"\")","v":""},null,{"$f":"IFERROR(INDEX($A$4:$R$1642,$AE95,COLUMNS($A:$B)),\"\")","v":""},{"$f":"IFERROR(INDEX($A$4:$R$1642,$AE95,COLUMNS($A:$C)),\"\")","v":""},{"$f":"IFERROR(INDEX($A$4:$R$1642,$AE95,COLUMNS($A:$R)),\"\")","v":""},null,null,null,null,null,null,null,null,11]
[null,null,null,null,null,null,null,{"$f":"IF(I96<0,\"a detrarre\",\"\")","v":""},{"$f":"SUMIF(I91:I94,\"<0\")","v":0},null,null,null,null,null,null,null,null,null,{"$f":"R95","v":""},null,null,{"$f":"VLOOKUP(B91,#REF!,4,FALSE)","v":{"$error":"#REF!"}},null,null,2,0,null,"",{"$f":"ROWS($AC$4:AC96)","v":93},"",{"$f":"IFERROR(SMALL($AD$4:$AD$1642,ROWS($AD$4:AD96)),\"\")","v":""},null,{"$f":"IFERROR(INDEX($A$4:$R$1642,$AE96,COLUMNS($A:$B)),\"\")","v":""},{"$f":"IFERROR(INDEX($A$4:$R$1642,$AE96,COLUMNS($A:$C)),\"\")","v":""},{"$f":"IFERROR(INDEX($A$4:$R$1642,$AE96,COLUMNS($A:$R)),\"\")","v":""},null,null,null,null,null,null,null,null,11]
[null,null,null,null,null,null,null,null,null,null,null,null,null,null,null,null,null,null,null,null,null,null,null,null,2,0,null,"",{"$f":"ROWS($AC$4:AC97)","v":94},"",{"$f":"IFERROR(SMALL($AD$4:$AD$1642,ROWS($AD$4:AD97)),\"\")","v":""},null,{"$f":"IFERROR(INDEX($A$4:$R$1642,$AE97,COLUMNS($A:$B)),\"\")","v":""},{"$f":"IFERROR(INDEX($A$4:$R$1642,$AE97,COLUMNS($A:$C)),\"\")","v":""},{"$f":"IFERROR(INDEX($A$4:$R$1642,$AE97,COLUMNS($A:$R)),\"\")","v":""},null,null,null,null,null,null,null,null,11]
[null,null,null,null,null,null,null,null,null,null,null,null,null,null,null,null,null,null,null,null,null,null,null,null,2,0,null,"",{"$f":"ROWS($AC$4:AC98)","v":95},"",{"$f":"IFERROR(SMALL($AD$4:$AD$1642,ROWS($AD$4:AD98)),\"\")","v":""},null,{"$f":"IFERROR(INDEX($A$4:$R$1642,$AE98,COLUMNS($A:$B)),\"\")","v":""},{"$f":"IFERROR(INDEX($A$4:$R$1642,$AE98,COLUMNS($A:$C)),\"\")","v":""},{"$f":"IFERROR(INDEX($A$4:$R$1642,$AE98,COLUMNS($A:$R)),\"\")","v":""},null,null,null,null,null,null,null,null,11]
[{"$f":"AR99","v":12},null,{"$f":"(VLOOKUP($B99,'Elenco Prezzi2'!$A$2:$E$201,2,FALSE))","v":{"$error":"#N/A"}},null,null,null,null,null,null,null,null,null,null,null,null,null,null,null,null,null,null,null,null,null,2,0,null,{"$f":"IF(W99>0,\"OK\",\"\")","v":""},{"$f":"ROWS($AC$4:AC99)","v":96},{"$f":"IF(AB99=\"ok\",AC99,\"\")","v":""},{"$f":"IFERROR(SMALL($AD$4:$AD$1642,ROWS($AD$4:AD99)),\"\")","v":""},null,{"$f":"IFERROR(INDEX($A$4:$R$1642,$AE99,COLUMNS($A:$B)),\"\")","v":""},{"$f":"IFERROR(INDEX($A$4:$R$1642,$AE99,COLUMNS($A:$C)),\"\")","v":""},{"$f":"IFERROR(INDEX($A$4:$R$1642,$AE99,COLUMNS($A:$R)),\"\")","v":""},null,null,null,null,null,null,null,1,{"$f":"IF(AQ99=\"\",AR98,AR98+AQ99)","v":12}]
[null,null,null,{"$f":"CONCATENATE(AK100&AL100&AM100&AN100)","v":""},null,null,null,null,{"$f":"IFERROR(IF(PRODUCT(E100:H100)=0,\"\",PRODUCT(E100:H100)),\"\")","v":""},{"$f":"I100","v":""},null,{"$f":"IF(E100>0,\" (p/u) \"&Modulo2.GetFormula(E100),\"\")","v":""},{"$f":"IF(F100>0,\" (lu) \"&Modulo2.GetFormula(F100),\"\")","v":""},{"$f":"IF(G100>0,\" (la) \"&Modulo2.GetFormula(G100),\"\")","v":""},{"$f":"IF(H100>0,\" (H) \"&Modulo2.GetFormula(H100),\"\")","v":""},null,null,null,null,null,null,null,null,null,{"$f":"IF(AO100=\"\",Y99,Y99+AO100)","v":2},{"$f":"IF(AP100=\"\",Z99,Z99+AP100)","v":0},null,"",{"$f":"ROWS($AC$4:AC100)","v":97},"",{"$f":"IFERROR(SMALL($AD$4:$AD$1642,ROWS($AD$4:AD100)),\"\")","v":""},null,{"$f":"IFERROR(INDEX($A$4:$R$1642,$AE100,COLUMNS($A:$B)),\"\")","v":""},{"$f":"IFERROR(INDEX($A$4:$R$1642,$AE100,COLUMNS($A:$C)),\"\")","v":""},{"$f":"IFERROR(INDEX($A$4:$R$1642,$AE100,COLUMNS($A:$R)),\"\")","v":""},null,{"$f":"IFERROR(IF(SEARCH(\"=\",L100),L100,\"\"),\"\")","v":""},{"$f":"IFERROR(IF(SEARCH(\"=\",M100),M100,\"\"),\"\")","v":""},{"$f":"IFERROR(IF(SEARCH(\"=\",N100),N100,\"\"),\"\")","v":""},{"$f":"IFERROR(IF(SEARCH(\"=\",O100),O100,\"\"),\"\")","v":""},null,null,null,12]
[null,null,null,"",null,null,null,null,"","",null,{"$f":"IF(E101>0,\" (p/u) \"&Modulo2.GetFormula(E101),\"\")","v":""},{"$f":"IF(F101>0,\" (lu) \"&Modulo2.GetFormula(F101),\"\")","v":""},{"$f":"IF(G101>0,\" (la) \"&Modulo2.GetFormula(G101),\"\")","v":""},{"$f":"IF(H101>0,\" (H) \"&Modulo2.GetFormula(H101),\"\")","v":""},null,null,null,null,null,null,null,null,null,2,0,null,"",{"$f":"ROWS($AC$4:AC101)","v":98},"",{"$f":"IFERROR(SMALL($AD$4:$AD$1642,ROWS($AD$4:AD101)),\"\")","v":""},null,{"$f":"IFERROR(INDEX($A$4:$R$1642,$AE101,COLUMNS($A:$B)),\"\")","v":""},{"$f":"IFERROR(INDEX($A$4:$R$1642,$AE101,COLUMNS($A:$C)),\"\")","v":""},{"$f":"IFERROR(INDEX($A$4:$R$1642,$AE101,COLUMNS($A:$R)),\"\")","v":""},null,"","","","",null,null,null,12]
[null,null,null,"",null,null,null,null,"","",null,{"$f":"IF(E102>0,\" (p/u) \"&Modulo2.GetFormula(E102),\"\")","v":""},{"$f":"IF(F102>0,\" (lu) \"&Modulo2.GetFormula(F102),\"\")","v":""},{"$f":"IF(G102>0,\" (la) \"&Modulo2.GetFormula(G102),\"\")","v":""},{"$f":"IF(H102>0,\" (H) \"&Modulo2.GetFormula(H102),\"\")","v":""},null,null,null,null,null,null,null,null,null,2,0,null,"",{"$f":"ROWS($AC$4:AC102)","v":99},"",{"$f":"IFERROR(SMALL($AD$4:$AD$1642,ROWS($AD$4:AD102)),\"\")","v":""},null,{"$f":"IFERROR(INDEX($A$4:$R$1642,$AE102,COLUMNS($A:$B)),\"\")","v":""},{"$f":"IFERROR(INDEX($A$4:$R$1642,$AE102,COLUMNS($A:$C)),\"\")","v":""},{"$f":"IFERROR(INDEX($A$4:$R$1642,$AE102,COLUMNS($A:$R)),\"\")","v":""},null,"","","","",null,null,null,12]
[null,null,null,null,null,null,null,{"$f":"CONCATENATE(\"SOMMANO [\",VLOOKUP(B99,'Elenco Prezzi2'!$A$2:$E$201,3,FALSE()),\"]\")","v":{"$error":"#N/A"}},{"$f":"IF(T103=\"s\",V104,SUBTOTAL(9,I99:I103))","v":{"$error":"#REF!"}},null,{"$f":"VLOOKUP(B99,'Elenco Prezzi2'!$A$2:$E$201,5,FALSE)","v":{"$error":"#N/A"}},null,null,null,null,null,null,{"$f":"IFERROR(I103*K103,\"\")","v":""},null,"s",null,null,null,{"$f":"R103","v":""},2,0,null,"",{"$f":"ROWS($AC$4:AC103)","v":100},"",{"$f":"IFERROR(SMALL($AD$4:$AD$1642,ROWS($AD$4:AD103)),\"\")","v":""},null,{"$f":"IFERROR(INDEX($A$4:$R$1642,$AE103,COLUMNS($A:$B)),\"\")","v":""},{"$f":"IFERROR(INDEX($A$4:$R$1642,$AE103,COLUMNS($A:$C)),\"\")","v":""},{"$f":"IFERROR(INDEX($A$4:$R$1642,$AE103,COLUMNS($A:$R)),\"\")","v":""},null,null,null,null,null,null,null,null,12]
[null,null,null,null,null,null,null,{"$f":"IF(I104<0,\"a detrarre\",\"\")","v":""},{"$f":"SUMIF(I99:I102,\"<0\")","v":0},null,null,null,null,null,null,null,null,null,{"$f":"R103","v":""},null,null,{"$f":"VLOOKUP(B99,#REF!,4,FALSE)","v":{"$error":"#REF!"}},null,null,2,0,null,"",{"$f":"ROWS($AC$4:AC104)","v":101},"",{"$f":"IFERROR(SMALL($AD$4:$AD$1642,ROWS($AD$4:AD104)),\"\")","v":""},null,{"$f":"IFERROR(INDEX($A$4:$R$1642,$AE104,COLUMNS($A:$B)),\"\")","v":""},{"$f":"IFERROR(INDEX($A$4:$R$1642,$AE104,COLUMNS($A:$C)),\"\")","v":""},{"$f":"IFERROR(INDEX($A$4:$R$1642,$AE104,COLUMNS($A:$R)),\"\")","v":""},null,null,null,null,null,null,null,null,12]
[null,null,null,null,null,null,null,null,null,null,null,null,null,null,null,null,null,null,null,null,null,null,null,null,2,0,null,"",{"$f":"ROWS($AC$4:AC105)","v":102},"",{"$f":"IFERROR(SMALL($AD$4:$AD$1642,ROWS($AD$4:AD105)),\"\")","v":""},null,{"$f":"IFERROR(INDEX($A$4:$R$1642,$AE105,COLUMNS($A:$B)),\"\")","v":""},{"$f":"IFERROR(INDEX($A$4:$R$1642,$AE105,COLUMNS($A:$C)),\"\")","v":""},{"$f":"IFERROR(INDEX($A$4:$R$1642,$AE105,COLUMNS($A:$R)),\"\")","v":""},null,null,null,null,null,null,null,null,12]
[null,null,null,null,null,null,null,null,null,null,null,null,null,null,null,null,null,null,null,null,null,null,null,null,2,0,null,"",{"$f":"ROWS($AC$4:AC106)","v":103},"",{"$f":"IFERROR(SMALL($AD$4:$AD$1642,ROWS($AD$4:AD106)),\"\")","v":""},null,{"$f":"IFERROR(INDEX($A$4:$R$1642,$AE106,COLUMNS($A:$B)),\"\")","v":""},{"$f":"IFERROR(INDEX($A$4:$R$1642,$AE106,COLUMNS($A:$C)),\"\")","v":""},{"$f":"IFERROR(INDEX($A$4:$R$1642,$AE106,COLUMNS($A:$R)),\"\")","v":""},null,null,null,null,null,null,null,null,12]
[{"$f":"AR107","v":13},null,{"$f":"(VLOOKUP($B107,'Elenco Prezzi2'!$A$2:$E$201,2,FALSE))","v":{"$error":"#N/A"}},null,null,null,null,null,null,null,null,null,null,null,null,null,null,null,null,null,null,null,null,null,2,0,null,"",{"$f":"ROWS($AC$4:AC107)","v":104},"",{"$f":"IFERROR(SMALL($AD$4:$AD$1642,ROWS($AD$4:AD107)),\"\")","v":""},null,{"$f":"IFERROR(INDEX($A$4:$R$1642,$AE107,COLUMNS($A:$B)),\"\")","v":""},{"$f":"IFERROR(INDEX($A$4:$R$1642,$AE107,COLUMNS($A:$C)),\"\")","v":""},{"$f":"IFERROR(INDEX($A$4:$R$1642,$AE107,COLUMNS($A:$R)),\"\")","v":""},null,null,null,null,null,null,null,1,13]
[null,null,null,{"$f":"CONCATENATE(AK108&AL108&AM108&AN108)","v":""},null,null,null,null,{"$f":"IFERROR(IF(PRODUCT(E108:H108)=0,\"\",PRODUCT(E108:H108)),\"\")","v":""},{"$f":"I108","v":""},null,{"$f":"IF(E108>0,\" (p/u) \"&Modulo2.GetFormula(E108),\"\")","v":""},{"$f":"IF(F108>0,\" (lu) \"&Modulo2.GetFormula(F108),\"\")","v":""},{"$f":"IF(G108>0,\" (la) \"&Modulo2.GetFormula(G108),\"\")","v":""},{"$f":"IF(H108>0,\" (H) \"&Modulo2.GetFormula(H108),\"\")","v":""},null,null,null,null,null,null,null,null,null,2,0,null,"",{"$f":"ROWS($AC$4:AC108)","v":105},"",{"$f":"IFERROR(SMALL($AD$4:$AD$1642,ROWS($AD$4:AD108)),\"\")","v":""},null,{"$f":"IFERROR(INDEX($A$4:$R$1642,$AE108,COLUMNS($A:$B)),\"\")","v":""},{"$f":"IFERROR(INDEX($A$4:$R$1642,$AE108,COLUMNS($A:$C)),\"\")","v":""},{"$f":"IFERROR(INDEX($A$4:$R$1642,$AE108,COLUMNS($A:$R)),\"\")","v":""},null,{"$f":"IFERROR(IF(SEARCH(\"=\",L108),L108,\"\"),\"\")","v":""},{"$f":"IFERROR(IF(SEARCH(\"=\",M108),M108,\"\"),\"\")","v":""},{"$f":"IFERROR(IF(SEARCH(\"=\",N108),N108,\"\"),\"\")","v":""},{"$f":"IFERROR(IF(SEARCH(\"=\",O108),O108,\"\"),\"\")","v":""},null,null,null,13]
[null,null,null,"",null,null,null,null,"","",null,{"$f":"IF(E109>0,\" (p/u) \"&Modulo2.GetFormula(E109),\"\")","v":""},{"$f":"IF(F109>0,\" (lu) \"&Modulo2.GetFormula(F109),\"\")","v":""},{"$f":"IF(G109>0,\" (la) \"&Modulo2.GetFormula(G109),\"\")","v":""},{"$f":"IF(H109>0,\" (H) \"&Modulo2.GetFormula(H109),\"\")","v":""},null,null,null,null,null,null,null,null,null,2,0,null,"",{"$f":"ROWS($AC$4:AC109)","v":106},"",{"$f":"IFERROR(SMALL($AD$4:$AD$1642,ROWS($AD$4:AD109)),\"\")","v":""},null,{"$f":"IFERROR(INDEX($A$4:$R$1642,$AE109,COLUMNS($A:$B)),\"\")","v":""},{"$f":"IFERROR(INDEX($A$4:$R$1642,$AE109,COLUMNS($A:$C)),\"\")","v":""},{"$f":"IFERROR(INDEX($A$4:$R$1642,$AE109,COLUMNS($A:$R)),\"\")","v":""},null,"","","","",null,null,null,13]
[null,null,null,"",null,null,null,null,"","",null,{"$f":"IF(E110>0,\" (p/u) \"&Modulo2.GetFormula(E110),\"\")","v":""},{"$f":"IF(F110>0,\" (lu) \"&Modulo2.GetFormula(F110),\"\")","v":""},{"$f":"IF(G110>0,\" (la) \"&Modulo2.GetFormula(G110),\"\")","v":""},{"$f":"IF(H110>0,\" (H) \"&Modulo2.GetFormula(H110),\"\")","v":""},null,null,null,null,null,null,null,null,null,2,0,null,"",{"$f":"ROWS($AC$4:AC110)","v":107},"",{"$f":"IFERROR(SMALL($AD$4:$AD$1642,ROWS($AD$4:AD110)),\"\")","v":""},null,{"$f":"IFERROR(INDEX($A$4:$R$1642,$AE110,COLUMNS($A:$B)),\"\")","v":""},{"$f":"IFERROR(INDEX($A$4:$R$1642,$AE110,COLUMNS($A:$C)),\"\")","v":""},{"$f":"IFERROR(INDEX($A$4:$R$1642,$AE110,COLUMNS($A:$R)),\"\")","v":""},null,"","","","",null,null,null,13]
[null,null,null,null,null,null,null,{"$f":"CONCATENATE(\"SOMMANO [\",VLOOKUP(B107,'Elenco Prezzi2'!$A$2:$E$201,3,FALSE()),\"]\")","v":{"$error":"#N/A"}},{"$f":"IF(T111=\"s\",V112,SUBTOTAL(9,I107:I111))","v":{"$error":"#REF!"}},null,{"$f":"VLOOKUP(B107,'Elenco Prezzi2'!$A$2:$E$201,5,FALSE)","v":{"$error":"#N/A"}},null,null,null,null,null,null,{"$f":"IFERROR(I111*K111,\"\")","v":""},null,"s",null,null,null,{"$f":"R111","v":""},2,0,null,"",{"$f":"ROWS($AC$4:AC111)","v":108},"",{"$f":"IFERROR(SMALL($AD$4:$AD$1642,ROWS($AD$4:AD111)),\"\")","v":""},null,{"$f":"IFERROR(INDEX($A$4:$R$1642,$AE111,COLUMNS($A:$B)),\"\")","v":""},{"$f":"IFERROR(INDEX($A$4:$R$1642,$AE111,COLUMNS($A:$C)),\"\")","v":""},{"$f":"IFERROR(INDEX($A$4:$R$1642,$AE111,COLUMNS($A:$R)),\"\")","v":""},null,null,null,null,null,null,null,null,13]
[null,null,null,null,null,null,null,{"$f":"IF(I112<0,\"a detrarre\",\"\")","v":""},{"$f":"SUMIF(I107:I110,\"<0\")","v":0},null,null,null,null,null,null,null,null,null,{"$f":"R111","v":""},null,null,{"$f":"VLOOKUP(B107,#REF!,4,FALSE)","v":{"$error":"#REF!"}},null,null,2,0,null,"",{"$f":"ROWS($AC$4:AC112)","v":109},"",{"$f":"IFERROR(SMALL($AD$4:$AD$1642,ROWS($AD$4:AD112)),\"\")","v":""},null,{"$f":"IFERROR(INDEX($A$4:$R$1642,$AE112,COLUMNS($A:$B)),\"\")","v":""},{"$f":"IFERROR(INDEX($A$4:$R$1642,$AE112,COLUMNS($A:$C)),\"\")","v":""},{"$f":"IFERROR(INDEX($A$4:$R$1642,$AE112,COLUMNS($A:$R)),\"\")","v":""},null,null,null,null,null,null,null,null,13]
[null,null,null,null,null,null,null,null,null,null,null,null,null,null,null,null,null,null,null,null,null,null,null,null,2,0,null,"",{"$f":"ROWS($AC$4:AC113)","v":110},"",{"$f":"IFERROR(SMALL($AD$4:$AD$1642,ROWS($AD$4:AD113)),\"\")","v":""},null,{"$f":"IFERROR(INDEX($A$4:$R$1642,$AE113,COLUMNS($A:$B)),\"\")","v":""},{"$f":"IFERROR(INDEX($A$4:$R$1642,$AE113,COLUMNS($A:$C)),\"\")","v":""},{"$f":"IFERROR(INDEX($A$4:$R$1642,$AE113,COLUMNS($A:$R)),\"\")","v":""},null,null,null,null,null,null,null,null,13]
[null,null,null,null,null,null,null,null,null,null,null,null,null,null,null,null,null,null,null,null,null,null,null,null,2,0,null,"",{"$f":"ROWS($AC$4:AC114)","v":111},"",{"$f":"IFERROR(SMALL($AD$4:$AD$1642,ROWS($AD$4:AD114)),\"\")","v":""},null,{"$f":"IFERROR(INDEX($A$4:$R$1642,$AE114,COLUMNS($A:$B)),\"\")","v":""},{"$f":"IFERROR(INDEX($A$4:$R$1642,$AE114,COLUMNS($A:$C)),\"\")","v":""},{"$f":"IFERROR(INDEX($A$4:$R$1642,$AE114,COLUMNS($A:$R)),\"\")","v":""},null,null,null,null,null,null,null,null,13]
[{"$f":"AR115","v":14},null,{"$f":"(VLOOKUP($B115,'Elenco Prezzi2'!$A$2:$E$201,2,FALSE))","v":{"$error":"#N/A"}},null,null,null,null,null,null,null,null,null,null,null,null,null,null,null,null,null,null,null,null,null,2,0,null,"",{"$f":"ROWS($AC$4:AC115)","v":112},"",{"$f":"IFERROR(SMALL($AD$4:$AD$1642,ROWS($AD$4:AD115)),\"\")","v":""},null,{"$f":"IFERROR(INDEX($A$4:$R$1642,$AE115,COLUMNS($A:$B)),\"\")","v":""},{"$f":"IFERROR(INDEX($A$4:$R$1642,$AE115,COLUMNS($A:$C)),\"\")","v":""},{"$f":"IFERROR(INDEX($A$4:$R$1642,$AE115,COLUMNS($A:$R)),\"\")","v":""},null,null,null,null,null,null,null,1,14]
[null,null,null,{"$f":"CONCATENATE(AK116&AL116&AM116&AN116)","v":""},null,null,null,null,{"$f":"IFERROR(IF(PRODUCT(E116:H116)=0,\"\",PRODUCT(E116:H116)),\"\")","v":""},{"$f":"I116","v":""},null,{"$f":"IF(E116>0,\" (p/u) \"&Modulo2.GetFormula(E116),\"\")","v":""},{"$f":"IF(F116>0,\" (lu) \"&Modulo2.GetFormula(F116),\"\")","v":""},{"$f":"IF(G116>0,\" (la) \"&Modulo2.GetFormula(G116),\"\")","v":""},{"$f":"IF(H116>0,\" (H) \"&Modulo2.GetFormula(H116),\"\")","v":""},null,null,null,null,null,null,null,null,null,2,0,null,"",{"$f":"ROWS($AC$4:AC116)","v":113},"",{"$f":"IFERROR(SMALL($AD$4:$AD$1642,ROWS($AD$4:AD116)),\"\")","v":""},null,{"$f":"IFERROR(INDEX($A$4:$R$1642,$AE116,COLUMNS($A:$B)),\"\")","v":""},{"$f":"IFERROR(INDEX($A$4:$R$1642,$AE116,COLUMNS($A:$C)),\"\")","v":""},{"$f":"IFERROR(INDEX($A$4:$R$1642,$AE116,COLUMNS($A:$R)),\"\")","v":""},null,{"$f":"IFERROR(IF(SEARCH(\"=\",L116),L116,\"\"),\"\")","v":""},{"$f":"IFERROR(IF(SEARCH(\"=\",M116),M116,\"\"),\"\")","v":""},{"$f":"IFERROR(IF(SEARCH(\"=\",N116),N116,\"\"),\"\")","v":""},{"$f":"IFERROR(IF(SEARCH(\"=\",O116),O116,\"\"),\"\")","v":""},null,null,null,14]
[null,null,null,"",null,null,null,null,"","",null,{"$f":"IF(E117>0,\" (p/u) \"&Modulo2.GetFormula(E117),\"\")","v":""},{"$f":"IF(F117>0,\" (lu) \"&Modulo2.GetFormula(F117),\"\")","v":""},{"$f":"IF(G117>0,\" (la) \"&Modulo2.GetFormula(G117),\"\")","v":""},{"$f":"IF(H117>0,\" (H) \"&Modulo2.GetFormula(H117),\"\")","v":""},null,null,null,null,null,null,null,null,null,2,0,null,"",{"$f":"ROWS($AC$4:AC117)","v":114},"",{"$f":"IFERROR(SMALL($AD$4:$AD$1642,ROWS($AD$4:AD117)),\"\")","v":""},null,{"$f":"IFERROR(INDEX($A$4:$R$1642,$AE117,COLUMNS($A:$B)),\"\")","v":""},{"$f":"IFERROR(INDEX($A$4:$R$1642,$AE117,COLUMNS($A:$C)),\"\")","v":""},{"$f":"IFERROR(INDEX($A$4:$R$1642,$AE117,COLUMNS($A:$R)),\"\")","v":""},null,"","","","",null,null,null,14]
[null,null,null,"",null,null,null,null,"","",null,{"$f":"IF(E118>0,\" (p/u) \"&Modulo2.GetFormula(E118),\"\")","v":""},{"$f":"IF(F118>0,\" (lu) \"&Modulo2.GetFormula(F118),\"\")","v":""},{"$f":"IF(G118>0,\" (la) \"&Modulo2.GetFormula(G118),\"\")","v":""},{"$f":"IF(H118>0,\" (H) \"&Modulo2.GetFormula(H118),\"\")","v":""},null,null,null,null,null,null,null,null,null,2,0,null,"",{"$f":"ROWS($AC$4:AC118)","v":115},"",{"$f":"IFERROR(SMALL($AD$4:$AD$1642,ROWS($AD$4:AD118)),\"\")","v":""},null,{"$f":"IFERROR(INDEX($A$4:$R$1642,$AE118,COLUMNS($A:$B)),\"\")","v":""},{"$f":"IFERROR(INDEX($A$4:$R$1642,$AE118,COLUMNS($A:$C)),\"\")","v":""},{"$f":"IFERROR(INDEX($A$4:$R$1642,$AE118,COLUMNS($A:$R)),\"\")","v":""},null,"","","","",null,null,null,14]
[null,null,null,null,null,null,null,{"$f":"CONCATENATE(\"SOMMANO [\",VLOOKUP(B115,'Elenco Prezzi2'!$A$2:$E$201,3,FALSE()),\"]\")","v":{"$error":"#N/A"}},{"$f":"IF(T119=\"s\",V120,SUBTOTAL(9,I115:I119))","v":{"$error":"#REF!"}},null,{"$f":"VLOOKUP(B115,'Elenco Prezzi2'!$A$2:$E$201,5,FALSE)","v":{"$error":"#N/A"}},null,null,null,null,null,null,{"$f":"IFERROR(I119*K119,\"\")","v":""},null,"s",null,null,null,{"$f":"R119","v":""},2,0,null,"",{"$f":"ROWS($AC$4:AC119)","v":116},"",{"$f":"IFERROR(SMALL($AD$4:$AD$1642,ROWS($AD$4:AD119)),\"\")","v":""},null,{"$f":"IFERROR(INDEX($A$4:$R$1642,$AE119,COLUMNS($A:$B)),\"\")","v":""},{"$f":"IFERROR(INDEX($A$4:$R$1642,$AE119,COLUMNS($A:$C)),\"\")","v":""},{"$f":"IFERROR(INDEX($A$4:$R$1642,$AE119,COLUMNS($A:$R)),\"\")","v":""},null,null,null,null,null,null,null,null,14]
[null,null,null,null,null,null,null,{"$f":"IF(I120<0,\"a detrarre\",\"\")","v":""},{"$f":"SUMIF(I115:I118,\"<0\")","v":0},null,null,null,null,null,null,null,null,null,{"$f":"R119","v":""},null,null,{"$f":"VLOOKUP(B115,#REF!,4,FALSE)","v":{"$error":"#REF!"}},null,null,2,0,null,"",{"$f":"ROWS($AC$4:AC120)","v":117},"",{"$f":"IFERROR(SMALL($AD$4:$AD$1642,ROWS($AD$4:AD120)),\"\")","v":""},null,{"$f":"IFERROR(INDEX($A$4:$R$1642,$AE120,COLUMNS($A:$B)),\"\")","v":""},{"$f":"IFERROR(INDEX($A$4:$R$1642,$AE120,COLUMNS($A:$C)),\"\")","v":""},{"$f":"IFERROR(INDEX($A$4:$R$1642,$AE120,COLUMNS($A:$R)),\"\")","v":""},null,null,null,null,null,null,null,null,14]
[null,null,null,null,null,null,null,null,null,null,null,null,null,null,null,null,null,null,null,null,null,null,null,null,2,0,null,"",{"$f":"ROWS($AC$4:AC121)","v":118},"",{"$f":"IFERROR(SMALL($AD$4:$AD$1642,ROWS($AD$4:AD121)),\"\")","v":""},null,{"$f":"IFERROR(INDEX($A$4:$R$1642,$AE121,COLUMNS($A:$B)),\"\")","v":""},{"$f":"IFERROR(INDEX($A$4:$R$1642,$AE121,COLUMNS($A:$C)),\"\")","v":""},{"$f":"IFERROR(INDEX($A$4:$R$1642,$AE121,COLUMNS($A:$R)),\"\")","v":""},null,null,null,null,null,null,null,null,14]
[null,null,null,null,null,null,null,null,null,null,null,null,null,null,null,null,null,null,null,null,null,null,null,null,2,0,null,"",{"$f":"ROWS($AC$4:AC122)","v":119},"",{"$f":"IFERROR(SMALL($AD$4:$AD$1642,ROWS($AD$4:AD122)),\"\")","v":""},null,{"$f":"IFERROR(INDEX($A$4:$R$1642,$AE122,COLUMNS($A:$B)),\"\")","v":""},{"$f":"IFERROR(INDEX($A$4:$R$1642,$AE122,COLUMNS($A:$C)),\"\")","v":""},{"$f":"IFERROR(INDEX($A$4:$R$1642,$AE122,COLUMNS($A:$R)),\"\")","v":""},null,null,null,null,null,null,null,null,14]
[{"$f":"AR123","v":15},null,{"$f":"(VLOOKUP($B123,'Elenco Prezzi2'!$A$2:$E$201,2,FALSE))","v":{"$error":"#N/A"}},null,null,null,null,null,null,null,null,null,null,null,null,null,null,null,null,null,null,null,null,null,2,0,null,"",{"$f":"ROWS($AC$4:AC123)","v":120},"",{"$f":"IFERROR(SMALL($AD$4:$AD$1642,ROWS($AD$4:AD123)),\"\")","v":""},null,{"$f":"IFERROR(INDEX($A$4:$R$1642,$AE123,COLUMNS($A:$B)),\"\")","v":""},{"$f":"IFERROR(INDEX($A$4:$R$1642,$AE123,COLUMNS($A:$C)),\"\")","v":""},{"$f":"IFERROR(INDEX($A$4:$R$1642,$AE123,COLUMNS($A:$R)),\"\")","v":""},null,null,null,null,null,null,null,1,15]
[null,null,null,{"$f":"CONCATENATE(AK124&AL124&AM124&AN124)","v":""},null,null,null,null,{"$f":"IFERROR(IF(PRODUCT(E124:H124)=0,\"\",PRODUCT(E124:H124)),\"\")","v":""},{"$f":"I124","v":""},null,{"$f":"IF(E124>0,\" (p/u) \"&Modulo2.GetFormula(E124),\"\")","v":""},{"$f":"IF(F124>0,\" (lu) \"&Modulo2.GetFormula(F124),\"\")","v":""},{"$f":"IF(G124>0,\" (la) \"&Modulo2.GetFormula(G124),\"\")","v":""},{"$f":"IF(H124>0,\" (H) \"&Modulo2.GetFormula(H124),\"\")","v":""},null,null,null,null,null,null,null,null,null,2,0,null,"",{"$f":"ROWS($AC$4:AC124)","v":121},"",{"$f":"IFERROR(SMALL($AD$4:$AD$1642,ROWS($AD$4:AD124)),\"\")","v":""},null,{"$f":"IFERROR(INDEX($A$4:$R$1642,$AE124,COLUMNS($A:$B)),\"\")","v":""},{"$f":"IFERROR(INDEX($A$4:$R$1642,$AE124,COLUMNS($A:$C)),\"\")","v":""},{"$f":"IFERROR(INDEX($A$4:$R$1642,$AE124,COLUMNS($A:$R)),\"\")","v":""},null,{"$f":"IFERROR(IF(SEARCH(\"=\",L124),L124,\"\"),\"\")","v":""},{"$f":"IFERROR(IF(SEARCH(\"=\",M124),M124,\"\"),\"\")","v":""},{"$f":"IFERROR(IF(SEARCH(\"=\",N124),N124,\"\"),\"\")","v":""},{"$f":"IFERROR(IF(SEARCH(\"=\",O124),O124,\"\"),\"\")","v":""},null,null,null,15]
[null,null,null,"",null,null,null,null,"","",null,{"$f":"IF(E125>0,\" (p/u) \"&Modulo2.GetFormula(E125),\"\")","v":""},{"$f":"IF(F125>0,\" (lu) \"&Modulo2.GetFormula(F125),\"\")","v":""},{"$f":"IF(G125>0,\" (la) \"&Modulo2.GetFormula(G125),\"\")","v":""},{"$f":"IF(H125>0,\" (H) \"&Modulo2.GetFormula(H125),\"\")","v":""},null,null,null,null,null,null,null,null,null,2,0,null,"",{"$f":"ROWS($AC$4:AC125)","v":122},"",{"$f":"IFERROR(SMALL($AD$4:$AD$1642,ROWS($AD$4:AD125)),\"\")","v":""},null,{"$f":"IFERROR(INDEX($A$4:$R$1642,$AE125,COLUMNS($A:$B)),\"\")","v":""},{"$f":"IFERROR(INDEX($A$4:$R$1642,$AE125,COLUMNS($A:$C)),\"\")","v":""},{"$f":"IFERROR(INDEX($A$4:$R$1642,$AE125,COLUMNS($A:$R)),\"\")","v":""},null,"","","","",null,null,null,15]
[null,null,null,"",null,null,null,null,"","",null,{"$f":"IF(E126>0,\" (p/u) \"&Modulo2.GetFormula(E126),\"\")","v":""},{"$f":"IF(F126>0,\" (lu) \"&Modulo2.GetFormula(F126),\"\")","v":""},{"$f":"IF(G126>0,\" (la) \"&Modulo2.GetFormula(G126),\"\")","v":""},{"$f":"IF(H126>0,\" (H) \"&Modulo2.GetFormula(H126),\"\")","v":""},null,null,null,null,null,null,null,null,null,2,0,null,"",{"$f":"ROWS($AC$4:AC126)","v":123},"",{"$f":"IFERROR(SMALL($AD$4:$AD$1642,ROWS($AD$4:AD126)),\"\")","v":""},null,{"$f":"IFERROR(INDEX($A$4:$R$1642,$AE126,COLUMNS($A:$B)),\"\")","v":""},{"$f":"IFERROR(INDEX($A$4:$R$1642,$AE126,COLUMNS($A:$C)),\"\")","v":""},{"$f":"IFERROR(INDEX($A$4:$R$1642,$AE126,COLUMNS($A:$R)),\"\")","v":""},null,"","","","",null,null,null,15]
[null,null,null,null,null,null,null,{"$f":"CONCATENATE(\"SOMMANO [\",VLOOKUP(B123,'Elenco Prezzi2'!$A$2:$E$201,3,FALSE()),\"]\")","v":{"$error":"#N/A"}},{"$f":"IF(T127=\"s\",V128,SUBTOTAL(9,I123:I127))","v":{"$error":"#REF!"}},null,{"$f":"VLOOKUP(B123,'Elenco Prezzi2'!$A$2:$E$201,5,FALSE)","v":{"$error":"#N/A"}},null,null,null,null,null,null,{"$f":"IFERROR(I127*K127,\"\")","v":""},null,"s",null,null,null,{"$f":"R127","v":""},2,0,null,"",{"$f":"ROWS($AC$4:AC127)","v":124},"",{"$f":"IFERROR(SMALL($AD$4:$AD$1642,ROWS($AD$4:AD127)),\"\")","v":""},null,{"$f":"IFERROR(INDEX($A$4:$R$1642,$AE127,COLUMNS($A:$B)),\"\")","v":""},{"$f":"IFERROR(INDEX($A$4:$R$1642,$AE127,COLUMNS($A:$C)),\"\")","v":""},{"$f":"IFERROR(INDEX($A$4:$R$1642,$AE127,COLUMNS($A:$R)),\"\")","v":""},null,null,null,null,null,null,null,null,15]
[null,null,null,null,null,null,null,{"$f":"IF(I128<0,\"a detrarre\",\"\")","v":""},{"$f":"SUMIF(I123:I126,\"<0\")","v":0},null,null,null,null,null,null,null,null,null,{"$f":"R127","v":""},null,null,{"$f":"VLOOKUP(B123,#REF!,4,FALSE)","v":{"$error":"#REF!"}},null,null,2,0,null,"",{"$f":"ROWS($AC$4:AC128)","v":125},"",{"$f":"IFERROR(SMALL($AD$4:$AD$1642,ROWS($AD$4:AD128)),\"\")","v":""},null,{"$f":"IFERROR(INDEX($A$4:$R$1642,$AE128,COLUMNS($A:$B)),\"\")","v":""},{"$f":"IFERROR(INDEX($A$4:$R$1642,$AE128,COLUMNS($A:$C)),\"\")","v":""},{"$f":"IFERROR(INDEX($A$4:$R$1642,$AE128,COLUMNS($A:$R)),\"\")","v":""},null,null,null,null,null,null,null,null,15]
[null,null,null,null,null,null,null,null,null,null,null,null,null,null,null,null,null,null,null,null,null,null,null,null,2,0,null,"",{"$f":"ROWS($AC$4:AC129)","v":126},"",{"$f":"IFERROR(SMALL($AD$4:$AD$1642,ROWS($AD$4:AD129)),\"\")","v":""},null,{"$f":"IFERROR(INDEX($A$4:$R$1642,$AE129,COLUMNS($A:$B)),\"\")","v":""},{"$f":"IFERROR(INDEX($A$4:$R$1642,$AE129,COLUMNS($A:$C)),\"\")","v":""},{"$f":"IFERROR(INDEX($A$4:$R$1642,$AE129,COLUMNS($A:$R)),\"\")","v":""},null,null,null,null,null,null,null,null,15]
[null,null,null,null,null,null,null,null,null,null,null,null,null,null,null,null,null,null,null,null,null,null,null,null,2,0,null,"",{"$f":"ROWS($AC$4:AC130)","v":127},"",{"$f":"IFERROR(SMALL($AD$4:$AD$1642,ROWS($AD$4:AD130)),\"\")","v":""},null,{"$f":"IFERROR(INDEX($A$4:$R$1642,$AE130,COLUMNS($A:$B)),\"\")","v":""},{"$f":"IFERROR(INDEX($A$4:$R$1642,$AE130,COLUMNS($A:$C)),\"\")","v":""},{"$f":"IFERROR(INDEX($A$4:$R$1642,$AE130,COLUMNS($A:$R)),\"\")","v":""},null,null,null,null,null,null,null,null,15]
[{"$f":"AR131","v":16},null,{"$f":"(VLOOKUP($B131,'Elenco Prezzi2'!$A$2:$E$201,2,FALSE))","v":{"$error":"#N/A"}},null,null,null,null,null,null,null,null,null,null,null,null,null,null,null,null,null,null,null,null,null,2,0,null,"",{"$f":"ROWS($AC$4:AC131)","v":128},"",{"$f":"IFERROR(SMALL($AD$4:$AD$1642,ROWS($AD$4:AD131)),\"\")","v":""},null,{"$f":"IFERROR(INDEX($A$4:$R$1642,$AE131,COLUMNS($A:$B)),\"\")","v":""},{"$f":"IFERROR(INDEX($A$4:$R$1642,$AE131,COLUMNS($A:$C)),\"\")","v":""},{"$f":"IFERROR(INDEX($A$4:$R$1642,$AE131,COLUMNS($A:$R)),\"\")","v":""},null,null,null,null,null,null,null,1,16]
[null,null,null,{"$f":"CONCATENATE(AK132&AL132&AM132&AN132)","v":""},null,null,null,null,{"$f":"IFERROR(IF(PRODUCT(E132:H132)=0,\"\",PRODUCT(E132:H132)),\"\")","v":""},{"$f":"I132","v":""},null,{"$f":"IF(E132>0,\" (p/u) \"&Modulo2.GetFormula(E132),\"\")","v":""},{"$f":"IF(F132>0,\" (lu) \"&Modulo2.GetFormula(F132),\"\")","v":""},{"$f":"IF(G132>0,\" (la) \"&Modulo2.GetFormula(G132),\"\")","v":""},{"$f":"IF(H132>0,\" (H) \"&Modulo2.GetFormula(H132),\"\")","v":""},null,null,null,null,null,null,null,null,null,2,0,null,"",{"$f":"ROWS($AC$4:AC132)","v":129},"",{"$f":"IFERROR(SMALL($AD$4:$AD$1642,ROWS($AD$4:AD132)),\"\")","v":""},null,{"$f":"IFERROR(INDEX($A$4:$R$1642,$AE132,COLUMNS($A:$B)),\"\")","v":""},{"$f":"IFERROR(INDEX($A$4:$R$1642,$AE132,COLUMNS($A:$C)),\"\")","v":""},{"$f":"IFERROR(INDEX($A$4:$R$1642,$AE132,COLUMNS($A:$R)),\"\")","v":""},null,{"$f":"IFERROR(IF(SEARCH(\"=\",L132),L132,\"\"),\"\")","v":""},{"$f":"IFERROR(IF(SEARCH(\"=\",M132),M132,\"\"),\"\")","v":""},{"$f":"IFERROR(IF(SEARCH(\"=\",N132),N132,\"\"),\"\")","v":""},{"$f":"IFERROR(IF(SEARCH(\"=\",O132),O132,\"\"),\"\")","v":""},null,null,null,16]
[null,null,null,"",null,null,null,null,"","",null,{"$f":"IF(E133>0,\" (p/u) \"&Modulo2.GetFormula(E133),\"\")","v":""},{"$f":"IF(F133>0,\" (lu) \"&Modulo2.GetFormula(F133),\"\")","v":""},{"$f":"IF(G133>0,\" (la) \"&Modulo2.GetFormula(G133),\"\")","v":""},{"$f":"IF(H133>0,\" (H) \"&Modulo2.GetFormula(H133),\"\")","v":""},null,null,null,null,null,null,null,null,null,2,0,null,"",{"$f":"ROWS($AC$4:AC133)","v":130},"",{"$f":"IFERROR(SMALL($AD$4:$AD$1642,ROWS($AD$4:AD133)),\"\")","v":""},null,{"$f":"IFERROR(INDEX($A$4:$R$1642,$AE133,COLUMNS($A:$B)),\"\")","v":""},{"$f":"IFERROR(INDEX($A$4:$R$1642,$AE133,COLUMNS($A:$C)),\"\")","v":""},{"$f":"IFERROR(INDEX($A$4:$R$1642,$AE133,COLUMNS($A:$R)),\"\")","v":""},null,"","","","",null,null,null,16]
[null,null,null,"",null,null,null,null,"","",null,{"$f":"IF(E134>0,\" (p/u) \"&Modulo2.GetFormula(E134),\"\")","v":""},{"$f":"IF(F134>0,\" (lu) \"&Modulo2.GetFormula(F134),\"\")","v":""},{"$f":"IF(G134>0,\" (la) \"&Modulo2.GetFormula(G134),\"\")","v":""},{"$f":"IF(H134>0,\" (H) \"&Modulo2.GetFormula(H134),\"\")","v":""},null,null,null,null,null,null,null,null,null,2,0,null,"",{"$f":"ROWS($AC$4:AC134)","v":131},"",{"$f":"IFERROR(SMALL($AD$4:$AD$1642,ROWS($AD$4:AD134)),\"\")","v":""},null,{"$f":"IFERROR(INDEX($A$4:$R$1642,$AE134,COLUMNS($A:$B)),\"\")","v":""},{"$f":"IFERROR(INDEX($A$4:$R$1642,$AE134,COLUMNS($A:$C)),\"\")","v":""},{"$f":"IFERROR(INDEX($A$4:$R$1642,$AE134,COLUMNS($A:$R)),\"\")","v":""},null,"","","","",null,null,null,16]
[null,null,null,null,null,null,null,{"$f":"CONCATENATE(\"SOMMANO [\",VLOOKUP(B131,'Elenco Prezzi2'!$A$2:$E$201,3,FALSE()),\"]\")","v":{"$error":"#N/A"}},{"$f":"IF(T135=\"s\",V136,SUBTOTAL(9,I131:I135))","v":{"$error":"#REF!"}},null,{"$f":"VLOOKUP(B131,'Elenco Prezzi2'!$A$2:$E$201,5,FALSE)","v":{"$error":"#N/A"}},null,null,null,null,null,null,{"$f":"IFERROR(I135*K135,\"\")","v":""},null,"s",null,null,null,{"$f":"R135","v":""},2,0,null,"",{"$f":"ROWS($AC$4:AC135)","v":132},"",{"$f":"IFERROR(SMALL($AD$4:$AD$1642,ROWS($AD$4:AD135)),\"\")","v":""},null,{"$f":"IFERROR(INDEX($A$4:$R$1642,$AE135,COLUMNS($A:$B)),\"\")","v":""},{"$f":"IFERROR(INDEX($A$4:$R$1642,$AE135,COLUMNS($A:$C)),\"\")","v":""},{"$f":"IFERROR(INDEX($A$4:$R$1642,$AE135,COLUMNS($A:$R)),\"\")","v":""},null,null,null,null,null,null,null,null,16]
[null,null,null,null,null,null,null,{"$f":"IF(I136<0,\"a detrarre\",\"\")","v":""},{"$f":"SUMIF(I131:I134,\"<0\")","v":0},null,null,null,null,null,null,null,null,null,{"$f":"R135","v":""},null,null,{"$f":"VLOOKUP(B131,#REF!,4,FALSE)","v":{"$error":"#REF!"}},null,null,2,0,null,"",{"$f":"ROWS($AC$4:AC136)","v":133},"",{"$f":"IFERROR(SMALL($AD$4:$AD$1642,ROWS($AD$4:AD136)),\"\")","v":""},null,{"$f":"IFERROR(INDEX($A$4:$R$1642,$AE136,COLUMNS($A:$B)),\"\")","v":""},{"$f":"IFERROR(INDEX($A$4:$R$1642,$AE136,COLUMNS($A:$C)),\"\")","v":""},{"$f":"IFERROR(INDEX($A$4:$R$1642,$AE136,COLUMNS($A:$R)),\"\")","v":""},null,null,null,null,null,null,null,null,16]
[null,null,null,null,null,null,null,null,null,null,null,null,null,null,null,null,null,null,null,null,null,null,null,null,2,0,null,"",{"$f":"ROWS($AC$4:AC137)","v":134},"",{"$f":"IFERROR(SMALL($AD$4:$AD$1642,ROWS($AD$4:AD137)),\"\")","v":""},null,{"$f":"IFERROR(INDEX($A$4:$R$1642,$AE137,COLUMNS($A:$B)),\"\")","v":""},{"$f":"IFERROR(INDEX($A$4:$R$1642,$AE137,COLUMNS($A:$C)),\"\")","v":""},{"$f":"IFERROR(INDEX($A$4:$R$1642,$AE137,COLUMNS($A:$R)),\"\")","v":""},null,null,null,null,null,null,null,null,16]
[null,null,null,null,null,null,null,null,null,null,null,null,null,null,null,null,null,null,null,null,null,null,null,null,2,0,null,"",{"$f":"ROWS($AC$4:AC138)","v":135},"",{"$f":"IFERROR(SMALL($AD$4:$AD$1642,ROWS($AD$4:AD138)),\"\")","v":""},null,{"$f":"IFERROR(INDEX($A$4:$R$1642,$AE138,COLUMNS($A:$B)),\"\")","v":""},{"$f":"IFERROR(INDEX($A$4:$R$1642,$AE138,COLUMNS($A:$C)),\"\")","v":""},{"$f":"IFERROR(INDEX($A$4:$R$1642,$AE138,COLUMNS($A:$R)),\"\")","v":""},null,null,null,null,null,null,null,null,16]
[{"$f":"AR139","v":17},null,{"$f":"(VLOOKUP($B139,'Elenco Prezzi2'!$A$2:$E$201,2,FALSE))","v":{"$error":"#N/A"}},null,null,null,null,null,null,null,null,null,null,null,null,null,null,null,null,null,null,null,null,null,2,0,null,"",{"$f":"ROWS($AC$4:AC139)","v":136},"",{"$f":"IFERROR(SMALL($AD$4:$AD$1642,ROWS($AD$4:AD139)),\"\")","v":""},null,{"$f":"IFERROR(INDEX($A$4:$R$1642,$AE139,COLUMNS($A:$B)),\"\")","v":""},{"$f":"IFERROR(INDEX($A$4:$R$1642,$AE139,COLUMNS($A:$C)),\"\")","v":""},{"$f":"IFERROR(INDEX($A$4:$R$1642,$AE139,COLUMNS($A:$R)),\"\")","v":""},null,null,null,null,null,null,null,1,17]
[null,null,null,{"$f":"CONCATENATE(AK140&AL140&AM140&AN140)","v":""},null,null,null,null,{"$f":"IFERROR(IF(PRODUCT(E140:H140)=0,\"\",PRODUCT(E140:H140)),\"\")","v":""},{"$f":"I140","v":""},null,{"$f":"IF(E140>0,\" (p/u) \"&Modulo2.GetFormula(E140),\"\")","v":""},{"$f":"IF(F140>0,\" (lu) \"&Modulo2.GetFormula(F140),\"\")","v":""},{"$f":"IF(G140>0,\" (la) \"&Modulo2.GetFormula(G140),\"\")","v":""},{"$f":"IF(H140>0,\" (H) \"&Modulo2.GetFormula(H140),\"\")","v":""},null,null,null,null,null,null,null,null,null,2,0,null,"",{"$f":"ROWS($AC$4:AC140)","v":137},"",{"$f":"IFERROR(SMALL($AD$4:$AD$1642,ROWS($AD$4:AD140)),\"\")","v":""},null,{"$f":"IFERROR(INDEX($A$4:$R$1642,$AE140,COLUMNS($A:$B)),\"\")","v":""},{"$f":"IFERROR(INDEX($A$4:$R$1642,$AE140,COLUMNS($A:$C)),\"\")","v":""},{"$f":"IFERROR(INDEX($A$4:$R$1642,$AE140,COLUMNS($A:$R)),\"\")","v":""},null,{"$f":"IFERROR(IF(SEARCH(\"=\",L140),L140,\"\"),\"\")","v":""},{"$f":"IFERROR(IF(SEARCH(\"=\",M140),M140,\"\"),\"\")","v":""},{"$f":"IFERROR(IF(SEARCH(\"=\",N140),N140,\"\"),\"\")","v":""},{"$f":"IFERROR(IF(SEARCH(\"=\",O140),O140,\"\"),\"\")","v":""},null,null,null,17]
[null,null,null,"",null,null,null,null,"","",null,{"$f":"IF(E141>0,\" (p/u) \"&Modulo2.GetFormula(E141),\"\")","v":""},{"$f":"IF(F141>0,\" (lu) \"&Modulo2.GetFormula(F141),\"\")","v":""},{"$f":"IF(G141>0,\" (la) \"&Modulo2.GetFormula(G141),\"\")","v":""},{"$f":"IF(H141>0,\" (H) \"&Modulo2.GetFormula(H141),\"\")","v":""},null,null,null,null,null,null,null,null,null,2,0,null,"",{"$f":"ROWS($AC$4:AC141)","v":138},"",{"$f":"IFERROR(SMALL($AD$4:$AD$1642,ROWS($AD$4:AD141)),\"\")","v":""},null,{"$f":"IFERROR(INDEX($A$4:$R$1642,$AE141,COLUMNS($A:$B)),\"\")","v":""},{"$f":"IFERROR(INDEX($A$4:$R$1642,$AE141,COLUMNS($A:$C)),\"\")","v":""},{"$f":"IFERROR(INDEX($A$4:$R$1642,$AE141,COLUMNS($A:$R)),\"\")","v":""},null,"","","","",null,null,null,17]
[null,null,null,"",null,null,null,null,"","",null,{"$f":"IF(E142>0,\" (p/u) \"&Modulo2.GetFormula(E142),\"\")","v":""},{"$f":"IF(F142>0,\" (lu) \"&Modulo2.GetFormula(F142),\"\")","v":""},{"$f":"IF(G142>0,\" (la) \"&Modulo2.GetFormula(G142),\"\")","v":""},{"$f":"IF(H142>0,\" (H) \"&Modulo2.GetFormula(H142),\"\")","v":""},null,null,null,null,null,null,null,null,null,2,0,null,"",{"$f":"ROWS($AC$4:AC142)","v":139},"",{"$f":"IFERROR(SMALL($AD$4:$AD$1642,ROWS($AD$4:AD142)),\"\")","v":""},null,{"$f":"IFERROR(INDEX($A$4:$R$1642,$AE142,COLUMNS($A:$B)),\"\")","v":""},{"$f":"IFERROR(INDEX($A$4:$R$1642,$AE142,COLUMNS($A:$C)),\"\")","v":""},{"$f":"IFERROR(INDEX($A$4:$R$1642,$AE142,COLUMNS($A:$R)),\"\")","v":""},null,"","","","",null,null,null,17]
[null,null,null,null,null,null,null,{"$f":"CONCATENATE(\"SOMMANO [\",VLOOKUP(B139,'Elenco Prezzi2'!$A$2:$E$201,3,FALSE()),\"]\")","v":{"$error":"#N/A"}},{"$f":"IF(T143=\"s\",V144,SUBTOTAL(9,I139:I143))","v":{"$error":"#REF!"}},null,{"$f":"VLOOKUP(B139,'Elenco Prezzi2'!$A$2:$E$201,5,FALSE)","v":{"$error":"#N/A"}},null,null,null,null,null,null,{"$f":"IFERROR(I143*K143,\"\")","v":""},null,"s",null,null,null,{"$f":"R143","v":""},2,0,null,"",{"$f":"ROWS($AC$4:AC143)","v":140},"",{"$f":"IFERROR(SMALL($AD$4:$AD$1642,ROWS($AD$4:AD143)),\"\")","v":""},null,{"$f":"IFERROR(INDEX($A$4:$R$1642,$AE143,COLUMNS($A:$B)),\"\")","v":""},{"$f":"IFERROR(INDEX($A$4:$R$1642,$AE143,COLUMNS($A:$C)),\"\")","v":""},{"$f":"IFERROR(INDEX($A$4:$R$1642,$AE143,COLUMNS($A:$R)),\"\")","v":""},null,null,null,null,null,null,null,null,17]
[null,null,null,null,null,null,null,{"$f":"IF(I144<0,\"a detrarre\",\"\")","v":""},{"$f":"SUMIF(I139:I142,\"<0\")","v":0},null,null,null,null,null,null,null,null,null,{"$f":"R143","v":""},null,null,{"$f":"VLOOKUP(B139,#REF!,4,FALSE)","v":{"$error":"#REF!"}},null,null,2,0,null,"",{"$f":"ROWS($AC$4:AC144)","v":141},"",{"$f":"IFERROR(SMALL($AD$4:$AD$1642,ROWS($AD$4:AD144)),\"\")","v":""},null,{"$f":"IFERROR(INDEX($A$4:$R$1642,$AE144,COLUMNS($A:$B)),\"\")","v":""},{"$f":"IFERROR(INDEX($A$4:$R$1642,$AE144,COLUMNS($A:$C)),\"\")","v":""},{"$f":"IFERROR(INDEX($A$4:$R$1642,$AE144,COLUMNS($A:$R)),\"\")","v":""},null,null,null,null,null,null,null,null,17]
[null,null,null,null,null,null,null,null,null,null,null,null,null,null,null,null,null,null,null,null,null,null,null,null,2,0,null,"",{"$f":"ROWS($AC$4:AC145)","v":142},"",{"$f":"IFERROR(SMALL($AD$4:$AD$1642,ROWS($AD$4:AD145)),\"\")","v":""},null,{"$f":"IFERROR(INDEX($A$4:$R$1642,$AE145,COLUMNS($A:$B)),\"\")","v":""},{"$f":"IFERROR(INDEX($A$4:$R$1642,$AE145,COLUMNS($A:$C)),\"\")","v":""},{"$f":"IFERROR(INDEX($A$4:$R$1642,$AE145,COLUMNS($A:$R)),\"\")","v":""},null,null,null,null,null,null,null,null,17]
[null,null,null,null,null,null,null,null,null,null,null,null,null,null,null,null,null,null,null,null,null,null,null,null,2,0,null,"",{"$f":"ROWS($AC$4:AC146)","v":143},"",{"$f":"IFERROR(SMALL($AD$4:$AD$1642,ROWS($AD$4:AD146)),\"\")","v":""},null,{"$f":"IFERROR(INDEX($A$4:$R$1642,$AE146,COLUMNS($A:$B)),\"\")","v":""},{"$f":"IFERROR(INDEX($A$4:$R$1642,$AE146,COLUMNS($A:$C)),\"\")","v":""},{"$f":"IFERROR(INDEX($A$4:$R$1642,$AE146,COLUMNS($A:$R)),\"\")","v":""},null,null,null,null,null,null,null,null,17]
[{"$f":"AR147","v":18},null,{"$f":"(VLOOKUP($B147,'Elenco Prezzi2'!$A$2:$E$201,2,FALSE))","v":{"$error":"#N/A"}},null,null,null,null,null,null,null,null,null,null,null,null,null,null,null,null,null,null,null,null,null,2,0,null,"",{"$f":"ROWS($AC$4:AC147)","v":144},"",{"$f":"IFERROR(SMALL($AD$4:$AD$1642,ROWS($AD$4:AD147)),\"\")","v":""},null,{"$f":"IFERROR(INDEX($A$4:$R$1642,$AE147,COLUMNS($A:$B)),\"\")","v":""},{"$f":"IFERROR(INDEX($A$4:$R$1642,$AE147,COLUMNS($A:$C)),\"\")","v":""},{"$f":"IFERROR(INDEX($A$4:$R$1642,$AE147,COLUMNS($A:$R)),\"\")","v":""},null,null,null,null,null,null,null,1,18]
[null,null,null,{"$f":"CONCATENATE(AK148&AL148&AM148&AN148)","v":""},null,null,null,null,{"$f":"IFERROR(IF(PRODUCT(E148:H148)=0,\"\",PRODUCT(E148:H148)),\"\")","v":""},{"$f":"I148","v":""},null,{"$f":"IF(E148>0,\" (p/u) \"&Modulo2.GetFormula(E148),\"\")","v":""},{"$f":"IF(F148>0,\" (lu) \"&Modulo2.GetFormula(F148),\"\")","v":""},{"$f":"IF(G148>0,\" (la) \"&Modulo2.GetFormula(G148),\"\")","v":""},{"$f":"IF(H148>0,\" (H) \"&Modulo2.GetFormula(H148),\"\")","v":""},null,null,null,null,null,null,null,null,null,2,0,null,"",{"$f":"ROWS($AC$4:AC148)","v":145},"",{"$f":"IFERROR(SMALL($AD$4:$AD$1642,ROWS($AD$4:AD148)),\"\")","v":""},null,{"$f":"IFERROR(INDEX($A$4:$R$1642,$AE148,COLUMNS($A:$B)),\"\")","v":""},{"$f":"IFERROR(INDEX($A$4:$R$1642,$AE148,COLUMNS($A:$C)),\"\")","v":""},{"$f":"IFERROR(INDEX($A$4:$R$1642,$AE148,COLUMNS($A:$R)),\"\")","v":""},null,{"$f":"IFERROR(IF(SEARCH(\"=\",L148),L148,\"\"),\"\")","v":""},{"$f":"IFERROR(IF(SEARCH(\"=\",M148),M148,\"\"),\"\")","v":""},{"$f":"IFERROR(IF(SEARCH(\"=\",N148),N148,\"\"),\"\")","v":""},{"$f":"IFERROR(IF(SEARCH(\"=\",O148),O148,\"\"),\"\")","v":""},null,null,null,18]
[null,null,null,"",null,null,null,null,"","",null,{"$f":"IF(E149>0,\" (p/u) \"&Modulo2.GetFormula(E149),\"\")","v":""},{"$f":"IF(F149>0,\" (lu) \"&Modulo2.GetFormula(F149),\"\")","v":""},{"$f":"IF(G149>0,\" (la) \"&Modulo2.GetFormula(G149),\"\")","v":""},{"$f":"IF(H149>0,\" (H) \"&Modulo2.GetFormula(H149),\"\")","v":""},null,null,null,null,null,null,null,null,null,2,0,null,"",{"$f":"ROWS($AC$4:AC149)","v":146},"",{"$f":"IFERROR(SMALL($AD$4:$AD$1642,ROWS($AD$4:AD149)),\"\")","v":""},null,{"$f":"IFERROR(INDEX($A$4:$R$1642,$AE149,COLUMNS($A:$B)),\"\")","v":""},{"$f":"IFERROR(INDEX($A$4:$R$1642,$AE149,COLUMNS($A:$C)),\"\")","v":""},{"$f":"IFERROR(INDEX($A$4:$R$1642,$AE149,COLUMNS($A:$R)),\"\")","v":""},null,"","","","",null,null,null,18]
[null,null,null,"",null,null,null,null,"","",null,{"$f":"IF(E150>0,\" (p/u) \"&Modulo2.GetFormula(E150),\"\")","v":""},{"$f":"IF(F150>0,\" (lu) \"&Modulo2.GetFormula(F150),\"\")","v":""},{"$f":"IF(G150>0,\" (la) \"&Modulo2.GetFormula(G150),\"\")","v":""},{"$f":"IF(H150>0,\" (H) \"&Modulo2.GetFormula(H150),\"\")","v":""},null,null,null,null,null,null,null,null,null,2,0,null,"",{"$f":"ROWS($AC$4:AC150)","v":147},"",{"$f":"IFERROR(SMALL($AD$4:$AD$1642,ROWS($AD$4:AD150)),\"\")","v":""},null,{"$f":"IFERROR(INDEX($A$4:$R$1642,$AE150,COLUMNS($A:$B)),\"\")","v":""},{"$f":"IFERROR(INDEX($A$4:$R$1642,$AE150,COLUMNS($A:$C)),\"\")","v":""},{"$f":"IFERROR(INDEX($A$4:$R$1642,$AE150,COLUMNS($A:$R)),\"\")","v":""},null,"","","","",null,null,null,18]
[null,null,null,null,null,null,null,{"$f":"CONCATENATE(\"SOMMANO [\",VLOOKUP(B147,'Elenco Prezzi2'!$A$2:$E$201,3,FALSE()),\"]\")","v":{"$error":"#N/A"}},{"$f":"IF(T151=\"s\",V152,SUBTOTAL(9,I147:I151))","v":{"$error":"#REF!"}},null,{"$f":"VLOOKUP(B147,'Elenco Prezzi2'!$A$2:$E$201,5,FALSE)","v":{"$error":"#N/A"}},null,null,null,null,null,null,{"$f":"IFERROR(I151*K151,\"\")","v":""},null,"s",null,null,null,{"$f":"R151","v":""},2,0,null,"",{"$f":"ROWS($AC$4:AC151)","v":148},"",{"$f":"IFERROR(SMALL($AD$4:$AD$1642,ROWS($AD$4:AD151)),\"\")","v":""},null,{"$f":"IFERROR(INDEX($A$4:$R$1642,$AE151,COLUMNS($A:$B)),\"\")","v":""},{"$f":"IFERROR(INDEX($A$4:$R$1642,$AE151,COLUMNS($A:$C)),\"\")","v":""},{"$f":"IFERROR(INDEX($A$4:$R$1642,$AE151,COLUMNS($A:$R)),\"\")","v":""},null,null,null,null,null,null,null,null,18]
[null,null,null,null,null,null,null,{"$f":"IF(I152<0,\"a detrarre\",\"\")","v":""},{"$f":"SUMIF(I147:I150,\"<0\")","v":0},null,null,null,null,null,null,null,null,null,{"$f":"R151","v":""},null,null,{"$f":"VLOOKUP(B147,#REF!,4,FALSE)","v":{"$error":"#REF!"}},null,null,2,0,null,"",{"$f":"ROWS($AC$4:AC152)","v":149},"",{"$f":"IFERROR(SMALL($AD$4:$AD$1642,ROWS($AD$4:AD152)),\"\")","v":""},null,{"$f":"IFERROR(INDEX($A$4:$R$1642,$AE152,COLUMNS($A:$B)),\"\")","v":""},{"$f":"IFERROR(INDEX($A$4:$R$1642,$AE152,COLUMNS($A:$C)),\"\")","v":""},{"$f":"IFERROR(INDEX($A$4:$R$1642,$AE152,COLUMNS($A:$R)),\"\")","v":""},null,null,null,null,null,null,null,null,18]
[null,null,null,null,null,null,null,null,null,null,null,null,null,null,null,null,null,null,null,null,null,null,null,null,2,0,null,"",{"$f":"ROWS($AC$4:AC153)","v":150},"",{"$f":"IFERROR(SMALL($AD$4:$AD$1642,ROWS($AD$4:AD153)),\"\")","v":""},null,{"$f":"IFERROR(INDEX($A$4:$R$1642,$AE153,COLUMNS($A:$B)),\"\")","v":""},{"$f":"IFERROR(INDEX($A$4:$R$1642,$AE153,COLUMNS($A:$C)),\"\")","v":""},{"$f":"IFERROR(INDEX($A$4:$R$1642,$AE153,COLUMNS($A:$R)),\"\")","v":""},null,null,null,null,null,null,null,null,18]
[null,null,null,null,null,null,null,null,null,null,null,null,null,null,null,null,null,null,null,null,null,null,null,null,2,0,null,"",{"$f":"ROWS($AC$4:AC154)","v":151},"",{"$f":"IFERROR(SMALL($AD$4:$AD$1642,ROWS($AD$4:AD154)),\"\")","v":""},null,{"$f":"IFERROR(INDEX($A$4:$R$1642,$AE154,COLUMNS($A:$B)),\"\")","v":""},{"$f":"IFERROR(INDEX($A$4:$R$1642,$AE154,COLUMNS($A:$C)),\"\")","v":""},{"$f":"IFERROR(INDEX($A$4:$R$1642,$AE154,COLUMNS($A:$R)),\"\")","v":""},null,null,null,null,null,null,null,null,18]
[{"$f":"AR155","v":19},null,{"$f":"(VLOOKUP($B155,'Elenco Prezzi2'!$A$2:$E$201,2,FALSE))","v":{"$error":"#N/A"}},null,null,null,null,null,null,null,null,null,null,null,null,null,null,null,null,null,null,null,null,null,2,0,null,"",{"$f":"ROWS($AC$4:AC155)","v":152},"",{"$f":"IFERROR(SMALL($AD$4:$AD$1642,ROWS($AD$4:AD155)),\"\")","v":""},null,{"$f":"IFERROR(INDEX($A$4:$R$1642,$AE155,COLUMNS($A:$B)),\"\")","v":""},{"$f":"IFERROR(INDEX($A$4:$R$1642,$AE155,COLUMNS($A:$C)),\"\")","v":""},{"$f":"IFERROR(INDEX($A$4:$R$1642,$AE155,COLUMNS($A:$R)),\"\")","v":""},null,null,null,null,null,null,null,1,19]
[null,null,null,{"$f":"CONCATENATE(AK156&AL156&AM156&AN156)","v":""},null,null,null,null,{"$f":"IFERROR(IF(PRODUCT(E156:H156)=0,\"\",PRODUCT(E156:H156)),\"\")","v":""},{"$f":"I156","v":""},null,{"$f":"IF(E156>0,\" (p/u) \"&Modulo2.GetFormula(E156),\"\")","v":""},{"$f":"IF(F156>0,\" (lu) \"&Modulo2.GetFormula(F156),\"\")","v":""},{"$f":"IF(G156>0,\" (la) \"&Modulo2.GetFormula(G156),\"\")","v":""},{"$f":"IF(H156>0,\" (H) \"&Modulo2.GetFormula(H156),\"\")","v":""},null,null,null,null,null,null,null,null,null,2,0,null,"",{"$f":"ROWS($AC$4:AC156)","v":153},"",{"$f":"IFERROR(SMALL($AD$4:$AD$1642,ROWS($AD$4:AD156)),\"\")","v":""},null,{"$f":"IFERROR(INDEX($A$4:$R$1642,$AE156,COLUMNS($A:$B)),\"\")","v":""},{"$f":"IFERROR(INDEX($A$4:$R$1642,$AE156,COLUMNS($A:$C)),\"\")","v":""},{"$f":"IFERROR(INDEX($A$4:$R$1642,$AE156,COLUMNS($A:$R)),\"\")","v":""},null,{"$f":"IFERROR(IF(SEARCH(\"=\",L156),L156,\"\"),\"\")","v":""},{"$f":"IFERROR(IF(SEARCH(\"=\",M156),M156,\"\"),\"\")","v":""},{"$f":"IFERROR(IF(SEARCH(\"=\",N156),N156,\"\"),\"\")","v":""},{"$f":"IFERROR(IF(SEARCH(\"=\",O156),O156,\"\"),\"\")","v":""},null,null,null,19]
[null,null,null,"",null,null,null,null,"","",null,{"$f":"IF(E157>0,\" (p/u) \"&Modulo2.GetFormula(E157),\"\")","v":""},{"$f":"IF(F157>0,\" (lu) \"&Modulo2.GetFormula(F157),\"\")","v":""},{"$f":"IF(G157>0,\" (la) \"&Modulo2.GetFormula(G157),\"\")","v":""},{"$f":"IF(H157>0,\" (H) \"&Modulo2.GetFormula(H157),\"\")","v":""},null,null,null,null,null,null,null,null,null,2,0,null,"",{"$f":"ROWS($AC$4:AC157)","v":154},"",{"$f":"IFERROR(SMALL($AD$4:$AD$1642,ROWS($AD$4:AD157)),\"\")","v":""},null,{"$f":"IFERROR(INDEX($A$4:$R$1642,$AE157,COLUMNS($A:$B)),\"\")","v":""},{"$f":"IFERROR(INDEX($A$4:$R$1642,$AE157,COLUMNS($A:$C)),\"\")","v":""},{"$f":"IFERROR(INDEX($A$4:$R$1642,$AE157,COLUMNS($A:$R)),\"\")","v":""},null,"","","","",null,null,null,19]
[null,null,null,"",null,null,null,null,"","",null,{"$f":"IF(E158>0,\" (p/u) \"&Modulo2.GetFormula(E158),\"\")","v":""},{"$f":"IF(F158>0,\" (lu) \"&Modulo2.GetFormula(F158),\"\")","v":""},{"$f":"IF(G158>0,\" (la) \"&Modulo2.GetFormula(G158),\"\")","v":""},{"$f":"IF(H158>0,\" (H) \"&Modulo2.GetFormula(H158),\"\")","v":""},null,null,null,null,null,null,null,null,null,2,0,null,"",{"$f":"ROWS($AC$4:AC158)","v":155},"",{"$f":"IFERROR(SMALL($AD$4:$AD$1642,ROWS($AD$4:AD158)),\"\")","v":""},null,{"$f":"IFERROR(INDEX($A$4:$R$1642,$AE158,COLUMNS($A:$B)),\"\")","v":""},{"$f":"IFERROR(INDEX($A$4:$R$1642,$AE158,COLUMNS($A:$C)),\"\")","v":""},{"$f":"IFERROR(INDEX($A$4:$R$1642,$AE158,COLUMNS($A:$R)),\"\")","v":""},null,"","","","",null,null,null,19]
[null,null,null,null,null,null,null,{"$f":"CONCATENATE(\"SOMMANO [\",VLOOKUP(B155,'Elenco Prezzi2'!$A$2:$E$201,3,FALSE()),\"]\")","v":{"$error":"#N/A"}},{"$f":"IF(T159=\"s\",V160,SUBTOTAL(9,I155:I159))","v":{"$error":"#REF!"}},null,{"$f":"VLOOKUP(B155,'Elenco Prezzi2'!$A$2:$E$201,5,FALSE)","v":{"$error":"#N/A"}},null,null,null,null,null,null,{"$f":"IFERROR(I159*K159,\"\")","v":""},null,"s",null,null,null,{"$f":"R159","v":""},2,0,null,"",{"$f":"ROWS($AC$4:AC159)","v":156},"",{"$f":"IFERROR(SMALL($AD$4:$AD$1642,ROWS($AD$4:AD159)),\"\")","v":""},null,{"$f":"IFERROR(INDEX($A$4:$R$1642,$AE159,COLUMNS($A:$B)),\"\")","v":""},{"$f":"IFERROR(INDEX($A$4:$R$1642,$AE159,COLUMNS($A:$C)),\"\")","v":""},{"$f":"IFERROR(INDEX($A$4:$R$1642,$AE159,COLUMNS($A:$R)),\"\")","v":""},null,null,null,null,null,null,null,null,19]
[null,null,null,null,null,null,null,{"$f":"IF(I160<0,\"a detrarre\",\"\")","v":""},{"$f":"SUMIF(I155:I158,\"<0\")","v":0},null,null,null,null,null,null,null,null,null,{"$f":"R159","v":""},null,null,{"$f":"VLOOKUP(B155,#REF!,4,FALSE)","v":{"$error":"#REF!"}},null,null,2,0,null,"",{"$f":"ROWS($AC$4:AC160)","v":157},"",{"$f":"IFERROR(SMALL($AD$4:$AD$1642,ROWS($AD$4:AD160)),\"\")","v":""},null,{"$f":"IFERROR(INDEX($A$4:$R$1642,$AE160,COLUMNS($A:$B)),\"\")","v":""},{"$f":"IFERROR(INDEX($A$4:$R$1642,$AE160,COLUMNS($A:$C)),\"\")","v":""},{"$f":"IFERROR(INDEX($A$4:$R$1642,$AE160,COLUMNS($A:$R)),\"\")","v":""},null,null,null,null,null,null,null,null,19]
[null,null,null,null,null,null,null,null,null,null,null,null,null,null,null,null,null,null,null,null,null,null,null,null,2,0,null,"",{"$f":"ROWS($AC$4:AC161)","v":158},"",{"$f":"IFERROR(SMALL($AD$4:$AD$1642,ROWS($AD$4:AD161)),\"\")","v":""},null,{"$f":"IFERROR(INDEX($A$4:$R$1642,$AE161,COLUMNS($A:$B)),\"\")","v":""},{"$f":"IFERROR(INDEX($A$4:$R$1642,$AE161,COLUMNS($A:$C)),\"\")","v":""},{"$f":"IFERROR(INDEX($A$4:$R$1642,$AE161,COLUMNS($A:$R)),\"\")","v":""},null,null,null,null,null,null,null,null,19]
[null,null,null,null,null,null,null,null,null,null,null,null,null,null,null,null,null,null,null,null,null,null,null,null,2,0,null,"",{"$f":"ROWS($AC$4:AC162)","v":159},"",{"$f":"IFERROR(SMALL($AD$4:$AD$1642,ROWS($AD$4:AD162)),\"\")","v":""},null,{"$f":"IFERROR(INDEX($A$4:$R$1642,$AE162,COLUMNS($A:$B)),\"\")","v":""},{"$f":"IFERROR(INDEX($A$4:$R$1642,$AE162,COLUMNS($A:$C)),\"\")","v":""},{"$f":"IFERROR(INDEX($A$4:$R$1642,$AE162,COLUMNS($A:$R)),\"\")","v":""},null,null,null,null,null,null,null,null,19]
[{"$f":"AR163","v":20},null,{"$f":"(VLOOKUP($B163,'Elenco Prezzi2'!$A$2:$E$201,2,FALSE))","v":{"$error":"#N/A"}},null,null,null,null,null,null,null,null,null,null,null,null,null,null,null,null,null,null,null,null,null,2,0,null,{"$f":"IF(W163>0,\"OK\",\"\")","v":""},{"$f":"ROWS($AC$4:AC163)","v":160},{"$f":"IF(AB163=\"ok\",AC163,\"\")","v":""},{"$f":"IFERROR(SMALL($AD$4:$AD$1642,ROWS($AD$4:AD163)),\"\")","v":""},null,{"$f":"IFERROR(INDEX($A$4:$R$1642,$AE163,COLUMNS($A:$B)),\"\")","v":""},{"$f":"IFERROR(INDEX($A$4:$R$1642,$AE163,COLUMNS($A:$C)),\"\")","v":""},{"$f":"IFERROR(INDEX($A$4:$R$1642,$AE163,COLUMNS($A:$R)),\"\")","v":""},null,null,null,null,null,null,null,1,{"$f":"IF(AQ163=\"\",AR162,AR162+AQ163)","v":20}]
[null,null,null,{"$f":"CONCATENATE(AK164&AL164&AM164&AN164)","v":""},null,null,null,null,{"$f":"IFERROR(IF(PRODUCT(E164:H164)=0,\"\",PRODUCT(E164:H164)),\"\")","v":""},{"$f":"I164","v":""},null,{"$f":"IF(E164>0,\" (p/u) \"&Modulo2.GetFormula(E164),\"\")","v":""},{"$f":"IF(F164>0,\" (lu) \"&Modulo2.GetFormula(F164),\"\")","v":""},{"$f":"IF(G164>0,\" (la) \"&Modulo2.GetFormula(G164),\"\")","v":""},{"$f":"IF(H164>0,\" (H) \"&Modulo2.GetFormula(H164),\"\")","v":""},null,null,null,null,null,null,null,null,null,{"$f":"IF(AO164=\"\",Y163,Y163+AO164)","v":2},{"$f":"IF(AP164=\"\",Z163,Z163+AP164)","v":0},null,"",{"$f":"ROWS($AC$4:AC164)","v":161},"",{"$f":"IFERROR(SMALL($AD$4:$AD$1642,ROWS($AD$4:AD164)),\"\")","v":""},null,{"$f":"IFERROR(INDEX($A$4:$R$1642,$AE164,COLUMNS($A:$B)),\"\")","v":""},{"$f":"IFERROR(INDEX($A$4:$R$1642,$AE164,COLUMNS($A:$C)),\"\")","v":""},{"$f":"IFERROR(INDEX($A$4:$R$1642,$AE164,COLUMNS($A:$R)),\"\")","v":""},null,{"$f":"IFERROR(IF(SEARCH(\"=\",L164),L164,\"\"),\"\")","v":""},{"$f":"IFERROR(IF(SEARCH(\"=\",M164),M164,\"\"),\"\")","v":""},{"$f":"IFERROR(IF(SEARCH(\"=\",N164),N164,\"\"),\"\")","v":""},{"$f":"IFERROR(IF(SEARCH(\"=\",O164),O164,\"\"),\"\")","v":""},null,null,null,20]
[null,null,null,"",null,null,null,null,"","",null,{"$f":"IF(E165>0,\" (p/u) \"&Modulo2.GetFormula(E165),\"\")","v":""},{"$f":"IF(F165>0,\" (lu) \"&Modulo2.GetFormula(F165),\"\")","v":""},{"$f":"IF(G165>0,\" (la) \"&Modulo2.GetFormula(G165),\"\")","v":""},{"$f":"IF(H165>0,\" (H) \"&Modulo2.GetFormula(H165),\"\")","v":""},null,null,null,null,null,null,null,null,null,2,0,null,"",{"$f":"ROWS($AC$4:AC165)","v":162},"",{"$f":"IFERROR(SMALL($AD$4:$AD$1642,ROWS($AD$4:AD165)),\"\")","v":""},null,{"$f":"IFERROR(INDEX($A$4:$R$1642,$AE165,COLUMNS($A:$B)),\"\")","v":""},{"$f":"IFERROR(INDEX($A$4:$R$1642,$AE165,COLUMNS($A:$C)),\"\")","v":""},{"$f":"IFERROR(INDEX($A$4:$R$1642,$AE165,COLUMNS($A:$R)),\"\")","v":""},null,"","","","",null,null,null,20]
[null,null,null,"",null,null,null,null,"","",null,{"$f":"IF(E166>0,\" (p/u) \"&Modulo2.GetFormula(E166),\"\")","v":""},{"$f":"IF(F166>0,\" (lu) \"&Modulo2.GetFormula(F166),\"\")","v":""},{"$f":"IF(G166>0,\" (la) \"&Modulo2.GetFormula(G166),\"\")","v":""},{"$f":"IF(H166>0,\" (H) \"&Modulo2.GetFormula(H166),\"\")","v":""},null,null,null,null,null,null,null,null,null,2,0,null,"",{"$f":"ROWS($AC$4:AC166)","v":163},"",{"$f":"IFERROR(SMALL($AD$4:$AD$1642,ROWS($AD$4:AD166)),\"\")","v":""},null,{"$f":"IFERROR(INDEX($A$4:$R$1642,$AE166,COLUMNS($A:$B)),\"\")","v":""},{"$f":"IFERROR(INDEX($A$4:$R$1642,$AE166,COLUMNS($A:$C)),\"\")","v":""},{"$f":"IFERROR(INDEX($A$4:$R$1642,$AE166,COLUMNS($A:$R)),\"\")","v":""},null,"","","","",null,null,null,20]
[null,null,null,null,null,null,null,{"$f":"CONCATENATE(\"SOMMANO [\",VLOOKUP(B163,'Elenco Prezzi2'!$A$2:$E$201,3,FALSE()),\"]\")","v":{"$error":"#N/A"}},{"$f":"IF(T167=\"s\",V168,SUBTOTAL(9,I163:I167))","v":{"$error":"#REF!"}},null,{"$f":"VLOOKUP(B163,'Elenco Prezzi2'!$A$2:$E$201,5,FALSE)","v":{"$error":"#N/A"}},null,null,null,null,null,null,{"$f":"IFERROR(I167*K167,\"\")","v":""},null,"s",null,null,null,{"$f":"R167","v":""},2,0,null,"",{"$f":"ROWS($AC$4:AC167)","v":164},"",{"$f":"IFERROR(SMALL($AD$4:$AD$1642,ROWS($AD$4:AD167)),\"\")","v":""},null,{"$f":"IFERROR(INDEX($A$4:$R$1642,$AE167,COLUMNS($A:$B)),\"\")","v":""},{"$f":"IFERROR(INDEX($A$4:$R$1642,$AE167,COLUMNS($A:$C)),\"\")","v":""},{"$f":"IFERROR(INDEX($A$4:$R$1642,$AE167,COLUMNS($A:$R)),\"\")","v":""},null,null,null,null,null,null,null,null,20]
[null,null,null,null,null,null,null,{"$f":"IF(I168<0,\"a detrarre\",\"\")","v":""},{"$f":"SUMIF(I163:I166,\"<0\")","v":0},null,null,null,null,null,null,null,null,null,{"$f":"R167","v":""},null,null,{"$f":"VLOOKUP(B163,#REF!,4,FALSE)","v":{"$error":"#REF!"}},null,null,2,0,null,"",{"$f":"ROWS($AC$4:AC168)","v":165},"",{"$f":"IFERROR(SMALL($AD$4:$AD$1642,ROWS($AD$4:AD168)),\"\")","v":""},null,{"$f":"IFERROR(INDEX($A$4:$R$1642,$AE168,COLUMNS($A:$B)),\"\")","v":""},{"$f":"IFERROR(INDEX($A$4:$R$1642,$AE168,COLUMNS($A:$C)),\"\")","v":""},{"$f":"IFERROR(INDEX($A$4:$R$1642,$AE168,COLUMNS($A:$R)),\"\")","v":""},null,null,null,null,null,null,null,null,20]
[null,null,null,null,null,null,null,null,null,null,null,null,null,null,null,null,null,null,null,null,null,null,null,null,2,0,null,"",{"$f":"ROWS($AC$4:AC169)","v":166},"",{"$f":"IFERROR(SMALL($AD$4:$AD$1642,ROWS($AD$4:AD169)),\"\")","v":""},null,{"$f":"IFERROR(INDEX($A$4:$R$1642,$AE169,COLUMNS($A:$B)),\"\")","v":""},{"$f":"IFERROR(INDEX($A$4:$R$1642,$AE169,COLUMNS($A:$C)),\"\")","v":""},{"$f":"IFERROR(INDEX($A$4:$R$1642,$AE169,COLUMNS($A:$R)),\"\")","v":""},null,null,null,null,null,null,null,null,20]
[null,null,null,null,null,null,null,null,null,null,null,null,null,null,null,null,null,null,null,null,null,null,null,null,2,0,null,"",{"$f":"ROWS($AC$4:AC170)","v":167},"",{"$f":"IFERROR(SMALL($AD$4:$AD$1642,ROWS($AD$4:AD170)),\"\")","v":""},null,{"$f":"IFERROR(INDEX($A$4:$R$1642,$AE170,COLUMNS($A:$B)),\"\")","v":""},{"$f":"IFERROR(INDEX($A$4:$R$1642,$AE170,COLUMNS($A:$C)),\"\")","v":""},{"$f":"IFERROR(INDEX($A$4:$R$1642,$AE170,COLUMNS($A:$R)),\"\")","v":""},null,null,null,null,null,null,null,null,20]
[{"$f":"AR171","v":21},null,{"$f":"(VLOOKUP($B171,'Elenco Prezzi2'!$A$2:$E$201,2,FALSE))","v":{"$error":"#N/A"}},null,null,null,null,null,null,null,null,null,null,null,null,null,null,null,null,null,null,null,null,null,2,0,null,"",{"$f":"ROWS($AC$4:AC171)","v":168},"",{"$f":"IFERROR(SMALL($AD$4:$AD$1642,ROWS($AD$4:AD171)),\"\")","v":""},null,{"$f":"IFERROR(INDEX($A$4:$R$1642,$AE171,COLUMNS($A:$B)),\"\")","v":""},{"$f":"IFERROR(INDEX($A$4:$R$1642,$AE171,COLUMNS($A:$C)),\"\")","v":""},{"$f":"IFERROR(INDEX($A$4:$R$1642,$AE171,COLUMNS($A:$R)),\"\")","v":""},null,null,null,null,null,null,null,1,21]
[null,null,null,{"$f":"CONCATENATE(AK172&AL172&AM172&AN172)","v":""},null,null,null,null,{"$f":"IFERROR(IF(PRODUCT(E172:H172)=0,\"\",PRODUCT(E172:H172)),\"\")","v":""},{"$f":"I172","v":""},null,{"$f":"IF(E172>0,\" (p/u) \"&Modulo2.GetFormula(E172),\"\")","v":""},{"$f":"IF(F172>0,\" (lu) \"&Modulo2.GetFormula(F172),\"\")","v":""},{"$f":"IF(G172>0,\" (la) \"&Modulo2.GetFormula(G172),\"\")","v":""},{"$f":"IF(H172>0,\" (H) \"&Modulo2.GetFormula(H172),\"\")","v":""},null,null,null,null,null,null,null,null,null,2,0,null,"",{"$f":"ROWS($AC$4:AC172)","v":169},"",{"$f":"IFERROR(SMALL($AD$4:$AD$1642,ROWS($AD$4:AD172)),\"\")","v":""},null,{"$f":"IFERROR(INDEX($A$4:$R$1642,$AE172,COLUMNS($A:$B)),\"\")","v":""},{"$f":"IFERROR(INDEX($A$4:$R$1642,$AE172,COLUMNS($A:$C)),\"\")","v":""},{"$f":"IFERROR(INDEX($A$4:$R$1642,$AE172,COLUMNS($A:$R)),\"\")","v":""},null,{"$f":"IFERROR(IF(SEARCH(\"=\",L172),L172,\"\"),\"\")","v":""},{"$f":"IFERROR(IF(SEARCH(\"=\",M172),M172,\"\"),\"\")","v":""},{"$f":"IFERROR(IF(SEARCH(\"=\",N172),N172,\"\"),\"\")","v":""},{"$f":"IFERROR(IF(SEARCH(\"=\",O172),O172,\"\"),\"\")","v":""},null,null,null,21]
[null,null,null,"",null,null,null,null,"","",null,{"$f":"IF(E173>0,\" (p/u) \"&Modulo2.GetFormula(E173),\"\")","v":""},{"$f":"IF(F173>0,\" (lu) \"&Modulo2.GetFormula(F173),\"\")","v":""},{"$f":"IF(G173>0,\" (la) \"&Modulo2.GetFormula(G173),\"\")","v":""},{"$f":"IF(H173>0,\" (H) \"&Modulo2.GetFormula(H173),\"\")","v":""},null,null,null,null,null,null,null,null,null,2,0,null,"",{"$f":"ROWS($AC$4:AC173)","v":170},"",{"$f":"IFERROR(SMALL($AD$4:$AD$1642,ROWS($AD$4:AD173)),\"\")","v":""},null,{"$f":"IFERROR(INDEX($A$4:$R$1642,$AE173,COLUMNS($A:$B)),\"\")","v":""},{"$f":"IFERROR(INDEX($A$4:$R$1642,$AE173,COLUMNS($A:$C)),\"\")","v":""},{"$f":"IFERROR(INDEX($A$4:$R$1642,$AE173,COLUMNS($A:$R)),\"\")","v":""},null,"","","","",null,null,null,21]
[null,null,null,"",null,null,null,null,"","",null,{"$f":"IF(E174>0,\" (p/u) \"&Modulo2.GetFormula(E174),\"\")","v":""},{"$f":"IF(F174>0,\" (lu) \"&Modulo2.GetFormula(F174),\"\")","v":""},{"$f":"IF(G174>0,\" (la) \"&Modulo2.GetFormula(G174),\"\")","v":""},{"$f":"IF(H174>0,\" (H) \"&Modulo2.GetFormula(H174),\"\")","v":""},null,null,null,null,null,null,null,null,null,2,0,null,"",{"$f":"ROWS($AC$4:AC174)","v":171},"",{"$f":"IFERROR(SMALL($AD$4:$AD$1642,ROWS($AD$4:AD174)),\"\")","v":""},null,{"$f":"IFERROR(INDEX($A$4:$R$1642,$AE174,COLUMNS($A:$B)),\"\")","v":""},{"$f":"IFERROR(INDEX($A$4:$R$1642,$AE174,COLUMNS($A:$C)),\"\")","v":""},{"$f":"IFERROR(INDEX($A$4:$R$1642,$AE174,COLUMNS($A:$R)),\"\")","v":""},null,"","","","",null,null,null,21]
[null,null,null,null,null,null,null,{"$f":"CONCATENATE(\"SOMMANO [\",VLOOKUP(B171,'Elenco Prezzi2'!$A$2:$E$201,3,FALSE()),\"]\")","v":{"$error":"#N/A"}},{"$f":"IF(T175=\"s\",V176,SUBTOTAL(9,I171:I175))","v":{"$error":"#REF!"}},null,{"$f":"VLOOKUP(B171,'Elenco Prezzi2'!$A$2:$E$201,5,FALSE)","v":{"$error":"#N/A"}},null,null,null,null,null,null,{"$f":"IFERROR(I175*K175,\"\")","v":""},null,"s",null,null,null,{"$f":"R175","v":""},2,0,null,"",{"$f":"ROWS($AC$4:AC175)","v":172},"",{"$f":"IFERROR(SMALL($AD$4:$AD$1642,ROWS($AD$4:AD175)),\"\")","v":""},null,{"$f":"IFERROR(INDEX($A$4:$R$1642,$AE175,COLUMNS($A:$B)),\"\")","v":""},{"$f":"IFERROR(INDEX($A$4:$R$1642,$AE175,COLUMNS($A:$C)),\"\")","v":""},{"$f":"IFERROR(INDEX($A$4:$R$1642,$AE175,COLUMNS($A:$R)),\"\")","v":""},null,null,null,null,null,null,null,null,21]
[null,null,null,null,null,null,null,{"$f":"IF(I176<0,\"a detrarre\",\"\")","v":""},{"$f":"SUMIF(I171:I174,\"<0\")","v":0},null,null,null,null,null,null,null,null,null,{"$f":"R175","v":""},null,null,{"$f":"VLOOKUP(B171,#REF!,4,FALSE)","v":{"$error":"#REF!"}},null,null,2,0,null,"",{"$f":"ROWS($AC$4:AC176)","v":173},"",{"$f":"IFERROR(SMALL($AD$4:$AD$1642,ROWS($AD$4:AD176)),\"\")","v":""},null,{"$f":"IFERROR(INDEX($A$4:$R$1642,$AE176,COLUMNS($A:$B)),\"\")","v":""},{"$f":"IFERROR(INDEX($A$4:$R$1642,$AE176,COLUMNS($A:$C)),\"\")","v":""},{"$f":"IFERROR(INDEX($A$4:$R$1642,$AE176,COLUMNS($A:$R)),\"\")","v":""},null,null,null,null,null,null,null,null,21]
[null,null,null,null,null,null,null,null,null,null,null,null,null,null,null,null,null,null,null,null,null,null,null,null,2,0,null,"",{"$f":"ROWS($AC$4:AC177)","v":174},"",{"$f":"IFERROR(SMALL($AD$4:$AD$1642,ROWS($AD$4:AD177)),\"\")","v":""},null,{"$f":"IFERROR(INDEX($A$4:$R$1642,$AE177,COLUMNS($A:$B)),\"\")","v":""},{"$f":"IFERROR(INDEX($A$4:$R$1642,$AE177,COLUMNS($A:$C)),\"\")","v":""},{"$f":"IFERROR(INDEX($A$4:$R$1642,$AE177,COLUMNS($A:$R)),\"\")","v":""},null,null,null,null,null,null,null,null,21]
[null,null,null,null,null,null,null,null,null,null,null,null,null,null,null,null,null,null,null,null,null,null,null,null,2,0,null,"",{"$f":"ROWS($AC$4:AC178)","v":175},"",{"$f":"IFERROR(SMALL($AD$4:$AD$1642,ROWS($AD$4:AD178)),\"\")","v":""},null,{"$f":"IFERROR(INDEX($A$4:$R$1642,$AE178,COLUMNS($A:$B)),\"\")","v":""},{"$f":"IFERROR(INDEX($A$4:$R$1642,$AE178,COLUMNS($A:$C)),\"\")","v":""},{"$f":"IFERROR(INDEX($A$4:$R$1642,$AE178,COLUMNS($A:$R)),\"\")","v":""},null,null,null,null,null,null,null,null,21]
[{"$f":"AR179","v":22},null,{"$f":"(VLOOKUP($B179,'Elenco Prezzi2'!$A$2:$E$201,2,FALSE))","v":{"$error":"#N/A"}},null,null,null,null,null,null,null,null,null,null,null,null,null,null,null,null,null,null,null,null,null,2,0,null,"",{"$f":"ROWS($AC$4:AC179)","v":176},"",{"$f":"IFERROR(SMALL($AD$4:$AD$1642,ROWS($AD$4:AD179)),\"\")","v":""},null,{"$f":"IFERROR(INDEX($A$4:$R$1642,$AE179,COLUMNS($A:$B)),\"\")","v":""},{"$f":"IFERROR(INDEX($A$4:$R$1642,$AE179,COLUMNS($A:$C)),\"\")","v":""},{"$f":"IFERROR(INDEX($A$4:$R$1642,$AE179,COLUMNS($A:$R)),\"\")","v":""},null,null,null,null,null,null,null,1,22]
[null,null,null,{"$f":"CONCATENATE(AK180&AL180&AM180&AN180)","v":""},null,null,null,null,{"$f":"IFERROR(IF(PRODUCT(E180:H180)=0,\"\",PRODUCT(E180:H180)),\"\")","v":""},{"$f":"I180","v":""},null,{"$f":"IF(E180>0,\" (p/u) \"&Modulo2.GetFormula(E180),\"\")","v":""},{"$f":"IF(F180>0,\" (lu) \"&Modulo2.GetFormula(F180),\"\")","v":""},{"$f":"IF(G180>0,\" (la) \"&Modulo2.GetFormula(G180),\"\")","v":""},{"$f":"IF(H180>0,\" (H) \"&Modulo2.GetFormula(H180),\"\")","v":""},null,null,null,null,null,null,null,null,null,2,0,null,"",{"$f":"ROWS($AC$4:AC180)","v":177},"",{"$f":"IFERROR(SMALL($AD$4:$AD$1642,ROWS($AD$4:AD180)),\"\")","v":""},null,{"$f":"IFERROR(INDEX($A$4:$R$1642,$AE180,COLUMNS($A:$B)),\"\")","v":""},{"$f":"IFERROR(INDEX($A$4:$R$1642,$AE180,COLUMNS($A:$C)),\"\")","v":""},{"$f":"IFERROR(INDEX($A$4:$R$1642,$AE180,COLUMNS($A:$R)),\"\")","v":""},null,{"$f":"IFERROR(IF(SEARCH(\"=\",L180),L180,\"\"),\"\")","v":""},{"$f":"IFERROR(IF(SEARCH(\"=\",M180),M180,\"\"),\"\")","v":""},{"$f":"IFERROR(IF(SEARCH(\"=\",N180),N180,\"\"),\"\")","v":""},{"$f":"IFERROR(IF(SEARCH(\"=\",O180),O180,\"\"),\"\")","v":""},null,null,null,22]
[null,null,null,"",null,null,null,null,"","",null,{"$f":"IF(E181>0,\" (p/u) \"&Modulo2.GetFormula(E181),\"\")","v":""},{"$f":"IF(F181>0,\" (lu) \"&Modulo2.GetFormula(F181),\"\")","v":""},{"$f":"IF(G181>0,\" (la) \"&Modulo2.GetFormula(G181),\"\")","v":""},{"$f":"IF(H181>0,\" (H) \"&Modulo2.GetFormula(H181),\"\")","v":""},null,null,null,null,null,null,null,null,null,2,0,null,"",{"$f":"ROWS($AC$4:AC181)","v":178},"",{"$f":"IFERROR(SMALL($AD$4:$AD$1642,ROWS($AD$4:AD181)),\"\")","v":""},null,{"$f":"IFERROR(INDEX($A$4:$R$1642,$AE181,COLUMNS($A:$B)),\"\")","v":""},{"$f":"IFERROR(INDEX($A$4:$R$1642,$AE181,COLUMNS($A:$C)),\"\")","v":""},{"$f":"IFERROR(INDEX($A$4:$R$1642,$AE181,COLUMNS($A:$R)),\"\")","v":""},null,"","","","",null,null,null,22]
[null,null,null,"",null,null,null,null,"","",null,{"$f":"IF(E182>0,\" (p/u) \"&Modulo2.GetFormula(E182),\"\")","v":""},{"$f":"IF(F182>0,\" (lu) \"&Modulo2.GetFormula(F182),\"\")","v":""},{"$f":"IF(G182>0,\" (la) \"&Modulo2.GetFormula(G182),\"\")","v":""},{"$f":"IF(H182>0,\" (H) \"&Modulo2.GetFormula(H182),\"\")","v":""},null,null,null,null,null,null,null,null,null,2,0,null,"",{"$f":"ROWS($AC$4:AC182)","v":179},"",{"$f":"IFERROR(SMALL($AD$4:$AD$1642,ROWS($AD$4:AD182)),\"\")","v":""},null,{"$f":"IFERROR(INDEX($A$4:$R$1642,$AE182,COLUMNS($A:$B)),\"\")","v":""},{"$f":"IFERROR(INDEX($A$4:$R$1642,$AE182,COLUMNS($A:$C)),\"\")","v":""},{"$f":"IFERROR(INDEX($A$4:$R$1642,$AE182,COLUMNS($A:$R)),\"\")","v":""},null,"","","","",null,null,null,22]
[null,null,null,null,null,null,null,{"$f":"CONCATENATE(\"SOMMANO [\",VLOOKUP(B179,'Elenco Prezzi2'!$A$2:$E$201,3,FALSE()),\"]\")","v":{"$error":"#N/A"}},{"$f":"IF(T183=\"s\",V184,SUBTOTAL(9,I179:I183))","v":{"$error":"#REF!"}},null,{"$f":"VLOOKUP(B179,'Elenco Prezzi2'!$A$2:$E$201,5,FALSE)","v":{"$error":"#N/A"}},null,null,null,null,null,null,{"$f":"IFERROR(I183*K183,\"\")","v":""},null,"s",null,null,null,{"$f":"R183","v":""},2,0,null,"",{"$f":"ROWS($AC$4:AC183)","v":180},"",{"$f":"IFERROR(SMALL($AD$4:$AD$1642,ROWS($AD$4:AD183)),\"\")","v":""},null,{"$f":"IFERROR(INDEX($A$4:$R$1642,$AE183,COLUMNS($A:$B)),\"\")","v":""},{"$f":"IFERROR(INDEX($A$4:$R$1642,$AE183,COLUMNS($A:$C)),\"\")","v":""},{"$f":"IFERROR(INDEX($A$4:$R$1642,$AE183,COLUMNS($A:$R)),\"\")","v":""},null,null,null,null,null,null,null,null,22]
[null,null,null,null,null,null,null,{"$f":"IF(I184<0,\"a detrarre\",\"\")","v":""},{"$f":"SUMIF(I179:I182,\"<0\")","v":0},null,null,null,null,null,null,null,null,null,{"$f":"R183","v":""},null,null,{"$f":"VLOOKUP(B179,#REF!,4,FALSE)","v":{"$error":"#REF!"}},null,null,2,0,null,"",{"$f":"ROWS($AC$4:AC184)","v":181},"",{"$f":"IFERROR(SMALL($AD$4:$AD$1642,ROWS($AD$4:AD184)),\"\")","v":""},null,{"$f":"IFERROR(INDEX($A$4:$R$1642,$AE184,COLUMNS($A:$B)),\"\")","v":""},{"$f":"IFERROR(INDEX($A$4:$R$1642,$AE184,COLUMNS($A:$C)),\"\")","v":""},{"$f":"IFERROR(INDEX($A$4:$R$1642,$AE184,COLUMNS($A:$R)),\"\")","v":""},null,null,null,null,null,null,null,null,22]
[null,null,null,null,null,null,null,null,null,null,null,null,null,null,null,null,null,null,null,null,null,null,null,null,2,0,null,"",{"$f":"ROWS($AC$4:AC185)","v":182},"",{"$f":"IFERROR(SMALL($AD$4:$AD$1642,ROWS($AD$4:AD185)),\"\")","v":""},null,{"$f":"IFERROR(INDEX($A$4:$R$1642,$AE185,COLUMNS($A:$B)),\"\")","v":""},{"$f":"IFERROR(INDEX($A$4:$R$1642,$AE185,COLUMNS($A:$C)),\"\")","v":""},{"$f":"IFERROR(INDEX($A$4:$R$1642,$AE185,COLUMNS($A:$R)),\"\")","v":""},null,null,null,null,null,null,null,null,22]
[null,null,null,null,null,null,null,null,null,null,null,null,null,null,null,null,null,null,null,null,null,null,null,null,2,0,null,"",{"$f":"ROWS($AC$4:AC186)","v":183},"",{"$f":"IFERROR(SMALL($AD$4:$AD$1642,ROWS($AD$4:AD186)),\"\")","v":""},null,{"$f":"IFERROR(INDEX($A$4:$R$1642,$AE186,COLUMNS($A:$B)),\"\")","v":""},{"$f":"IFERROR(INDEX($A$4:$R$1642,$AE186,COLUMNS($A:$C)),\"\")","v":""},{"$f":"IFERROR(INDEX($A$4:$R$1642,$AE186,COLUMNS($A:$R)),\"\")","v":""},null,null,null,null,null,null,null,null,22]
[{"$f":"AR187","v":23},null,{"$f":"(VLOOKUP($B187,'Elenco Prezzi2'!$A$2:$E$201,2,FALSE))","v":{"$error":"#N/A"}},null,null,null,null,null,null,null,null,null,null,null,null,null,null,null,null,null,null,null,null,null,2,0,null,"",{"$f":"ROWS($AC$4:AC187)","v":184},"",{"$f":"IFERROR(SMALL($AD$4:$AD$1642,ROWS($AD$4:AD187)),\"\")","v":""},null,{"$f":"IFERROR(INDEX($A$4:$R$1642,$AE187,COLUMNS($A:$B)),\"\")","v":""},{"$f":"IFERROR(INDEX($A$4:$R$1642,$AE187,COLUMNS($A:$C)),\"\")","v":""},{"$f":"IFERROR(INDEX($A$4:$R$1642,$AE187,COLUMNS($A:$R)),\"\")","v":""},null,null,null,null,null,null,null,1,23]
[null,null,null,{"$f":"CONCATENATE(AK188&AL188&AM188&AN188)","v":""},null,null,null,null,{"$f":"IFERROR(IF(PRODUCT(E188:H188)=0,\"\",PRODUCT(E188:H188)),\"\")","v":""},{"$f":"I188","v":""},null,{"$f":"IF(E188>0,\" (p/u) \"&Modulo2.GetFormula(E188),\"\")","v":""},{"$f":"IF(F188>0,\" (lu) \"&Modulo2.GetFormula(F188),\"\")","v":""},{"$f":"IF(G188>0,\" (la) \"&Modulo2.GetFormula(G188),\"\")","v":""},{"$f":"IF(H188>0,\" (H) \"&Modulo2.GetFormula(H188),\"\")","v":""},null,null,null,null,null,null,null,null,null,2,0,null,"",{"$f":"ROWS($AC$4:AC188)","v":185},"",{"$f":"IFERROR(SMALL($AD$4:$AD$1642,ROWS($AD$4:AD188)),\"\")","v":""},null,{"$f":"IFERROR(INDEX($A$4:$R$1642,$AE188,COLUMNS($A:$B)),\"\")","v":""},{"$f":"IFERROR(INDEX($A$4:$R$1642,$AE188,COLUMNS($A:$C)),\"\")","v":""},{"$f":"IFERROR(INDEX($A$4:$R$1642,$AE188,COLUMNS($A:$R)),\"\")","v":""},null,{"$f":"IFERROR(IF(SEARCH(\"=\",L188),L188,\"\"),\"\")","v":""},{"$f":"IFERROR(IF(SEARCH(\"=\",M188),M188,\"\"),\"\")","v":""},{"$f":"IFERROR(IF(SEARCH(\"=\",N188),N188,\"\"),\"\")","v":""},{"$f":"IFERROR(IF(SEARCH(\"=\",O188),O188,\"\"),\"\")","v":""},null,null,null,23]
[null,null,null,"",null,null,null,null,"","",null,{"$f":"IF(E189>0,\" (p/u) \"&Modulo2.GetFormula(E189),\"\")","v":""},{"$f":"IF(F189>0,\" (lu) \"&Modulo2.GetFormula(F189),\"\")","v":""},{"$f":"IF(G189>0,\" (la) \"&Modulo2.GetFormula(G189),\"\")","v":""},{"$f":"IF(H189>0,\" (H) \"&Modulo2.GetFormula(H189),\"\")","v":""},null,null,null,null,null,null,null,null,null,2,0,null,"",{"$f":"ROWS($AC$4:AC189)","v":186},"",{"$f":"IFERROR(SMALL($AD$4:$AD$1642,ROWS($AD$4:AD189)),\"\")","v":""},null,{"$f":"IFERROR(INDEX($A$4:$R$1642,$AE189,COLUMNS($A:$B)),\"\")","v":""},{"$f":"IFERROR(INDEX($A$4:$R$1642,$AE189,COLUMNS($A:$C)),\"\")","v":""},{"$f":"IFERROR(INDEX($A$4:$R$1642,$AE189,COLUMNS($A:$R)),\"\")","v":""},null,"","","","",null,null,null,23]
[null,null,null,"",null,null,null,null,"","",null,{"$f":"IF(E190>0,\" (p/u) \"&Modulo2.GetFormula(E190),\"\")","v":""},{"$f":"IF(F190>0,\" (lu) \"&Modulo2.GetFormula(F190),\"\")","v":""},{"$f":"IF(G190>0,\" (la) \"&Modulo2.GetFormula(G190),\"\")","v":""},{"$f":"IF(H190>0,\" (H) \"&Modulo2.GetFormula(H190),\"\")","v":""},null,null,null,null,null,null,null,null,null,2,0,null,"",{"$f":"ROWS($AC$4:AC190)","v":187},"",{"$f":"IFERROR(SMALL($AD$4:$AD$1642,ROWS($AD$4:AD190)),\"\")","v":""},null,{"$f":"IFERROR(INDEX($A$4:$R$1642,$AE190,COLUMNS($A:$B)),\"\")","v":""},{"$f":"IFERROR(INDEX($A$4:$R$1642,$AE190,COLUMNS($A:$C)),\"\")","v":""},{"$f":"IFERROR(INDEX($A$4:$R$1642,$AE190,COLUMNS($A:$R)),\"\")","v":""},null,"","","","",null,null,null,23]
[null,null,null,null,null,null,null,{"$f":"CONCATENATE(\"SOMMANO [\",VLOOKUP(B187,'Elenco Prezzi2'!$A$2:$E$201,3,FALSE()),\"]\")","v":{"$error":"#N/A"}},{"$f":"IF(T191=\"s\",V192,SUBTOTAL(9,I187:I191))","v":{"$error":"#REF!"}},null,{"$f":"VLOOKUP(B187,'Elenco Prezzi2'!$A$2:$E$201,5,FALSE)","v":{"$error":"#N/A"}},null,null,null,null,null,null,{"$f":"IFERROR(I191*K191,\"\")","v":""},null,"s",null,null,null,{"$f":"R191","v":""},2,0,null,"",{"$f":"ROWS($AC$4:AC191)","v":188},"",{"$f":"IFERROR(SMALL($AD$4:$AD$1642,ROWS($AD$4:AD191)),\"\")","v":""},null,{"$f":"IFERROR(INDEX($A$4:$R$1642,$AE191,COLUMNS($A:$B)),\"\")","v":""},{"$f":"IFERROR(INDEX($A$4:$R$1642,$AE191,COLUMNS($A:$C)),\"\")","v":""},{"$f":"IFERROR(INDEX($A$4:$R$1642,$AE191,COLUMNS($A:$R)),\"\")","v":""},null,null,null,null,null,null,null,null,23]
[null,null,null,null,null,null,null,{"$f":"IF(I192<0,\"a detrarre\",\"\")","v":""},{"$f":"SUMIF(I187:I190,\"<0\")","v":0},null,null,null,null,null,null,null,null,null,{"$f":"R191","v":""},null,null,{"$f":"VLOOKUP(B187,#REF!,4,FALSE)","v":{"$error":"#REF!"}},null,null,2,0,null,"",{"$f":"ROWS($AC$4:AC192)","v":189},"",{"$f":"IFERROR(SMALL($AD$4:$AD$1642,ROWS($AD$4:AD192)),\"\")","v":""},null,{"$f":"IFERROR(INDEX($A$4:$R$1642,$AE192,COLUMNS($A:$B)),\"\")","v":""},{"$f":"IFERROR(INDEX($A$4:$R$1642,$AE192,COLUMNS($A:$C)),\"\")","v":""},{"$f":"IFERROR(INDEX($A$4:$R$1642,$AE192,COLUMNS($A:$R)),\"\")","v":""},null,null,null,null,null,null,null,null,23]
[null,null,null,null,null,null,null,null,null,null,null,null,null,null,null,null,null,null,null,null,null,null,null,null,2,0,null,"",{"$f":"ROWS($AC$4:AC193)","v":190},"",{"$f":"IFERROR(SMALL($AD$4:$AD$1642,ROWS($AD$4:AD193)),\"\")","v":""},null,{"$f":"IFERROR(INDEX($A$4:$R$1642,$AE193,COLUMNS($A:$B)),\"\")","v":""},{"$f":"IFERROR(INDEX($A$4:$R$1642,$AE193,COLUMNS($A:$C)),\"\")","v":""},{"$f":"IFERROR(INDEX($A$4:$R$1642,$AE193,COLUMNS($A:$R)),\"\")","v":""},null,null,null,null,null,null,null,null,23]
[null,null,null,null,null,null,null,null,null,null,null,null,null,null,null,null,null,null,null,null,null,null,null,null,2,0,null,"",{"$f":"ROWS($AC$4:AC194)","v":191},"",{"$f":"IFERROR(SMALL($AD$4:$AD$1642,ROWS($AD$4:AD194)),\"\")","v":""},null,{"$f":"IFERROR(INDEX($A$4:$R$1642,$AE194,COLUMNS($A:$B)),\"\")","v":""},{"$f":"IFERROR(INDEX($A$4:$R$1642,$AE194,COLUMNS($A:$C)),\"\")","v":""},{"$f":"IFERROR(INDEX($A$4:$R$1642,$AE194,COLUMNS($A:$R)),\"\")","v":""},null,null,null,null,null,null,null,null,23]
[{"$f":"AR195","v":24},null,{"$f":"(VLOOKUP($B195,'Elenco Prezzi2'!$A$2:$E$201,2,FALSE))","v":{"$error":"#N/A"}},null,null,null,null,null,null,null,null,null,null,null,null,null,null,null,null,null,null,null,null,null,2,0,null,"",{"$f":"ROWS($AC$4:AC195)","v":192},"",{"$f":"IFERROR(SMALL($AD$4:$AD$1642,ROWS($AD$4:AD195)),\"\")","v":""},null,{"$f":"IFERROR(INDEX($A$4:$R$1642,$AE195,COLUMNS($A:$B)),\"\")","v":""},{"$f":"IFERROR(INDEX($A$4:$R$1642,$AE195,COLUMNS($A:$C)),\"\")","v":""},{"$f":"IFERROR(INDEX($A$4:$R$1642,$AE195,COLUMNS($A:$R)),\"\")","v":""},null,null,null,null,null,null,null,1,24]
[null,null,null,{"$f":"CONCATENATE(AK196&AL196&AM196&AN196)","v":""},null,null,null,null,{"$f":"IFERROR(IF(PRODUCT(E196:H196)=0,\"\",PRODUCT(E196:H196)),\"\")","v":""},{"$f":"I196","v":""},null,{"$f":"IF(E196>0,\" (p/u) \"&Modulo2.GetFormula(E196),\"\")","v":""},{"$f":"IF(F196>0,\" (lu) \"&Modulo2.GetFormula(F196),\"\")","v":""},{"$f":"IF(G196>0,\" (la) \"&Modulo2.GetFormula(G196),\"\")","v":""},{"$f":"IF(H196>0,\" (H) \"&Modulo2.GetFormula(H196),\"\")","v":""},null,null,null,null,null,null,null,null,null,2,0,null,"",{"$f":"ROWS($AC$4:AC196)","v":193},"",{"$f":"IFERROR(SMALL($AD$4:$AD$1642,ROWS($AD$4:AD196)),\"\")","v":""},null,{"$f":"IFERROR(INDEX($A$4:$R$1642,$AE196,COLUMNS($A:$B)),\"\")","v":""},{"$f":"IFERROR(INDEX($A$4:$R$1642,$AE196,COLUMNS($A:$C)),\"\")","v":""},{"$f":"IFERROR(INDEX($A$4:$R$1642,$AE196,COLUMNS($A:$R)),\"\")","v":""},null,{"$f":"IFERROR(IF(SEARCH(\"=\",L196),L196,\"\"),\"\")","v":""},{"$f":"IFERROR(IF(SEARCH(\"=\",M196),M196,\"\"),\"\")","v":""},{"$f":"IFERROR(IF(SEARCH(\"=\",N196),N196,\"\"),\"\")","v":""},{"$f":"IFERROR(IF(SEARCH(\"=\",O196),O196,\"\"),\"\")","v":""},null,null,null,24]
[null,null,null,"",null,null,null,null,"","",null,{"$f":"IF(E197>0,\" (p/u) \"&Modulo2.GetFormula(E197),\"\")","v":""},{"$f":"IF(F197>0,\" (lu) \"&Modulo2.GetFormula(F197),\"\")","v":""},{"$f":"IF(G197>0,\" (la) \"&Modulo2.GetFormula(G197),\"\")","v":""},{"$f":"IF(H197>0,\" (H) \"&Modulo2.GetFormula(H197),\"\")","v":""},null,null,null,null,null,null,null,null,null,2,0,null,"",{"$f":"ROWS($AC$4:AC197)","v":194},"",{"$f":"IFERROR(SMALL($AD$4:$AD$1642,ROWS($AD$4:AD197)),\"\")","v":""},null,{"$f":"IFERROR(INDEX($A$4:$R$1642,$AE197,COLUMNS($A:$B)),\"\")","v":""},{"$f":"IFERROR(INDEX($A$4:$R$1642,$AE197,COLUMNS($A:$C)),\"\")","v":""},{"$f":"IFERROR(INDEX($A$4:$R$1642,$AE197,COLUMNS($A:$R)),\"\")","v":""},null,"","","","",null,null,null,24]
[null,null,null,"",null,null,null,null,"","",null,{"$f":"IF(E198>0,\" (p/u) \"&Modulo2.GetFormula(E198),\"\")","v":""},{"$f":"IF(F198>0,\" (lu) \"&Modulo2.GetFormula(F198),\"\")","v":""},{"$f":"IF(G198>0,\" (la) \"&Modulo2.GetFormula(G198),\"\")","v":""},{"$f":"IF(H198>0,\" (H) \"&Modulo2.GetFormula(H198),\"\")","v":""},null,null,null,null,null,null,null,null,null,2,0,null,"",{"$f":"ROWS($AC$4:AC198)","v":195},"",{"$f":"IFERROR(SMALL($AD$4:$AD$1642,ROWS($AD$4:AD198)),\"\")","v":""},null,{"$f":"IFERROR(INDEX($A$4:$R$1642,$AE198,COLUMNS($A:$B)),\"\")","v":""},{"$f":"IFERROR(INDEX($A$4:$R$1642,$AE198,COLUMNS($A:$C)),\"\")","v":""},{"$f":"IFERROR(INDEX($A$4:$R$1642,$AE198,COLUMNS($A:$R)),\"\")","v":""},null,"","","","",null,null,null,24]
[null,null,null,null,null,null,null,{"$f":"CONCATENATE(\"SOMMANO [\",VLOOKUP(B195,'Elenco Prezzi2'!$A$2:$E$201,3,FALSE()),\"]\")","v":{"$error":"#N/A"}},{"$f":"IF(T199=\"s\",V200,SUBTOTAL(9,I195:I199))","v":{"$error":"#REF!"}},null,{"$f":"VLOOKUP(B195,'Elenco Prezzi2'!$A$2:$E$201,5,FALSE)","v":{"$error":"#N/A"}},null,null,null,null,null,null,{"$f":"IFERROR(I199*K199,\"\")","v":""},null,"s",null,null,null,{"$f":"R199","v":""},2,0,null,"",{"$f":"ROWS($AC$4:AC199)","v":196},"",{"$f":"IFERROR(SMALL($AD$4:$AD$1642,ROWS($AD$4:AD199)),\"\")","v":""},null,{"$f":"IFERROR(INDEX($A$4:$R$1642,$AE199,COLUMNS($A:$B)),\"\")","v":""},{"$f":"IFERROR(INDEX($A$4:$R$1642,$AE199,COLUMNS($A:$C)),\"\")","v":""},{"$f":"IFERROR(INDEX($A$4:$R$1642,$AE199,COLUMNS($A:$R)),\"\")","v":""},null,null,null,null,null,null,null,null,24]
[null,null,null,null,null,null,null,{"$f":"IF(I200<0,\"a detrarre\",\"\")","v":""},{"$f":"SUMIF(I195:I198,\"<0\")","v":0},null,null,null,null,null,null,null,null,null,{"$f":"R199","v":""},null,null,{"$f":"VLOOKUP(B195,#REF!,4,FALSE)","v":{"$error":"#REF!"}},null,null,2,0,null,"",{"$f":"ROWS($AC$4:AC200)","v":197},"",{"$f":"IFERROR(SMALL($AD$4:$AD$1642,ROWS($AD$4:AD200)),\"\")","v":""},null,{"$f":"IFERROR(INDEX($A$4:$R$1642,$AE200,COLUMNS($A:$B)),\"\")","v":""},{"$f":"IFERROR(INDEX($A$4:$R$1642,$AE200,COLUMNS($A:$C)),\"\")","v":""},{"$f":"IFERROR(INDEX($A$4:$R$1642,$AE200,COLUMNS($A:$R)),\"\")","v":""},null,null,null,null,null,null,null,null,24]
[null,null,null,null,null,null,null,null,null,null,null,null,null,null,null,null,null,null,null,null,null,null,null,null,2,0,null,"",{"$f":"ROWS($AC$4:AC201)","v":198},"",{"$f":"IFERROR(SMALL($AD$4:$AD$1642,ROWS($AD$4:AD201)),\"\")","v":""},null,{"$f":"IFERROR(INDEX($A$4:$R$1642,$AE201,COLUMNS($A:$B)),\"\")","v":""},{"$f":"IFERROR(INDEX($A$4:$R$1642,$AE201,COLUMNS($A:$C)),\"\")","v":""},{"$f":"IFERROR(INDEX($A$4:$R$1642,$AE201,COLUMNS($A:$R)),\"\")","v":""},null,null,null,null,null,null,null,null,24]
[null,null,null,null,null,null,null,null,null,null,null,null,null,null,null,null,null,null,null,null,null,null,null,null,2,0,null,"",{"$f":"ROWS($AC$4:AC202)","v":199},"",{"$f":"IFERROR(SMALL($AD$4:$AD$1642,ROWS($AD$4:AD202)),\"\")","v":""},null,{"$f":"IFERROR(INDEX($A$4:$R$1642,$AE202,COLUMNS($A:$B)),\"\")","v":""},{"$f":"IFERROR(INDEX($A$4:$R$1642,$AE202,COLUMNS($A:$C)),\"\")","v":""},{"$f":"IFERROR(INDEX($A$4:$R$1642,$AE202,COLUMNS($A:$R)),\"\")","v":""},null,null,null,null,null,null,null,null,24]
[{"$f":"AR203","v":25},null,{"$f":"(VLOOKUP($B203,'Elenco Prezzi2'!$A$2:$E$201,2,FALSE))","v":{"$error":"#N/A"}},null,null,null,null,null,null,null,null,null,null,null,null,null,null,null,null,null,null,null,null,null,2,0,null,"",{"$f":"ROWS($AC$4:AC203)","v":200},"",{"$f":"IFERROR(SMALL($AD$4:$AD$1642,ROWS($AD$4:AD203)),\"\")","v":""},null,{"$f":"IFERROR(INDEX($A$4:$R$1642,$AE203,COLUMNS($A:$B)),\"\")","v":""},{"$f":"IFERROR(INDEX($A$4:$R$1642,$AE203,COLUMNS($A:$C)),\"\")","v":""},{"$f":"IFERROR(INDEX($A$4:$R$1642,$AE203,COLUMNS($A:$R)),\"\")","v":""},null,null,null,null,null,null,null,1,25]
[null,null,null,{"$f":"CONCATENATE(AK204&AL204&AM204&AN204)","v":""},null,null,null,null,{"$f":"IFERROR(IF(PRODUCT(E204:H204)=0,\"\",PRODUCT(E204:H204)),\"\")","v":""},{"$f":"I204","v":""},null,{"$f":"IF(E204>0,\" (p/u) \"&Modulo2.GetFormula(E204),\"\")","v":""},{"$f":"IF(F204>0,\" (lu) \"&Modulo2.GetFormula(F204),\"\")","v":""},{"$f":"IF(G204>0,\" (la) \"&Modulo2.GetFormula(G204),\"\")","v":""},{"$f":"IF(H204>0,\" (H) \"&Modulo2.GetFormula(H204),\"\")","v":""},null,null,null,null,null,null,null,null,null,2,0,null,"",{"$f":"ROWS($AC$4:AC204)","v":201},"",{"$f":"IFERROR(SMALL($AD$4:$AD$1642,ROWS($AD$4:AD204)),\"\")","v":""},null,{"$f":"IFERROR(INDEX($A$4:$R$1642,$AE204,COLUMNS($A:$B)),\"\")","v":""},{"$f":"IFERROR(INDEX($A$4:$R$1642,$AE204,COLUMNS($A:$C)),\"\")","v":""},{"$f":"IFERROR(INDEX($A$4:$R$1642,$AE204,COLUMNS($A:$R)),\"\")","v":""},null,{"$f":"IFERROR(IF(SEARCH(\"=\",L204),L204,\"\"),\"\")","v":""},{"$f":"IFERROR(IF(SEARCH(\"=\",M204),M204,\"\"),\"\")","v":""},{"$f":"IFERROR(IF(SEARCH(\"=\",N204),N204,\"\"),\"\")","v":""},{"$f":"IFERROR(IF(SEARCH(\"=\",O204),O204,\"\"),\"\")","v":""},null,null,null,25]
[null,null,null,"",null,null,null,null,"","",null,{"$f":"IF(E205>0,\" (p/u) \"&Modulo2.GetFormula(E205),\"\")","v":""},{"$f":"IF(F205>0,\" (lu) \"&Modulo2.GetFormula(F205),\"\")","v":""},{"$f":"IF(G205>0,\" (la) \"&Modulo2.GetFormula(G205),\"\")","v":""},{"$f":"IF(H205>0,\" (H) \"&Modulo2.GetFormula(H205),\"\")","v":""},null,null,null,null,null,null,null,null,null,2,0,null,"",{"$f":"ROWS($AC$4:AC205)","v":202},"",{"$f":"IFERROR(SMALL($AD$4:$AD$1642,ROWS($AD$4:AD205)),\"\")","v":""},null,{"$f":"IFERROR(INDEX($A$4:$R$1642,$AE205,COLUMNS($A:$B)),\"\")","v":""},{"$f":"IFERROR(INDEX($A$4:$R$1642,$AE205,COLUMNS($A:$C)),\"\")","v":""},{"$f":"IFERROR(INDEX($A$4:$R$1642,$AE205,COLUMNS($A:$R)),\"\")","v":""},null,"","","","",null,null,null,25]
[null,null,null,"",null,null,null,null,"","",null,{"$f":"IF(E206>0,\" (p/u) \"&Modulo2.GetFormula(E206),\"\")","v":""},{"$f":"IF(F206>0,\" (lu) \"&Modulo2.GetFormula(F206),\"\")","v":""},{"$f":"IF(G206>0,\" (la) \"&Modulo2.GetFormula(G206),\"\")","v":""},{"$f":"IF(H206>0,\" (H) \"&Modulo2.GetFormula(H206),\"\")","v":""},null,null,null,null,null,null,null,null,null,2,0,null,"",{"$f":"ROWS($AC$4:AC206)","v":203},"",{"$f":"IFERROR(SMALL($AD$4:$AD$1642,ROWS($AD$4:AD206)),\"\")","v":""},null,{"$f":"IFERROR(INDEX($A$4:$R$1642,$AE206,COLUMNS($A:$B)),\"\")","v":""},{"$f":"IFERROR(INDEX($A$4:$R$1642,$AE206,COLUMNS($A:$C)),\"\")","v":""},{"$f":"IFERROR(INDEX($A$4:$R$1642,$AE206,COLUMNS($A:$R)),\"\")","v":""},null,"","","","",null,null,null,25]
[null,null,null,null,null,null,null,{"$f":"CONCATENATE(\"SOMMANO [\",VLOOKUP(B203,'Elenco Prezzi2'!$A$2:$E$201,3,FALSE()),\"]\")","v":{"$error":"#N/A"}},{"$f":"IF(T207=\"s\",V208,SUBTOTAL(9,I203:I207))","v":{"$error":"#REF!"}},null,{"$f":"VLOOKUP(B203,'Elenco Prezzi2'!$A$2:$E$201,5,FALSE)","v":{"$error":"#N/A"}},null,null,null,null,null,null,{"$f":"IFERROR(I207*K207,\"\")","v":""},null,"s",null,null,null,{"$f":"R207","v":""},2,0,null,"",{"$f":"ROWS($AC$4:AC207)","v":204},"",{"$f":"IFERROR(SMALL($AD$4:$AD$1642,ROWS($AD$4:AD207)),\"\")","v":""},null,{"$f":"IFERROR(INDEX($A$4:$R$1642,$AE207,COLUMNS($A:$B)),\"\")","v":""},{"$f":"IFERROR(INDEX($A$4:$R$1642,$AE207,COLUMNS($A:$C)),\"\")","v":""},{"$f":"IFERROR(INDEX($A$4:$R$1642,$AE207,COLUMNS($A:$R)),\"\")","v":""},null,null,null,null,null,null,null,null,25]
[null,null,null,null,null,null,null,{"$f":"IF(I208<0,\"a detrarre\",\"\")","v":""},{"$f":"SUMIF(I203:I206,\"<0\")","v":0},null,null,null,null,null,null,null,null,null,{"$f":"R207","v":""},null,null,{"$f":"VLOOKUP(B203,#REF!,4,FALSE)","v":{"$error":"#REF!"}},null,null,2,0,null,"",{"$f":"ROWS($AC$4:AC208)","v":205},"",{"$f":"IFERROR(SMALL($AD$4:$AD$1642,ROWS($AD$4:AD208)),\"\")","v":""},null,{"$f":"IFERROR(INDEX($A$4:$R$1642,$AE208,COLUMNS($A:$B)),\"\")","v":""},{"$f":"IFERROR(INDEX($A$4:$R$1642,$AE208,COLUMNS($A:$C)),\"\")","v":""},{"$f":"IFERROR(INDEX($A$4:$R$1642,$AE208,COLUMNS($A:$R)),\"\")","v":""},null,null,null,null,null,null,null,null,25]
[null,null,null,null,null,null,null,null,null,null,null,null,null,null,null,null,null,null,null,null,null,null,null,null,2,0,null,"",{"$f":"ROWS($AC$4:AC209)","v":206},"",{"$f":"IFERROR(SMALL($AD$4:$AD$1642,ROWS($AD$4:AD209)),\"\")","v":""},null,{"$f":"IFERROR(INDEX($A$4:$R$1642,$AE209,COLUMNS($A:$B)),\"\")","v":""},{"$f":"IFERROR(INDEX($A$4:$R$1642,$AE209,COLUMNS($A:$C)),\"\")","v":""},{"$f":"IFERROR(INDEX($A$4:$R$1642,$AE209,COLUMNS($A:$R)),\"\")","v":""},null,null,null,null,null,null,null,null,25]
[null,null,null,null,null,null,null,null,null,null,null,null,null,null,null,null,null,null,null,null,null,null,null,null,2,0,null,"",{"$f":"ROWS($AC$4:AC210)","v":207},"",{"$f":"IFERROR(SMALL($AD$4:$AD$1642,ROWS($AD$4:AD210)),\"\")","v":""},null,{"$f":"IFERROR(INDEX($A$4:$R$1642,$AE210,COLUMNS($A:$B)),\"\")","v":""},{"$f":"IFERROR(INDEX($A$4:$R$1642,$AE210,COLUMNS($A:$C)),\"\")","v":""},{"$f":"IFERROR(INDEX($A$4:$R$1642,$AE210,COLUMNS($A:$R)),\"\")","v":""},null,null,null,null,null,null,null,null,25]
[{"$f":"AR211","v":26},null,{"$f":"(VLOOKUP($B211,'Elenco Prezzi2'!$A$2:$E$201,2,FALSE))","v":{"$error":"#N/A"}},null,null,null,null,null,null,null,null,null,null,null,null,null,null,null,null,null,null,null,null,null,2,0,null,"",{"$f":"ROWS($AC$4:AC211)","v":208},"",{"$f":"IFERROR(SMALL($AD$4:$AD$1642,ROWS($AD$4:AD211)),\"\")","v":""},null,{"$f":"IFERROR(INDEX($A$4:$R$1642,$AE211,COLUMNS($A:$B)),\"\")","v":""},{"$f":"IFERROR(INDEX($A$4:$R$1642,$AE211,COLUMNS($A:$C)),\"\")","v":""},{"$f":"IFERROR(INDEX($A$4:$R$1642,$AE211,COLUMNS($A:$R)),\"\")","v":""},null,null,null,null,null,null,null,1,26]
[null,null,null,{"$f":"CONCATENATE(AK212&AL212&AM212&AN212)","v":""},null,null,null,null,{"$f":"IFERROR(IF(PRODUCT(E212:H212)=0,\"\",PRODUCT(E212:H212)),\"\")","v":""},{"$f":"I212","v":""},null,{"$f":"IF(E212>0,\" (p/u) \"&Modulo2.GetFormula(E212),\"\")","v":""},{"$f":"IF(F212>0,\" (lu) \"&Modulo2.GetFormula(F212),\"\")","v":""},{"$f":"IF(G212>0,\" (la) \"&Modulo2.GetFormula(G212),\"\")","v":""},{"$f":"IF(H212>0,\" (H) \"&Modulo2.GetFormula(H212),\"\")","v":""},null,null,null,null,null,null,null,null,null,2,0,null,"",{"$f":"ROWS($AC$4:AC212)","v":209},"",{"$f":"IFERROR(SMALL($AD$4:$AD$1642,ROWS($AD$4:AD212)),\"\")","v":""},null,{"$f":"IFERROR(INDEX($A$4:$R$1642,$AE212,COLUMNS($A:$B)),\"\")","v":""},{"$f":"IFERROR(INDEX($A$4:$R$1642,$AE212,COLUMNS($A:$C)),\"\")","v":""},{"$f":"IFERROR(INDEX($A$4:$R$1642,$AE212,COLUMNS($A:$R)),\"\")","v":""},null,{"$f":"IFERROR(IF(SEARCH(\"=\",L212),L212,\"\"),\"\")","v":""},{"$f":"IFERROR(IF(SEARCH(\"=\",M212),M212,\"\"),\"\")","v":""},{"$f":"IFERROR(IF(SEARCH(\"=\",N212),N212,\"\"),\"\")","v":""},{"$f":"IFERROR(IF(SEARCH(\"=\",O212),O212,\"\"),\"\")","v":""},null,null,null,26]
[null,null,null,"",null,null,null,null,"","",null,{"$f":"IF(E213>0,\" (p/u) \"&Modulo2.GetFormula(E213),\"\")","v":""},{"$f":"IF(F213>0,\" (lu) \"&Modulo2.GetFormula(F213),\"\")","v":""},{"$f":"IF(G213>0,\" (la) \"&Modulo2.GetFormula(G213),\"\")","v":""},{"$f":"IF(H213>0,\" (H) \"&Modulo2.GetFormula(H213),\"\")","v":""},null,null,null,null,null,null,null,null,null,2,0,null,"",{"$f":"ROWS($AC$4:AC213)","v":210},"",{"$f":"IFERROR(SMALL($AD$4:$AD$1642,ROWS($AD$4:AD213)),\"\")","v":""},null,{"$f":"IFERROR(INDEX($A$4:$R$1642,$AE213,COLUMNS($A:$B)),\"\")","v":""},{"$f":"IFERROR(INDEX($A$4:$R$1642,$AE213,COLUMNS($A:$C)),\"\")","v":""},{"$f":"IFERROR(INDEX($A$4:$R$1642,$AE213,COLUMNS($A:$R)),\"\")","v":""},null,"","","","",null,null,null,26]
[null,null,null,"",null,null,null,null,"","",null,{"$f":"IF(E214>0,\" (p/u) \"&Modulo2.GetFormula(E214),\"\")","v":""},{"$f":"IF(F214>0,\" (lu) \"&Modulo2.GetFormula(F214),\"\")","v":""},{"$f":"IF(G214>0,\" (la) \"&Modulo2.GetFormula(G214),\"\")","v":""},{"$f":"IF(H214>0,\" (H) \"&Modulo2.GetFormula(H214),\"\")","v":""},null,null,null,null,null,null,null,null,null,2,0,null,"",{"$f":"ROWS($AC$4:AC214)","v":211},"",{"$f":"IFERROR(SMALL($AD$4:$AD$1642,ROWS($AD$4:AD214)),\"\")","v":""},null,{"$f":"IFERROR(INDEX($A$4:$R$1642,$AE214,COLUMNS($A:$B)),\"\")","v":""},{"$f":"IFERROR(INDEX($A$4:$R$1642,$AE214,COLUMNS($A:$C)),\"\")","v":""},{"$f":"IFERROR(INDEX($A$4:$R$1642,$AE214,COLUMNS($A:$R)),\"\")","v":""},null,"","","","",null,null,null,26]
[null,null,null,null,null,null,null,{"$f":"CONCATENATE(\"SOMMANO [\",VLOOKUP(B211,'Elenco Prezzi2'!$A$2:$E$201,3,FALSE()),\"]\")","v":{"$error":"#N/A"}},{"$f":"IF(T215=\"s\",V216,SUBTOTAL(9,I211:I215))","v":{"$error":"#REF!"}},null,{"$f":"VLOOKUP(B211,'Elenco Prezzi2'!$A$2:$E$201,5,FALSE)","v":{"$error":"#N/A"}},null,null,null,null,null,null,{"$f":"IFERROR(I215*K215,\"\")","v":""},null,"s",null,null,null,{"$f":"R215","v":""},2,0,null,"",{"$f":"ROWS($AC$4:AC215)","v":212},"",{"$f":"IFERROR(SMALL($AD$4:$AD$1642,ROWS($AD$4:AD215)),\"\")","v":""},null,{"$f":"IFERROR(INDEX($A$4:$R$1642,$AE215,COLUMNS($A:$B)),\"\")","v":""},{"$f":"IFERROR(INDEX($A$4:$R$1642,$AE215,COLUMNS($A:$C)),\"\")","v":""},{"$f":"IFERROR(INDEX($A$4:$R$1642,$AE215,COLUMNS($A:$R)),\"\")","v":""},null,null,null,null,null,null,null,null,26]
[null,null,null,null,null,null,null,{"$f":"IF(I216<0,\"a detrarre\",\"\")","v":""},{"$f":"SUMIF(I211:I214,\"<0\")","v":0},null,null,null,null,null,null,null,null,null,{"$f":"R215","v":""},null,null,{"$f":"VLOOKUP(B211,#REF!,4,FALSE)","v":{"$error":"#REF!"}},null,null,2,0,null,"",{"$f":"ROWS($AC$4:AC216)","v":213},"",{"$f":"IFERROR(SMALL($AD$4:$AD$1642,ROWS($AD$4:AD216)),\"\")","v":""},null,{"$f":"IFERROR(INDEX($A$4:$R$1642,$AE216,COLUMNS($A:$B)),\"\")","v":""},{"$f":"IFERROR(INDEX($A$4:$R$1642,$AE216,COLUMNS($A:$C)),\"\")","v":""},{"$f":"IFERROR(INDEX($A$4:$R$1642,$AE216,COLUMNS($A:$R)),\"\")","v":""},null,null,null,null,null,null,null,null,26]
[null,null,null,null,null,null,null,null,null,null,null,null,null,null,null,null,null,null,null,null,null,null,null,null,2,0,null,"",{"$f":"ROWS($AC$4:AC217)","v":214},"",{"$f":"IFERROR(SMALL($AD$4:$AD$1642,ROWS($AD$4:AD217)),\"\")","v":""},null,{"$f":"IFERROR(INDEX($A$4:$R$1642,$AE217,COLUMNS($A:$B)),\"\")","v":""},{"$f":"IFERROR(INDEX($A$4:$R$1642,$AE217,COLUMNS($A:$C)),\"\")","v":""},{"$f":"IFERROR(INDEX($A$4:$R$1642,$AE217,COLUMNS($A:$R)),\"\")","v":""},null,null,null,null,null,null,null,null,26]
[null,null,null,null,null,null,null,null,null,null,null,null,null,null,null,null,null,null,null,null,null,null,null,null,2,0,null,"",{"$f":"ROWS($AC$4:AC218)","v":215},"",{"$f":"IFERROR(SMALL($AD$4:$AD$1642,ROWS($AD$4:AD218)),\"\")","v":""},null,{"$f":"IFERROR(INDEX($A$4:$R$1642,$AE218,COLUMNS($A:$B)),\"\")","v":""},{"$f":"IFERROR(INDEX($A$4:$R$1642,$AE218,COLUMNS($A:$C)),\"\")","v":""},{"$f":"IFERROR(INDEX($A$4:$R$1642,$AE218,COLUMNS($A:$R)),\"\")","v":""},null,null,null,null,null,null,null,null,26]
[{"$f":"AR219","v":27},null,{"$f":"(VLOOKUP($B219,'Elenco Prezzi2'!$A$2:$E$201,2,FALSE))","v":{"$error":"#N/A"}},null,null,null,null,null,null,null,null,null,null,null,null,null,null,null,null,null,null,null,null,null,2,0,null,"",{"$f":"ROWS($AC$4:AC219)","v":216},"",{"$f":"IFERROR(SMALL($AD$4:$AD$1642,ROWS($AD$4:AD219)),\"\")","v":""},null,{"$f":"IFERROR(INDEX($A$4:$R$1642,$AE219,COLUMNS($A:$B)),\"\")","v":""},{"$f":"IFERROR(INDEX($A$4:$R$1642,$AE219,COLUMNS($A:$C)),\"\")","v":""},{"$f":"IFERROR(INDEX($A$4:$R$1642,$AE219,COLUMNS($A:$R)),\"\")","v":""},null,null,null,null,null,null,null,1,27]
[null,null,null,{"$f":"CONCATENATE(AK220&AL220&AM220&AN220)","v":""},null,null,null,null,{"$f":"IFERROR(IF(PRODUCT(E220:H220)=0,\"\",PRODUCT(E220:H220)),\"\")","v":""},{"$f":"I220","v":""},null,{"$f":"IF(E220>0,\" (p/u) \"&Modulo2.GetFormula(E220),\"\")","v":""},{"$f":"IF(F220>0,\" (lu) \"&Modulo2.GetFormula(F220),\"\")","v":""},{"$f":"IF(G220>0,\" (la) \"&Modulo2.GetFormula(G220),\"\")","v":""},{"$f":"IF(H220>0,\" (H) \"&Modulo2.GetFormula(H220),\"\")","v":""},null,null,null,null,null,null,null,null,null,2,0,null,"",{"$f":"ROWS($AC$4:AC220)","v":217},"",{"$f":"IFERROR(SMALL($AD$4:$AD$1642,ROWS($AD$4:AD220)),\"\")","v":""},null,{"$f":"IFERROR(INDEX($A$4:$R$1642,$AE220,COLUMNS($A:$B)),\"\")","v":""},{"$f":"IFERROR(INDEX($A$4:$R$1642,$AE220,COLUMNS($A:$C)),\"\")","v":""},{"$f":"IFERROR(INDEX($A$4:$R$1642,$AE220,COLUMNS($A:$R)),\"\")","v":""},null,{"$f":"IFERROR(IF(SEARCH(\"=\",L220),L220,\"\"),\"\")","v":""},{"$f":"IFERROR(IF(SEARCH(\"=\",M220),M220,\"\"),\"\")","v":""},{"$f":"IFERROR(IF(SEARCH(\"=\",N220),N220,\"\"),\"\")","v":""},{"$f":"IFERROR(IF(SEARCH(\"=\",O220),O220,\"\"),\"\")","v":""},null,null,null,27]
[null,null,null,"",null,null,null,null,"","",null,{"$f":"IF(E221>0,\" (p/u) \"&Modulo2.GetFormula(E221),\"\")","v":""},{"$f":"IF(F221>0,\" (lu) \"&Modulo2.GetFormula(F221),\"\")","v":""},{"$f":"IF(G221>0,\" (la) \"&Modulo2.GetFormula(G221),\"\")","v":""},{"$f":"IF(H221>0,\" (H) \"&Modulo2.GetFormula(H221),\"\")","v":""},null,null,null,null,null,null,null,null,null,2,0,null,"",{"$f":"ROWS($AC$4:AC221)","v":218},"",{"$f":"IFERROR(SMALL($AD$4:$AD$1642,ROWS($AD$4:AD221)),\"\")","v":""},null,{"$f":"IFERROR(INDEX($A$4:$R$1642,$AE221,COLUMNS($A:$B)),\"\")","v":""},{"$f":"IFERROR(INDEX($A$4:$R$1642,$AE221,COLUMNS($A:$C)),\"\")","v":""},{"$f":"IFERROR(INDEX($A$4:$R$1642,$AE221,COLUMNS($A:$R)),\"\")","v":""},null,"","","","",null,null,null,27]
[null,null,null,"",null,null,null,null,"","",null,{"$f":"IF(E222>0,\" (p/u) \"&Modulo2.GetFormula(E222),\"\")","v":""},{"$f":"IF(F222>0,\" (lu) \"&Modulo2.GetFormula(F222),\"\")","v":""},{"$f":"IF(G222>0,\" (la) \"&Modulo2.GetFormula(G222),\"\")","v":""},{"$f":"IF(H222>0,\" (H) \"&Modulo2.GetFormula(H222),\"\")","v":""},null,null,null,null,null,null,null,null,null,2,0,null,"",{"$f":"ROWS($AC$4:AC222)","v":219},"",{"$f":"IFERROR(SMALL($AD$4:$AD$1642,ROWS($AD$4:AD222)),\"\")","v":""},null,{"$f":"IFERROR(INDEX($A$4:$R$1642,$AE222,COLUMNS($A:$B)),\"\")","v":""},{"$f":"IFERROR(INDEX($A$4:$R$1642,$AE222,COLUMNS($A:$C)),\"\")","v":""},{"$f":"IFERROR(INDEX($A$4:$R$1642,$AE222,COLUMNS($A:$R)),\"\")","v":""},null,"","","","",null,null,null,27]
[null,null,null,null,null,null,null,{"$f":"CONCATENATE(\"SOMMANO [\",VLOOKUP(B219,'Elenco Prezzi2'!$A$2:$E$201,3,FALSE()),\"]\")","v":{"$error":"#N/A"}},{"$f":"IF(T223=\"s\",V224,SUBTOTAL(9,I219:I223))","v":{"$error":"#REF!"}},null,{"$f":"VLOOKUP(B219,'Elenco Prezzi2'!$A$2:$E$201,5,FALSE)","v":{"$error":"#N/A"}},null,null,null,null,null,null,{"$f":"IFERROR(I223*K223,\"\")","v":""},null,"s",null,null,null,{"$f":"R223","v":""},2,0,null,"",{"$f":"ROWS($AC$4:AC223)","v":220},"",{"$f":"IFERROR(SMALL($AD$4:$AD$1642,ROWS($AD$4:AD223)),\"\")","v":""},null,{"$f":"IFERROR(INDEX($A$4:$R$1642,$AE223,COLUMNS($A:$B)),\"\")","v":""},{"$f":"IFERROR(INDEX($A$4:$R$1642,$AE223,COLUMNS($A:$C)),\"\")","v":""},{"$f":"IFERROR(INDEX($A$4:$R$1642,$AE223,COLUMNS($A:$R)),\"\")","v":""},null,null,null,null,null,null,null,null,27]
[null,null,null,null,null,null,null,{"$f":"IF(I224<0,\"a detrarre\",\"\")","v":""},{"$f":"SUMIF(I219:I222,\"<0\")","v":0},null,null,null,null,null,null,null,null,null,{"$f":"R223","v":""},null,null,{"$f":"VLOOKUP(B219,#REF!,4,FALSE)","v":{"$error":"#REF!"}},null,null,2,0,null,"",{"$f":"ROWS($AC$4:AC224)","v":221},"",{"$f":"IFERROR(SMALL($AD$4:$AD$1642,ROWS($AD$4:AD224)),\"\")","v":""},null,{"$f":"IFERROR(INDEX($A$4:$R$1642,$AE224,COLUMNS($A:$B)),\"\")","v":""},{"$f":"IFERROR(INDEX($A$4:$R$1642,$AE224,COLUMNS($A:$C)),\"\")","v":""},{"$f":"IFERROR(INDEX($A$4:$R$1642,$AE224,COLUMNS($A:$R)),\"\")","v":""},null,null,null,null,null,null,null,null,27]
[null,null,null,null,null,null,null,null,null,null,null,null,null,null,null,null,null,null,null,null,null,null,null,null,2,0,null,"",{"$f":"ROWS($AC$4:AC225)","v":222},"",{"$f":"IFERROR(SMALL($AD$4:$AD$1642,ROWS($AD$4:AD225)),\"\")","v":""},null,{"$f":"IFERROR(INDEX($A$4:$R$1642,$AE225,COLUMNS($A:$B)),\"\")","v":""},{"$f":"IFERROR(INDEX($A$4:$R$1642,$AE225,COLUMNS($A:$C)),\"\")","v":""},{"$f":"IFERROR(INDEX($A$4:$R$1642,$AE225,COLUMNS($A:$R)),\"\")","v":""},null,null,null,null,null,null,null,null,27]
[null,null,null,null,null,null,null,null,null,null,null,null,null,null,null,null,null,null,null,null,null,null,null,null,2,0,null,"",{"$f":"ROWS($AC$4:AC226)","v":223},"",{"$f":"IFERROR(SMALL($AD$4:$AD$1642,ROWS($AD$4:AD226)),\"\")","v":""},null,{"$f":"IFERROR(INDEX($A$4:$R$1642,$AE226,COLUMNS($A:$B)),\"\")","v":""},{"$f":"IFERROR(INDEX($A$4:$R$1642,$AE226,COLUMNS($A:$C)),\"\")","v":""},{"$f":"IFERROR(INDEX($A$4:$R$1642,$AE226,COLUMNS($A:$R)),\"\")","v":""},null,null,null,null,null,null,null,null,27]
[{"$f":"AR227","v":28},null,{"$f":"(VLOOKUP($B227,'Elenco Prezzi2'!$A$2:$E$201,2,FALSE))","v":{"$error":"#N/A"}},null,null,null,null,null,null,null,null,null,null,null,null,null,null,null,null,null,null,null,null,null,2,0,null,{"$f":"IF(W227>0,\"OK\",\"\")","v":""},{"$f":"ROWS($AC$4:AC227)","v":224},{"$f":"IF(AB227=\"ok\",AC227,\"\")","v":""},{"$f":"IFERROR(SMALL($AD$4:$AD$1642,ROWS($AD$4:AD227)),\"\")","v":""},null,{"$f":"IFERROR(INDEX($A$4:$R$1642,$AE227,COLUMNS($A:$B)),\"\")","v":""},{"$f":"IFERROR(INDEX($A$4:$R$1642,$AE227,COLUMNS($A:$C)),\"\")","v":""},{"$f":"IFERROR(INDEX($A$4:$R$1642,$AE227,COLUMNS($A:$R)),\"\")","v":""},null,null,null,null,null,null,null,1,{"$f":"IF(AQ227=\"\",AR226,AR226+AQ227)","v":28}]
[null,null,null,{"$f":"CONCATENATE(AK228&AL228&AM228&AN228)","v":""},null,null,null,null,{"$f":"IFERROR(IF(PRODUCT(E228:H228)=0,\"\",PRODUCT(E228:H228)),\"\")","v":""},{"$f":"I228","v":""},null,{"$f":"IF(E228>0,\" (p/u) \"&Modulo2.GetFormula(E228),\"\")","v":""},{"$f":"IF(F228>0,\" (lu) \"&Modulo2.GetFormula(F228),\"\")","v":""},{"$f":"IF(G228>0,\" (la) \"&Modulo2.GetFormula(G228),\"\")","v":""},{"$f":"IF(H228>0,\" (H) \"&Modulo2.GetFormula(H228),\"\")","v":""},null,null,null,null,null,null,null,null,null,{"$f":"IF(AO228=\"\",Y227,Y227+AO228)","v":2},{"$f":"IF(AP228=\"\",Z227,Z227+AP228)","v":0},null,"",{"$f":"ROWS($AC$4:AC228)","v":225},"",{"$f":"IFERROR(SMALL($AD$4:$AD$1642,ROWS($AD$4:AD228)),\"\")","v":""},null,{"$f":"IFERROR(INDEX($A$4:$R$1642,$AE228,COLUMNS($A:$B)),\"\")","v":""},{"$f":"IFERROR(INDEX($A$4:$R$1642,$AE228,COLUMNS($A:$C)),\"\")","v":""},{"$f":"IFERROR(INDEX($A$4:$R$1642,$AE228,COLUMNS($A:$R)),\"\")","v":""},null,{"$f":"IFERROR(IF(SEARCH(\"=\",L228),L228,\"\"),\"\")","v":""},{"$f":"IFERROR(IF(SEARCH(\"=\",M228),M228,\"\"),\"\")","v":""},{"$f":"IFERROR(IF(SEARCH(\"=\",N228),N228,\"\"),\"\")","v":""},{"$f":"IFERROR(IF(SEARCH(\"=\",O228),O228,\"\"),\"\")","v":""},null,null,null,28]
[null,null,null,"",null,null,null,null,"","",null,{"$f":"IF(E229>0,\" (p/u) \"&Modulo2.GetFormula(E229),\"\")","v":""},{"$f":"IF(F229>0,\" (lu) \"&Modulo2.GetFormula(F229),\"\")","v":""},{"$f":"IF(G229>0,\" (la) \"&Modulo2.GetFormula(G229),\"\")","v":""},{"$f":"IF(H229>0,\" (H) \"&Modulo2.GetFormula(H229),\"\")","v":""},null,null,null,null,null,null,null,null,null,2,0,null,"",{"$f":"ROWS($AC$4:AC229)","v":226},"",{"$f":"IFERROR(SMALL($AD$4:$AD$1642,ROWS($AD$4:AD229)),\"\")","v":""},null,{"$f":"IFERROR(INDEX($A$4:$R$1642,$AE229,COLUMNS($A:$B)),\"\")","v":""},{"$f":"IFERROR(INDEX($A$4:$R$1642,$AE229,COLUMNS($A:$C)),\"\")","v":""},{"$f":"IFERROR(INDEX($A$4:$R$1642,$AE229,COLUMNS($A:$R)),\"\")","v":""},null,"","","","",null,null,null,28]
[null,null,null,"",null,null,null,null,"","",null,{"$f":"IF(E230>0,\" (p/u) \"&Modulo2.GetFormula(E230),\"\")","v":""},{"$f":"IF(F230>0,\" (lu) \"&Modulo2.GetFormula(F230),\"\")","v":""},{"$f":"IF(G230>0,\" (la) \"&Modulo2.GetFormula(G230),\"\")","v":""},{"$f":"IF(H230>0,\" (H) \"&Modulo2.GetFormula(H230),\"\")","v":""},null,null,null,null,null,null,null,null,null,2,0,null,"",{"$f":"ROWS($AC$4:AC230)","v":227},"",{"$f":"IFERROR(SMALL($AD$4:$AD$1642,ROWS($AD$4:AD230)),\"\")","v":""},null,{"$f":"IFERROR(INDEX($A$4:$R$1642,$AE230,COLUMNS($A:$B)),\"\")","v":""},{"$f":"IFERROR(INDEX($A$4:$R$1642,$AE230,COLUMNS($A:$C)),\"\")","v":""},{"$f":"IFERROR(INDEX($A$4:$R$1642,$AE230,COLUMNS($A:$R)),\"\")","v":""},null,"","","","",null,null,null,28]
[null,null,null,null,null,null,null,{"$f":"CONCATENATE(\"SOMMANO [\",VLOOKUP(B227,'Elenco Prezzi2'!$A$2:$E$201,3,FALSE()),\"]\")","v":{"$error":"#N/A"}},{"$f":"IF(T231=\"s\",V232,SUBTOTAL(9,I227:I231))","v":{"$error":"#REF!"}},null,{"$f":"VLOOKUP(B227,'Elenco Prezzi2'!$A$2:$E$201,5,FALSE)","v":{"$error":"#N/A"}},null,null,null,null,null,null,{"$f":"IFERROR(I231*K231,\"\")","v":""},null,"s",null,null,null,{"$f":"R231","v":""},2,0,null,"",{"$f":"ROWS($AC$4:AC231)","v":228},"",{"$f":"IFERROR(SMALL($AD$4:$AD$1642,ROWS($AD$4:AD231)),\"\")","v":""},null,{"$f":"IFERROR(INDEX($A$4:$R$1642,$AE231,COLUMNS($A:$B)),\"\")","v":""},{"$f":"IFERROR(INDEX($A$4:$R$1642,$AE231,COLUMNS($A:$C)),\"\")","v":""},{"$f":"IFERROR(INDEX($A$4:$R$1642,$AE231,COLUMNS($A:$R)),\"\")","v":""},null,null,null,null,null,null,null,null,28]
[null,null,null,null,null,null,null,{"$f":"IF(I232<0,\"a detrarre\",\"\")","v":""},{"$f":"SUMIF(I227:I230,\"<0\")","v":0},null,null,null,null,null,null,null,null,null,{"$f":"R231","v":""},null,null,{"$f":"VLOOKUP(B227,#REF!,4,FALSE)","v":{"$error":"#REF!"}},null,null,2,0,null,"",{"$f":"ROWS($AC$4:AC232)","v":229},"",{"$f":"IFERROR(SMALL($AD$4:$AD$1642,ROWS($AD$4:AD232)),\"\")","v":""},null,{"$f":"IFERROR(INDEX($A$4:$R$1642,$AE232,COLUMNS($A:$B)),\"\")","v":""},{"$f":"IFERROR(INDEX($A$4:$R$1642,$AE232,COLUMNS($A:$C)),\"\")","v":""},{"$f":"IFERROR(INDEX($A$4:$R$1642,$AE232,COLUMNS($A:$R)),\"\")","v":""},null,null,null,null,null,null,null,null,28]
[null,null,null,null,null,null,null,null,null,null,null,null,null,null,null,null,null,null,null,null,null,null,null,null,2,0,null,"",{"$f":"ROWS($AC$4:AC233)","v":230},"",{"$f":"IFERROR(SMALL($AD$4:$AD$1642,ROWS($AD$4:AD233)),\"\")","v":""},null,{"$f":"IFERROR(INDEX($A$4:$R$1642,$AE233,COLUMNS($A:$B)),\"\")","v":""},{"$f":"IFERROR(INDEX($A$4:$R$1642,$AE233,COLUMNS($A:$C)),\"\")","v":""},{"$f":"IFERROR(INDEX($A$4:$R$1642,$AE233,COLUMNS($A:$R)),\"\")","v":""},null,null,null,null,null,null,null,null,28]
[null,null,null,null,null,null,null,null,null,null,null,null,null,null,null,null,null,null,null,null,null,null,null,null,2,0,null,"",{"$f":"ROWS($AC$4:AC234)","v":231},"",{"$f":"IFERROR(SMALL($AD$4:$AD$1642,ROWS($AD$4:AD234)),\"\")","v":""},null,{"$f":"IFERROR(INDEX($A$4:$R$1642,$AE234,COLUMNS($A:$B)),\"\")","v":""},{"$f":"IFERROR(INDEX($A$4:$R$1642,$AE234,COLUMNS($A:$C)),\"\")","v":""},{"$f":"IFERROR(INDEX($A$4:$R$1642,$AE234,COLUMNS($A:$R)),\"\")","v":""},null,null,null,null,null,null,null,null,28]
[{"$f":"AR235","v":29},null,{"$f":"(VLOOKUP($B235,'Elenco Prezzi2'!$A$2:$E$201,2,FALSE))","v":{"$error":"#N/A"}},null,null,null,null,null,null,null,null,null,null,null,null,null,null,null,null,null,null,null,null,null,2,0,null,"",{"$f":"ROWS($AC$4:AC235)","v":232},"",{"$f":"IFERROR(SMALL($AD$4:$AD$1642,ROWS($AD$4:AD235)),\"\")","v":""},null,{"$f":"IFERROR(INDEX($A$4:$R$1642,$AE235,COLUMNS($A:$B)),\"\")","v":""},{"$f":"IFERROR(INDEX($A$4:$R$1642,$AE235,COLUMNS($A:$C)),\"\")","v":""},{"$f":"IFERROR(INDEX($A$4:$R$1642,$AE235,COLUMNS($A:$R)),\"\")","v":""},null,null,null,null,null,null,null,1,29]
[null,null,null,{"$f":"CONCATENATE(AK236&AL236&AM236&AN236)","v":""},null,null,null,null,{"$f":"IFERROR(IF(PRODUCT(E236:H236)=0,\"\",PRODUCT(E236:H236)),\"\")","v":""},{"$f":"I236","v":""},null,{"$f":"IF(E236>0,\" (p/u) \"&Modulo2.GetFormula(E236),\"\")","v":""},{"$f":"IF(F236>0,\" (lu) \"&Modulo2.GetFormula(F236),\"\")","v":""},{"$f":"IF(G236>0,\" (la) \"&Modulo2.GetFormula(G236),\"\")","v":""},{"$f":"IF(H236>0,\" (H) \"&Modulo2.GetFormula(H236),\"\")","v":""},null,null,null,null,null,null,null,null,null,2,0,null,"",{"$f":"ROWS($AC$4:AC236)","v":233},"",{"$f":"IFERROR(SMALL($AD$4:$AD$1642,ROWS($AD$4:AD236)),\"\")","v":""},null,{"$f":"IFERROR(INDEX($A$4:$R$1642,$AE236,COLUMNS($A:$B)),\"\")","v":""},{"$f":"IFERROR(INDEX($A$4:$R$1642,$AE236,COLUMNS($A:$C)),\"\")","v":""},{"$f":"IFERROR(INDEX($A$4:$R$1642,$AE236,COLUMNS($A:$R)),\"\")","v":""},null,{"$f":"IFERROR(IF(SEARCH(\"=\",L236),L236,\"\"),\"\")","v":""},{"$f":"IFERROR(IF(SEARCH(\"=\",M236),M236,\"\"),\"\")","v":""},{"$f":"IFERROR(IF(SEARCH(\"=\",N236),N236,\"\"),\"\")","v":""},{"$f":"IFERROR(IF(SEARCH(\"=\",O236),O236,\"\"),\"\")","v":""},null,null,null,29]
[null,null,null,"",null,null,null,null,"","",null,{"$f":"IF(E237>0,\" (p/u) \"&Modulo2.GetFormula(E237),\"\")","v":""},{"$f":"IF(F237>0,\" (lu) \"&Modulo2.GetFormula(F237),\"\")","v":""},{"$f":"IF(G237>0,\" (la) \"&Modulo2.GetFormula(G237),\"\")","v":""},{"$f":"IF(H237>0,\" (H) \"&Modulo2.GetFormula(H237),\"\")","v":""},null,null,null,null,null,null,null,null,null,2,0,null,"",{"$f":"ROWS($AC$4:AC237)","v":234},"",{"$f":"IFERROR(SMALL($AD$4:$AD$1642,ROWS($AD$4:AD237)),\"\")","v":""},null,{"$f":"IFERROR(INDEX($A$4:$R$1642,$AE237,COLUMNS($A:$B)),\"\")","v":""},{"$f":"IFERROR(INDEX($A$4:$R$1642,$AE237,COLUMNS($A:$C)),\"\")","v":""},{"$f":"IFERROR(INDEX($A$4:$R$1642,$AE237,COLUMNS($A:$R)),\"\")","v":""},null,"","","","",null,null,null,29]
[null,null,null,"",null,null,null,null,"","",null,{"$f":"IF(E238>0,\" (p/u) \"&Modulo2.GetFormula(E238),\"\")","v":""},{"$f":"IF(F238>0,\" (lu) \"&Modulo2.GetFormula(F238),\"\")","v":""},{"$f":"IF(G238>0,\" (la) \"&Modulo2.GetFormula(G238),\"\")","v":""},{"$f":"IF(H238>0,\" (H) \"&Modulo2.GetFormula(H238),\"\")","v":""},null,null,null,null,null,null,null,null,null,2,0,null,"",{"$f":"ROWS($AC$4:AC238)","v":235},"",{"$f":"IFERROR(SMALL($AD$4:$AD$1642,ROWS($AD$4:AD238)),\"\")","v":""},null,{"$f":"IFERROR(INDEX($A$4:$R$1642,$AE238,COLUMNS($A:$B)),\"\")","v":""},{"$f":"IFERROR(INDEX($A$4:$R$1642,$AE238,COLUMNS($A:$C)),\"\")","v":""},{"$f":"IFERROR(INDEX($A$4:$R$1642,$AE238,COLUMNS($A:$R)),\"\")","v":""},null,"","","","",null,null,null,29]
[null,null,null,null,null,null,null,{"$f":"CONCATENATE(\"SOMMANO [\",VLOOKUP(B235,'Elenco Prezzi2'!$A$2:$E$201,3,FALSE()),\"]\")","v":{"$error":"#N/A"}},{"$f":"IF(T239=\"s\",V240,SUBTOTAL(9,I235:I239))","v":{"$error":"#REF!"}},null,{"$f":"VLOOKUP(B235,'Elenco Prezzi2'!$A$2:$E$201,5,FALSE)","v":{"$error":"#N/A"}},null,null,null,null,null,null,{"$f":"IFERROR(I239*K239,\"\")","v":""},null,"s",null,null,null,{"$f":"R239","v":""},2,0,null,"",{"$f":"ROWS($AC$4:AC239)","v":236},"",{"$f":"IFERROR(SMALL($AD$4:$AD$1642,ROWS($AD$4:AD239)),\"\")","v":""},null,{"$f":"IFERROR(INDEX($A$4:$R$1642,$AE239,COLUMNS($A:$B)),\"\")","v":""},{"$f":"IFERROR(INDEX($A$4:$R$1642,$AE239,COLUMNS($A:$C)),\"\")","v":""},{"$f":"IFERROR(INDEX($A$4:$R$1642,$AE239,COLUMNS($A:$R)),\"\")","v":""},null,null,null,null,null,null,null,null,29]
[null,null,null,null,null,null,null,{"$f":"IF(I240<0,\"a detrarre\",\"\")","v":""},{"$f":"SUMIF(I235:I238,\"<0\")","v":0},null,null,null,null,null,null,null,null,null,{"$f":"R239","v":""},null,null,{"$f":"VLOOKUP(B235,#REF!,4,FALSE)","v":{"$error":"#REF!"}},null,null,2,0,null,"",{"$f":"ROWS($AC$4:AC240)","v":237},"",{"$f":"IFERROR(SMALL($AD$4:$AD$1642,ROWS($AD$4:AD240)),\"\")","v":""},null,{"$f":"IFERROR(INDEX($A$4:$R$1642,$AE240,COLUMNS($A:$B)),\"\")","v":""},{"$f":"IFERROR(INDEX($A$4:$R$1642,$AE240,COLUMNS($A:$C)),\"\")","v":""},{"$f":"IFERROR(INDEX($A$4:$R$1642,$AE240,COLUMNS($A:$R)),\"\")","v":""},null,null,null,null,null,null,null,null,29]
[null,null,null,null,null,null,null,null,null,null,null,null,null,null,null,null,null,null,null,null,null,null,null,null,2,0,null,"",{"$f":"ROWS($AC$4:AC241)","v":238},"",{"$f":"IFERROR(SMALL($AD$4:$AD$1642,ROWS($AD$4:AD241)),\"\")","v":""},null,{"$f":"IFERROR(INDEX($A$4:$R$1642,$AE241,COLUMNS($A:$B)),\"\")","v":""},{"$f":"IFERROR(INDEX($A$4:$R$1642,$AE241,COLUMNS($A:$C)),\"\")","v":""},{"$f":"IFERROR(INDEX($A$4:$R$1642,$AE241,COLUMNS($A:$R)),\"\")","v":""},null,null,null,null,null,null,null,null,29]
[null,null,null,null,null,null,null,null,null,null,null,null,null,null,null,null,null,null,null,null,null,null,null,null,2,0,null,"",{"$f":"ROWS($AC$4:AC242)","v":239},"",{"$f":"IFERROR(SMALL($AD$4:$AD$1642,ROWS($AD$4:AD242)),\"\")","v":""},null,{"$f":"IFERROR(INDEX($A$4:$R$1642,$AE242,COLUMNS($A:$B)),\"\")","v":""},{"$f":"IFERROR(INDEX($A$4:$R$1642,$AE242,COLUMNS($A:$C)),\"\")","v":""},{"$f":"IFERROR(INDEX($A$4:$R$1642,$AE242,COLUMNS($A:$R)),\"\")","v":""},null,null,null,null,null,null,null,null,29]
[{"$f":"AR243","v":30},null,{"$f":"(VLOOKUP($B243,'Elenco Prezzi2'!$A$2:$E$201,2,FALSE))","v":{"$error":"#N/A"}},null,null,null,null,null,null,null,null,null,null,null,null,null,null,null,null,null,null,null,null,null,2,0,null,"",{"$f":"ROWS($AC$4:AC243)","v":240},"",{"$f":"IFERROR(SMALL($AD$4:$AD$1642,ROWS($AD$4:AD243)),\"\")","v":""},null,{"$f":"IFERROR(INDEX($A$4:$R$1642,$AE243,COLUMNS($A:$B)),\"\")","v":""},{"$f":"IFERROR(INDEX($A$4:$R$1642,$AE243,COLUMNS($A:$C)),\"\")","v":""},{"$f":"IFERROR(INDEX($A$4:$R$1642,$AE243,COLUMNS($A:$R)),\"\")","v":""},null,null,null,null,null,null,null,1,30]
[null,null,null,{"$f":"CONCATENATE(AK244&AL244&AM244&AN244)","v":""},null,null,null,null,{"$f":"IFERROR(IF(PRODUCT(E244:H244)=0,\"\",PRODUCT(E244:H244)),\"\")","v":""},{"$f":"I244","v":""},null,{"$f":"IF(E244>0,\" (p/u) \"&Modulo2.GetFormula(E244),\"\")","v":""},{"$f":"IF(F244>0,\" (lu) \"&Modulo2.GetFormula(F244),\"\")","v":""},{"$f":"IF(G244>0,\" (la) \"&Modulo2.GetFormula(G244),\"\")","v":""},{"$f":"IF(H244>0,\" (H) \"&Modulo2.GetFormula(H244),\"\")","v":""},null,null,null,null,null,null,null,null,null,2,0,null,"",{"$f":"ROWS($AC$4:AC244)","v":241},"",{"$f":"IFERROR(SMALL($AD$4:$AD$1642,ROWS($AD$4:AD244)),\"\")","v":""},null,{"$f":"IFERROR(INDEX($A$4:$R$1642,$AE244,COLUMNS($A:$B)),\"\")","v":""},{"$f":"IFERROR(INDEX($A$4:$R$1642,$AE244,COLUMNS($A:$C)),\"\")","v":""},{"$f":"IFERROR(INDEX($A$4:$R$1642,$AE244,COLUMNS($A:$R)),\"\")","v":""},null,{"$f":"IFERROR(IF(SEARCH(\"=\",L244),L244,\"\"),\"\")","v":""},{"$f":"IFERROR(IF(SEARCH(\"=\",M244),M244,\"\"),\"\")","v":""},{"$f":"IFERROR(IF(SEARCH(\"=\",N244),N244,\"\"),\"\")","v":""},{"$f":"IFERROR(IF(SEARCH(\"=\",O244),O244,\"\"),\"\")","v":""},null,null,null,30]
[null,null,null,"",null,null,null,null,"","",null,{"$f":"IF(E245>0,\" (p/u) \"&Modulo2.GetFormula(E245),\"\")","v":""},{"$f":"IF(F245>0,\" (lu) \"&Modulo2.GetFormula(F245),\"\")","v":""},{"$f":"IF(G245>0,\" (la) \"&Modulo2.GetFormula(G245),\"\")","v":""},{"$f":"IF(H245>0,\" (H) \"&Modulo2.GetFormula(H245),\"\")","v":""},null,null,null,null,null,null,null,null,null,2,0,null,"",{"$f":"ROWS($AC$4:AC245)","v":242},"",{"$f":"IFERROR(SMALL($AD$4:$AD$1642,ROWS($AD$4:AD245)),\"\")","v":""},null,{"$f":"IFERROR(INDEX($A$4:$R$1642,$AE245,COLUMNS($A:$B)),\"\")","v":""},{"$f":"IFERROR(INDEX($A$4:$R$1642,$AE245,COLUMNS($A:$C)),\"\")","v":""},{"$f":"IFERROR(INDEX($A$4:$R$1642,$AE245,COLUMNS($A:$R)),\"\")","v":""},null,"","","","",null,null,null,30]
[null,null,null,"",null,null,null,null,"","",null,{"$f":"IF(E246>0,\" (p/u) \"&Modulo2.GetFormula(E246),\"\")","v":""},{"$f":"IF(F246>0,\" (lu) \"&Modulo2.GetFormula(F246),\"\")","v":""},{"$f":"IF(G246>0,\" (la) \"&Modulo2.GetFormula(G246),\"\")","v":""},{"$f":"IF(H246>0,\" (H) \"&Modulo2.GetFormula(H246),\"\")","v":""},null,null,null,null,null,null,null,null,null,2,0,null,"",{"$f":"ROWS($AC$4:AC246)","v":243},"",{"$f":"IFERROR(SMALL($AD$4:$AD$1642,ROWS($AD$4:AD246)),\"\")","v":""},null,{"$f":"IFERROR(INDEX($A$4:$R$1642,$AE246,COLUMNS($A:$B)),\"\")","v":""},{"$f":"IFERROR(INDEX($A$4:$R$1642,$AE246,COLUMNS($A:$C)),\"\")","v":""},{"$f":"IFERROR(INDEX($A$4:$R$1642,$AE246,COLUMNS($A:$R)),\"\")","v":""},null,"","","","",null,null,null,30]
[null,null,null,null,null,null,null,{"$f":"CONCATENATE(\"SOMMANO [\",VLOOKUP(B243,'Elenco Prezzi2'!$A$2:$E$201,3,FALSE()),\"]\")","v":{"$error":"#N/A"}},{"$f":"IF(T247=\"s\",V248,SUBTOTAL(9,I243:I247))","v":{"$error":"#REF!"}},null,{"$f":"VLOOKUP(B243,'Elenco Prezzi2'!$A$2:$E$201,5,FALSE)","v":{"$error":"#N/A"}},null,null,null,null,null,null,{"$f":"IFERROR(I247*K247,\"\")","v":""},null,"s",null,null,null,{"$f":"R247","v":""},2,0,null,"",{"$f":"ROWS($AC$4:AC247)","v":244},"",{"$f":"IFERROR(SMALL($AD$4:$AD$1642,ROWS($AD$4:AD247)),\"\")","v":""},null,{"$f":"IFERROR(INDEX($A$4:$R$1642,$AE247,COLUMNS($A:$B)),\"\")","v":""},{"$f":"IFERROR(INDEX($A$4:$R$1642,$AE247,COLUMNS($A:$C)),\"\")","v":""},{"$f":"IFERROR(INDEX($A$4:$R$1642,$AE247,COLUMNS($A:$R)),\"\")","v":""},null,null,null,null,null,null,null,null,30]
[null,null,null,null,null,null,null,{"$f":"IF(I248<0,\"a detrarre\",\"\")","v":""},{"$f":"SUMIF(I243:I246,\"<0\")","v":0},null,null,null,null,null,null,null,null,null,{"$f":"R247","v":""},null,null,{"$f":"VLOOKUP(B243,#REF!,4,FALSE)","v":{"$error":"#REF!"}},null,null,2,0,null,"",{"$f":"ROWS($AC$4:AC248)","v":245},"",{"$f":"IFERROR(SMALL($AD$4:$AD$1642,ROWS($AD$4:AD248)),\"\")","v":""},null,{"$f":"IFERROR(INDEX($A$4:$R$1642,$AE248,COLUMNS($A:$B)),\"\")","v":""},{"$f":"IFERROR(INDEX($A$4:$R$1642,$AE248,COLUMNS($A:$C)),\"\")","v":""},{"$f":"IFERROR(INDEX($A$4:$R$1642,$AE248,COLUMNS($A:$R)),\"\")","v":""},null,null,null,null,null,null,null,null,30]
[null,null,null,null,null,null,null,null,null,null,null,null,null,null,null,null,null,null,null,null,null,null,null,null,2,0,null,"",{"$f":"ROWS($AC$4:AC249)","v":246},"",{"$f":"IFERROR(SMALL($AD$4:$AD$1642,ROWS($AD$4:AD249)),\"\")","v":""},null,{"$f":"IFERROR(INDEX($A$4:$R$1642,$AE249,COLUMNS($A:$B)),\"\")","v":""},{"$f":"IFERROR(INDEX($A$4:$R$1642,$AE249,COLUMNS($A:$C)),\"\")","v":""},{"$f":"IFERROR(INDEX($A$4:$R$1642,$AE249,COLUMNS($A:$R)),\"\")","v":""},null,null,null,null,null,null,null,null,30]
[null,null,null,null,null,null,null,null,null,null,null,null,null,null,null,null,null,null,null,null,null,null,null,null,2,0,null,"",{"$f":"ROWS($AC$4:AC250)","v":247},"",{"$f":"IFERROR(SMALL($AD$4:$AD$1642,ROWS($AD$4:AD250)),\"\")","v":""},null,{"$f":"IFERROR(INDEX($A$4:$R$1642,$AE250,COLUMNS($A:$B)),\"\")","v":""},{"$f":"IFERROR(INDEX($A$4:$R$1642,$AE250,COLUMNS($A:$C)),\"\")","v":""},{"$f":"IFERROR(INDEX($A$4:$R$1642,$AE250,COLUMNS($A:$R)),\"\")","v":""},null,null,null,null,null,null,null,null,30]
[{"$f":"AR251","v":31},null,{"$f":"(VLOOKUP($B251,'Elenco Prezzi2'!$A$2:$E$201,2,FALSE))","v":{"$error":"#N/A"}},null,null,null,null,null,null,null,null,null,null,null,null,null,null,null,null,null,null,null,null,null,2,0,null,"",{"$f":"ROWS($AC$4:AC251)","v":248},"",{"$f":"IFERROR(SMALL($AD$4:$AD$1642,ROWS($AD$4:AD251)),\"\")","v":""},null,{"$f":"IFERROR(INDEX($A$4:$R$1642,$AE251,COLUMNS($A:$B)),\"\")","v":""},{"$f":"IFERROR(INDEX($A$4:$R$1642,$AE251,COLUMNS($A:$C)),\"\")","v":""},{"$f":"IFERROR(INDEX($A$4:$R$1642,$AE251,COLUMNS($A:$R)),\"\")","v":""},null,null,null,null,null,null,null,1,31]
[null,null,null,{"$f":"CONCATENATE(AK252&AL252&AM252&AN252)","v":""},null,null,null,null,{"$f":"IFERROR(IF(PRODUCT(E252:H252)=0,\"\",PRODUCT(E252:H252)),\"\")","v":""},{"$f":"I252","v":""},null,{"$f":"IF(E252>0,\" (p/u) \"&Modulo2.GetFormula(E252),\"\")","v":""},{"$f":"IF(F252>0,\" (lu) \"&Modulo2.GetFormula(F252),\"\")","v":""},{"$f":"IF(G252>0,\" (la) \"&Modulo2.GetFormula(G252),\"\")","v":""},{"$f":"IF(H252>0,\" (H) \"&Modulo2.GetFormula(H252),\"\")","v":""},null,null,null,null,null,null,null,null,null,2,0,null,"",{"$f":"ROWS($AC$4:AC252)","v":249},"",{"$f":"IFERROR(SMALL($AD$4:$AD$1642,ROWS($AD$4:AD252)),\"\")","v":""},null,{"$f":"IFERROR(INDEX($A$4:$R$1642,$AE252,COLUMNS($A:$B)),\"\")","v":""},{"$f":"IFERROR(INDEX($A$4:$R$1642,$AE252,COLUMNS($A:$C)),\"\")","v":""},{"$f":"IFERROR(INDEX($A$4:$R$1642,$AE252,COLUMNS($A:$R)),\"\")","v":""},null,{"$f":"IFERROR(IF(SEARCH(\"=\",L252),L252,\"\"),\"\")","v":""},{"$f":"IFERROR(IF(SEARCH(\"=\",M252),M252,\"\"),\"\")","v":""},{"$f":"IFERROR(IF(SEARCH(\"=\",N252),N252,\"\"),\"\")","v":""},{"$f":"IFERROR(IF(SEARCH(\"=\",O252),O252,\"\"),\"\")","v":""},null,null,null,31]
[null,null,null,"",null,null,null,null,"","",null,{"$f":"IF(E253>0,\" (p/u) \"&Modulo2.GetFormula(E253),\"\")","v":""},{"$f":"IF(F253>0,\" (lu) \"&Modulo2.GetFormula(F253),\"\")","v":""},{"$f":"IF(G253>0,\" (la) \"&Modulo2.GetFormula(G253),\"\")","v":""},{"$f":"IF(H253>0,\" (H) \"&Modulo2.GetFormula(H253),\"\")","v":""},null,null,null,null,null,null,null,null,null,2,0,null,"",{"$f":"ROWS($AC$4:AC253)","v":250},"",{"$f":"IFERROR(SMALL($AD$4:$AD$1642,ROWS($AD$4:AD253)),\"\")","v":""},null,{"$f":"IFERROR(INDEX($A$4:$R$1642,$AE253,COLUMNS($A:$B)),\"\")","v":""},{"$f":"IFERROR(INDEX($A$4:$R$1642,$AE253,COLUMNS($A:$C)),\"\")","v":""},{"$f":"IFERROR(INDEX($A$4:$R$1642,$AE253,COLUMNS($A:$R)),\"\")","v":""},null,"","","","",null,null,null,31]
[null,null,null,"",null,null,null,null,"","",null,{"$f":"IF(E254>0,\" (p/u) \"&Modulo2.GetFormula(E254),\"\")","v":""},{"$f":"IF(F254>0,\" (lu) \"&Modulo2.GetFormula(F254),\"\")","v":""},{"$f":"IF(G254>0,\" (la) \"&Modulo2.GetFormula(G254),\"\")","v":""},{"$f":"IF(H254>0,\" (H) \"&Modulo2.GetFormula(H254),\"\")","v":""},null,null,null,null,null,null,null,null,null,2,0,null,"",{"$f":"ROWS($AC$4:AC254)","v":251},"",{"$f":"IFERROR(SMALL($AD$4:$AD$1642,ROWS($AD$4:AD254)),\"\")","v":""},null,{"$f":"IFERROR(INDEX($A$4:$R$1642,$AE254,COLUMNS($A:$B)),\"\")","v":""},{"$f":"IFERROR(INDEX($A$4:$R$1642,$AE254,COLUMNS($A:$C)),\"\")","v":""},{"$f":"IFERROR(INDEX($A$4:$R$1642,$AE254,COLUMNS($A:$R)),\"\")","v":""},null,"","","","",null,null,null,31]
[null,null,null,null,null,null,null,{"$f":"CONCATENATE(\"SOMMANO [\",VLOOKUP(B251,'Elenco Prezzi2'!$A$2:$E$201,3,FALSE()),\"]\")","v":{"$error":"#N/A"}},{"$f":"IF(T255=\"s\",V256,SUBTOTAL(9,I251:I255))","v":{"$error":"#REF!"}},null,{"$f":"VLOOKUP(B251,'Elenco Prezzi2'!$A$2:$E$201,5,FALSE)","v":{"$error":"#N/A"}},null,null,null,null,null,null,{"$f":"IFERROR(I255*K255,\"\")","v":""},null,"s",null,null,null,{"$f":"R255","v":""},2,0,null,"",{"$f":"ROWS($AC$4:AC255)","v":252},"",{"$f":"IFERROR(SMALL($AD$4:$AD$1642,ROWS($AD$4:AD255)),\"\")","v":""},null,{"$f":"IFERROR(INDEX($A$4:$R$1642,$AE255,COLUMNS($A:$B)),\"\")","v":""},{"$f":"IFERROR(INDEX($A$4:$R$1642,$AE255,COLUMNS($A:$C)),\"\")","v":""},{"$f":"IFERROR(INDEX($A$4:$R$1642,$AE255,COLUMNS($A:$R)),\"\")","v":""},null,null,null,null,null,null,null,null,31]
[null,null,null,null,null,null,null,{"$f":"IF(I256<0,\"a detrarre\",\"\")","v":""},{"$f":"SUMIF(I251:I254,\"<0\")","v":0},null,null,null,null,null,null,null,null,null,{"$f":"R255","v":""},null,null,{"$f":"VLOOKUP(B251,#REF!,4,FALSE)","v":{"$error":"#REF!"}},null,null,2,0,null,"",{"$f":"ROWS($AC$4:AC256)","v":253},"",{"$f":"IFERROR(SMALL($AD$4:$AD$1642,ROWS($AD$4:AD256)),\"\")","v":""},null,{"$f":"IFERROR(INDEX($A$4:$R$1642,$AE256,COLUMNS($A:$B)),\"\")","v":""},{"$f":"IFERROR(INDEX($A$4:$R$1642,$AE256,COLUMNS($A:$C)),\"\")","v":""},{"$f":"IFERROR(INDEX($A$4:$R$1642,$AE256,COLUMNS($A:$R)),\"\")","v":""},null,null,null,null,null,null,null,null,31]
[null,null,null,null,null,null,null,null,null,null,null,null,null,null,null,null,null,null,null,null,null,null,null,null,2,0,null,"",{"$f":"ROWS($AC$4:AC257)","v":254},"",{"$f":"IFERROR(SMALL($AD$4:$AD$1642,ROWS($AD$4:AD257)),\"\")","v":""},null,{"$f":"IFERROR(INDEX($A$4:$R$1642,$AE257,COLUMNS($A:$B)),\"\")","v":""},{"$f":"IFERROR(INDEX($A$4:$R$1642,$AE257,COLUMNS($A:$C)),\"\")","v":""},{"$f":"IFERROR(INDEX($A$4:$R$1642,$AE257,COLUMNS($A:$R)),\"\")","v":""},null,null,null,null,null,null,null,null,31]
[null,null,null,null,null,null,null,null,null,null,null,null,null,null,null,null,null,null,null,null,null,null,null,null,2,0,null,"",{"$f":"ROWS($AC$4:AC258)","v":255},"",{"$f":"IFERROR(SMALL($AD$4:$AD$1642,ROWS($AD$4:AD258)),\"\")","v":""},null,{"$f":"IFERROR(INDEX($A$4:$R$1642,$AE258,COLUMNS($A:$B)),\"\")","v":""},{"$f":"IFERROR(INDEX($A$4:$R$1642,$AE258,COLUMNS($A:$C)),\"\")","v":""},{"$f":"IFERROR(INDEX($A$4:$R$1642,$AE258,COLUMNS($A:$R)),\"\")","v":""},null,null,null,null,null,null,null,null,31]
[{"$f":"AR259","v":32},null,{"$f":"(VLOOKUP($B259,'Elenco Prezzi2'!$A$2:$E$201,2,FALSE))","v":{"$error":"#N/A"}},null,null,null,null,null,null,null,null,null,null,null,null,null,null,null,null,null,null,null,null,null,2,0,null,"",{"$f":"ROWS($AC$4:AC259)","v":256},"",{"$f":"IFERROR(SMALL($AD$4:$AD$1642,ROWS($AD$4:AD259)),\"\")","v":""},null,{"$f":"IFERROR(INDEX($A$4:$R$1642,$AE259,COLUMNS($A:$B)),\"\")","v":""},{"$f":"IFERROR(INDEX($A$4:$R$1642,$AE259,COLUMNS($A:$C)),\"\")","v":""},{"$f":"IFERROR(INDEX($A$4:$R$1642,$AE259,COLUMNS($A:$R)),\"\")","v":""},null,null,null,null,null,null,null,1,32]
[null,null,null,{"$f":"CONCATENATE(AK260&AL260&AM260&AN260)","v":""},null,null,null,null,{"$f":"IFERROR(IF(PRODUCT(E260:H260)=0,\"\",PRODUCT(E260:H260)),\"\")","v":""},{"$f":"I260","v":""},null,{"$f":"IF(E260>0,\" (p/u) \"&Modulo2.GetFormula(E260),\"\")","v":""},{"$f":"IF(F260>0,\" (lu) \"&Modulo2.GetFormula(F260),\"\")","v":""},{"$f":"IF(G260>0,\" (la) \"&Modulo2.GetFormula(G260),\"\")","v":""},{"$f":"IF(H260>0,\" (H) \"&Modulo2.GetFormula(H260),\"\")","v":""},null,null,null,null,null,null,null,null,null,2,0,null,"",{"$f":"ROWS($AC$4:AC260)","v":257},"",{"$f":"IFERROR(SMALL($AD$4:$AD$1642,ROWS($AD$4:AD260)),\"\")","v":""},null,{"$f":"IFERROR(INDEX($A$4:$R$1642,$AE260,COLUMNS($A:$B)),\"\")","v":""},{"$f":"IFERROR(INDEX($A$4:$R$1642,$AE260,COLUMNS($A:$C)),\"\")","v":""},{"$f":"IFERROR(INDEX($A$4:$R$1642,$AE260,COLUMNS($A:$R)),\"\")","v":""},null,{"$f":"IFERROR(IF(SEARCH(\"=\",L260),L260,\"\"),\"\")","v":""},{"$f":"IFERROR(IF(SEARCH(\"=\",M260),M260,\"\"),\"\")","v":""},{"$f":"IFERROR(IF(SEARCH(\"=\",N260),N260,\"\"),\"\")","v":""},{"$f":"IFERROR(IF(SEARCH(\"=\",O260),O260,\"\"),\"\")","v":""},null,null,null,32]
[null,null,null,"",null,null,null,null,"","",null,{"$f":"IF(E261>0,\" (p/u) \"&Modulo2.GetFormula(E261),\"\")","v":""},{"$f":"IF(F261>0,\" (lu) \"&Modulo2.GetFormula(F261),\"\")","v":""},{"$f":"IF(G261>0,\" (la) \"&Modulo2.GetFormula(G261),\"\")","v":""},{"$f":"IF(H261>0,\" (H) \"&Modulo2.GetFormula(H261),\"\")","v":""},null,null,null,null,null,null,null,null,null,2,0,null,"",{"$f":"ROWS($AC$4:AC261)","v":258},"",{"$f":"IFERROR(SMALL($AD$4:$AD$1642,ROWS($AD$4:AD261)),\"\")","v":""},null,{"$f":"IFERROR(INDEX($A$4:$R$1642,$AE261,COLUMNS($A:$B)),\"\")","v":""},{"$f":"IFERROR(INDEX($A$4:$R$1642,$AE261,COLUMNS($A:$C)),\"\")","v":""},{"$f":"IFERROR(INDEX($A$4:$R$1642,$AE261,COLUMNS($A:$R)),\"\")","v":""},null,"","","","",null,null,null,32]
[null,null,null,"",null,null,null,null,"","",null,{"$f":"IF(E262>0,\" (p/u) \"&Modulo2.GetFormula(E262),\"\")","v":""},{"$f":"IF(F262>0,\" (lu) \"&Modulo2.GetFormula(F262),\"\")","v":""},{"$f":"IF(G262>0,\" (la) \"&Modulo2.GetFormula(G262),\"\")","v":""},{"$f":"IF(H262>0,\" (H) \"&Modulo2.GetFormula(H262),\"\")","v":""},null,null,null,null,null,null,null,null,null,2,0,null,"",{"$f":"ROWS($AC$4:AC262)","v":259},"",{"$f":"IFERROR(SMALL($AD$4:$AD$1642,ROWS($AD$4:AD262)),\"\")","v":""},null,{"$f":"IFERROR(INDEX($A$4:$R$1642,$AE262,COLUMNS($A:$B)),\"\")","v":""},{"$f":"IFERROR(INDEX($A$4:$R$1642,$AE262,COLUMNS($A:$C)),\"\")","v":""},{"$f":"IFERROR(INDEX($A$4:$R$1642,$AE262,COLUMNS($A:$R)),\"\")","v":""},null,"","","","",null,null,null,32]
[null,null,null,null,null,null,null,{"$f":"CONCATENATE(\"SOMMANO [\",VLOOKUP(B259,'Elenco Prezzi2'!$A$2:$E$201,3,FALSE()),\"]\")","v":{"$error":"#N/A"}},{"$f":"IF(T263=\"s\",V264,SUBTOTAL(9,I259:I263))","v":{"$error":"#REF!"}},null,{"$f":"VLOOKUP(B259,'Elenco Prezzi2'!$A$2:$E$201,5,FALSE)","v":{"$error":"#N/A"}},null,null,null,null,null,null,{"$f":"IFERROR(I263*K263,\"\")","v":""},null,"s",null,null,null,{"$f":"R263","v":""},2,0,null,"",{"$f":"ROWS($AC$4:AC263)","v":260},"",{"$f":"IFERROR(SMALL($AD$4:$AD$1642,ROWS($AD$4:AD263)),\"\")","v":""},null,{"$f":"IFERROR(INDEX($A$4:$R$1642,$AE263,COLUMNS($A:$B)),\"\")","v":""},{"$f":"IFERROR(INDEX($A$4:$R$1642,$AE263,COLUMNS($A:$C)),\"\")","v":""},{"$f":"IFERROR(INDEX($A$4:$R$1642,$AE263,COLUMNS($A:$R)),\"\")","v":""},null,null,null,null,null,null,null,null,32]
[null,null,null,null,null,null,null,{"$f":"IF(I264<0,\"a detrarre\",\"\")","v":""},{"$f":"SUMIF(I259:I262,\"<0\")","v":0},null,null,null,null,null,null,null,null,null,{"$f":"R263","v":""},null,null,{"$f":"VLOOKUP(B259,#REF!,4,FALSE)","v":{"$error":"#REF!"}},null,null,2,0,null,"",{"$f":"ROWS($AC$4:AC264)","v":261},"",{"$f":"IFERROR(SMALL($AD$4:$AD$1642,ROWS($AD$4:AD264)),\"\")","v":""},null,{"$f":"IFERROR(INDEX($A$4:$R$1642,$AE264,COLUMNS($A:$B)),\"\")","v":""},{"$f":"IFERROR(INDEX($A$4:$R$1642,$AE264,COLUMNS($A:$C)),\"\")","v":""},{"$f":"IFERROR(INDEX($A$4:$R$1642,$AE264,COLUMNS($A:$R)),\"\")","v":""},null,null,null,null,null,null,null,null,32]
[null,null,null,null,null,null,null,null,null,null,null,null,null,null,null,null,null,null,null,null,null,null,null,null,2,0,null,"",{"$f":"ROWS($AC$4:AC265)","v":262},"",{"$f":"IFERROR(SMALL($AD$4:$AD$1642,ROWS($AD$4:AD265)),\"\")","v":""},null,{"$f":"IFERROR(INDEX($A$4:$R$1642,$AE265,COLUMNS($A:$B)),\"\")","v":""},{"$f":"IFERROR(INDEX($A$4:$R$1642,$AE265,COLUMNS($A:$C)),\"\")","v":""},{"$f":"IFERROR(INDEX($A$4:$R$1642,$AE265,COLUMNS($A:$R)),\"\")","v":""},null,null,null,null,null,null,null,null,32]
[null,null,null,null,null,null,null,null,null,null,null,null,null,null,null,null,null,null,null,null,null,null,null,null,2,0,null,"",{"$f":"ROWS($AC$4:AC266)","v":263},"",{"$f":"IFERROR(SMALL($AD$4:$AD$1642,ROWS($AD$4:AD266)),\"\")","v":""},null,{"$f":"IFERROR(INDEX($A$4:$R$1642,$AE266,COLUMNS($A:$B)),\"\")","v":""},{"$f":"IFERROR(INDEX($A$4:$R$1642,$AE266,COLUMNS($A:$C)),\"\")","v":""},{"$f":"IFERROR(INDEX($A$4:$R$1642,$AE266,COLUMNS($A:$R)),\"\")","v":""},null,null,null,null,null,null,null,null,32]
[{"$f":"AR267","v":33},null,{"$f":"(VLOOKUP($B267,'Elenco Prezzi2'!$A$2:$E$201,2,FALSE))","v":{"$error":"#N/A"}},null,null,null,null,null,null,null,null,null,null,null,null,null,null,null,null,null,null,null,null,null,2,0,null,"",{"$f":"ROWS($AC$4:AC267)","v":264},"",{"$f":"IFERROR(SMALL($AD$4:$AD$1642,ROWS($AD$4:AD267)),\"\")","v":""},null,{"$f":"IFERROR(INDEX($A$4:$R$1642,$AE267,COLUMNS($A:$B)),\"\")","v":""},{"$f":"IFERROR(INDEX($A$4:$R$1642,$AE267,COLUMNS($A:$C)),\"\")","v":""},{"$f":"IFERROR(INDEX($A$4:$R$1642,$AE267,COLUMNS($A:$R)),\"\")","v":""},null,null,null,null,null,null,null,1,33]
[null,null,null,{"$f":"CONCATENATE(AK268&AL268&AM268&AN268)","v":""},null,null,null,null,{"$f":"IFERROR(IF(PRODUCT(E268:H268)=0,\"\",PRODUCT(E268:H268)),\"\")","v":""},{"$f":"I268","v":""},null,{"$f":"IF(E268>0,\" (p/u) \"&Modulo2.GetFormula(E268),\"\")","v":""},{"$f":"IF(F268>0,\" (lu) \"&Modulo2.GetFormula(F268),\"\")","v":""},{"$f":"IF(G268>0,\" (la) \"&Modulo2.GetFormula(G268),\"\")","v":""},{"$f":"IF(H268>0,\" (H) \"&Modulo2.GetFormula(H268),\"\")","v":""},null,null,null,null,null,null,null,null,null,2,0,null,"",{"$f":"ROWS($AC$4:AC268)","v":265},"",{"$f":"IFERROR(SMALL($AD$4:$AD$1642,ROWS($AD$4:AD268)),\"\")","v":""},null,{"$f":"IFERROR(INDEX($A$4:$R$1642,$AE268,COLUMNS($A:$B)),\"\")","v":""},{"$f":"IFERROR(INDEX($A$4:$R$1642,$AE268,COLUMNS($A:$C)),\"\")","v":""},{"$f":"IFERROR(INDEX($A$4:$R$1642,$AE268,COLUMNS($A:$R)),\"\")","v":""},null,{"$f":"IFERROR(IF(SEARCH(\"=\",L268),L268,\"\"),\"\")","v":""},{"$f":"IFERROR(IF(SEARCH(\"=\",M268),M268,\"\"),\"\")","v":""},{"$f":"IFERROR(IF(SEARCH(\"=\",N268),N268,\"\"),\"\")","v":""},{"$f":"IFERROR(IF(SEARCH(\"=\",O268),O268,\"\"),\"\")","v":""},null,null,null,33]
[null,null,null,"",null,null,null,null,"","",null,{"$f":"IF(E269>0,\" (p/u) \"&Modulo2.GetFormula(E269),\"\")","v":""},{"$f":"IF(F269>0,\" (lu) \"&Modulo2.GetFormula(F269),\"\")","v":""},{"$f":"IF(G269>0,\" (la) \"&Modulo2.GetFormula(G269),\"\")","v":""},{"$f":"IF(H269>0,\" (H) \"&Modulo2.GetFormula(H269),\"\")","v":""},null,null,null,null,null,null,null,null,null,2,0,null,"",{"$f":"ROWS($AC$4:AC269)","v":266},"",{"$f":"IFERROR(SMALL($AD$4:$AD$1642,ROWS($AD$4:AD269)),\"\")","v":""},null,{"$f":"IFERROR(INDEX($A$4:$R$1642,$AE269,COLUMNS($A:$B)),\"\")","v":""},{"$f":"IFERROR(INDEX($A$4:$R$1642,$AE269,COLUMNS($A:$C)),\"\")","v":""},{"$f":"IFERROR(INDEX($A$4:$R$1642,$AE269,COLUMNS($A:$R)),\"\")","v":""},null,"","","","",null,null,null,33]
[null,null,null,"",null,null,null,null,"","",null,{"$f":"IF(E270>0,\" (p/u) \"&Modulo2.GetFormula(E270),\"\")","v":""},{"$f":"IF(F270>0,\" (lu) \"&Modulo2.GetFormula(F270),\"\")","v":""},{"$f":"IF(G270>0,\" (la) \"&Modulo2.GetFormula(G270),\"\")","v":""},{"$f":"IF(H270>0,\" (H) \"&Modulo2.GetFormula(H270),\"\")","v":""},null,null,null,null,null,null,null,null,null,2,0,null,"",{"$f":"ROWS($AC$4:AC270)","v":267},"",{"$f":"IFERROR(SMALL($AD$4:$AD$1642,ROWS($AD$4:AD270)),\"\")","v":""},null,{"$f":"IFERROR(INDEX($A$4:$R$1642,$AE270,COLUMNS($A:$B)),\"\")","v":""},{"$f":"IFERROR(INDEX($A$4:$R$1642,$AE270,COLUMNS($A:$C)),\"\")","v":""},{"$f":"IFERROR(INDEX($A$4:$R$1642,$AE270,COLUMNS($A:$R)),\"\")","v":""},null,"","","","",null,null,null,33]
[null,null,null,null,null,null,null,{"$f":"CONCATENATE(\"SOMMANO [\",VLOOKUP(B267,'Elenco Prezzi2'!$A$2:$E$201,3,FALSE()),\"]\")","v":{"$error":"#N/A"}},{"$f":"IF(T271=\"s\",V272,SUBTOTAL(9,I267:I271))","v":{"$error":"#REF!"}},null,{"$f":"VLOOKUP(B267,'Elenco Prezzi2'!$A$2:$E$201,5,FALSE)","v":{"$error":"#N/A"}},null,null,null,null,null,null,{"$f":"IFERROR(I271*K271,\"\")","v":""},null,"s",null,null,null,{"$f":"R271","v":""},2,0,null,"",{"$f":"ROWS($AC$4:AC271)","v":268},"",{"$f":"IFERROR(SMALL($AD$4:$AD$1642,ROWS($AD$4:AD271)),\"\")","v":""},null,{"$f":"IFERROR(INDEX($A$4:$R$1642,$AE271,COLUMNS($A:$B)),\"\")","v":""},{"$f":"IFERROR(INDEX($A$4:$R$1642,$AE271,COLUMNS($A:$C)),\"\")","v":""},{"$f":"IFERROR(INDEX($A$4:$R$1642,$AE271,COLUMNS($A:$R)),\"\")","v":""},null,null,null,null,null,null,null,null,33]
[null,null,null,null,null,null,null,{"$f":"IF(I272<0,\"a detrarre\",\"\")","v":""},{"$f":"SUMIF(I267:I270,\"<0\")","v":0},null,null,null,null,null,null,null,null,null,{"$f":"R271","v":""},null,null,{"$f":"VLOOKUP(B267,#REF!,4,FALSE)","v":{"$error":"#REF!"}},null,null,2,0,null,"",{"$f":"ROWS($AC$4:AC272)","v":269},"",{"$f":"IFERROR(SMALL($AD$4:$AD$1642,ROWS($AD$4:AD272)),\"\")","v":""},null,{"$f":"IFERROR(INDEX($A$4:$R$1642,$AE272,COLUMNS($A:$B)),\"\")","v":""},{"$f":"IFERROR(INDEX($A$4:$R$1642,$AE272,COLUMNS($A:$C)),\"\")","v":""},{"$f":"IFERROR(INDEX($A$4:$R$1642,$AE272,COLUMNS($A:$R)),\"\")","v":""},null,null,null,null,null,null,null,null,33]
[null,null,null,null,null,null,null,null,null,null,null,null,null,null,null,null,null,null,null,null,null,null,null,null,2,0,null,"",{"$f":"ROWS($AC$4:AC273)","v":270},"",{"$f":"IFERROR(SMALL($AD$4:$AD$1642,ROWS($AD$4:AD273)),\"\")","v":""},null,{"$f":"IFERROR(INDEX($A$4:$R$1642,$AE273,COLUMNS($A:$B)),\"\")","v":""},{"$f":"IFERROR(INDEX($A$4:$R$1642,$AE273,COLUMNS($A:$C)),\"\")","v":""},{"$f":"IFERROR(INDEX($A$4:$R$1642,$AE273,COLUMNS($A:$R)),\"\")","v":""},null,null,null,null,null,null,null,null,33]
[null,null,null,null,null,null,null,null,null,null,null,null,null,null,null,null,null,null,null,null,null,null,null,null,2,0,null,"",{"$f":"ROWS($AC$4:AC274)","v":271},"",{"$f":"IFERROR(SMALL($AD$4:$AD$1642,ROWS($AD$4:AD274)),\"\")","v":""},null,{"$f":"IFERROR(INDEX($A$4:$R$1642,$AE274,COLUMNS($A:$B)),\"\")","v":""},{"$f":"IFERROR(INDEX($A$4:$R$1642,$AE274,COLUMNS($A:$C)),\"\")","v":""},{"$f":"IFERROR(INDEX($A$4:$R$1642,$AE274,COLUMNS($A:$R)),\"\")","v":""},null,null,null,null,null,null,null,null,33]
[{"$f":"AR275","v":34},null,{"$f":"(VLOOKUP($B275,'Elenco Prezzi2'!$A$2:$E$201,2,FALSE))","v":{"$error":"#N/A"}},null,null,null,null,null,null,null,null,null,null,null,null,null,null,null,null,null,null,null,null,null,2,0,null,"",{"$f":"ROWS($AC$4:AC275)","v":272},"",{"$f":"IFERROR(SMALL($AD$4:$AD$1642,ROWS($AD$4:AD275)),\"\")","v":""},null,{"$f":"IFERROR(INDEX($A$4:$R$1642,$AE275,COLUMNS($A:$B)),\"\")","v":""},{"$f":"IFERROR(INDEX($A$4:$R$1642,$AE275,COLUMNS($A:$C)),\"\")","v":""},{"$f":"IFERROR(INDEX($A$4:$R$1642,$AE275,COLUMNS($A:$R)),\"\")","v":""},null,null,null,null,null,null,null,1,34]
[null,null,null,{"$f":"CONCATENATE(AK276&AL276&AM276&AN276)","v":""},null,null,null,null,{"$f":"IFERROR(IF(PRODUCT(E276:H276)=0,\"\",PRODUCT(E276:H276)),\"\")","v":""},{"$f":"I276","v":""},null,{"$f":"IF(E276>0,\" (p/u) \"&Modulo2.GetFormula(E276),\"\")","v":""},{"$f":"IF(F276>0,\" (lu) \"&Modulo2.GetFormula(F276),\"\")","v":""},{"$f":"IF(G276>0,\" (la) \"&Modulo2.GetFormula(G276),\"\")","v":""},{"$f":"IF(H276>0,\" (H) \"&Modulo2.GetFormula(H276),\"\")","v":""},null,null,null,null,null,null,null,null,null,2,0,null,"",{"$f":"ROWS($AC$4:AC276)","v":273},"",{"$f":"IFERROR(SMALL($AD$4:$AD$1642,ROWS($AD$4:AD276)),\"\")","v":""},null,{"$f":"IFERROR(INDEX($A$4:$R$1642,$AE276,COLUMNS($A:$B)),\"\")","v":""},{"$f":"IFERROR(INDEX($A$4:$R$1642,$AE276,COLUMNS($A:$C)),\"\")","v":""},{"$f":"IFERROR(INDEX($A$4:$R$1642,$AE276,COLUMNS($A:$R)),\"\")","v":""},null,{"$f":"IFERROR(IF(SEARCH(\"=\",L276),L276,\"\"),\"\")","v":""},{"$f":"IFERROR(IF(SEARCH(\"=\",M276),M276,\"\"),\"\")","v":""},{"$f":"IFERROR(IF(SEARCH(\"=\",N276),N276,\"\"),\"\")","v":""},{"$f":"IFERROR(IF(SEARCH(\"=\",O276),O276,\"\"),\"\")","v":""},null,null,null,34]
[null,null,null,"",null,null,null,null,"","",null,{"$f":"IF(E277>0,\" (p/u) \"&Modulo2.GetFormula(E277),\"\")","v":""},{"$f":"IF(F277>0,\" (lu) \"&Modulo2.GetFormula(F277),\"\")","v":""},{"$f":"IF(G277>0,\" (la) \"&Modulo2.GetFormula(G277),\"\")","v":""},{"$f":"IF(H277>0,\" (H) \"&Modulo2.GetFormula(H277),\"\")","v":""},null,null,null,null,null,null,null,null,null,2,0,null,"",{"$f":"ROWS($AC$4:AC277)","v":274},"",{"$f":"IFERROR(SMALL($AD$4:$AD$1642,ROWS($AD$4:AD277)),\"\")","v":""},null,{"$f":"IFERROR(INDEX($A$4:$R$1642,$AE277,COLUMNS($A:$B)),\"\")","v":""},{"$f":"IFERROR(INDEX($A$4:$R$1642,$AE277,COLUMNS($A:$C)),\"\")","v":""},{"$f":"IFERROR(INDEX($A$4:$R$1642,$AE277,COLUMNS($A:$R)),\"\")","v":""},null,"","","","",null,null,null,34]
[null,null,null,"",null,null,null,null,"","",null,{"$f":"IF(E278>0,\" (p/u) \"&Modulo2.GetFormula(E278),\"\")","v":""},{"$f":"IF(F278>0,\" (lu) \"&Modulo2.GetFormula(F278),\"\")","v":""},{"$f":"IF(G278>0,\" (la) \"&Modulo2.GetFormula(G278),\"\")","v":""},{"$f":"IF(H278>0,\" (H) \"&Modulo2.GetFormula(H278),\"\")","v":""},null,null,null,null,null,null,null,null,null,2,0,null,"",{"$f":"ROWS($AC$4:AC278)","v":275},"",{"$f":"IFERROR(SMALL($AD$4:$AD$1642,ROWS($AD$4:AD278)),\"\")","v":""},null,{"$f":"IFERROR(INDEX($A$4:$R$1642,$AE278,COLUMNS($A:$B)),\"\")","v":""},{"$f":"IFERROR(INDEX($A$4:$R$1642,$AE278,COLUMNS($A:$C)),\"\")","v":""},{"$f":"IFERROR(INDEX($A$4:$R$1642,$AE278,COLUMNS($A:$R)),\"\")","v":""},null,"","","","",null,null,null,34]
[null,null,null,null,null,null,null,{"$f":"CONCATENATE(\"SOMMANO [\",VLOOKUP(B275,'Elenco Prezzi2'!$A$2:$E$201,3,FALSE()),\"]\")","v":{"$error":"#N/A"}},{"$f":"IF(T279=\"s\",V280,SUBTOTAL(9,I275:I279))","v":{"$error":"#REF!"}},null,{"$f":"VLOOKUP(B275,'Elenco Prezzi2'!$A$2:$E$201,5,FALSE)","v":{"$error":"#N/A"}},null,null,null,null,null,null,{"$f":"IFERROR(I279*K279,\"\")","v":""},null,"s",null,null,null,{"$f":"R279","v":""},2,0,null,"",{"$f":"ROWS($AC$4:AC279)","v":276},"",{"$f":"IFERROR(SMALL($AD$4:$AD$1642,ROWS($AD$4:AD279)),\"\")","v":""},null,{"$f":"IFERROR(INDEX($A$4:$R$1642,$AE279,COLUMNS($A:$B)),\"\")","v":""},{"$f":"IFERROR(INDEX($A$4:$R$1642,$AE279,COLUMNS($A:$C)),\"\")","v":""},{"$f":"IFERROR(INDEX($A$4:$R$1642,$AE279,COLUMNS($A:$R)),\"\")","v":""},null,null,null,null,null,null,null,null,34]
[null,null,null,null,null,null,null,{"$f":"IF(I280<0,\"a detrarre\",\"\")","v":""},{"$f":"SUMIF(I275:I278,\"<0\")","v":0},null,null,null,null,null,null,null,null,null,{"$f":"R279","v":""},null,null,{"$f":"VLOOKUP(B275,#REF!,4,FALSE)","v":{"$error":"#REF!"}},null,null,2,0,null,"",{"$f":"ROWS($AC$4:AC280)","v":277},"",{"$f":"IFERROR(SMALL($AD$4:$AD$1642,ROWS($AD$4:AD280)),\"\")","v":""},null,{"$f":"IFERROR(INDEX($A$4:$R$1642,$AE280,COLUMNS($A:$B)),\"\")","v":""},{"$f":"IFERROR(INDEX($A$4:$R$1642,$AE280,COLUMNS($A:$C)),\"\")","v":""},{"$f":"IFERROR(INDEX($A$4:$R$1642,$AE280,COLUMNS($A:$R)),\"\")","v":""},null,null,null,null,null,null,null,null,34]
[null,null,null,null,null,null,null,null,null,null,null,null,null,null,null,null,null,null,null,null,null,null,null,null,2,0,null,"",{"$f":"ROWS($AC$4:AC281)","v":278},"",{"$f":"IFERROR(SMALL($AD$4:$AD$1642,ROWS($AD$4:AD281)),\"\")","v":""},null,{"$f":"IFERROR(INDEX($A$4:$R$1642,$AE281,COLUMNS($A:$B)),\"\")","v":""},{"$f":"IFERROR(INDEX($A$4:$R$1642,$AE281,COLUMNS($A:$C)),\"\")","v":""},{"$f":"IFERROR(INDEX($A$4:$R$1642,$AE281,COLUMNS($A:$R)),\"\")","v":""},null,null,null,null,null,null,null,null,34]
[null,null,null,null,null,null,null,null,null,null,null,null,null,null,null,null,null,null,null,null,null,null,null,null,2,0,null,"",{"$f":"ROWS($AC$4:AC282)","v":279},"",{"$f":"IFERROR(SMALL($AD$4:$AD$1642,ROWS($AD$4:AD282)),\"\")","v":""},null,{"$f":"IFERROR(INDEX($A$4:$R$1642,$AE282,COLUMNS($A:$B)),\"\")","v":""},{"$f":"IFERROR(INDEX($A$4:$R$1642,$AE282,COLUMNS($A:$C)),\"\")","v":""},{"$f":"IFERROR(INDEX($A$4:$R$1642,$AE282,COLUMNS($A:$R)),\"\")","v":""},null,null,null,null,null,null,null,null,34]
[{"$f":"AR283","v":35},null,{"$f":"(VLOOKUP($B283,'Elenco Prezzi2'!$A$2:$E$201,2,FALSE))","v":{"$error":"#N/A"}},null,null,null,null,null,null,null,null,null,null,null,null,null,null,null,null,null,null,null,null,null,2,0,null,"",{"$f":"ROWS($AC$4:AC283)","v":280},"",{"$f":"IFERROR(SMALL($AD$4:$AD$1642,ROWS($AD$4:AD283)),\"\")","v":""},null,{"$f":"IFERROR(INDEX($A$4:$R$1642,$AE283,COLUMNS($A:$B)),\"\")","v":""},{"$f":"IFERROR(INDEX($A$4:$R$1642,$AE283,COLUMNS($A:$C)),\"\")","v":""},{"$f":"IFERROR(INDEX($A$4:$R$1642,$AE283,COLUMNS($A:$R)),\"\")","v":""},null,null,null,null,null,null,null,1,35]
[null,null,null,{"$f":"CONCATENATE(AK284&AL284&AM284&AN284)","v":""},null,null,null,null,{"$f":"IFERROR(IF(PRODUCT(E284:H284)=0,\"\",PRODUCT(E284:H284)),\"\")","v":""},{"$f":"I284","v":""},null,{"$f":"IF(E284>0,\" (p/u) \"&Modulo2.GetFormula(E284),\"\")","v":""},{"$f":"IF(F284>0,\" (lu) \"&Modulo2.GetFormula(F284),\"\")","v":""},{"$f":"IF(G284>0,\" (la) \"&Modulo2.GetFormula(G284),\"\")","v":""},{"$f":"IF(H284>0,\" (H) \"&Modulo2.GetFormula(H284),\"\")","v":""},null,null,null,null,null,null,null,null,null,2,0,null,"",{"$f":"ROWS($AC$4:AC284)","v":281},"",{"$f":"IFERROR(SMALL($AD$4:$AD$1642,ROWS($AD$4:AD284)),\"\")","v":""},null,{"$f":"IFERROR(INDEX($A$4:$R$1642,$AE284,COLUMNS($A:$B)),\"\")","v":""},{"$f":"IFERROR(INDEX($A$4:$R$1642,$AE284,COLUMNS($A:$C)),\"\")","v":""},{"$f":"IFERROR(INDEX($A$4:$R$1642,$AE284,COLUMNS($A:$R)),\"\")","v":""},null,{"$f":"IFERROR(IF(SEARCH(\"=\",L284),L284,\"\"),\"\")","v":""},{"$f":"IFERROR(IF(SEARCH(\"=\",M284),M284,\"\"),\"\")","v":""},{"$f":"IFERROR(IF(SEARCH(\"=\",N284),N284,\"\"),\"\")","v":""},{"$f":"IFERROR(IF(SEARCH(\"=\",O284),O284,\"\"),\"\")","v":""},null,null,null,35]
[null,null,null,"",null,null,null,null,"","",null,{"$f":"IF(E285>0,\" (p/u) \"&Modulo2.GetFormula(E285),\"\")","v":""},{"$f":"IF(F285>0,\" (lu) \"&Modulo2.GetFormula(F285),\"\")","v":""},{"$f":"IF(G285>0,\" (la) \"&Modulo2.GetFormula(G285),\"\")","v":""},{"$f":"IF(H285>0,\" (H) \"&Modulo2.GetFormula(H285),\"\")","v":""},null,null,null,null,null,null,null,null,null,2,0,null,"",{"$f":"ROWS($AC$4:AC285)","v":282},"",{"$f":"IFERROR(SMALL($AD$4:$AD$1642,ROWS($AD$4:AD285)),\"\")","v":""},null,{"$f":"IFERROR(INDEX($A$4:$R$1642,$AE285,COLUMNS($A:$B)),\"\")","v":""},{"$f":"IFERROR(INDEX($A$4:$R$1642,$AE285,COLUMNS($A:$C)),\"\")","v":""},{"$f":"IFERROR(INDEX($A$4:$R$1642,$AE285,COLUMNS($A:$R)),\"\")","v":""},null,"","","","",null,null,null,35]
[null,null,null,"",null,null,null,null,"","",null,{"$f":"IF(E286>0,\" (p/u) \"&Modulo2.GetFormula(E286),\"\")","v":""},{"$f":"IF(F286>0,\" (lu) \"&Modulo2.GetFormula(F286),\"\")","v":""},{"$f":"IF(G286>0,\" (la) \"&Modulo2.GetFormula(G286),\"\")","v":""},{"$f":"IF(H286>0,\" (H) \"&Modulo2.GetFormula(H286),\"\")","v":""},null,null,null,null,null,null,null,null,null,2,0,null,"",{"$f":"ROWS($AC$4:AC286)","v":283},"",{"$f":"IFERROR(SMALL($AD$4:$AD$1642,ROWS($AD$4:AD286)),\"\")","v":""},null,{"$f":"IFERROR(INDEX($A$4:$R$1642,$AE286,COLUMNS($A:$B)),\"\")","v":""},{"$f":"IFERROR(INDEX($A$4:$R$1642,$AE286,COLUMNS($A:$C)),\"\")","v":""},{"$f":"IFERROR(INDEX($A$4:$R$1642,$AE286,COLUMNS($A:$R)),\"\")","v":""},null,"","","","",null,null,null,35]
[null,null,null,null,null,null,null,{"$f":"CONCATENATE(\"SOMMANO [\",VLOOKUP(B283,'Elenco Prezzi2'!$A$2:$E$201,3,FALSE()),\"]\")","v":{"$error":"#N/A"}},{"$f":"IF(T287=\"s\",V288,SUBTOTAL(9,I283:I287))","v":{"$error":"#REF!"}},null,{"$f":"VLOOKUP(B283,'Elenco Prezzi2'!$A$2:$E$201,5,FALSE)","v":{"$error":"#N/A"}},null,null,null,null,null,null,{"$f":"IFERROR(I287*K287,\"\")","v":""},null,"s",null,null,null,{"$f":"R287","v":""},2,0,null,"",{"$f":"ROWS($AC$4:AC287)","v":284},"",{"$f":"IFERROR(SMALL($AD$4:$AD$1642,ROWS($AD$4:AD287)),\"\")","v":""},null,{"$f":"IFERROR(INDEX($A$4:$R$1642,$AE287,COLUMNS($A:$B)),\"\")","v":""},{"$f":"IFERROR(INDEX($A$4:$R$1642,$AE287,COLUMNS($A:$C)),\"\")","v":""},{"$f":"IFERROR(INDEX($A$4:$R$1642,$AE287,COLUMNS($A:$R)),\"\")","v":""},null,null,null,null,null,null,null,null,35]
[null,null,null,null,null,null,null,{"$f":"IF(I288<0,\"a detrarre\",\"\")","v":""},{"$f":"SUMIF(I283:I286,\"<0\")","v":0},null,null,null,null,null,null,null,null,null,{"$f":"R287","v":""},null,null,{"$f":"VLOOKUP(B283,#REF!,4,FALSE)","v":{"$error":"#REF!"}},null,null,2,0,null,"",{"$f":"ROWS($AC$4:AC288)","v":285},"",{"$f":"IFERROR(SMALL($AD$4:$AD$1642,ROWS($AD$4:AD288)),\"\")","v":""},null,{"$f":"IFERROR(INDEX($A$4:$R$1642,$AE288,COLUMNS($A:$B)),\"\")","v":""},{"$f":"IFERROR(INDEX($A$4:$R$1642,$AE288,COLUMNS($A:$C)),\"\")","v":""},{"$f":"IFERROR(INDEX($A$4:$R$1642,$AE288,COLUMNS($A:$R)),\"\")","v":""},null,null,null,null,null,null,null,null,35]
[null,null,null,null,null,null,null,null,null,null,null,null,null,null,null,null,null,null,null,null,null,null,null,null,2,0,null,"",{"$f":"ROWS($AC$4:AC289)","v":286},"",{"$f":"IFERROR(SMALL($AD$4:$AD$1642,ROWS($AD$4:AD289)),\"\")","v":""},null,{"$f":"IFERROR(INDEX($A$4:$R$1642,$AE289,COLUMNS($A:$B)),\"\")","v":""},{"$f":"IFERROR(INDEX($A$4:$R$1642,$AE289,COLUMNS($A:$C)),\"\")","v":""},{"$f":"IFERROR(INDEX($A$4:$R$1642,$AE289,COLUMNS($A:$R)),\"\")","v":""},null,null,null,null,null,null,null,null,35]
[null,null,null,null,null,null,null,null,null,null,null,null,null,null,null,null,null,null,null,null,null,null,null,null,2,0,null,"",{"$f":"ROWS($AC$4:AC290)","v":287},"",{"$f":"IFERROR(SMALL($AD$4:$AD$1642,ROWS($AD$4:AD290)),\"\")","v":""},null,{"$f":"IFERROR(INDEX($A$4:$R$1642,$AE290,COLUMNS($A:$B)),\"\")","v":""},{"$f":"IFERROR(INDEX($A$4:$R$1642,$AE290,COLUMNS($A:$C)),\"\")","v":""},{"$f":"IFERROR(INDEX($A$4:$R$1642,$AE290,COLUMNS($A:$R)),\"\")","v":""},null,null,null,null,null,null,null,null,35]
[{"$f":"AR291","v":36},null,{"$f":"(VLOOKUP($B291,'Elenco Prezzi2'!$A$2:$E$201,2,FALSE))","v":{"$error":"#N/A"}},null,null,null,null,null,null,null,null,null,null,null,null,null,null,null,null,null,null,null,null,null,2,0,null,{"$f":"IF(W291>0,\"OK\",\"\")","v":""},{"$f":"ROWS($AC$4:AC291)","v":288},{"$f":"IF(AB291=\"ok\",AC291,\"\")","v":""},{"$f":"IFERROR(SMALL($AD$4:$AD$1642,ROWS($AD$4:AD291)),\"\")","v":""},null,{"$f":"IFERROR(INDEX($A$4:$R$1642,$AE291,COLUMNS($A:$B)),\"\")","v":""},{"$f":"IFERROR(INDEX($A$4:$R$1642,$AE291,COLUMNS($A:$C)),\"\")","v":""},{"$f":"IFERROR(INDEX($A$4:$R$1642,$AE291,COLUMNS($A:$R)),\"\")","v":""},null,null,null,null,null,null,null,1,{"$f":"IF(AQ291=\"\",AR290,AR290+AQ291)","v":36}]
[null,null,null,{"$f":"CONCATENATE(AK292&AL292&AM292&AN292)","v":""},null,null,null,null,{"$f":"IFERROR(IF(PRODUCT(E292:H292)=0,\"\",PRODUCT(E292:H292)),\"\")","v":""},{"$f":"I292","v":""},null,{"$f":"IF(E292>0,\" (p/u) \"&Modulo2.GetFormula(E292),\"\")","v":""},{"$f":"IF(F292>0,\" (lu) \"&Modulo2.GetFormula(F292),\"\")","v":""},{"$f":"IF(G292>0,\" (la) \"&Modulo2.GetFormula(G292),\"\")","v":""},{"$f":"IF(H292>0,\" (H) \"&Modulo2.GetFormula(H292),\"\")","v":""},null,null,null,null,null,null,null,null,null,{"$f":"IF(AO292=\"\",Y291,Y291+AO292)","v":2},{"$f":"IF(AP292=\"\",Z291,Z291+AP292)","v":0},null,"",{"$f":"ROWS($AC$4:AC292)","v":289},"",{"$f":"IFERROR(SMALL($AD$4:$AD$1642,ROWS($AD$4:AD292)),\"\")","v":""},null,{"$f":"IFERROR(INDEX($A$4:$R$1642,$AE292,COLUMNS($A:$B)),\"\")","v":""},{"$f":"IFERROR(INDEX($A$4:$R$1642,$AE292,COLUMNS($A:$C)),\"\")","v":""},{"$f":"IFERROR(INDEX($A$4:$R$1642,$AE292,COLUMNS($A:$R)),\"\")","v":""},null,{"$f":"IFERROR(IF(SEARCH(\"=\",L292),L292,\"\"),\"\")","v":""},{"$f":"IFERROR(IF(SEARCH(\"=\",M292),M292,\"\"),\"\")","v":""},{"$f":"IFERROR(IF(SEARCH(\"=\",N292),N292,\"\"),\"\")","v":""},{"$f":"IFERROR(IF(SEARCH(\"=\",O292),O292,\"\"),\"\")","v":""},null,null,null,36]
[null,null,null,"",null,null,null,null,"","",null,{"$f":"IF(E293>0,\" (p/u) \"&Modulo2.GetFormula(E293),\"\")","v":""},{"$f":"IF(F293>0,\" (lu) \"&Modulo2.GetFormula(F293),\"\")","v":""},{"$f":"IF(G293>0,\" (la) \"&Modulo2.GetFormula(G293),\"\")","v":""},{"$f":"IF(H293>0,\" (H) \"&Modulo2.GetFormula(H293),\"\")","v":""},null,null,null,null,null,null,null,null,null,2,0,null,"",{"$f":"ROWS($AC$4:AC293)","v":290},"",{"$f":"IFERROR(SMALL($AD$4:$AD$1642,ROWS($AD$4:AD293)),\"\")","v":""},null,{"$f":"IFERROR(INDEX($A$4:$R$1642,$AE293,COLUMNS($A:$B)),\"\")","v":""},{"$f":"IFERROR(INDEX($A$4:$R$1642,$AE293,COLUMNS($A:$C)),\"\")","v":""},{"$f":"IFERROR(INDEX($A$4:$R$1642,$AE293,COLUMNS($A:$R)),\"\")","v":""},null,"","","","",null,null,null,36]
[null,null,null,"",null,null,null,null,"","",null,{"$f":"IF(E294>0,\" (p/u) \"&Modulo2.GetFormula(E294),\"\")","v":""},{"$f":"IF(F294>0,\" (lu) \"&Modulo2.GetFormula(F294),\"\")","v":""},{"$f":"IF(G294>0,\" (la) \"&Modulo2.GetFormula(G294),\"\")","v":""},{"$f":"IF(H294>0,\" (H) \"&Modulo2.GetFormula(H294),\"\")","v":""},null,null,null,null,null,null,null,null,null,2,0,null,"",{"$f":"ROWS($AC$4:AC294)","v":291},"",{"$f":"IFERROR(SMALL($AD$4:$AD$1642,ROWS($AD$4:AD294)),\"\")","v":""},null,{"$f":"IFERROR(INDEX($A$4:$R$1642,$AE294,COLUMNS($A:$B)),\"\")","v":""},{"$f":"IFERROR(INDEX($A$4:$R$1642,$AE294,COLUMNS($A:$C)),\"\")","v":""},{"$f":"IFERROR(INDEX($A$4:$R$1642,$AE294,COLUMNS($A:$R)),\"\")","v":""},null,"","","","",null,null,null,36]
[null,null,null,null,null,null,null,{"$f":"CONCATENATE(\"SOMMANO [\",VLOOKUP(B291,'Elenco Prezzi2'!$A$2:$E$201,3,FALSE()),\"]\")","v":{"$error":"#N/A"}},{"$f":"IF(T295=\"s\",V296,SUBTOTAL(9,I291:I295))","v":{"$error":"#REF!"}},null,{"$f":"VLOOKUP(B291,'Elenco Prezzi2'!$A$2:$E$201,5,FALSE)","v":{"$error":"#N/A"}},null,null,null,null,null,null,{"$f":"IFERROR(I295*K295,\"\")","v":""},null,"s",null,null,null,{"$f":"R295","v":""},2,0,null,"",{"$f":"ROWS($AC$4:AC295)","v":292},"",{"$f":"IFERROR(SMALL($AD$4:$AD$1642,ROWS($AD$4:AD295)),\"\")","v":""},null,{"$f":"IFERROR(INDEX($A$4:$R$1642,$AE295,COLUMNS($A:$B)),\"\")","v":""},{"$f":"IFERROR(INDEX($A$4:$R$1642,$AE295,COLUMNS($A:$C)),\"\")","v":""},{"$f":"IFERROR(INDEX($A$4:$R$1642,$AE295,COLUMNS($A:$R)),\"\")","v":""},null,null,null,null,null,null,null,null,36]
[null,null,null,null,null,null,null,{"$f":"IF(I296<0,\"a detrarre\",\"\")","v":""},{"$f":"SUMIF(I291:I294,\"<0\")","v":0},null,null,null,null,null,null,null,null,null,{"$f":"R295","v":""},null,null,{"$f":"VLOOKUP(B291,#REF!,4,FALSE)","v":{"$error":"#REF!"}},null,null,2,0,null,"",{"$f":"ROWS($AC$4:AC296)","v":293},"",{"$f":"IFERROR(SMALL($AD$4:$AD$1642,ROWS($AD$4:AD296)),\"\")","v":""},null,{"$f":"IFERROR(INDEX($A$4:$R$1642,$AE296,COLUMNS($A:$B)),\"\")","v":""},{"$f":"IFERROR(INDEX($A$4:$R$1642,$AE296,COLUMNS($A:$C)),\"\")","v":""},{"$f":"IFERROR(INDEX($A$4:$R$1642,$AE296,COLUMNS($A:$R)),\"\")","v":""},null,null,null,null,null,null,null,null,36]
[null,null,null,null,null,null,null,null,null,null,null,null,null,null,null,null,null,null,null,null,null,null,null,null,2,0,null,"",{"$f":"ROWS($AC$4:AC297)","v":294},"",{"$f":"IFERROR(SMALL($AD$4:$AD$1642,ROWS($AD$4:AD297)),\"\")","v":""},null,{"$f":"IFERROR(INDEX($A$4:$R$1642,$AE297,COLUMNS($A:$B)),\"\")","v":""},{"$f":"IFERROR(INDEX($A$4:$R$1642,$AE297,COLUMNS($A:$C)),\"\")","v":""},{"$f":"IFERROR(INDEX($A$4:$R$1642,$AE297,COLUMNS($A:$R)),\"\")","v":""},null,null,null,null,null,null,null,null,36]
[null,null,null,null,null,null,null,null,null,null,null,null,null,null,null,null,null,null,null,null,null,null,null,null,2,0,null,"",{"$f":"ROWS($AC$4:AC298)","v":295},"",{"$f":"IFERROR(SMALL($AD$4:$AD$1642,ROWS($AD$4:AD298)),\"\")","v":""},null,{"$f":"IFERROR(INDEX($A$4:$R$1642,$AE298,COLUMNS($A:$B)),\"\")","v":""},{"$f":"IFERROR(INDEX($A$4:$R$1642,$AE298,COLUMNS($A:$C)),\"\")","v":""},{"$f":"IFERROR(INDEX($A$4:$R$1642,$AE298,COLUMNS($A:$R)),\"\")","v":""},null,null,null,null,null,null,null,null,36]
[{"$f":"AR299","v":37},null,{"$f":"(VLOOKUP($B299,'Elenco Prezzi2'!$A$2:$E$201,2,FALSE))","v":{"$error":"#N/A"}},null,null,null,null,null,null,null,null,null,null,null,null,null,null,null,null,null,null,null,null,null,2,0,null,"",{"$f":"ROWS($AC$4:AC299)","v":296},"",{"$f":"IFERROR(SMALL($AD$4:$AD$1642,ROWS($AD$4:AD299)),\"\")","v":""},null,{"$f":"IFERROR(INDEX($A$4:$R$1642,$AE299,COLUMNS($A:$B)),\"\")","v":""},{"$f":"IFERROR(INDEX($A$4:$R$1642,$AE299,COLUMNS($A:$C)),\"\")","v":""},{"$f":"IFERROR(INDEX($A$4:$R$1642,$AE299,COLUMNS($A:$R)),\"\")","v":""},null,null,null,null,null,null,null,1,37]
[null,null,null,{"$f":"CONCATENATE(AK300&AL300&AM300&AN300)","v":""},null,null,null,null,{"$f":"IFERROR(IF(PRODUCT(E300:H300)=0,\"\",PRODUCT(E300:H300)),\"\")","v":""},{"$f":"I300","v":""},null,{"$f":"IF(E300>0,\" (p/u) \"&Modulo2.GetFormula(E300),\"\")","v":""},{"$f":"IF(F300>0,\" (lu) \"&Modulo2.GetFormula(F300),\"\")","v":""},{"$f":"IF(G300>0,\" (la) \"&Modulo2.GetFormula(G300),\"\")","v":""},{"$f":"IF(H300>0,\" (H) \"&Modulo2.GetFormula(H300),\"\")","v":""},null,null,null,null,null,null,null,null,null,2,0,null,"",{"$f":"ROWS($AC$4:AC300)","v":297},"",{"$f":"IFERROR(SMALL($AD$4:$AD$1642,ROWS($AD$4:AD300)),\"\")","v":""},null,{"$f":"IFERROR(INDEX($A$4:$R$1642,$AE300,COLUMNS($A:$B)),\"\")","v":""},{"$f":"IFERROR(INDEX($A$4:$R$1642,$AE300,COLUMNS($A:$C)),\"\")","v":""},{"$f":"IFERROR(INDEX($A$4:$R$1642,$AE300,COLUMNS($A:$R)),\"\")","v":""},null,{"$f":"IFERROR(IF(SEARCH(\"=\",L300),L300,\"\"),\"\")","v":""},{"$f":"IFERROR(IF(SEARCH(\"=\",M300),M300,\"\"),\"\")","v":""},{"$f":"IFERROR(IF(SEARCH(\"=\",N300),N300,\"\"),\"\")","v":""},{"$f":"IFERROR(IF(SEARCH(\"=\",O300),O300,\"\"),\"\")","v":""},null,null,null,37]
[null,null,null,"",null,null,null,null,"","",null,{"$f":"IF(E301>0,\" (p/u) \"&Modulo2.GetFormula(E301),\"\")","v":""},{"$f":"IF(F301>0,\" (lu) \"&Modulo2.GetFormula(F301),\"\")","v":""},{"$f":"IF(G301>0,\" (la) \"&Modulo2.GetFormula(G301),\"\")","v":""},{"$f":"IF(H301>0,\" (H) \"&Modulo2.GetFormula(H301),\"\")","v":""},null,null,null,null,null,null,null,null,null,2,0,null,"",{"$f":"ROWS($AC$4:AC301)","v":298},"",{"$f":"IFERROR(SMALL($AD$4:$AD$1642,ROWS($AD$4:AD301)),\"\")","v":""},null,{"$f":"IFERROR(INDEX($A$4:$R$1642,$AE301,COLUMNS($A:$B)),\"\")","v":""},{"$f":"IFERROR(INDEX($A$4:$R$1642,$AE301,COLUMNS($A:$C)),\"\")","v":""},{"$f":"IFERROR(INDEX($A$4:$R$1642,$AE301,COLUMNS($A:$R)),\"\")","v":""},null,"","","","",null,null,null,37]
[null,null,null,"",null,null,null,null,"","",null,{"$f":"IF(E302>0,\" (p/u) \"&Modulo2.GetFormula(E302),\"\")","v":""},{"$f":"IF(F302>0,\" (lu) \"&Modulo2.GetFormula(F302),\"\")","v":""},{"$f":"IF(G302>0,\" (la) \"&Modulo2.GetFormula(G302),\"\")","v":""},{"$f":"IF(H302>0,\" (H) \"&Modulo2.GetFormula(H302),\"\")","v":""},null,null,null,null,null,null,null,null,null,2,0,null,"",{"$f":"ROWS($AC$4:AC302)","v":299},"",{"$f":"IFERROR(SMALL($AD$4:$AD$1642,ROWS($AD$4:AD302)),\"\")","v":""},null,{"$f":"IFERROR(INDEX($A$4:$R$1642,$AE302,COLUMNS($A:$B)),\"\")","v":""},{"$f":"IFERROR(INDEX($A$4:$R$1642,$AE302,COLUMNS($A:$C)),\"\")","v":""},{"$f":"IFERROR(INDEX($A$4:$R$1642,$AE302,COLUMNS($A:$R)),\"\")","v":""},null,"","","","",null,null,null,37]
[null,null,null,null,null,null,null,{"$f":"CONCATENATE(\"SOMMANO [\",VLOOKUP(B299,'Elenco Prezzi2'!$A$2:$E$201,3,FALSE()),\"]\")","v":{"$error":"#N/A"}},{"$f":"IF(T303=\"s\",V304,SUBTOTAL(9,I299:I303))","v":{"$error":"#REF!"}},null,{"$f":"VLOOKUP(B299,'Elenco Prezzi2'!$A$2:$E$201,5,FALSE)","v":{"$error":"#N/A"}},null,null,null,null,null,null,{"$f":"IFERROR(I303*K303,\"\")","v":""},null,"s",null,null,null,{"$f":"R303","v":""},2,0,null,"",{"$f":"ROWS($AC$4:AC303)","v":300},"",{"$f":"IFERROR(SMALL($AD$4:$AD$1642,ROWS($AD$4:AD303)),\"\")","v":""},null,{"$f":"IFERROR(INDEX($A$4:$R$1642,$AE303,COLUMNS($A:$B)),\"\")","v":""},{"$f":"IFERROR(INDEX($A$4:$R$1642,$AE303,COLUMNS($A:$C)),\"\")","v":""},{"$f":"IFERROR(INDEX($A$4:$R$1642,$AE303,COLUMNS($A:$R)),\"\")","v":""},null,null,null,null,null,null,null,null,37]
[null,null,null,null,null,null,null,{"$f":"IF(I304<0,\"a detrarre\",\"\")","v":""},{"$f":"SUMIF(I299:I302,\"<0\")","v":0},null,null,null,null,null,null,null,null,null,{"$f":"R303","v":""},null,null,{"$f":"VLOOKUP(B299,#REF!,4,FALSE)","v":{"$error":"#REF!"}},null,null,2,0,null,"",{"$f":"ROWS($AC$4:AC304)","v":301},"",{"$f":"IFERROR(SMALL($AD$4:$AD$1642,ROWS($AD$4:AD304)),\"\")","v":""},null,{"$f":"IFERROR(INDEX($A$4:$R$1642,$AE304,COLUMNS($A:$B)),\"\")","v":""},{"$f":"IFERROR(INDEX($A$4:$R$1642,$AE304,COLUMNS($A:$C)),\"\")","v":""},{"$f":"IFERROR(INDEX($A$4:$R$1642,$AE304,COLUMNS($A:$R)),\"\")","v":""},null,null,null,null,null,null,null,null,37]
[null,null,null,null,null,null,null,null,null,null,null,null,null,null,null,null,null,null,null,null,null,null,null,null,2,0,null,"",{"$f":"ROWS($AC$4:AC305)","v":302},"",{"$f":"IFERROR(SMALL($AD$4:$AD$1642,ROWS($AD$4:AD305)),\"\")","v":""},null,{"$f":"IFERROR(INDEX($A$4:$R$1642,$AE305,COLUMNS($A:$B)),\"\")","v":""},{"$f":"IFERROR(INDEX($A$4:$R$1642,$AE305,COLUMNS($A:$C)),\"\")","v":""},{"$f":"IFERROR(INDEX($A$4:$R$1642,$AE305,COLUMNS($A:$R)),\"\")","v":""},null,null,null,null,null,null,null,null,37]
[null,null,null,null,null,null,null,null,null,null,null,null,null,null,null,null,null,null,null,null,null,null,null,null,2,0,null,"",{"$f":"ROWS($AC$4:AC306)","v":303},"",{"$f":"IFERROR(SMALL($AD$4:$AD$1642,ROWS($AD$4:AD306)),\"\")","v":""},null,{"$f":"IFERROR(INDEX($A$4:$R$1642,$AE306,COLUMNS($A:$B)),\"\")","v":""},{"$f":"IFERROR(INDEX($A$4:$R$1642,$AE306,COLUMNS($A:$C)),\"\")","v":""},{"$f":"IFERROR(INDEX($A$4:$R$1642,$AE306,COLUMNS($A:$R)),\"\")","v":""},null,null,null,null,null,null,null,null,37]
[{"$f":"AR307","v":38},null,{"$f":"(VLOOKUP($B307,'Elenco Prezzi2'!$A$2:$E$201,2,FALSE))","v":{"$error":"#N/A"}},null,null,null,null,null,null,null,null,null,null,null,null,null,null,null,null,null,null,null,null,null,2,0,null,"",{"$f":"ROWS($AC$4:AC307)","v":304},"",{"$f":"IFERROR(SMALL($AD$4:$AD$1642,ROWS($AD$4:AD307)),\"\")","v":""},null,{"$f":"IFERROR(INDEX($A$4:$R$1642,$AE307,COLUMNS($A:$B)),\"\")","v":""},{"$f":"IFERROR(INDEX($A$4:$R$1642,$AE307,COLUMNS($A:$C)),\"\")","v":""},{"$f":"IFERROR(INDEX($A$4:$R$1642,$AE307,COLUMNS($A:$R)),\"\")","v":""},null,null,null,null,null,null,null,1,38]
[null,null,null,{"$f":"CONCATENATE(AK308&AL308&AM308&AN308)","v":""},null,null,null,null,{"$f":"IFERROR(IF(PRODUCT(E308:H308)=0,\"\",PRODUCT(E308:H308)),\"\")","v":""},{"$f":"I308","v":""},null,{"$f":"IF(E308>0,\" (p/u) \"&Modulo2.GetFormula(E308),\"\")","v":""},{"$f":"IF(F308>0,\" (lu) \"&Modulo2.GetFormula(F308),\"\")","v":""},{"$f":"IF(G308>0,\" (la) \"&Modulo2.GetFormula(G308),\"\")","v":""},{"$f":"IF(H308>0,\" (H) \"&Modulo2.GetFormula(H308),\"\")","v":""},null,null,null,null,null,null,null,null,null,2,0,null,"",{"$f":"ROWS($AC$4:AC308)","v":305},"",{"$f":"IFERROR(SMALL($AD$4:$AD$1642,ROWS($AD$4:AD308)),\"\")","v":""},null,{"$f":"IFERROR(INDEX($A$4:$R$1642,$AE308,COLUMNS($A:$B)),\"\")","v":""},{"$f":"IFERROR(INDEX($A$4:$R$1642,$AE308,COLUMNS($A:$C)),\"\")","v":""},{"$f":"IFERROR(INDEX($A$4:$R$1642,$AE308,COLUMNS($A:$R)),\"\")","v":""},null,{"$f":"IFERROR(IF(SEARCH(\"=\",L308),L308,\"\"),\"\")","v":""},{"$f":"IFERROR(IF(SEARCH(\"=\",M308),M308,\"\"),\"\")","v":""},{"$f":"IFERROR(IF(SEARCH(\"=\",N308),N308,\"\"),\"\")","v":""},{"$f":"IFERROR(IF(SEARCH(\"=\",O308),O308,\"\"),\"\")","v":""},null,null,null,38]
[null,null,null,"",null,null,null,null,"","",null,{"$f":"IF(E309>0,\" (p/u) \"&Modulo2.GetFormula(E309),\"\")","v":""},{"$f":"IF(F309>0,\" (lu) \"&Modulo2.GetFormula(F309),\"\")","v":""},{"$f":"IF(G309>0,\" (la) \"&Modulo2.GetFormula(G309),\"\")","v":""},{"$f":"IF(H309>0,\" (H) \"&Modulo2.GetFormula(H309),\"\")","v":""},null,null,null,null,null,null,null,null,null,2,0,null,"",{"$f":"ROWS($AC$4:AC309)","v":306},"",{"$f":"IFERROR(SMALL($AD$4:$AD$1642,ROWS($AD$4:AD309)),\"\")","v":""},null,{"$f":"IFERROR(INDEX($A$4:$R$1642,$AE309,COLUMNS($A:$B)),\"\")","v":""},{"$f":"IFERROR(INDEX($A$4:$R$1642,$AE309,COLUMNS($A:$C)),\"\")","v":""},{"$f":"IFERROR(INDEX($A$4:$R$1642,$AE309,COLUMNS($A:$R)),\"\")","v":""},null,"","","","",null,null,null,38]
[null,null,null,"",null,null,null,null,"","",null,{"$f":"IF(E310>0,\" (p/u) \"&Modulo2.GetFormula(E310),\"\")","v":""},{"$f":"IF(F310>0,\" (lu) \"&Modulo2.GetFormula(F310),\"\")","v":""},{"$f":"IF(G310>0,\" (la) \"&Modulo2.GetFormula(G310),\"\")","v":""},{"$f":"IF(H310>0,\" (H) \"&Modulo2.GetFormula(H310),\"\")","v":""},null,null,null,null,null,null,null,null,null,2,0,null,"",{"$f":"ROWS($AC$4:AC310)","v":307},"",{"$f":"IFERROR(SMALL($AD$4:$AD$1642,ROWS($AD$4:AD310)),\"\")","v":""},null,{"$f":"IFERROR(INDEX($A$4:$R$1642,$AE310,COLUMNS($A:$B)),\"\")","v":""},{"$f":"IFERROR(INDEX($A$4:$R$1642,$AE310,COLUMNS($A:$C)),\"\")","v":""},{"$f":"IFERROR(INDEX($A$4:$R$1642,$AE310,COLUMNS($A:$R)),\"\")","v":""},null,"","","","",null,null,null,38]
[null,null,null,null,null,null,null,{"$f":"CONCATENATE(\"SOMMANO [\",VLOOKUP(B307,'Elenco Prezzi2'!$A$2:$E$201,3,FALSE()),\"]\")","v":{"$error":"#N/A"}},{"$f":"IF(T311=\"s\",V312,SUBTOTAL(9,I307:I311))","v":{"$error":"#REF!"}},null,{"$f":"VLOOKUP(B307,'Elenco Prezzi2'!$A$2:$E$201,5,FALSE)","v":{"$error":"#N/A"}},null,null,null,null,null,null,{"$f":"IFERROR(I311*K311,\"\")","v":""},null,"s",null,null,null,{"$f":"R311","v":""},2,0,null,"",{"$f":"ROWS($AC$4:AC311)","v":308},"",{"$f":"IFERROR(SMALL($AD$4:$AD$1642,ROWS($AD$4:AD311)),\"\")","v":""},null,{"$f":"IFERROR(INDEX($A$4:$R$1642,$AE311,COLUMNS($A:$B)),\"\")","v":""},{"$f":"IFERROR(INDEX($A$4:$R$1642,$AE311,COLUMNS($A:$C)),\"\")","v":""},{"$f":"IFERROR(INDEX($A$4:$R$1642,$AE311,COLUMNS($A:$R)),\"\")","v":""},null,null,null,null,null,null,null,null,38]
[null,null,null,null,null,null,null,{"$f":"IF(I312<0,\"a detrarre\",\"\")","v":""},{"$f":"SUMIF(I307:I310,\"<0\")","v":0},null,null,null,null,null,null,null,null,null,{"$f":"R311","v":""},null,null,{"$f":"VLOOKUP(B307,#REF!,4,FALSE)","v":{"$error":"#REF!"}},null,null,2,0,null,"",{"$f":"ROWS($AC$4:AC312)","v":309},"",{"$f":"IFERROR(SMALL($AD$4:$AD$1642,ROWS($AD$4:AD312)),\"\")","v":""},null,{"$f":"IFERROR(INDEX($A$4:$R$1642,$AE312,COLUMNS($A:$B)),\"\")","v":""},{"$f":"IFERROR(INDEX($A$4:$R$1642,$AE312,COLUMNS($A:$C)),\"\")","v":""},{"$f":"IFERROR(INDEX($A$4:$R$1642,$AE312,COLUMNS($A:$R)),\"\")","v":""},null,null,null,null,null,null,null,null,38]
[null,null,null,null,null,null,null,null,null,null,null,null,null,null,null,null,null,null,null,null,null,null,null,null,2,0,null,"",{"$f":"ROWS($AC$4:AC313)","v":310},"",{"$f":"IFERROR(SMALL($AD$4:$AD$1642,ROWS($AD$4:AD313)),\"\")","v":""},null,{"$f":"IFERROR(INDEX($A$4:$R$1642,$AE313,COLUMNS($A:$B)),\"\")","v":""},{"$f":"IFERROR(INDEX($A$4:$R$1642,$AE313,COLUMNS($A:$C)),\"\")","v":""},{"$f":"IFERROR(INDEX($A$4:$R$1642,$AE313,COLUMNS($A:$R)),\"\")","v":""},null,null,null,null,null,null,null,null,38]
[null,null,null,null,null,null,null,null,null,null,null,null,null,null,null,null,null,null,null,null,null,null,null,null,2,0,null,"",{"$f":"ROWS($AC$4:AC314)","v":311},"",{"$f":"IFERROR(SMALL($AD$4:$AD$1642,ROWS($AD$4:AD314)),\"\")","v":""},null,{"$f":"IFERROR(INDEX($A$4:$R$1642,$AE314,COLUMNS($A:$B)),\"\")","v":""},{"$f":"IFERROR(INDEX($A$4:$R$1642,$AE314,COLUMNS($A:$C)),\"\")","v":""},{"$f":"IFERROR(INDEX($A$4:$R$1642,$AE314,COLUMNS($A:$R)),\"\")","v":""},null,null,null,null,null,null,null,null,38]
[{"$f":"AR315","v":39},null,{"$f":"(VLOOKUP($B315,'Elenco Prezzi2'!$A$2:$E$201,2,FALSE))","v":{"$error":"#N/A"}},null,null,null,null,null,null,null,null,null,null,null,null,null,null,null,null,null,null,null,null,null,2,0,null,"",{"$f":"ROWS($AC$4:AC315)","v":312},"",{"$f":"IFERROR(SMALL($AD$4:$AD$1642,ROWS($AD$4:AD315)),\"\")","v":""},null,{"$f":"IFERROR(INDEX($A$4:$R$1642,$AE315,COLUMNS($A:$B)),\"\")","v":""},{"$f":"IFERROR(INDEX($A$4:$R$1642,$AE315,COLUMNS($A:$C)),\"\")","v":""},{"$f":"IFERROR(INDEX($A$4:$R$1642,$AE315,COLUMNS($A:$R)),\"\")","v":""},null,null,null,null,null,null,null,1,39]
[null,null,null,{"$f":"CONCATENATE(AK316&AL316&AM316&AN316)","v":""},null,null,null,null,{"$f":"IFERROR(IF(PRODUCT(E316:H316)=0,\"\",PRODUCT(E316:H316)),\"\")","v":""},{"$f":"I316","v":""},null,{"$f":"IF(E316>0,\" (p/u) \"&Modulo2.GetFormula(E316),\"\")","v":""},{"$f":"IF(F316>0,\" (lu) \"&Modulo2.GetFormula(F316),\"\")","v":""},{"$f":"IF(G316>0,\" (la) \"&Modulo2.GetFormula(G316),\"\")","v":""},{"$f":"IF(H316>0,\" (H) \"&Modulo2.GetFormula(H316),\"\")","v":""},null,null,null,null,null,null,null,null,null,2,0,null,"",{"$f":"ROWS($AC$4:AC316)","v":313},"",{"$f":"IFERROR(SMALL($AD$4:$AD$1642,ROWS($AD$4:AD316)),\"\")","v":""},null,{"$f":"IFERROR(INDEX($A$4:$R$1642,$AE316,COLUMNS($A:$B)),\"\")","v":""},{"$f":"IFERROR(INDEX($A$4:$R$1642,$AE316,COLUMNS($A:$C)),\"\")","v":""},{"$f":"IFERROR(INDEX($A$4:$R$1642,$AE316,COLUMNS($A:$R)),\"\")","v":""},null,{"$f":"IFERROR(IF(SEARCH(\"=\",L316),L316,\"\"),\"\")","v":""},{"$f":"IFERROR(IF(SEARCH(\"=\",M316),M316,\"\"),\"\")","v":""},{"$f":"IFERROR(IF(SEARCH(\"=\",N316),N316,\"\"),\"\")","v":""},{"$f":"IFERROR(IF(SEARCH(\"=\",O316),O316,\"\"),\"\")","v":""},null,null,null,39]
[null,null,null,"",null,null,null,null,"","",null,{"$f":"IF(E317>0,\" (p/u) \"&Modulo2.GetFormula(E317),\"\")","v":""},{"$f":"IF(F317>0,\" (lu) \"&Modulo2.GetFormula(F317),\"\")","v":""},{"$f":"IF(G317>0,\" (la) \"&Modulo2.GetFormula(G317),\"\")","v":""},{"$f":"IF(H317>0,\" (H) \"&Modulo2.GetFormula(H317),\"\")","v":""},null,null,null,null,null,null,null,null,null,2,0,null,"",{"$f":"ROWS($AC$4:AC317)","v":314},"",{"$f":"IFERROR(SMALL($AD$4:$AD$1642,ROWS($AD$4:AD317)),\"\")","v":""},null,{"$f":"IFERROR(INDEX($A$4:$R$1642,$AE317,COLUMNS($A:$B)),\"\")","v":""},{"$f":"IFERROR(INDEX($A$4:$R$1642,$AE317,COLUMNS($A:$C)),\"\")","v":""},{"$f":"IFERROR(INDEX($A$4:$R$1642,$AE317,COLUMNS($A:$R)),\"\")","v":""},null,"","","","",null,null,null,39]
[null,null,null,"",null,null,null,null,"","",null,{"$f":"IF(E318>0,\" (p/u) \"&Modulo2.GetFormula(E318),\"\")","v":""},{"$f":"IF(F318>0,\" (lu) \"&Modulo2.GetFormula(F318),\"\")","v":""},{"$f":"IF(G318>0,\" (la) \"&Modulo2.GetFormula(G318),\"\")","v":""},{"$f":"IF(H318>0,\" (H) \"&Modulo2.GetFormula(H318),\"\")","v":""},null,null,null,null,null,null,null,null,null,2,0,null,"",{"$f":"ROWS($AC$4:AC318)","v":315},"",{"$f":"IFERROR(SMALL($AD$4:$AD$1642,ROWS($AD$4:AD318)),\"\")","v":""},null,{"$f":"IFERROR(INDEX($A$4:$R$1642,$AE318,COLUMNS($A:$B)),\"\")","v":""},{"$f":"IFERROR(INDEX($A$4:$R$1642,$AE318,COLUMNS($A:$C)),\"\")","v":""},{"$f":"IFERROR(INDEX($A$4:$R$1642,$AE318,COLUMNS($A:$R)),\"\")","v":""},null,"","","","",null,null,null,39]
[null,null,null,null,null,null,null,{"$f":"CONCATENATE(\"SOMMANO [\",VLOOKUP(B315,'Elenco Prezzi2'!$A$2:$E$201,3,FALSE()),\"]\")","v":{"$error":"#N/A"}},{"$f":"IF(T319=\"s\",V320,SUBTOTAL(9,I315:I319))","v":{"$error":"#REF!"}},null,{"$f":"VLOOKUP(B315,'Elenco Prezzi2'!$A$2:$E$201,5,FALSE)","v":{"$error":"#N/A"}},null,null,null,null,null,null,{"$f":"IFERROR(I319*K319,\"\")","v":""},null,"s",null,null,null,{"$f":"R319","v":""},2,0,null,"",{"$f":"ROWS($AC$4:AC319)","v":316},"",{"$f":"IFERROR(SMALL($AD$4:$AD$1642,ROWS($AD$4:AD319)),\"\")","v":""},null,{"$f":"IFERROR(INDEX($A$4:$R$1642,$AE319,COLUMNS($A:$B)),\"\")","v":""},{"$f":"IFERROR(INDEX($A$4:$R$1642,$AE319,COLUMNS($A:$C)),\"\")","v":""},{"$f":"IFERROR(INDEX($A$4:$R$1642,$AE319,COLUMNS($A:$R)),\"\")","v":""},null,null,null,null,null,null,null,null,39]
[null,null,null,null,null,null,null,{"$f":"IF(I320<0,\"a detrarre\",\"\")","v":""},{"$f":"SUMIF(I315:I318,\"<0\")","v":0},null,null,null,null,null,null,null,null,null,{"$f":"R319","v":""},null,null,{"$f":"VLOOKUP(B315,#REF!,4,FALSE)","v":{"$error":"#REF!"}},null,null,2,0,null,"",{"$f":"ROWS($AC$4:AC320)","v":317},"",{"$f":"IFERROR(SMALL($AD$4:$AD$1642,ROWS($AD$4:AD320)),\"\")","v":""},null,{"$f":"IFERROR(INDEX($A$4:$R$1642,$AE320,COLUMNS($A:$B)),\"\")","v":""},{"$f":"IFERROR(INDEX($A$4:$R$1642,$AE320,COLUMNS($A:$C)),\"\")","v":""},{"$f":"IFERROR(INDEX($A$4:$R$1642,$AE320,COLUMNS($A:$R)),\"\")","v":""},null,null,null,null,null,null,null,null,39]
[null,null,null,null,null,null,null,null,null,null,null,null,null,null,null,null,null,null,null,null,null,null,null,null,2,0,null,"",{"$f":"ROWS($AC$4:AC321)","v":318},"",{"$f":"IFERROR(SMALL($AD$4:$AD$1642,ROWS($AD$4:AD321)),\"\")","v":""},null,{"$f":"IFERROR(INDEX($A$4:$R$1642,$AE321,COLUMNS($A:$B)),\"\")","v":""},{"$f":"IFERROR(INDEX($A$4:$R$1642,$AE321,COLUMNS($A:$C)),\"\")","v":""},{"$f":"IFERROR(INDEX($A$4:$R$1642,$AE321,COLUMNS($A:$R)),\"\")","v":""},null,null,null,null,null,null,null,null,39]
[null,null,null,null,null,null,null,null,null,null,null,null,null,null,null,null,null,null,null,null,null,null,null,null,2,0,null,"",{"$f":"ROWS($AC$4:AC322)","v":319},"",{"$f":"IFERROR(SMALL($AD$4:$AD$1642,ROWS($AD$4:AD322)),\"\")","v":""},null,{"$f":"IFERROR(INDEX($A$4:$R$1642,$AE322,COLUMNS($A:$B)),\"\")","v":""},{"$f":"IFERROR(INDEX($A$4:$R$1642,$AE322,COLUMNS($A:$C)),\"\")","v":""},{"$f":"IFERROR(INDEX($A$4:$R$1642,$AE322,COLUMNS($A:$R)),\"\")","v":""},null,null,null,null,null,null,null,null,39]
[{"$f":"AR323","v":40},null,{"$f":"(VLOOKUP($B323,'Elenco Prezzi2'!$A$2:$E$201,2,FALSE))","v":{"$error":"#N/A"}},null,null,null,null,null,null,null,null,null,null,null,null,null,null,null,null,null,null,null,null,null,2,0,null,"",{"$f":"ROWS($AC$4:AC323)","v":320},"",{"$f":"IFERROR(SMALL($AD$4:$AD$1642,ROWS($AD$4:AD323)),\"\")","v":""},null,{"$f":"IFERROR(INDEX($A$4:$R$1642,$AE323,COLUMNS($A:$B)),\"\")","v":""},{"$f":"IFERROR(INDEX($A$4:$R$1642,$AE323,COLUMNS($A:$C)),\"\")","v":""},{"$f":"IFERROR(INDEX($A$4:$R$1642,$AE323,COLUMNS($A:$R)),\"\")","v":""},null,null,null,null,null,null,null,1,40]
[null,null,null,{"$f":"CONCATENATE(AK324&AL324&AM324&AN324)","v":""},null,null,null,null,{"$f":"IFERROR(IF(PRODUCT(E324:H324)=0,\"\",PRODUCT(E324:H324)),\"\")","v":""},{"$f":"I324","v":""},null,{"$f":"IF(E324>0,\" (p/u) \"&Modulo2.GetFormula(E324),\"\")","v":""},{"$f":"IF(F324>0,\" (lu) \"&Modulo2.GetFormula(F324),\"\")","v":""},{"$f":"IF(G324>0,\" (la) \"&Modulo2.GetFormula(G324),\"\")","v":""},{"$f":"IF(H324>0,\" (H) \"&Modulo2.GetFormula(H324),\"\")","v":""},null,null,null,null,null,null,null,null,null,2,0,null,"",{"$f":"ROWS($AC$4:AC324)","v":321},"",{"$f":"IFERROR(SMALL($AD$4:$AD$1642,ROWS($AD$4:AD324)),\"\")","v":""},null,{"$f":"IFERROR(INDEX($A$4:$R$1642,$AE324,COLUMNS($A:$B)),\"\")","v":""},{"$f":"IFERROR(INDEX($A$4:$R$1642,$AE324,COLUMNS($A:$C)),\"\")","v":""},{"$f":"IFERROR(INDEX($A$4:$R$1642,$AE324,COLUMNS($A:$R)),\"\")","v":""},null,{"$f":"IFERROR(IF(SEARCH(\"=\",L324),L324,\"\"),\"\")","v":""},{"$f":"IFERROR(IF(SEARCH(\"=\",M324),M324,\"\"),\"\")","v":""},{"$f":"IFERROR(IF(SEARCH(\"=\",N324),N324,\"\"),\"\")","v":""},{"$f":"IFERROR(IF(SEARCH(\"=\",O324),O324,\"\"),\"\")","v":""},null,null,null,40]
[null,null,null,"",null,null,null,null,"","",null,{"$f":"IF(E325>0,\" (p/u) \"&Modulo2.GetFormula(E325),\"\")","v":""},{"$f":"IF(F325>0,\" (lu) \"&Modulo2.GetFormula(F325),\"\")","v":""},{"$f":"IF(G325>0,\" (la) \"&Modulo2.GetFormula(G325),\"\")","v":""},{"$f":"IF(H325>0,\" (H) \"&Modulo2.GetFormula(H325),\"\")","v":""},null,null,null,null,null,null,null,null,null,2,0,null,"",{"$f":"ROWS($AC$4:AC325)","v":322},"",{"$f":"IFERROR(SMALL($AD$4:$AD$1642,ROWS($AD$4:AD325)),\"\")","v":""},null,{"$f":"IFERROR(INDEX($A$4:$R$1642,$AE325,COLUMNS($A:$B)),\"\")","v":""},{"$f":"IFERROR(INDEX($A$4:$R$1642,$AE325,COLUMNS($A:$C)),\"\")","v":""},{"$f":"IFERROR(INDEX($A$4:$R$1642,$AE325,COLUMNS($A:$R)),\"\")","v":""},null,"","","","",null,null,null,40]
[null,null,null,"",null,null,null,null,"","",null,{"$f":"IF(E326>0,\" (p/u) \"&Modulo2.GetFormula(E326),\"\")","v":""},{"$f":"IF(F326>0,\" (lu) \"&Modulo2.GetFormula(F326),\"\")","v":""},{"$f":"IF(G326>0,\" (la) \"&Modulo2.GetFormula(G326),\"\")","v":""},{"$f":"IF(H326>0,\" (H) \"&Modulo2.GetFormula(H326),\"\")","v":""},null,null,null,null,null,null,null,null,null,2,0,null,"",{"$f":"ROWS($AC$4:AC326)","v":323},"",{"$f":"IFERROR(SMALL($AD$4:$AD$1642,ROWS($AD$4:AD326)),\"\")","v":""},null,{"$f":"IFERROR(INDEX($A$4:$R$1642,$AE326,COLUMNS($A:$B)),\"\")","v":""},{"$f":"IFERROR(INDEX($A$4:$R$1642,$AE326,COLUMNS($A:$C)),\"\")","v":""},{"$f":"IFERROR(INDEX($A$4:$R$1642,$AE326,COLUMNS($A:$R)),\"\")","v":""},null,"","","","",null,null,null,40]
[null,null,null,null,null,null,null,{"$f":"CONCATENATE(\"SOMMANO [\",VLOOKUP(B323,'Elenco Prezzi2'!$A$2:$E$201,3,FALSE()),\"]\")","v":{"$error":"#N/A"}},{"$f":"IF(T327=\"s\",V328,SUBTOTAL(9,I323:I327))","v":{"$error":"#REF!"}},null,{"$f":"VLOOKUP(B323,'Elenco Prezzi2'!$A$2:$E$201,5,FALSE)","v":{"$error":"#N/A"}},null,null,null,null,null,null,{"$f":"IFERROR(I327*K327,\"\")","v":""},null,"s",null,null,null,{"$f":"R327","v":""},2,0,null,"",{"$f":"ROWS($AC$4:AC327)","v":324},"",{"$f":"IFERROR(SMALL($AD$4:$AD$1642,ROWS($AD$4:AD327)),\"\")","v":""},null,{"$f":"IFERROR(INDEX($A$4:$R$1642,$AE327,COLUMNS($A:$B)),\"\")","v":""},{"$f":"IFERROR(INDEX($A$4:$R$1642,$AE327,COLUMNS($A:$C)),\"\")","v":""},{"$f":"IFERROR(INDEX($A$4:$R$1642,$AE327,COLUMNS($A:$R)),\"\")","v":""},null,null,null,null,null,null,null,null,40]
[null,null,null,null,null,null,null,{"$f":"IF(I328<0,\"a detrarre\",\"\")","v":""},{"$f":"SUMIF(I323:I326,\"<0\")","v":0},null,null,null,null,null,null,null,null,null,{"$f":"R327","v":""},null,null,{"$f":"VLOOKUP(B323,#REF!,4,FALSE)","v":{"$error":"#REF!"}},null,null,2,0,null,"",{"$f":"ROWS($AC$4:AC328)","v":325},"",{"$f":"IFERROR(SMALL($AD$4:$AD$1642,ROWS($AD$4:AD328)),\"\")","v":""},null,{"$f":"IFERROR(INDEX($A$4:$R$1642,$AE328,COLUMNS($A:$B)),\"\")","v":""},{"$f":"IFERROR(INDEX($A$4:$R$1642,$AE328,COLUMNS($A:$C)),\"\")","v":""},{"$f":"IFERROR(INDEX($A$4:$R$1642,$AE328,COLUMNS($A:$R)),\"\")","v":""},null,null,null,null,null,null,null,null,40]
[null,null,null,null,null,null,null,null,null,null,null,null,null,null,null,null,null,null,null,null,null,null,null,null,2,0,null,"",{"$f":"ROWS($AC$4:AC329)","v":326},"",{"$f":"IFERROR(SMALL($AD$4:$AD$1642,ROWS($AD$4:AD329)),\"\")","v":""},null,{"$f":"IFERROR(INDEX($A$4:$R$1642,$AE329,COLUMNS($A:$B)),\"\")","v":""},{"$f":"IFERROR(INDEX($A$4:$R$1642,$AE329,COLUMNS($A:$C)),\"\")","v":""},{"$f":"IFERROR(INDEX($A$4:$R$1642,$AE329,COLUMNS($A:$R)),\"\")","v":""},null,null,null,null,null,null,null,null,40]
[null,null,null,null,null,null,null,null,null,null,null,null,null,null,null,null,null,null,null,null,null,null,null,null,2,0,null,"",{"$f":"ROWS($AC$4:AC330)","v":327},"",{"$f":"IFERROR(SMALL($AD$4:$AD$1642,ROWS($AD$4:AD330)),\"\")","v":""},null,{"$f":"IFERROR(INDEX($A$4:$R$1642,$AE330,COLUMNS($A:$B)),\"\")","v":""},{"$f":"IFERROR(INDEX($A$4:$R$1642,$AE330,COLUMNS($A:$C)),\"\")","v":""},{"$f":"IFERROR(INDEX($A$4:$R$1642,$AE330,COLUMNS($A:$R)),\"\")","v":""},null,null,null,null,null,null,null,null,40]
[{"$f":"AR331","v":41},null,{"$f":"(VLOOKUP($B331,'Elenco Prezzi2'!$A$2:$E$201,2,FALSE))","v":{"$error":"#N/A"}},null,null,null,null,null,null,null,null,null,null,null,null,null,null,null,null,null,null,null,null,null,2,0,null,"",{"$f":"ROWS($AC$4:AC331)","v":328},"",{"$f":"IFERROR(SMALL($AD$4:$AD$1642,ROWS($AD$4:AD331)),\"\")","v":""},null,{"$f":"IFERROR(INDEX($A$4:$R$1642,$AE331,COLUMNS($A:$B)),\"\")","v":""},{"$f":"IFERROR(INDEX($A$4:$R$1642,$AE331,COLUMNS($A:$C)),\"\")","v":""},{"$f":"IFERROR(INDEX($A$4:$R$1642,$AE331,COLUMNS($A:$R)),\"\")","v":""},null,null,null,null,null,null,null,1,41]
[null,null,null,{"$f":"CONCATENATE(AK332&AL332&AM332&AN332)","v":""},null,null,null,null,{"$f":"IFERROR(IF(PRODUCT(E332:H332)=0,\"\",PRODUCT(E332:H332)),\"\")","v":""},{"$f":"I332","v":""},null,{"$f":"IF(E332>0,\" (p/u) \"&Modulo2.GetFormula(E332),\"\")","v":""},{"$f":"IF(F332>0,\" (lu) \"&Modulo2.GetFormula(F332),\"\")","v":""},{"$f":"IF(G332>0,\" (la) \"&Modulo2.GetFormula(G332),\"\")","v":""},{"$f":"IF(H332>0,\" (H) \"&Modulo2.GetFormula(H332),\"\")","v":""},null,null,null,null,null,null,null,null,null,2,0,null,"",{"$f":"ROWS($AC$4:AC332)","v":329},"",{"$f":"IFERROR(SMALL($AD$4:$AD$1642,ROWS($AD$4:AD332)),\"\")","v":""},null,{"$f":"IFERROR(INDEX($A$4:$R$1642,$AE332,COLUMNS($A:$B)),\"\")","v":""},{"$f":"IFERROR(INDEX($A$4:$R$1642,$AE332,COLUMNS($A:$C)),\"\")","v":""},{"$f":"IFERROR(INDEX($A$4:$R$1642,$AE332,COLUMNS($A:$R)),\"\")","v":""},null,{"$f":"IFERROR(IF(SEARCH(\"=\",L332),L332,\"\"),\"\")","v":""},{"$f":"IFERROR(IF(SEARCH(\"=\",M332),M332,\"\"),\"\")","v":""},{"$f":"IFERROR(IF(SEARCH(\"=\",N332),N332,\"\"),\"\")","v":""},{"$f":"IFERROR(IF(SEARCH(\"=\",O332),O332,\"\"),\"\")","v":""},null,null,null,41]
[null,null,null,"",null,null,null,null,"","",null,{"$f":"IF(E333>0,\" (p/u) \"&Modulo2.GetFormula(E333),\"\")","v":""},{"$f":"IF(F333>0,\" (lu) \"&Modulo2.GetFormula(F333),\"\")","v":""},{"$f":"IF(G333>0,\" (la) \"&Modulo2.GetFormula(G333),\"\")","v":""},{"$f":"IF(H333>0,\" (H) \"&Modulo2.GetFormula(H333),\"\")","v":""},null,null,null,null,null,null,null,null,null,2,0,null,"",{"$f":"ROWS($AC$4:AC333)","v":330},"",{"$f":"IFERROR(SMALL($AD$4:$AD$1642,ROWS($AD$4:AD333)),\"\")","v":""},null,{"$f":"IFERROR(INDEX($A$4:$R$1642,$AE333,COLUMNS($A:$B)),\"\")","v":""},{"$f":"IFERROR(INDEX($A$4:$R$1642,$AE333,COLUMNS($A:$C)),\"\")","v":""},{"$f":"IFERROR(INDEX($A$4:$R$1642,$AE333,COLUMNS($A:$R)),\"\")","v":""},null,"","","","",null,null,null,41]
[null,null,null,"",null,null,null,null,"","",null,{"$f":"IF(E334>0,\" (p/u) \"&Modulo2.GetFormula(E334),\"\")","v":""},{"$f":"IF(F334>0,\" (lu) \"&Modulo2.GetFormula(F334),\"\")","v":""},{"$f":"IF(G334>0,\" (la) \"&Modulo2.GetFormula(G334),\"\")","v":""},{"$f":"IF(H334>0,\" (H) \"&Modulo2.GetFormula(H334),\"\")","v":""},null,null,null,null,null,null,null,null,null,2,0,null,"",{"$f":"ROWS($AC$4:AC334)","v":331},"",{"$f":"IFERROR(SMALL($AD$4:$AD$1642,ROWS($AD$4:AD334)),\"\")","v":""},null,{"$f":"IFERROR(INDEX($A$4:$R$1642,$AE334,COLUMNS($A:$B)),\"\")","v":""},{"$f":"IFERROR(INDEX($A$4:$R$1642,$AE334,COLUMNS($A:$C)),\"\")","v":""},{"$f":"IFERROR(INDEX($A$4:$R$1642,$AE334,COLUMNS($A:$R)),\"\")","v":""},null,"","","","",null,null,null,41]
[null,null,null,null,null,null,null,{"$f":"CONCATENATE(\"SOMMANO [\",VLOOKUP(B331,'Elenco Prezzi2'!$A$2:$E$201,3,FALSE()),\"]\")","v":{"$error":"#N/A"}},{"$f":"IF(T335=\"s\",V336,SUBTOTAL(9,I331:I335))","v":{"$error":"#REF!"}},null,{"$f":"VLOOKUP(B331,'Elenco Prezzi2'!$A$2:$E$201,5,FALSE)","v":{"$error":"#N/A"}},null,null,null,null,null,null,{"$f":"IFERROR(I335*K335,\"\")","v":""},null,"s",null,null,null,{"$f":"R335","v":""},2,0,null,"",{"$f":"ROWS($AC$4:AC335)","v":332},"",{"$f":"IFERROR(SMALL($AD$4:$AD$1642,ROWS($AD$4:AD335)),\"\")","v":""},null,{"$f":"IFERROR(INDEX($A$4:$R$1642,$AE335,COLUMNS($A:$B)),\"\")","v":""},{"$f":"IFERROR(INDEX($A$4:$R$1642,$AE335,COLUMNS($A:$C)),\"\")","v":""},{"$f":"IFERROR(INDEX($A$4:$R$1642,$AE335,COLUMNS($A:$R)),\"\")","v":""},null,null,null,null,null,null,null,null,41]
[null,null,null,null,null,null,null,{"$f":"IF(I336<0,\"a detrarre\",\"\")","v":""},{"$f":"SUMIF(I331:I334,\"<0\")","v":0},null,null,null,null,null,null,null,null,null,{"$f":"R335","v":""},null,null,{"$f":"VLOOKUP(B331,#REF!,4,FALSE)","v":{"$error":"#REF!"}},null,null,2,0,null,"",{"$f":"ROWS($AC$4:AC336)","v":333},"",{"$f":"IFERROR(SMALL($AD$4:$AD$1642,ROWS($AD$4:AD336)),\"\")","v":""},null,{"$f":"IFERROR(INDEX($A$4:$R$1642,$AE336,COLUMNS($A:$B)),\"\")","v":""},{"$f":"IFERROR(INDEX($A$4:$R$1642,$AE336,COLUMNS($A:$C)),\"\")","v":""},{"$f":"IFERROR(INDEX($A$4:$R$1642,$AE336,COLUMNS($A:$R)),\"\")","v":""},null,null,null,null,null,null,null,null,41]
[null,null,null,null,null,null,null,null,null,null,null,null,null,null,null,null,null,null,null,null,null,null,null,null,2,0,null,"",{"$f":"ROWS($AC$4:AC337)","v":334},"",{"$f":"IFERROR(SMALL($AD$4:$AD$1642,ROWS($AD$4:AD337)),\"\")","v":""},null,{"$f":"IFERROR(INDEX($A$4:$R$1642,$AE337,COLUMNS($A:$B)),\"\")","v":""},{"$f":"IFERROR(INDEX($A$4:$R$1642,$AE337,COLUMNS($A:$C)),\"\")","v":""},{"$f":"IFERROR(INDEX($A$4:$R$1642,$AE337,COLUMNS($A:$R)),\"\")","v":""},null,null,null,null,null,null,null,null,41]
[null,null,null,null,null,null,null,null,null,null,null,null,null,null,null,null,null,null,null,null,null,null,null,null,2,0,null,"",{"$f":"ROWS($AC$4:AC338)","v":335},"",{"$f":"IFERROR(SMALL($AD$4:$AD$1642,ROWS($AD$4:AD338)),\"\")","v":""},null,{"$f":"IFERROR(INDEX($A$4:$R$1642,$AE338,COLUMNS($A:$B)),\"\")","v":""},{"$f":"IFERROR(INDEX($A$4:$R$1642,$AE338,COLUMNS($A:$C)),\"\")","v":""},{"$f":"IFERROR(INDEX($A$4:$R$1642,$AE338,COLUMNS($A:$R)),\"\")","v":""},null,null,null,null,null,null,null,null,41]
[{"$f":"AR339","v":42},null,{"$f":"(VLOOKUP($B339,'Elenco Prezzi2'!$A$2:$E$201,2,FALSE))","v":{"$error":"#N/A"}},null,null,null,null,null,null,null,null,null,null,null,null,null,null,null,null,null,null,null,null,null,2,0,null,"",{"$f":"ROWS($AC$4:AC339)","v":336},"",{"$f":"IFERROR(SMALL($AD$4:$AD$1642,ROWS($AD$4:AD339)),\"\")","v":""},null,{"$f":"IFERROR(INDEX($A$4:$R$1642,$AE339,COLUMNS($A:$B)),\"\")","v":""},{"$f":"IFERROR(INDEX($A$4:$R$1642,$AE339,COLUMNS($A:$C)),\"\")","v":""},{"$f":"IFERROR(INDEX($A$4:$R$1642,$AE339,COLUMNS($A:$R)),\"\")","v":""},null,null,null,null,null,null,null,1,42]
[null,null,null,{"$f":"CONCATENATE(AK340&AL340&AM340&AN340)","v":""},null,null,null,null,{"$f":"IFERROR(IF(PRODUCT(E340:H340)=0,\"\",PRODUCT(E340:H340)),\"\")","v":""},{"$f":"I340","v":""},null,{"$f":"IF(E340>0,\" (p/u) \"&Modulo2.GetFormula(E340),\"\")","v":""},{"$f":"IF(F340>0,\" (lu) \"&Modulo2.GetFormula(F340),\"\")","v":""},{"$f":"IF(G340>0,\" (la) \"&Modulo2.GetFormula(G340),\"\")","v":""},{"$f":"IF(H340>0,\" (H) \"&Modulo2.GetFormula(H340),\"\")","v":""},null,null,null,null,null,null,null,null,null,2,0,null,"",{"$f":"ROWS($AC$4:AC340)","v":337},"",{"$f":"IFERROR(SMALL($AD$4:$AD$1642,ROWS($AD$4:AD340)),\"\")","v":""},null,{"$f":"IFERROR(INDEX($A$4:$R$1642,$AE340,COLUMNS($A:$B)),\"\")","v":""},{"$f":"IFERROR(INDEX($A$4:$R$1642,$AE340,COLUMNS($A:$C)),\"\")","v":""},{"$f":"IFERROR(INDEX($A$4:$R$1642,$AE340,COLUMNS($A:$R)),\"\")","v":""},null,{"$f":"IFERROR(IF(SEARCH(\"=\",L340),L340,\"\"),\"\")","v":""},{"$f":"IFERROR(IF(SEARCH(\"=\",M340),M340,\"\"),\"\")","v":""},{"$f":"IFERROR(IF(SEARCH(\"=\",N340),N340,\"\"),\"\")","v":""},{"$f":"IFERROR(IF(SEARCH(\"=\",O340),O340,\"\"),\"\")","v":""},null,null,null,42]
[null,null,null,"",null,null,null,null,"","",null,{"$f":"IF(E341>0,\" (p/u) \"&Modulo2.GetFormula(E341),\"\")","v":""},{"$f":"IF(F341>0,\" (lu) \"&Modulo2.GetFormula(F341),\"\")","v":""},{"$f":"IF(G341>0,\" (la) \"&Modulo2.GetFormula(G341),\"\")","v":""},{"$f":"IF(H341>0,\" (H) \"&Modulo2.GetFormula(H341),\"\")","v":""},null,null,null,null,null,null,null,null,null,2,0,null,"",{"$f":"ROWS($AC$4:AC341)","v":338},"",{"$f":"IFERROR(SMALL($AD$4:$AD$1642,ROWS($AD$4:AD341)),\"\")","v":""},null,{"$f":"IFERROR(INDEX($A$4:$R$1642,$AE341,COLUMNS($A:$B)),\"\")","v":""},{"$f":"IFERROR(INDEX($A$4:$R$1642,$AE341,COLUMNS($A:$C)),\"\")","v":""},{"$f":"IFERROR(INDEX($A$4:$R$1642,$AE341,COLUMNS($A:$R)),\"\")","v":""},null,"","","","",null,null,null,42]
[null,null,null,"",null,null,null,null,"","",null,{"$f":"IF(E342>0,\" (p/u) \"&Modulo2.GetFormula(E342),\"\")","v":""},{"$f":"IF(F342>0,\" (lu) \"&Modulo2.GetFormula(F342),\"\")","v":""},{"$f":"IF(G342>0,\" (la) \"&Modulo2.GetFormula(G342),\"\")","v":""},{"$f":"IF(H342>0,\" (H) \"&Modulo2.GetFormula(H342),\"\")","v":""},null,null,null,null,null,null,null,null,null,2,0,null,"",{"$f":"ROWS($AC$4:AC342)","v":339},"",{"$f":"IFERROR(SMALL($AD$4:$AD$1642,ROWS($AD$4:AD342)),\"\")","v":""},null,{"$f":"IFERROR(INDEX($A$4:$R$1642,$AE342,COLUMNS($A:$B)),\"\")","v":""},{"$f":"IFERROR(INDEX($A$4:$R$1642,$AE342,COLUMNS($A:$C)),\"\")","v":""},{"$f":"IFERROR(INDEX($A$4:$R$1642,$AE342,COLUMNS($A:$R)),\"\")","v":""},null,"","","","",null,null,null,42]
[null,null,null,null,null,null,null,{"$f":"CONCATENATE(\"SOMMANO [\",VLOOKUP(B339,'Elenco Prezzi2'!$A$2:$E$201,3,FALSE()),\"]\")","v":{"$error":"#N/A"}},{"$f":"IF(T343=\"s\",V344,SUBTOTAL(9,I339:I343))","v":{"$error":"#REF!"}},null,{"$f":"VLOOKUP(B339,'Elenco Prezzi2'!$A$2:$E$201,5,FALSE)","v":{"$error":"#N/A"}},null,null,null,null,null,null,{"$f":"IFERROR(I343*K343,\"\")","v":""},null,"s",null,null,null,{"$f":"R343","v":""},2,0,null,"",{"$f":"ROWS($AC$4:AC343)","v":340},"",{"$f":"IFERROR(SMALL($AD$4:$AD$1642,ROWS($AD$4:AD343)),\"\")","v":""},null,{"$f":"IFERROR(INDEX($A$4:$R$1642,$AE343,COLUMNS($A:$B)),\"\")","v":""},{"$f":"IFERROR(INDEX($A$4:$R$1642,$AE343,COLUMNS($A:$C)),\"\")","v":""},{"$f":"IFERROR(INDEX($A$4:$R$1642,$AE343,COLUMNS($A:$R)),\"\")","v":""},null,null,null,null,null,null,null,null,42]
[null,null,null,null,null,null,null,{"$f":"IF(I344<0,\"a detrarre\",\"\")","v":""},{"$f":"SUMIF(I339:I342,\"<0\")","v":0},null,null,null,null,null,null,null,null,null,{"$f":"R343","v":""},null,null,{"$f":"VLOOKUP(B339,#REF!,4,FALSE)","v":{"$error":"#REF!"}},null,null,2,0,null,"",{"$f":"ROWS($AC$4:AC344)","v":341},"",{"$f":"IFERROR(SMALL($AD$4:$AD$1642,ROWS($AD$4:AD344)),\"\")","v":""},null,{"$f":"IFERROR(INDEX($A$4:$R$1642,$AE344,COLUMNS($A:$B)),\"\")","v":""},{"$f":"IFERROR(INDEX($A$4:$R$1642,$AE344,COLUMNS($A:$C)),\"\")","v":""},{"$f":"IFERROR(INDEX($A$4:$R$1642,$AE344,COLUMNS($A:$R)),\"\")","v":""},null,null,null,null,null,null,null,null,42]
[null,null,null,null,null,null,null,null,null,null,null,null,null,null,null,null,null,null,null,null,null,null,null,null,2,0,null,"",{"$f":"ROWS($AC$4:AC345)","v":342},"",{"$f":"IFERROR(SMALL($AD$4:$AD$1642,ROWS($AD$4:AD345)),\"\")","v":""},null,{"$f":"IFERROR(INDEX($A$4:$R$1642,$AE345,COLUMNS($A:$B)),\"\")","v":""},{"$f":"IFERROR(INDEX($A$4:$R$1642,$AE345,COLUMNS($A:$C)),\"\")","v":""},{"$f":"IFERROR(INDEX($A$4:$R$1642,$AE345,COLUMNS($A:$R)),\"\")","v":""},null,null,null,null,null,null,null,null,42]
[null,null,null,null,null,null,null,null,null,null,null,null,null,null,null,null,null,null,null,null,null,null,null,null,2,0,null,"",{"$f":"ROWS($AC$4:AC346)","v":343},"",{"$f":"IFERROR(SMALL($AD$4:$AD$1642,ROWS($AD$4:AD346)),\"\")","v":""},null,{"$f":"IFERROR(INDEX($A$4:$R$1642,$AE346,COLUMNS($A:$B)),\"\")","v":""},{"$f":"IFERROR(INDEX($A$4:$R$1642,$AE346,COLUMNS($A:$C)),\"\")","v":""},{"$f":"IFERROR(INDEX($A$4:$R$1642,$AE346,COLUMNS($A:$R)),\"\")","v":""},null,null,null,null,null,null,null,null,42]
[{"$f":"AR347","v":43},null,{"$f":"(VLOOKUP($B347,'Elenco Prezzi2'!$A$2:$E$201,2,FALSE))","v":{"$error":"#N/A"}},null,null,null,null,null,null,null,null,null,null,null,null,null,null,null,null,null,null,null,null,null,2,0,null,"",{"$f":"ROWS($AC$4:AC347)","v":344},"",{"$f":"IFERROR(SMALL($AD$4:$AD$1642,ROWS($AD$4:AD347)),\"\")","v":""},null,{"$f":"IFERROR(INDEX($A$4:$R$1642,$AE347,COLUMNS($A:$B)),\"\")","v":""},{"$f":"IFERROR(INDEX($A$4:$R$1642,$AE347,COLUMNS($A:$C)),\"\")","v":""},{"$f":"IFERROR(INDEX($A$4:$R$1642,$AE347,COLUMNS($A:$R)),\"\")","v":""},null,null,null,null,null,null,null,1,43]
[null,null,null,{"$f":"CONCATENATE(AK348&AL348&AM348&AN348)","v":""},null,null,null,null,{"$f":"IFERROR(IF(PRODUCT(E348:H348)=0,\"\",PRODUCT(E348:H348)),\"\")","v":""},{"$f":"I348","v":""},null,{"$f":"IF(E348>0,\" (p/u) \"&Modulo2.GetFormula(E348),\"\")","v":""},{"$f":"IF(F348>0,\" (lu) \"&Modulo2.GetFormula(F348),\"\")","v":""},{"$f":"IF(G348>0,\" (la) \"&Modulo2.GetFormula(G348),\"\")","v":""},{"$f":"IF(H348>0,\" (H) \"&Modulo2.GetFormula(H348),\"\")","v":""},null,null,null,null,null,null,null,null,null,2,0,null,"",{"$f":"ROWS($AC$4:AC348)","v":345},"",{"$f":"IFERROR(SMALL($AD$4:$AD$1642,ROWS($AD$4:AD348)),\"\")","v":""},null,{"$f":"IFERROR(INDEX($A$4:$R$1642,$AE348,COLUMNS($A:$B)),\"\")","v":""},{"$f":"IFERROR(INDEX($A$4:$R$1642,$AE348,COLUMNS($A:$C)),\"\")","v":""},{"$f":"IFERROR(INDEX($A$4:$R$1642,$AE348,COLUMNS($A:$R)),\"\")","v":""},null,{"$f":"IFERROR(IF(SEARCH(\"=\",L348),L348,\"\"),\"\")","v":""},{"$f":"IFERROR(IF(SEARCH(\"=\",M348),M348,\"\"),\"\")","v":""},{"$f":"IFERROR(IF(SEARCH(\"=\",N348),N348,\"\"),\"\")","v":""},{"$f":"IFERROR(IF(SEARCH(\"=\",O348),O348,\"\"),\"\")","v":""},null,null,null,43]
[null,null,null,"",null,null,null,null,"","",null,{"$f":"IF(E349>0,\" (p/u) \"&Modulo2.GetFormula(E349),\"\")","v":""},{"$f":"IF(F349>0,\" (lu) \"&Modulo2.GetFormula(F349),\"\")","v":""},{"$f":"IF(G349>0,\" (la) \"&Modulo2.GetFormula(G349),\"\")","v":""},{"$f":"IF(H349>0,\" (H) \"&Modulo2.GetFormula(H349),\"\")","v":""},null,null,null,null,null,null,null,null,null,2,0,null,"",{"$f":"ROWS($AC$4:AC349)","v":346},"",{"$f":"IFERROR(SMALL($AD$4:$AD$1642,ROWS($AD$4:AD349)),\"\")","v":""},null,{"$f":"IFERROR(INDEX($A$4:$R$1642,$AE349,COLUMNS($A:$B)),\"\")","v":""},{"$f":"IFERROR(INDEX($A$4:$R$1642,$AE349,COLUMNS($A:$C)),\"\")","v":""},{"$f":"IFERROR(INDEX($A$4:$R$1642,$AE349,COLUMNS($A:$R)),\"\")","v":""},null,"","","","",null,null,null,43]
[null,null,null,"",null,null,null,null,"","",null,{"$f":"IF(E350>0,\" (p/u) \"&Modulo2.GetFormula(E350),\"\")","v":""},{"$f":"IF(F350>0,\" (lu) \"&Modulo2.GetFormula(F350),\"\")","v":""},{"$f":"IF(G350>0,\" (la) \"&Modulo2.GetFormula(G350),\"\")","v":""},{"$f":"IF(H350>0,\" (H) \"&Modulo2.GetFormula(H350),\"\")","v":""},null,null,null,null,null,null,null,null,null,2,0,null,"",{"$f":"ROWS($AC$4:AC350)","v":347},"",{"$f":"IFERROR(SMALL($AD$4:$AD$1642,ROWS($AD$4:AD350)),\"\")","v":""},null,{"$f":"IFERROR(INDEX($A$4:$R$1642,$AE350,COLUMNS($A:$B)),\"\")","v":""},{"$f":"IFERROR(INDEX($A$4:$R$1642,$AE350,COLUMNS($A:$C)),\"\")","v":""},{"$f":"IFERROR(INDEX($A$4:$R$1642,$AE350,COLUMNS($A:$R)),\"\")","v":""},null,"","","","",null,null,null,43]
[null,null,null,null,null,null,null,{"$f":"CONCATENATE(\"SOMMANO [\",VLOOKUP(B347,'Elenco Prezzi2'!$A$2:$E$201,3,FALSE()),\"]\")","v":{"$error":"#N/A"}},{"$f":"IF(T351=\"s\",V352,SUBTOTAL(9,I347:I351))","v":{"$error":"#REF!"}},null,{"$f":"VLOOKUP(B347,'Elenco Prezzi2'!$A$2:$E$201,5,FALSE)","v":{"$error":"#N/A"}},null,null,null,null,null,null,{"$f":"IFERROR(I351*K351,\"\")","v":""},null,"s",null,null,null,{"$f":"R351","v":""},2,0,null,"",{"$f":"ROWS($AC$4:AC351)","v":348},"",{"$f":"IFERROR(SMALL($AD$4:$AD$1642,ROWS($AD$4:AD351)),\"\")","v":""},null,{"$f":"IFERROR(INDEX($A$4:$R$1642,$AE351,COLUMNS($A:$B)),\"\")","v":""},{"$f":"IFERROR(INDEX($A$4:$R$1642,$AE351,COLUMNS($A:$C)),\"\")","v":""},{"$f":"IFERROR(INDEX($A$4:$R$1642,$AE351,COLUMNS($A:$R)),\"\")","v":""},null,null,null,null,null,null,null,null,43]
[null,null,null,null,null,null,null,{"$f":"IF(I352<0,\"a detrarre\",\"\")","v":""},{"$f":"SUMIF(I347:I350,\"<0\")","v":0},null,null,null,null,null,null,null,null,null,{"$f":"R351","v":""},null,null,{"$f":"VLOOKUP(B347,#REF!,4,FALSE)","v":{"$error":"#REF!"}},null,null,2,0,null,"",{"$f":"ROWS($AC$4:AC352)","v":349},"",{"$f":"IFERROR(SMALL($AD$4:$AD$1642,ROWS($AD$4:AD352)),\"\")","v":""},null,{"$f":"IFERROR(INDEX($A$4:$R$1642,$AE352,COLUMNS($A:$B)),\"\")","v":""},{"$f":"IFERROR(INDEX($A$4:$R$1642,$AE352,COLUMNS($A:$C)),\"\")","v":""},{"$f":"IFERROR(INDEX($A$4:$R$1642,$AE352,COLUMNS($A:$R)),\"\")","v":""},null,null,null,null,null,null,null,null,43]
[null,null,null,null,null,null,null,null,null,null,null,null,null,null,null,null,null,null,null,null,null,null,null,null,2,0,null,"",{"$f":"ROWS($AC$4:AC353)","v":350},"",{"$f":"IFERROR(SMALL($AD$4:$AD$1642,ROWS($AD$4:AD353)),\"\")","v":""},null,{"$f":"IFERROR(INDEX($A$4:$R$1642,$AE353,COLUMNS($A:$B)),\"\")","v":""},{"$f":"IFERROR(INDEX($A$4:$R$1642,$AE353,COLUMNS($A:$C)),\"\")","v":""},{"$f":"IFERROR(INDEX($A$4:$R$1642,$AE353,COLUMNS($A:$R)),\"\")","v":""},null,null,null,null,null,null,null,null,43]
[null,null,null,null,null,null,null,null,null,null,null,null,null,null,null,null,null,null,null,null,null,null,null,null,2,0,null,"",{"$f":"ROWS($AC$4:AC354)","v":351},"",{"$f":"IFERROR(SMALL($AD$4:$AD$1642,ROWS($AD$4:AD354)),\"\")","v":""},null,{"$f":"IFERROR(INDEX($A$4:$R$1642,$AE354,COLUMNS($A:$B)),\"\")","v":""},{"$f":"IFERROR(INDEX($A$4:$R$1642,$AE354,COLUMNS($A:$C)),\"\")","v":""},{"$f":"IFERROR(INDEX($A$4:$R$1642,$AE354,COLUMNS($A:$R)),\"\")","v":""},null,null,null,null,null,null,null,null,43]
[{"$f":"AR355","v":44},null,{"$f":"(VLOOKUP($B355,'Elenco Prezzi2'!$A$2:$E$201,2,FALSE))","v":{"$error":"#N/A"}},null,null,null,null,null,null,null,null,null,null,null,null,null,null,null,null,null,null,null,null,null,2,0,null,{"$f":"IF(W355>0,\"OK\",\"\")","v":""},{"$f":"ROWS($AC$4:AC355)","v":352},{"$f":"IF(AB355=\"ok\",AC355,\"\")","v":""},{"$f":"IFERROR(SMALL($AD$4:$AD$1642,ROWS($AD$4:AD355)),\"\")","v":""},null,{"$f":"IFERROR(INDEX($A$4:$R$1642,$AE355,COLUMNS($A:$B)),\"\")","v":""},{"$f":"IFERROR(INDEX($A$4:$R$1642,$AE355,COLUMNS($A:$C)),\"\")","v":""},{"$f":"IFERROR(INDEX($A$4:$R$1642,$AE355,COLUMNS($A:$R)),\"\")","v":""},null,null,null,null,null,null,null,1,{"$f":"IF(AQ355=\"\",AR354,AR354+AQ355)","v":44}]
[null,null,null,{"$f":"CONCATENATE(AK356&AL356&AM356&AN356)","v":""},null,null,null,null,{"$f":"IFERROR(IF(PRODUCT(E356:H356)=0,\"\",PRODUCT(E356:H356)),\"\")","v":""},{"$f":"I356","v":""},null,{"$f":"IF(E356>0,\" (p/u) \"&Modulo2.GetFormula(E356),\"\")","v":""},{"$f":"IF(F356>0,\" (lu) \"&Modulo2.GetFormula(F356),\"\")","v":""},{"$f":"IF(G356>0,\" (la) \"&Modulo2.GetFormula(G356),\"\")","v":""},{"$f":"IF(H356>0,\" (H) \"&Modulo2.GetFormula(H356),\"\")","v":""},null,null,null,null,null,null,null,null,null,{"$f":"IF(AO356=\"\",Y355,Y355+AO356)","v":2},{"$f":"IF(AP356=\"\",Z355,Z355+AP356)","v":0},null,"",{"$f":"ROWS($AC$4:AC356)","v":353},"",{"$f":"IFERROR(SMALL($AD$4:$AD$1642,ROWS($AD$4:AD356)),\"\")","v":""},null,{"$f":"IFERROR(INDEX($A$4:$R$1642,$AE356,COLUMNS($A:$B)),\"\")","v":""},{"$f":"IFERROR(INDEX($A$4:$R$1642,$AE356,COLUMNS($A:$C)),\"\")","v":""},{"$f":"IFERROR(INDEX($A$4:$R$1642,$AE356,COLUMNS($A:$R)),\"\")","v":""},null,{"$f":"IFERROR(IF(SEARCH(\"=\",L356),L356,\"\"),\"\")","v":""},{"$f":"IFERROR(IF(SEARCH(\"=\",M356),M356,\"\"),\"\")","v":""},{"$f":"IFERROR(IF(SEARCH(\"=\",N356),N356,\"\"),\"\")","v":""},{"$f":"IFERROR(IF(SEARCH(\"=\",O356),O356,\"\"),\"\")","v":""},null,null,null,44]
[null,null,null,"",null,null,null,null,"","",null,{"$f":"IF(E357>0,\" (p/u) \"&Modulo2.GetFormula(E357),\"\")","v":""},{"$f":"IF(F357>0,\" (lu) \"&Modulo2.GetFormula(F357),\"\")","v":""},{"$f":"IF(G357>0,\" (la) \"&Modulo2.GetFormula(G357),\"\")","v":""},{"$f":"IF(H357>0,\" (H) \"&Modulo2.GetFormula(H357),\"\")","v":""},null,null,null,null,null,null,null,null,null,2,0,null,"",{"$f":"ROWS($AC$4:AC357)","v":354},"",{"$f":"IFERROR(SMALL($AD$4:$AD$1642,ROWS($AD$4:AD357)),\"\")","v":""},null,{"$f":"IFERROR(INDEX($A$4:$R$1642,$AE357,COLUMNS($A:$B)),\"\")","v":""},{"$f":"IFERROR(INDEX($A$4:$R$1642,$AE357,COLUMNS($A:$C)),\"\")","v":""},{"$f":"IFERROR(INDEX($A$4:$R$1642,$AE357,COLUMNS($A:$R)),\"\")","v":""},null,"","","","",null,null,null,44]
[null,null,null,"",null,null,null,null,"","",null,{"$f":"IF(E358>0,\" (p/u) \"&Modulo2.GetFormula(E358),\"\")","v":""},{"$f":"IF(F358>0,\" (lu) \"&Modulo2.GetFormula(F358),\"\")","v":""},{"$f":"IF(G358>0,\" (la) \"&Modulo2.GetFormula(G358),\"\")","v":""},{"$f":"IF(H358>0,\" (H) \"&Modulo2.GetFormula(H358),\"\")","v":""},null,null,null,null,null,null,null,null,null,2,0,null,"",{"$f":"ROWS($AC$4:AC358)","v":355},"",{"$f":"IFERROR(SMALL($AD$4:$AD$1642,ROWS($AD$4:AD358)),\"\")","v":""},null,{"$f":"IFERROR(INDEX($A$4:$R$1642,$AE358,COLUMNS($A:$B)),\"\")","v":""},{"$f":"IFERROR(INDEX($A$4:$R$1642,$AE358,COLUMNS($A:$C)),\"\")","v":""},{"$f":"IFERROR(INDEX($A$4:$R$1642,$AE358,COLUMNS($A:$R)),\"\")","v":""},null,"","","","",null,null,null,44]
[null,null,null,null,null,null,null,{"$f":"CONCATENATE(\"SOMMANO [\",VLOOKUP(B355,'Elenco Prezzi2'!$A$2:$E$201,3,FALSE()),\"]\")","v":{"$error":"#N/A"}},{"$f":"IF(T359=\"s\",V360,SUBTOTAL(9,I355:I359))","v":{"$error":"#REF!"}},null,{"$f":"VLOOKUP(B355,'Elenco Prezzi2'!$A$2:$E$201,5,FALSE)","v":{"$error":"#N/A"}},null,null,null,null,null,null,{"$f":"IFERROR(I359*K359,\"\")","v":""},null,"s",null,null,null,{"$f":"R359","v":""},2,0,null,"",{"$f":"ROWS($AC$4:AC359)","v":356},"",{"$f":"IFERROR(SMALL($AD$4:$AD$1642,ROWS($AD$4:AD359)),\"\")","v":""},null,{"$f":"IFERROR(INDEX($A$4:$R$1642,$AE359,COLUMNS($A:$B)),\"\")","v":""},{"$f":"IFERROR(INDEX($A$4:$R$1642,$AE359,COLUMNS($A:$C)),\"\")","v":""},{"$f":"IFERROR(INDEX($A$4:$R$1642,$AE359,COLUMNS($A:$R)),\"\")","v":""},null,null,null,null,null,null,null,null,44]
[null,null,null,null,null,null,null,{"$f":"IF(I360<0,\"a detrarre\",\"\")","v":""},{"$f":"SUMIF(I355:I358,\"<0\")","v":0},null,null,null,null,null,null,null,null,null,{"$f":"R359","v":""},null,null,{"$f":"VLOOKUP(B355,#REF!,4,FALSE)","v":{"$error":"#REF!"}},null,null,2,0,null,"",{"$f":"ROWS($AC$4:AC360)","v":357},"",{"$f":"IFERROR(SMALL($AD$4:$AD$1642,ROWS($AD$4:AD360)),\"\")","v":""},null,{"$f":"IFERROR(INDEX($A$4:$R$1642,$AE360,COLUMNS($A:$B)),\"\")","v":""},{"$f":"IFERROR(INDEX($A$4:$R$1642,$AE360,COLUMNS($A:$C)),\"\")","v":""},{"$f":"IFERROR(INDEX($A$4:$R$1642,$AE360,COLUMNS($A:$R)),\"\")","v":""},null,null,null,null,null,null,null,null,44]
[null,null,null,null,null,null,null,null,null,null,null,null,null,null,null,null,null,null,null,null,null,null,null,null,2,0,null,"",{"$f":"ROWS($AC$4:AC361)","v":358},"",{"$f":"IFERROR(SMALL($AD$4:$AD$1642,ROWS($AD$4:AD361)),\"\")","v":""},null,{"$f":"IFERROR(INDEX($A$4:$R$1642,$AE361,COLUMNS($A:$B)),\"\")","v":""},{"$f":"IFERROR(INDEX($A$4:$R$1642,$AE361,COLUMNS($A:$C)),\"\")","v":""},{"$f":"IFERROR(INDEX($A$4:$R$1642,$AE361,COLUMNS($A:$R)),\"\")","v":""},null,null,null,null,null,null,null,null,44]
[null,null,null,null,null,null,null,null,null,null,null,null,null,null,null,null,null,null,null,null,null,null,null,null,2,0,null,"",{"$f":"ROWS($AC$4:AC362)","v":359},"",{"$f":"IFERROR(SMALL($AD$4:$AD$1642,ROWS($AD$4:AD362)),\"\")","v":""},null,{"$f":"IFERROR(INDEX($A$4:$R$1642,$AE362,COLUMNS($A:$B)),\"\")","v":""},{"$f":"IFERROR(INDEX($A$4:$R$1642,$AE362,COLUMNS($A:$C)),\"\")","v":""},{"$f":"IFERROR(INDEX($A$4:$R$1642,$AE362,COLUMNS($A:$R)),\"\")","v":""},null,null,null,null,null,null,null,null,44]
[{"$f":"AR363","v":45},null,{"$f":"(VLOOKUP($B363,'Elenco Prezzi2'!$A$2:$E$201,2,FALSE))","v":{"$error":"#N/A"}},null,null,null,null,null,null,null,null,null,null,null,null,null,null,null,null,null,null,null,null,null,2,0,null,"",{"$f":"ROWS($AC$4:AC363)","v":360},"",{"$f":"IFERROR(SMALL($AD$4:$AD$1642,ROWS($AD$4:AD363)),\"\")","v":""},null,{"$f":"IFERROR(INDEX($A$4:$R$1642,$AE363,COLUMNS($A:$B)),\"\")","v":""},{"$f":"IFERROR(INDEX($A$4:$R$1642,$AE363,COLUMNS($A:$C)),\"\")","v":""},{"$f":"IFERROR(INDEX($A$4:$R$1642,$AE363,COLUMNS($A:$R)),\"\")","v":""},null,null,null,null,null,null,null,1,45]
[null,null,null,{"$f":"CONCATENATE(AK364&AL364&AM364&AN364)","v":""},null,null,null,null,{"$f":"IFERROR(IF(PRODUCT(E364:H364)=0,\"\",PRODUCT(E364:H364)),\"\")","v":""},{"$f":"I364","v":""},null,{"$f":"IF(E364>0,\" (p/u) \"&Modulo2.GetFormula(E364),\"\")","v":""},{"$f":"IF(F364>0,\" (lu) \"&Modulo2.GetFormula(F364),\"\")","v":""},{"$f":"IF(G364>0,\" (la) \"&Modulo2.GetFormula(G364),\"\")","v":""},{"$f":"IF(H364>0,\" (H) \"&Modulo2.GetFormula(H364),\"\")","v":""},null,null,null,null,null,null,null,null,null,2,0,null,"",{"$f":"ROWS($AC$4:AC364)","v":361},"",{"$f":"IFERROR(SMALL($AD$4:$AD$1642,ROWS($AD$4:AD364)),\"\")","v":""},null,{"$f":"IFERROR(INDEX($A$4:$R$1642,$AE364,COLUMNS($A:$B)),\"\")","v":""},{"$f":"IFERROR(INDEX($A$4:$R$1642,$AE364,COLUMNS($A:$C)),\"\")","v":""},{"$f":"IFERROR(INDEX($A$4:$R$1642,$AE364,COLUMNS($A:$R)),\"\")","v":""},null,{"$f":"IFERROR(IF(SEARCH(\"=\",L364),L364,\"\"),\"\")","v":""},{"$f":"IFERROR(IF(SEARCH(\"=\",M364),M364,\"\"),\"\")","v":""},{"$f":"IFERROR(IF(SEARCH(\"=\",N364),N364,\"\"),\"\")","v":""},{"$f":"IFERROR(IF(SEARCH(\"=\",O364),O364,\"\"),\"\")","v":""},null,null,null,45]
[null,null,null,"",null,null,null,null,"","",null,{"$f":"IF(E365>0,\" (p/u) \"&Modulo2.GetFormula(E365),\"\")","v":""},{"$f":"IF(F365>0,\" (lu) \"&Modulo2.GetFormula(F365),\"\")","v":""},{"$f":"IF(G365>0,\" (la) \"&Modulo2.GetFormula(G365),\"\")","v":""},{"$f":"IF(H365>0,\" (H) \"&Modulo2.GetFormula(H365),\"\")","v":""},null,null,null,null,null,null,null,null,null,2,0,null,"",{"$f":"ROWS($AC$4:AC365)","v":362},"",{"$f":"IFERROR(SMALL($AD$4:$AD$1642,ROWS($AD$4:AD365)),\"\")","v":""},null,{"$f":"IFERROR(INDEX($A$4:$R$1642,$AE365,COLUMNS($A:$B)),\"\")","v":""},{"$f":"IFERROR(INDEX($A$4:$R$1642,$AE365,COLUMNS($A:$C)),\"\")","v":""},{"$f":"IFERROR(INDEX($A$4:$R$1642,$AE365,COLUMNS($A:$R)),\"\")","v":""},null,"","","","",null,null,null,45]
[null,null,null,"",null,null,null,null,"","",null,{"$f":"IF(E366>0,\" (p/u) \"&Modulo2.GetFormula(E366),\"\")","v":""},{"$f":"IF(F366>0,\" (lu) \"&Modulo2.GetFormula(F366),\"\")","v":""},{"$f":"IF(G366>0,\" (la) \"&Modulo2.GetFormula(G366),\"\")","v":""},{"$f":"IF(H366>0,\" (H) \"&Modulo2.GetFormula(H366),\"\")","v":""},null,null,null,null,null,null,null,null,null,2,0,null,"",{"$f":"ROWS($AC$4:AC366)","v":363},"",{"$f":"IFERROR(SMALL($AD$4:$AD$1642,ROWS($AD$4:AD366)),\"\")","v":""},null,{"$f":"IFERROR(INDEX($A$4:$R$1642,$AE366,COLUMNS($A:$B)),\"\")","v":""},{"$f":"IFERROR(INDEX($A$4:$R$1642,$AE366,COLUMNS($A:$C)),\"\")","v":""},{"$f":"IFERROR(INDEX($A$4:$R$1642,$AE366,COLUMNS($A:$R)),\"\")","v":""},null,"","","","",null,null,null,45]
[null,null,null,null,null,null,null,{"$f":"CONCATENATE(\"SOMMANO [\",VLOOKUP(B363,'Elenco Prezzi2'!$A$2:$E$201,3,FALSE()),\"]\")","v":{"$error":"#N/A"}},{"$f":"IF(T367=\"s\",V368,SUBTOTAL(9,I363:I367))","v":{"$error":"#REF!"}},null,{"$f":"VLOOKUP(B363,'Elenco Prezzi2'!$A$2:$E$201,5,FALSE)","v":{"$error":"#N/A"}},null,null,null,null,null,null,{"$f":"IFERROR(I367*K367,\"\")","v":""},null,"s",null,null,null,{"$f":"R367","v":""},2,0,null,"",{"$f":"ROWS($AC$4:AC367)","v":364},"",{"$f":"IFERROR(SMALL($AD$4:$AD$1642,ROWS($AD$4:AD367)),\"\")","v":""},null,{"$f":"IFERROR(INDEX($A$4:$R$1642,$AE367,COLUMNS($A:$B)),\"\")","v":""},{"$f":"IFERROR(INDEX($A$4:$R$1642,$AE367,COLUMNS($A:$C)),\"\")","v":""},{"$f":"IFERROR(INDEX($A$4:$R$1642,$AE367,COLUMNS($A:$R)),\"\")","v":""},null,null,null,null,null,null,null,null,45]
[null,null,null,null,null,null,null,{"$f":"IF(I368<0,\"a detrarre\",\"\")","v":""},{"$f":"SUMIF(I363:I366,\"<0\")","v":0},null,null,null,null,null,null,null,null,null,{"$f":"R367","v":""},null,null,{"$f":"VLOOKUP(B363,#REF!,4,FALSE)","v":{"$error":"#REF!"}},null,null,2,0,null,"",{"$f":"ROWS($AC$4:AC368)","v":365},"",{"$f":"IFERROR(SMALL($AD$4:$AD$1642,ROWS($AD$4:AD368)),\"\")","v":""},null,{"$f":"IFERROR(INDEX($A$4:$R$1642,$AE368,COLUMNS($A:$B)),\"\")","v":""},{"$f":"IFERROR(INDEX($A$4:$R$1642,$AE368,COLUMNS($A:$C)),\"\")","v":""},{"$f":"IFERROR(INDEX($A$4:$R$1642,$AE368,COLUMNS($A:$R)),\"\")","v":""},null,null,null,null,null,null,null,null,45]
[null,null,null,null,null,null,null,null,null,null,null,null,null,null,null,null,null,null,null,null,null,null,null,null,2,0,null,"",{"$f":"ROWS($AC$4:AC369)","v":366},"",{"$f":"IFERROR(SMALL($AD$4:$AD$1642,ROWS($AD$4:AD369)),\"\")","v":""},null,{"$f":"IFERROR(INDEX($A$4:$R$1642,$AE369,COLUMNS($A:$B)),\"\")","v":""},{"$f":"IFERROR(INDEX($A$4:$R$1642,$AE369,COLUMNS($A:$C)),\"\")","v":""},{"$f":"IFERROR(INDEX($A$4:$R$1642,$AE369,COLUMNS($A:$R)),\"\")","v":""},null,null,null,null,null,null,null,null,45]
[null,null,null,null,null,null,null,null,null,null,null,null,null,null,null,null,null,null,null,null,null,null,null,null,2,0,null,"",{"$f":"ROWS($AC$4:AC370)","v":367},"",{"$f":"IFERROR(SMALL($AD$4:$AD$1642,ROWS($AD$4:AD370)),\"\")","v":""},null,{"$f":"IFERROR(INDEX($A$4:$R$1642,$AE370,COLUMNS($A:$B)),\"\")","v":""},{"$f":"IFERROR(INDEX($A$4:$R$1642,$AE370,COLUMNS($A:$C)),\"\")","v":""},{"$f":"IFERROR(INDEX($A$4:$R$1642,$AE370,COLUMNS($A:$R)),\"\")","v":""},null,null,null,null,null,null,null,null,45]
[{"$f":"AR371","v":46},null,{"$f":"(VLOOKUP($B371,'Elenco Prezzi2'!$A$2:$E$201,2,FALSE))","v":{"$error":"#N/A"}},null,null,null,null,null,null,null,null,null,null,null,null,null,null,null,null,null,null,null,null,null,2,0,null,"",{"$f":"ROWS($AC$4:AC371)","v":368},"",{"$f":"IFERROR(SMALL($AD$4:$AD$1642,ROWS($AD$4:AD371)),\"\")","v":""},null,{"$f":"IFERROR(INDEX($A$4:$R$1642,$AE371,COLUMNS($A:$B)),\"\")","v":""},{"$f":"IFERROR(INDEX($A$4:$R$1642,$AE371,COLUMNS($A:$C)),\"\")","v":""},{"$f":"IFERROR(INDEX($A$4:$R$1642,$AE371,COLUMNS($A:$R)),\"\")","v":""},null,null,null,null,null,null,null,1,46]
[null,null,null,{"$f":"CONCATENATE(AK372&AL372&AM372&AN372)","v":""},null,null,null,null,{"$f":"IFERROR(IF(PRODUCT(E372:H372)=0,\"\",PRODUCT(E372:H372)),\"\")","v":""},{"$f":"I372","v":""},null,{"$f":"IF(E372>0,\" (p/u) \"&Modulo2.GetFormula(E372),\"\")","v":""},{"$f":"IF(F372>0,\" (lu) \"&Modulo2.GetFormula(F372),\"\")","v":""},{"$f":"IF(G372>0,\" (la) \"&Modulo2.GetFormula(G372),\"\")","v":""},{"$f":"IF(H372>0,\" (H) \"&Modulo2.GetFormula(H372),\"\")","v":""},null,null,null,null,null,null,null,null,null,2,0,null,"",{"$f":"ROWS($AC$4:AC372)","v":369},"",{"$f":"IFERROR(SMALL($AD$4:$AD$1642,ROWS($AD$4:AD372)),\"\")","v":""},null,{"$f":"IFERROR(INDEX($A$4:$R$1642,$AE372,COLUMNS($A:$B)),\"\")","v":""},{"$f":"IFERROR(INDEX($A$4:$R$1642,$AE372,COLUMNS($A:$C)),\"\")","v":""},{"$f":"IFERROR(INDEX($A$4:$R$1642,$AE372,COLUMNS($A:$R)),\"\")","v":""},null,{"$f":"IFERROR(IF(SEARCH(\"=\",L372),L372,\"\"),\"\")","v":""},{"$f":"IFERROR(IF(SEARCH(\"=\",M372),M372,\"\"),\"\")","v":""},{"$f":"IFERROR(IF(SEARCH(\"=\",N372),N372,\"\"),\"\")","v":""},{"$f":"IFERROR(IF(SEARCH(\"=\",O372),O372,\"\"),\"\")","v":""},null,null,null,46]
[null,null,null,"",null,null,null,null,"","",null,{"$f":"IF(E373>0,\" (p/u) \"&Modulo2.GetFormula(E373),\"\")","v":""},{"$f":"IF(F373>0,\" (lu) \"&Modulo2.GetFormula(F373),\"\")","v":""},{"$f":"IF(G373>0,\" (la) \"&Modulo2.GetFormula(G373),\"\")","v":""},{"$f":"IF(H373>0,\" (H) \"&Modulo2.GetFormula(H373),\"\")","v":""},null,null,null,null,null,null,null,null,null,2,0,null,"",{"$f":"ROWS($AC$4:AC373)","v":370},"",{"$f":"IFERROR(SMALL($AD$4:$AD$1642,ROWS($AD$4:AD373)),\"\")","v":""},null,{"$f":"IFERROR(INDEX($A$4:$R$1642,$AE373,COLUMNS($A:$B)),\"\")","v":""},{"$f":"IFERROR(INDEX($A$4:$R$1642,$AE373,COLUMNS($A:$C)),\"\")","v":""},{"$f":"IFERROR(INDEX($A$4:$R$1642,$AE373,COLUMNS($A:$R)),\"\")","v":""},null,"","","","",null,null,null,46]
[null,null,null,"",null,null,null,null,"","",null,{"$f":"IF(E374>0,\" (p/u) \"&Modulo2.GetFormula(E374),\"\")","v":""},{"$f":"IF(F374>0,\" (lu) \"&Modulo2.GetFormula(F374),\"\")","v":""},{"$f":"IF(G374>0,\" (la) \"&Modulo2.GetFormula(G374),\"\")","v":""},{"$f":"IF(H374>0,\" (H) \"&Modulo2.GetFormula(H374),\"\")","v":""},null,null,null,null,null,null,null,null,null,2,0,null,"",{"$f":"ROWS($AC$4:AC374)","v":371},"",{"$f":"IFERROR(SMALL($AD$4:$AD$1642,ROWS($AD$4:AD374)),\"\")","v":""},null,{"$f":"IFERROR(INDEX($A$4:$R$1642,$AE374,COLUMNS($A:$B)),\"\")","v":""},{"$f":"IFERROR(INDEX($A$4:$R$1642,$AE374,COLUMNS($A:$C)),\"\")","v":""},{"$f":"IFERROR(INDEX($A$4:$R$1642,$AE374,COLUMNS($A:$R)),\"\")","v":""},null,"","","","",null,null,null,46]
[null,null,null,null,null,null,null,{"$f":"CONCATENATE(\"SOMMANO [\",VLOOKUP(B371,'Elenco Prezzi2'!$A$2:$E$201,3,FALSE()),\"]\")","v":{"$error":"#N/A"}},{"$f":"IF(T375=\"s\",V376,SUBTOTAL(9,I371:I375))","v":{"$error":"#REF!"}},null,{"$f":"VLOOKUP(B371,'Elenco Prezzi2'!$A$2:$E$201,5,FALSE)","v":{"$error":"#N/A"}},null,null,null,null,null,null,{"$f":"IFERROR(I375*K375,\"\")","v":""},null,"s",null,null,null,{"$f":"R375","v":""},2,0,null,"",{"$f":"ROWS($AC$4:AC375)","v":372},"",{"$f":"IFERROR(SMALL($AD$4:$AD$1642,ROWS($AD$4:AD375)),\"\")","v":""},null,{"$f":"IFERROR(INDEX($A$4:$R$1642,$AE375,COLUMNS($A:$B)),\"\")","v":""},{"$f":"IFERROR(INDEX($A$4:$R$1642,$AE375,COLUMNS($A:$C)),\"\")","v":""},{"$f":"IFERROR(INDEX($A$4:$R$1642,$AE375,COLUMNS($A:$R)),\"\")","v":""},null,null,null,null,null,null,null,null,46]
[null,null,null,null,null,null,null,{"$f":"IF(I376<0,\"a detrarre\",\"\")","v":""},{"$f":"SUMIF(I371:I374,\"<0\")","v":0},null,null,null,null,null,null,null,null,null,{"$f":"R375","v":""},null,null,{"$f":"VLOOKUP(B371,#REF!,4,FALSE)","v":{"$error":"#REF!"}},null,null,2,0,null,"",{"$f":"ROWS($AC$4:AC376)","v":373},"",{"$f":"IFERROR(SMALL($AD$4:$AD$1642,ROWS($AD$4:AD376)),\"\")","v":""},null,{"$f":"IFERROR(INDEX($A$4:$R$1642,$AE376,COLUMNS($A:$B)),\"\")","v":""},{"$f":"IFERROR(INDEX($A$4:$R$1642,$AE376,COLUMNS($A:$C)),\"\")","v":""},{"$f":"IFERROR(INDEX($A$4:$R$1642,$AE376,COLUMNS($A:$R)),\"\")","v":""},null,null,null,null,null,null,null,null,46]
[null,null,null,null,null,null,null,null,null,null,null,null,null,null,null,null,null,null,null,null,null,null,null,null,2,0,null,"",{"$f":"ROWS($AC$4:AC377)","v":374},"",{"$f":"IFERROR(SMALL($AD$4:$AD$1642,ROWS($AD$4:AD377)),\"\")","v":""},null,{"$f":"IFERROR(INDEX($A$4:$R$1642,$AE377,COLUMNS($A:$B)),\"\")","v":""},{"$f":"IFERROR(INDEX($A$4:$R$1642,$AE377,COLUMNS($A:$C)),\"\")","v":""},{"$f":"IFERROR(INDEX($A$4:$R$1642,$AE377,COLUMNS($A:$R)),\"\")","v":""},null,null,null,null,null,null,null,null,46]
[null,null,null,null,null,null,null,null,null,null,null,null,null,null,null,null,null,null,null,null,null,null,null,null,2,0,null,"",{"$f":"ROWS($AC$4:AC378)","v":375},"",{"$f":"IFERROR(SMALL($AD$4:$AD$1642,ROWS($AD$4:AD378)),\"\")","v":""},null,{"$f":"IFERROR(INDEX($A$4:$R$1642,$AE378,COLUMNS($A:$B)),\"\")","v":""},{"$f":"IFERROR(INDEX($A$4:$R$1642,$AE378,COLUMNS($A:$C)),\"\")","v":""},{"$f":"IFERROR(INDEX($A$4:$R$1642,$AE378,COLUMNS($A:$R)),\"\")","v":""},null,null,null,null,null,null,null,null,46]
[{"$f":"AR379","v":47},null,{"$f":"(VLOOKUP($B379,'Elenco Prezzi2'!$A$2:$E$201,2,FALSE))","v":{"$error":"#N/A"}},null,null,null,null,null,null,null,null,null,null,null,null,null,null,null,null,null,null,null,null,null,2,0,null,"",{"$f":"ROWS($AC$4:AC379)","v":376},"",{"$f":"IFERROR(SMALL($AD$4:$AD$1642,ROWS($AD$4:AD379)),\"\")","v":""},null,{"$f":"IFERROR(INDEX($A$4:$R$1642,$AE379,COLUMNS($A:$B)),\"\")","v":""},{"$f":"IFERROR(INDEX($A$4:$R$1642,$AE379,COLUMNS($A:$C)),\"\")","v":""},{"$f":"IFERROR(INDEX($A$4:$R$1642,$AE379,COLUMNS($A:$R)),\"\")","v":""},null,null,null,null,null,null,null,1,47]
[null,null,null,{"$f":"CONCATENATE(AK380&AL380&AM380&AN380)","v":""},null,null,null,null,{"$f":"IFERROR(IF(PRODUCT(E380:H380)=0,\"\",PRODUCT(E380:H380)),\"\")","v":""},{"$f":"I380","v":""},null,{"$f":"IF(E380>0,\" (p/u) \"&Modulo2.GetFormula(E380),\"\")","v":""},{"$f":"IF(F380>0,\" (lu) \"&Modulo2.GetFormula(F380),\"\")","v":""},{"$f":"IF(G380>0,\" (la) \"&Modulo2.GetFormula(G380),\"\")","v":""},{"$f":"IF(H380>0,\" (H) \"&Modulo2.GetFormula(H380),\"\")","v":""},null,null,null,null,null,null,null,null,null,2,0,null,"",{"$f":"ROWS($AC$4:AC380)","v":377},"",{"$f":"IFERROR(SMALL($AD$4:$AD$1642,ROWS($AD$4:AD380)),\"\")","v":""},null,{"$f":"IFERROR(INDEX($A$4:$R$1642,$AE380,COLUMNS($A:$B)),\"\")","v":""},{"$f":"IFERROR(INDEX($A$4:$R$1642,$AE380,COLUMNS($A:$C)),\"\")","v":""},{"$f":"IFERROR(INDEX($A$4:$R$1642,$AE380,COLUMNS($A:$R)),\"\")","v":""},null,{"$f":"IFERROR(IF(SEARCH(\"=\",L380),L380,\"\"),\"\")","v":""},{"$f":"IFERROR(IF(SEARCH(\"=\",M380),M380,\"\"),\"\")","v":""},{"$f":"IFERROR(IF(SEARCH(\"=\",N380),N380,\"\"),\"\")","v":""},{"$f":"IFERROR(IF(SEARCH(\"=\",O380),O380,\"\"),\"\")","v":""},null,null,null,47]
[null,null,null,"",null,null,null,null,"","",null,{"$f":"IF(E381>0,\" (p/u) \"&Modulo2.GetFormula(E381),\"\")","v":""},{"$f":"IF(F381>0,\" (lu) \"&Modulo2.GetFormula(F381),\"\")","v":""},{"$f":"IF(G381>0,\" (la) \"&Modulo2.GetFormula(G381),\"\")","v":""},{"$f":"IF(H381>0,\" (H) \"&Modulo2.GetFormula(H381),\"\")","v":""},null,null,null,null,null,null,null,null,null,2,0,null,"",{"$f":"ROWS($AC$4:AC381)","v":378},"",{"$f":"IFERROR(SMALL($AD$4:$AD$1642,ROWS($AD$4:AD381)),\"\")","v":""},null,{"$f":"IFERROR(INDEX($A$4:$R$1642,$AE381,COLUMNS($A:$B)),\"\")","v":""},{"$f":"IFERROR(INDEX($A$4:$R$1642,$AE381,COLUMNS($A:$C)),\"\")","v":""},{"$f":"IFERROR(INDEX($A$4:$R$1642,$AE381,COLUMNS($A:$R)),\"\")","v":""},null,"","","","",null,null,null,47]
[null,null,null,"",null,null,null,null,"","",null,{"$f":"IF(E382>0,\" (p/u) \"&Modulo2.GetFormula(E382),\"\")","v":""},{"$f":"IF(F382>0,\" (lu) \"&Modulo2.GetFormula(F382),\"\")","v":""},{"$f":"IF(G382>0,\" (la) \"&Modulo2.GetFormula(G382),\"\")","v":""},{"$f":"IF(H382>0,\" (H) \"&Modulo2.GetFormula(H382),\"\")","v":""},null,null,null,null,null,null,null,null,null,2,0,null,"",{"$f":"ROWS($AC$4:AC382)","v":379},"",{"$f":"IFERROR(SMALL($AD$4:$AD$1642,ROWS($AD$4:AD382)),\"\")","v":""},null,{"$f":"IFERROR(INDEX($A$4:$R$1642,$AE382,COLUMNS($A:$B)),\"\")","v":""},{"$f":"IFERROR(INDEX($A$4:$R$1642,$AE382,COLUMNS($A:$C)),\"\")","v":""},{"$f":"IFERROR(INDEX($A$4:$R$1642,$AE382,COLUMNS($A:$R)),\"\")","v":""},null,"","","","",null,null,null,47]
[null,null,null,null,null,null,null,{"$f":"CONCATENATE(\"SOMMANO [\",VLOOKUP(B379,'Elenco Prezzi2'!$A$2:$E$201,3,FALSE()),\"]\")","v":{"$error":"#N/A"}},{"$f":"IF(T383=\"s\",V384,SUBTOTAL(9,I379:I383))","v":{"$error":"#REF!"}},null,{"$f":"VLOOKUP(B379,'Elenco Prezzi2'!$A$2:$E$201,5,FALSE)","v":{"$error":"#N/A"}},null,null,null,null,null,null,{"$f":"IFERROR(I383*K383,\"\")","v":""},null,"s",null,null,null,{"$f":"R383","v":""},2,0,null,"",{"$f":"ROWS($AC$4:AC383)","v":380},"",{"$f":"IFERROR(SMALL($AD$4:$AD$1642,ROWS($AD$4:AD383)),\"\")","v":""},null,{"$f":"IFERROR(INDEX($A$4:$R$1642,$AE383,COLUMNS($A:$B)),\"\")","v":""},{"$f":"IFERROR(INDEX($A$4:$R$1642,$AE383,COLUMNS($A:$C)),\"\")","v":""},{"$f":"IFERROR(INDEX($A$4:$R$1642,$AE383,COLUMNS($A:$R)),\"\")","v":""},null,null,null,null,null,null,null,null,47]
[null,null,null,null,null,null,null,{"$f":"IF(I384<0,\"a detrarre\",\"\")","v":""},{"$f":"SUMIF(I379:I382,\"<0\")","v":0},null,null,null,null,null,null,null,null,null,{"$f":"R383","v":""},null,null,{"$f":"VLOOKUP(B379,#REF!,4,FALSE)","v":{"$error":"#REF!"}},null,null,2,0,null,"",{"$f":"ROWS($AC$4:AC384)","v":381},"",{"$f":"IFERROR(SMALL($AD$4:$AD$1642,ROWS($AD$4:AD384)),\"\")","v":""},null,{"$f":"IFERROR(INDEX($A$4:$R$1642,$AE384,COLUMNS($A:$B)),\"\")","v":""},{"$f":"IFERROR(INDEX($A$4:$R$1642,$AE384,COLUMNS($A:$C)),\"\")","v":""},{"$f":"IFERROR(INDEX($A$4:$R$1642,$AE384,COLUMNS($A:$R)),\"\")","v":""},null,null,null,null,null,null,null,null,47]
[null,null,null,null,null,null,null,null,null,null,null,null,null,null,null,null,null,null,null,null,null,null,null,null,2,0,null,"",{"$f":"ROWS($AC$4:AC385)","v":382},"",{"$f":"IFERROR(SMALL($AD$4:$AD$1642,ROWS($AD$4:AD385)),\"\")","v":""},null,{"$f":"IFERROR(INDEX($A$4:$R$1642,$AE385,COLUMNS($A:$B)),\"\")","v":""},{"$f":"IFERROR(INDEX($A$4:$R$1642,$AE385,COLUMNS($A:$C)),\"\")","v":""},{"$f":"IFERROR(INDEX($A$4:$R$1642,$AE385,COLUMNS($A:$R)),\"\")","v":""},null,null,null,null,null,null,null,null,47]
[null,null,null,null,null,null,null,null,null,null,null,null,null,null,null,null,null,null,null,null,null,null,null,null,2,0,null,"",{"$f":"ROWS($AC$4:AC386)","v":383},"",{"$f":"IFERROR(SMALL($AD$4:$AD$1642,ROWS($AD$4:AD386)),\"\")","v":""},null,{"$f":"IFERROR(INDEX($A$4:$R$1642,$AE386,COLUMNS($A:$B)),\"\")","v":""},{"$f":"IFERROR(INDEX($A$4:$R$1642,$AE386,COLUMNS($A:$C)),\"\")","v":""},{"$f":"IFERROR(INDEX($A$4:$R$1642,$AE386,COLUMNS($A:$R)),\"\")","v":""},null,null,null,null,null,null,null,null,47]
[{"$f":"AR387","v":48},null,{"$f":"(VLOOKUP($B387,'Elenco Prezzi2'!$A$2:$E$201,2,FALSE))","v":{"$error":"#N/A"}},null,null,null,null,null,null,null,null,null,null,null,null,null,null,null,null,null,null,null,null,null,2,0,null,"",{"$f":"ROWS($AC$4:AC387)","v":384},"",{"$f":"IFERROR(SMALL($AD$4:$AD$1642,ROWS($AD$4:AD387)),\"\")","v":""},null,{"$f":"IFERROR(INDEX($A$4:$R$1642,$AE387,COLUMNS($A:$B)),\"\")","v":""},{"$f":"IFERROR(INDEX($A$4:$R$1642,$AE387,COLUMNS($A:$C)),\"\")","v":""},{"$f":"IFERROR(INDEX($A$4:$R$1642,$AE387,COLUMNS($A:$R)),\"\")","v":""},null,null,null,null,null,null,null,1,48]
[null,null,null,{"$f":"CONCATENATE(AK388&AL388&AM388&AN388)","v":""},null,null,null,null,{"$f":"IFERROR(IF(PRODUCT(E388:H388)=0,\"\",PRODUCT(E388:H388)),\"\")","v":""},{"$f":"I388","v":""},null,{"$f":"IF(E388>0,\" (p/u) \"&Modulo2.GetFormula(E388),\"\")","v":""},{"$f":"IF(F388>0,\" (lu) \"&Modulo2.GetFormula(F388),\"\")","v":""},{"$f":"IF(G388>0,\" (la) \"&Modulo2.GetFormula(G388),\"\")","v":""},{"$f":"IF(H388>0,\" (H) \"&Modulo2.GetFormula(H388),\"\")","v":""},null,null,null,null,null,null,null,null,null,2,0,null,"",{"$f":"ROWS($AC$4:AC388)","v":385},"",{"$f":"IFERROR(SMALL($AD$4:$AD$1642,ROWS($AD$4:AD388)),\"\")","v":""},null,{"$f":"IFERROR(INDEX($A$4:$R$1642,$AE388,COLUMNS($A:$B)),\"\")","v":""},{"$f":"IFERROR(INDEX($A$4:$R$1642,$AE388,COLUMNS($A:$C)),\"\")","v":""},{"$f":"IFERROR(INDEX($A$4:$R$1642,$AE388,COLUMNS($A:$R)),\"\")","v":""},null,{"$f":"IFERROR(IF(SEARCH(\"=\",L388),L388,\"\"),\"\")","v":""},{"$f":"IFERROR(IF(SEARCH(\"=\",M388),M388,\"\"),\"\")","v":""},{"$f":"IFERROR(IF(SEARCH(\"=\",N388),N388,\"\"),\"\")","v":""},{"$f":"IFERROR(IF(SEARCH(\"=\",O388),O388,\"\"),\"\")","v":""},null,null,null,48]
[null,null,null,"",null,null,null,null,"","",null,{"$f":"IF(E389>0,\" (p/u) \"&Modulo2.GetFormula(E389),\"\")","v":""},{"$f":"IF(F389>0,\" (lu) \"&Modulo2.GetFormula(F389),\"\")","v":""},{"$f":"IF(G389>0,\" (la) \"&Modulo2.GetFormula(G389),\"\")","v":""},{"$f":"IF(H389>0,\" (H) \"&Modulo2.GetFormula(H389),\"\")","v":""},null,null,null,null,null,null,null,null,null,2,0,null,"",{"$f":"ROWS($AC$4:AC389)","v":386},"",{"$f":"IFERROR(SMALL($AD$4:$AD$1642,ROWS($AD$4:AD389)),\"\")","v":""},null,{"$f":"IFERROR(INDEX($A$4:$R$1642,$AE389,COLUMNS($A:$B)),\"\")","v":""},{"$f":"IFERROR(INDEX($A$4:$R$1642,$AE389,COLUMNS($A:$C)),\"\")","v":""},{"$f":"IFERROR(INDEX($A$4:$R$1642,$AE389,COLUMNS($A:$R)),\"\")","v":""},null,"","","","",null,null,null,48]
[null,null,null,"",null,null,null,null,"","",null,{"$f":"IF(E390>0,\" (p/u) \"&Modulo2.GetFormula(E390),\"\")","v":""},{"$f":"IF(F390>0,\" (lu) \"&Modulo2.GetFormula(F390),\"\")","v":""},{"$f":"IF(G390>0,\" (la) \"&Modulo2.GetFormula(G390),\"\")","v":""},{"$f":"IF(H390>0,\" (H) \"&Modulo2.GetFormula(H390),\"\")","v":""},null,null,null,null,null,null,null,null,null,2,0,null,"",{"$f":"ROWS($AC$4:AC390)","v":387},"",{"$f":"IFERROR(SMALL($AD$4:$AD$1642,ROWS($AD$4:AD390)),\"\")","v":""},null,{"$f":"IFERROR(INDEX($A$4:$R$1642,$AE390,COLUMNS($A:$B)),\"\")","v":""},{"$f":"IFERROR(INDEX($A$4:$R$1642,$AE390,COLUMNS($A:$C)),\"\")","v":""},{"$f":"IFERROR(INDEX($A$4:$R$1642,$AE390,COLUMNS($A:$R)),\"\")","v":""},null,"","","","",null,null,null,48]
[null,null,null,null,null,null,null,{"$f":"CONCATENATE(\"SOMMANO [\",VLOOKUP(B387,'Elenco Prezzi2'!$A$2:$E$201,3,FALSE()),\"]\")","v":{"$error":"#N/A"}},{"$f":"IF(T391=\"s\",V392,SUBTOTAL(9,I387:I391))","v":{"$error":"#REF!"}},null,{"$f":"VLOOKUP(B387,'Elenco Prezzi2'!$A$2:$E$201,5,FALSE)","v":{"$error":"#N/A"}},null,null,null,null,null,null,{"$f":"IFERROR(I391*K391,\"\")","v":""},null,"s",null,null,null,{"$f":"R391","v":""},2,0,null,"",{"$f":"ROWS($AC$4:AC391)","v":388},"",{"$f":"IFERROR(SMALL($AD$4:$AD$1642,ROWS($AD$4:AD391)),\"\")","v":""},null,{"$f":"IFERROR(INDEX($A$4:$R$1642,$AE391,COLUMNS($A:$B)),\"\")","v":""},{"$f":"IFERROR(INDEX($A$4:$R$1642,$AE391,COLUMNS($A:$C)),\"\")","v":""},{"$f":"IFERROR(INDEX($A$4:$R$1642,$AE391,COLUMNS($A:$R)),\"\")","v":""},null,null,null,null,null,null,null,null,48]
[null,null,null,null,null,null,null,{"$f":"IF(I392<0,\"a detrarre\",\"\")","v":""},{"$f":"SUMIF(I387:I390,\"<0\")","v":0},null,null,null,null,null,null,null,null,null,{"$f":"R391","v":""},null,null,{"$f":"VLOOKUP(B387,#REF!,4,FALSE)","v":{"$error":"#REF!"}},null,null,2,0,null,"",{"$f":"ROWS($AC$4:AC392)","v":389},"",{"$f":"IFERROR(SMALL($AD$4:$AD$1642,ROWS($AD$4:AD392)),\"\")","v":""},null,{"$f":"IFERROR(INDEX($A$4:$R$1642,$AE392,COLUMNS($A:$B)),\"\")","v":""},{"$f":"IFERROR(INDEX($A$4:$R$1642,$AE392,COLUMNS($A:$C)),\"\")","v":""},{"$f":"IFERROR(INDEX($A$4:$R$1642,$AE392,COLUMNS($A:$R)),\"\")","v":""},null,null,null,null,null,null,null,null,48]
[null,null,null,null,null,null,null,null,null,null,null,null,null,null,null,null,null,null,null,null,null,null,null,null,2,0,null,"",{"$f":"ROWS($AC$4:AC393)","v":390},"",{"$f":"IFERROR(SMALL($AD$4:$AD$1642,ROWS($AD$4:AD393)),\"\")","v":""},null,{"$f":"IFERROR(INDEX($A$4:$R$1642,$AE393,COLUMNS($A:$B)),\"\")","v":""},{"$f":"IFERROR(INDEX($A$4:$R$1642,$AE393,COLUMNS($A:$C)),\"\")","v":""},{"$f":"IFERROR(INDEX($A$4:$R$1642,$AE393,COLUMNS($A:$R)),\"\")","v":""},null,null,null,null,null,null,null,null,48]
[null,null,null,null,null,null,null,null,null,null,null,null,null,null,null,null,null,null,null,null,null,null,null,null,2,0,null,"",{"$f":"ROWS($AC$4:AC394)","v":391},"",{"$f":"IFERROR(SMALL($AD$4:$AD$1642,ROWS($AD$4:AD394)),\"\")","v":""},null,{"$f":"IFERROR(INDEX($A$4:$R$1642,$AE394,COLUMNS($A:$B)),\"\")","v":""},{"$f":"IFERROR(INDEX($A$4:$R$1642,$AE394,COLUMNS($A:$C)),\"\")","v":""},{"$f":"IFERROR(INDEX($A$4:$R$1642,$AE394,COLUMNS($A:$R)),\"\")","v":""},null,null,null,null,null,null,null,null,48]
[{"$f":"AR395","v":49},null,{"$f":"(VLOOKUP($B395,'Elenco Prezzi2'!$A$2:$E$201,2,FALSE))","v":{"$error":"#N/A"}},null,null,null,null,null,null,null,null,null,null,null,null,null,null,null,null,null,null,null,null,null,2,0,null,"",{"$f":"ROWS($AC$4:AC395)","v":392},"",{"$f":"IFERROR(SMALL($AD$4:$AD$1642,ROWS($AD$4:AD395)),\"\")","v":""},null,{"$f":"IFERROR(INDEX($A$4:$R$1642,$AE395,COLUMNS($A:$B)),\"\")","v":""},{"$f":"IFERROR(INDEX($A$4:$R$1642,$AE395,COLUMNS($A:$C)),\"\")","v":""},{"$f":"IFERROR(INDEX($A$4:$R$1642,$AE395,COLUMNS($A:$R)),\"\")","v":""},null,null,null,null,null,null,null,1,49]
[null,null,null,{"$f":"CONCATENATE(AK396&AL396&AM396&AN396)","v":""},null,null,null,null,{"$f":"IFERROR(IF(PRODUCT(E396:H396)=0,\"\",PRODUCT(E396:H396)),\"\")","v":""},{"$f":"I396","v":""},null,{"$f":"IF(E396>0,\" (p/u) \"&Modulo2.GetFormula(E396),\"\")","v":""},{"$f":"IF(F396>0,\" (lu) \"&Modulo2.GetFormula(F396),\"\")","v":""},{"$f":"IF(G396>0,\" (la) \"&Modulo2.GetFormula(G396),\"\")","v":""},{"$f":"IF(H396>0,\" (H) \"&Modulo2.GetFormula(H396),\"\")","v":""},null,null,null,null,null,null,null,null,null,2,0,null,"",{"$f":"ROWS($AC$4:AC396)","v":393},"",{"$f":"IFERROR(SMALL($AD$4:$AD$1642,ROWS($AD$4:AD396)),\"\")","v":""},null,{"$f":"IFERROR(INDEX($A$4:$R$1642,$AE396,COLUMNS($A:$B)),\"\")","v":""},{"$f":"IFERROR(INDEX($A$4:$R$1642,$AE396,COLUMNS($A:$C)),\"\")","v":""},{"$f":"IFERROR(INDEX($A$4:$R$1642,$AE396,COLUMNS($A:$R)),\"\")","v":""},null,{"$f":"IFERROR(IF(SEARCH(\"=\",L396),L396,\"\"),\"\")","v":""},{"$f":"IFERROR(IF(SEARCH(\"=\",M396),M396,\"\"),\"\")","v":""},{"$f":"IFERROR(IF(SEARCH(\"=\",N396),N396,\"\"),\"\")","v":""},{"$f":"IFERROR(IF(SEARCH(\"=\",O396),O396,\"\"),\"\")","v":""},null,null,null,49]
[null,null,null,"",null,null,null,null,"","",null,{"$f":"IF(E397>0,\" (p/u) \"&Modulo2.GetFormula(E397),\"\")","v":""},{"$f":"IF(F397>0,\" (lu) \"&Modulo2.GetFormula(F397),\"\")","v":""},{"$f":"IF(G397>0,\" (la) \"&Modulo2.GetFormula(G397),\"\")","v":""},{"$f":"IF(H397>0,\" (H) \"&Modulo2.GetFormula(H397),\"\")","v":""},null,null,null,null,null,null,null,null,null,2,0,null,"",{"$f":"ROWS($AC$4:AC397)","v":394},"",{"$f":"IFERROR(SMALL($AD$4:$AD$1642,ROWS($AD$4:AD397)),\"\")","v":""},null,{"$f":"IFERROR(INDEX($A$4:$R$1642,$AE397,COLUMNS($A:$B)),\"\")","v":""},{"$f":"IFERROR(INDEX($A$4:$R$1642,$AE397,COLUMNS($A:$C)),\"\")","v":""},{"$f":"IFERROR(INDEX($A$4:$R$1642,$AE397,COLUMNS($A:$R)),\"\")","v":""},null,"","","","",null,null,null,49]
[null,null,null,"",null,null,null,null,"","",null,{"$f":"IF(E398>0,\" (p/u) \"&Modulo2.GetFormula(E398),\"\")","v":""},{"$f":"IF(F398>0,\" (lu) \"&Modulo2.GetFormula(F398),\"\")","v":""},{"$f":"IF(G398>0,\" (la) \"&Modulo2.GetFormula(G398),\"\")","v":""},{"$f":"IF(H398>0,\" (H) \"&Modulo2.GetFormula(H398),\"\")","v":""},null,null,null,null,null,null,null,null,null,2,0,null,"",{"$f":"ROWS($AC$4:AC398)","v":395},"",{"$f":"IFERROR(SMALL($AD$4:$AD$1642,ROWS($AD$4:AD398)),\"\")","v":""},null,{"$f":"IFERROR(INDEX($A$4:$R$1642,$AE398,COLUMNS($A:$B)),\"\")","v":""},{"$f":"IFERROR(INDEX($A$4:$R$1642,$AE398,COLUMNS($A:$C)),\"\")","v":""},{"$f":"IFERROR(INDEX($A$4:$R$1642,$AE398,COLUMNS($A:$R)),\"\")","v":""},null,"","","","",null,null,null,49]
[null,null,null,null,null,null,null,{"$f":"CONCATENATE(\"SOMMANO [\",VLOOKUP(B395,'Elenco Prezzi2'!$A$2:$E$201,3,FALSE()),\"]\")","v":{"$error":"#N/A"}},{"$f":"IF(T399=\"s\",V400,SUBTOTAL(9,I395:I399))","v":{"$error":"#REF!"}},null,{"$f":"VLOOKUP(B395,'Elenco Prezzi2'!$A$2:$E$201,5,FALSE)","v":{"$error":"#N/A"}},null,null,null,null,null,null,{"$f":"IFERROR(I399*K399,\"\")","v":""},null,"s",null,null,null,{"$f":"R399","v":""},2,0,null,"",{"$f":"ROWS($AC$4:AC399)","v":396},"",{"$f":"IFERROR(SMALL($AD$4:$AD$1642,ROWS($AD$4:AD399)),\"\")","v":""},null,{"$f":"IFERROR(INDEX($A$4:$R$1642,$AE399,COLUMNS($A:$B)),\"\")","v":""},{"$f":"IFERROR(INDEX($A$4:$R$1642,$AE399,COLUMNS($A:$C)),\"\")","v":""},{"$f":"IFERROR(INDEX($A$4:$R$1642,$AE399,COLUMNS($A:$R)),\"\")","v":""},null,null,null,null,null,null,null,null,49]
[null,null,null,null,null,null,null,{"$f":"IF(I400<0,\"a detrarre\",\"\")","v":""},{"$f":"SUMIF(I395:I398,\"<0\")","v":0},null,null,null,null,null,null,null,null,null,{"$f":"R399","v":""},null,null,{"$f":"VLOOKUP(B395,#REF!,4,FALSE)","v":{"$error":"#REF!"}},null,null,2,0,null,"",{"$f":"ROWS($AC$4:AC400)","v":397},"",{"$f":"IFERROR(SMALL($AD$4:$AD$1642,ROWS($AD$4:AD400)),\"\")","v":""},null,{"$f":"IFERROR(INDEX($A$4:$R$1642,$AE400,COLUMNS($A:$B)),\"\")","v":""},{"$f":"IFERROR(INDEX($A$4:$R$1642,$AE400,COLUMNS($A:$C)),\"\")","v":""},{"$f":"IFERROR(INDEX($A$4:$R$1642,$AE400,COLUMNS($A:$R)),\"\")","v":""},null,null,null,null,null,null,null,null,49]
[null,null,null,null,null,null,null,null,null,null,null,null,null,null,null,null,null,null,null,null,null,null,null,null,2,0,null,"",{"$f":"ROWS($AC$4:AC401)","v":398},"",{"$f":"IFERROR(SMALL($AD$4:$AD$1642,ROWS($AD$4:AD401)),\"\")","v":""},null,{"$f":"IFERROR(INDEX($A$4:$R$1642,$AE401,COLUMNS($A:$B)),\"\")","v":""},{"$f":"IFERROR(INDEX($A$4:$R$1642,$AE401,COLUMNS($A:$C)),\"\")","v":""},{"$f":"IFERROR(INDEX($A$4:$R$1642,$AE401,COLUMNS($A:$R)),\"\")","v":""},null,null,null,null,null,null,null,null,49]
[null,null,null,null,null,null,null,null,null,null,null,null,null,null,null,null,null,null,null,null,null,null,null,null,2,0,null,"",{"$f":"ROWS($AC$4:AC402)","v":399},"",{"$f":"IFERROR(SMALL($AD$4:$AD$1642,ROWS($AD$4:AD402)),\"\")","v":""},null,{"$f":"IFERROR(INDEX($A$4:$R$1642,$AE402,COLUMNS($A:$B)),\"\")","v":""},{"$f":"IFERROR(INDEX($A$4:$R$1642,$AE402,COLUMNS($A:$C)),\"\")","v":""},{"$f":"IFERROR(INDEX($A$4:$R$1642,$AE402,COLUMNS($A:$R)),\"\")","v":""},null,null,null,null,null,null,null,null,49]
[{"$f":"AR403","v":50},null,{"$f":"(VLOOKUP($B403,'Elenco Prezzi2'!$A$2:$E$201,2,FALSE))","v":{"$error":"#N/A"}},null,null,null,null,null,null,null,null,null,null,null,null,null,null,null,null,null,null,null,null,null,2,0,null,"",{"$f":"ROWS($AC$4:AC403)","v":400},"",{"$f":"IFERROR(SMALL($AD$4:$AD$1642,ROWS($AD$4:AD403)),\"\")","v":""},null,{"$f":"IFERROR(INDEX($A$4:$R$1642,$AE403,COLUMNS($A:$B)),\"\")","v":""},{"$f":"IFERROR(INDEX($A$4:$R$1642,$AE403,COLUMNS($A:$C)),\"\")","v":""},{"$f":"IFERROR(INDEX($A$4:$R$1642,$AE403,COLUMNS($A:$R)),\"\")","v":""},null,null,null,null,null,null,null,1,50]
[null,null,null,{"$f":"CONCATENATE(AK404&AL404&AM404&AN404)","v":""},null,null,null,null,{"$f":"IFERROR(IF(PRODUCT(E404:H404)=0,\"\",PRODUCT(E404:H404)),\"\")","v":""},{"$f":"I404","v":""},null,{"$f":"IF(E404>0,\" (p/u) \"&Modulo2.GetFormula(E404),\"\")","v":""},{"$f":"IF(F404>0,\" (lu) \"&Modulo2.GetFormula(F404),\"\")","v":""},{"$f":"IF(G404>0,\" (la) \"&Modulo2.GetFormula(G404),\"\")","v":""},{"$f":"IF(H404>0,\" (H) \"&Modulo2.GetFormula(H404),\"\")","v":""},null,null,null,null,null,null,null,null,null,2,0,null,"",{"$f":"ROWS($AC$4:AC404)","v":401},"",{"$f":"IFERROR(SMALL($AD$4:$AD$1642,ROWS($AD$4:AD404)),\"\")","v":""},null,{"$f":"IFERROR(INDEX($A$4:$R$1642,$AE404,COLUMNS($A:$B)),\"\")","v":""},{"$f":"IFERROR(INDEX($A$4:$R$1642,$AE404,COLUMNS($A:$C)),\"\")","v":""},{"$f":"IFERROR(INDEX($A$4:$R$1642,$AE404,COLUMNS($A:$R)),\"\")","v":""},null,{"$f":"IFERROR(IF(SEARCH(\"=\",L404),L404,\"\"),\"\")","v":""},{"$f":"IFERROR(IF(SEARCH(\"=\",M404),M404,\"\"),\"\")","v":""},{"$f":"IFERROR(IF(SEARCH(\"=\",N404),N404,\"\"),\"\")","v":""},{"$f":"IFERROR(IF(SEARCH(\"=\",O404),O404,\"\"),\"\")","v":""},null,null,null,50]
[null,null,null,"",null,null,null,null,"","",null,{"$f":"IF(E405>0,\" (p/u) \"&Modulo2.GetFormula(E405),\"\")","v":""},{"$f":"IF(F405>0,\" (lu) \"&Modulo2.GetFormula(F405),\"\")","v":""},{"$f":"IF(G405>0,\" (la) \"&Modulo2.GetFormula(G405),\"\")","v":""},{"$f":"IF(H405>0,\" (H) \"&Modulo2.GetFormula(H405),\"\")","v":""},null,null,null,null,null,null,null,null,null,2,0,null,"",{"$f":"ROWS($AC$4:AC405)","v":402},"",{"$f":"IFERROR(SMALL($AD$4:$AD$1642,ROWS($AD$4:AD405)),\"\")","v":""},null,{"$f":"IFERROR(INDEX($A$4:$R$1642,$AE405,COLUMNS($A:$B)),\"\")","v":""},{"$f":"IFERROR(INDEX($A$4:$R$1642,$AE405,COLUMNS($A:$C)),\"\")","v":""},{"$f":"IFERROR(INDEX($A$4:$R$1642,$AE405,COLUMNS($A:$R)),\"\")","v":""},null,"","","","",null,null,null,50]
[null,null,null,"",null,null,null,null,"","",null,{"$f":"IF(E406>0,\" (p/u) \"&Modulo2.GetFormula(E406),\"\")","v":""},{"$f":"IF(F406>0,\" (lu) \"&Modulo2.GetFormula(F406),\"\")","v":""},{"$f":"IF(G406>0,\" (la) \"&Modulo2.GetFormula(G406),\"\")","v":""},{"$f":"IF(H406>0,\" (H) \"&Modulo2.GetFormula(H406),\"\")","v":""},null,null,null,null,null,null,null,null,null,2,0,null,"",{"$f":"ROWS($AC$4:AC406)","v":403},"",{"$f":"IFERROR(SMALL($AD$4:$AD$1642,ROWS($AD$4:AD406)),\"\")","v":""},null,{"$f":"IFERROR(INDEX($A$4:$R$1642,$AE406,COLUMNS($A:$B)),\"\")","v":""},{"$f":"IFERROR(INDEX($A$4:$R$1642,$AE406,COLUMNS($A:$C)),\"\")","v":""},{"$f":"IFERROR(INDEX($A$4:$R$1642,$AE406,COLUMNS($A:$R)),\"\")","v":""},null,"","","","",null,null,null,50]
[null,null,null,null,null,null,null,{"$f":"CONCATENATE(\"SOMMANO [\",VLOOKUP(B403,'Elenco Prezzi2'!$A$2:$E$201,3,FALSE()),\"]\")","v":{"$error":"#N/A"}},{"$f":"IF(T407=\"s\",V408,SUBTOTAL(9,I403:I407))","v":{"$error":"#REF!"}},null,{"$f":"VLOOKUP(B403,'Elenco Prezzi2'!$A$2:$E$201,5,FALSE)","v":{"$error":"#N/A"}},null,null,null,null,null,null,{"$f":"IFERROR(I407*K407,\"\")","v":""},null,"s",null,null,null,{"$f":"R407","v":""},2,0,null,"",{"$f":"ROWS($AC$4:AC407)","v":404},"",{"$f":"IFERROR(SMALL($AD$4:$AD$1642,ROWS($AD$4:AD407)),\"\")","v":""},null,{"$f":"IFERROR(INDEX($A$4:$R$1642,$AE407,COLUMNS($A:$B)),\"\")","v":""},{"$f":"IFERROR(INDEX($A$4:$R$1642,$AE407,COLUMNS($A:$C)),\"\")","v":""},{"$f":"IFERROR(INDEX($A$4:$R$1642,$AE407,COLUMNS($A:$R)),\"\")","v":""},null,null,null,null,null,null,null,null,50]
[null,null,null,null,null,null,null,{"$f":"IF(I408<0,\"a detrarre\",\"\")","v":""},{"$f":"SUMIF(I403:I406,\"<0\")","v":0},null,null,null,null,null,null,null,null,null,{"$f":"R407","v":""},null,null,{"$f":"VLOOKUP(B403,#REF!,4,FALSE)","v":{"$error":"#REF!"}},null,null,2,0,null,"",{"$f":"ROWS($AC$4:AC408)","v":405},"",{"$f":"IFERROR(SMALL($AD$4:$AD$1642,ROWS($AD$4:AD408)),\"\")","v":""},null,{"$f":"IFERROR(INDEX($A$4:$R$1642,$AE408,COLUMNS($A:$B)),\"\")","v":""},{"$f":"IFERROR(INDEX($A$4:$R$1642,$AE408,COLUMNS($A:$C)),\"\")","v":""},{"$f":"IFERROR(INDEX($A$4:$R$1642,$AE408,COLUMNS($A:$R)),\"\")","v":""},null,null,null,null,null,null,null,null,50]
[null,null,null,null,null,null,null,null,null,null,null,null,null,null,null,null,null,null,null,null,null,null,null,null,2,0,null,"",{"$f":"ROWS($AC$4:AC409)","v":406},"",{"$f":"IFERROR(SMALL($AD$4:$AD$1642,ROWS($AD$4:AD409)),\"\")","v":""},null,{"$f":"IFERROR(INDEX($A$4:$R$1642,$AE409,COLUMNS($A:$B)),\"\")","v":""},{"$f":"IFERROR(INDEX($A$4:$R$1642,$AE409,COLUMNS($A:$C)),\"\")","v":""},{"$f":"IFERROR(INDEX($A$4:$R$1642,$AE409,COLUMNS($A:$R)),\"\")","v":""},null,null,null,null,null,null,null,null,50]
[null,null,null,null,null,null,null,null,null,null,null,null,null,null,null,null,null,null,null,null,null,null,null,null,2,0,null,"",{"$f":"ROWS($AC$4:AC410)","v":407},"",{"$f":"IFERROR(SMALL($AD$4:$AD$1642,ROWS($AD$4:AD410)),\"\")","v":""},null,{"$f":"IFERROR(INDEX($A$4:$R$1642,$AE410,COLUMNS($A:$B)),\"\")","v":""},{"$f":"IFERROR(INDEX($A$4:$R$1642,$AE410,COLUMNS($A:$C)),\"\")","v":""},{"$f":"IFERROR(INDEX($A$4:$R$1642,$AE410,COLUMNS($A:$R)),\"\")","v":""},null,null,null,null,null,null,null,null,50]
[{"$f":"AR411","v":51},null,{"$f":"(VLOOKUP($B411,'Elenco Prezzi2'!$A$2:$E$201,2,FALSE))","v":{"$error":"#N/A"}},null,null,null,null,null,null,null,null,null,null,null,null,null,null,null,null,null,null,null,null,null,2,0,null,"",{"$f":"ROWS($AC$4:AC411)","v":408},"",{"$f":"IFERROR(SMALL($AD$4:$AD$1642,ROWS($AD$4:AD411)),\"\")","v":""},null,{"$f":"IFERROR(INDEX($A$4:$R$1642,$AE411,COLUMNS($A:$B)),\"\")","v":""},{"$f":"IFERROR(INDEX($A$4:$R$1642,$AE411,COLUMNS($A:$C)),\"\")","v":""},{"$f":"IFERROR(INDEX($A$4:$R$1642,$AE411,COLUMNS($A:$R)),\"\")","v":""},null,null,null,null,null,null,null,1,51]
[null,null,null,{"$f":"CONCATENATE(AK412&AL412&AM412&AN412)","v":""},null,null,null,null,{"$f":"IFERROR(IF(PRODUCT(E412:H412)=0,\"\",PRODUCT(E412:H412)),\"\")","v":""},{"$f":"I412","v":""},null,{"$f":"IF(E412>0,\" (p/u) \"&Modulo2.GetFormula(E412),\"\")","v":""},{"$f":"IF(F412>0,\" (lu) \"&Modulo2.GetFormula(F412),\"\")","v":""},{"$f":"IF(G412>0,\" (la) \"&Modulo2.GetFormula(G412),\"\")","v":""},{"$f":"IF(H412>0,\" (H) \"&Modulo2.GetFormula(H412),\"\")","v":""},null,null,null,null,null,null,null,null,null,2,0,null,"",{"$f":"ROWS($AC$4:AC412)","v":409},"",{"$f":"IFERROR(SMALL($AD$4:$AD$1642,ROWS($AD$4:AD412)),\"\")","v":""},null,{"$f":"IFERROR(INDEX($A$4:$R$1642,$AE412,COLUMNS($A:$B)),\"\")","v":""},{"$f":"IFERROR(INDEX($A$4:$R$1642,$AE412,COLUMNS($A:$C)),\"\")","v":""},{"$f":"IFERROR(INDEX($A$4:$R$1642,$AE412,COLUMNS($A:$R)),\"\")","v":""},null,{"$f":"IFERROR(IF(SEARCH(\"=\",L412),L412,\"\"),\"\")","v":""},{"$f":"IFERROR(IF(SEARCH(\"=\",M412),M412,\"\"),\"\")","v":""},{"$f":"IFERROR(IF(SEARCH(\"=\",N412),N412,\"\"),\"\")","v":""},{"$f":"IFERROR(IF(SEARCH(\"=\",O412),O412,\"\"),\"\")","v":""},null,null,null,51]
[null,null,null,"",null,null,null,null,"","",null,{"$f":"IF(E413>0,\" (p/u) \"&Modulo2.GetFormula(E413),\"\")","v":""},{"$f":"IF(F413>0,\" (lu) \"&Modulo2.GetFormula(F413),\"\")","v":""},{"$f":"IF(G413>0,\" (la) \"&Modulo2.GetFormula(G413),\"\")","v":""},{"$f":"IF(H413>0,\" (H) \"&Modulo2.GetFormula(H413),\"\")","v":""},null,null,null,null,null,null,null,null,null,2,0,null,"",{"$f":"ROWS($AC$4:AC413)","v":410},"",{"$f":"IFERROR(SMALL($AD$4:$AD$1642,ROWS($AD$4:AD413)),\"\")","v":""},null,{"$f":"IFERROR(INDEX($A$4:$R$1642,$AE413,COLUMNS($A:$B)),\"\")","v":""},{"$f":"IFERROR(INDEX($A$4:$R$1642,$AE413,COLUMNS($A:$C)),\"\")","v":""},{"$f":"IFERROR(INDEX($A$4:$R$1642,$AE413,COLUMNS($A:$R)),\"\")","v":""},null,"","","","",null,null,null,51]
[null,null,null,"",null,null,null,null,"","",null,{"$f":"IF(E414>0,\" (p/u) \"&Modulo2.GetFormula(E414),\"\")","v":""},{"$f":"IF(F414>0,\" (lu) \"&Modulo2.GetFormula(F414),\"\")","v":""},{"$f":"IF(G414>0,\" (la) \"&Modulo2.GetFormula(G414),\"\")","v":""},{"$f":"IF(H414>0,\" (H) \"&Modulo2.GetFormula(H414),\"\")","v":""},null,null,null,null,null,null,null,null,null,2,0,null,"",{"$f":"ROWS($AC$4:AC414)","v":411},"",{"$f":"IFERROR(SMALL($AD$4:$AD$1642,ROWS($AD$4:AD414)),\"\")","v":""},null,{"$f":"IFERROR(INDEX($A$4:$R$1642,$AE414,COLUMNS($A:$B)),\"\")","v":""},{"$f":"IFERROR(INDEX($A$4:$R$1642,$AE414,COLUMNS($A:$C)),\"\")","v":""},{"$f":"IFERROR(INDEX($A$4:$R$1642,$AE414,COLUMNS($A:$R)),\"\")","v":""},null,"","","","",null,null,null,51]
[null,null,null,null,null,null,null,{"$f":"CONCATENATE(\"SOMMANO [\",VLOOKUP(B411,'Elenco Prezzi2'!$A$2:$E$201,3,FALSE()),\"]\")","v":{"$error":"#N/A"}},{"$f":"IF(T415=\"s\",V416,SUBTOTAL(9,I411:I415))","v":{"$error":"#REF!"}},null,{"$f":"VLOOKUP(B411,'Elenco Prezzi2'!$A$2:$E$201,5,FALSE)","v":{"$error":"#N/A"}},null,null,null,null,null,null,{"$f":"IFERROR(I415*K415,\"\")","v":""},null,"s",null,null,null,{"$f":"R415","v":""},2,0,null,"",{"$f":"ROWS($AC$4:AC415)","v":412},"",{"$f":"IFERROR(SMALL($AD$4:$AD$1642,ROWS($AD$4:AD415)),\"\")","v":""},null,{"$f":"IFERROR(INDEX($A$4:$R$1642,$AE415,COLUMNS($A:$B)),\"\")","v":""},{"$f":"IFERROR(INDEX($A$4:$R$1642,$AE415,COLUMNS($A:$C)),\"\")","v":""},{"$f":"IFERROR(INDEX($A$4:$R$1642,$AE415,COLUMNS($A:$R)),\"\")","v":""},null,null,null,null,null,null,null,null,51]
[null,null,null,null,null,null,null,{"$f":"IF(I416<0,\"a detrarre\",\"\")","v":""},{"$f":"SUMIF(I411:I414,\"<0\")","v":0},null,null,null,null,null,null,null,null,null,{"$f":"R415","v":""},null,null,{"$f":"VLOOKUP(B411,#REF!,4,FALSE)","v":{"$error":"#REF!"}},null,null,2,0,null,"",{"$f":"ROWS($AC$4:AC416)","v":413},"",{"$f":"IFERROR(SMALL($AD$4:$AD$1642,ROWS($AD$4:AD416)),\"\")","v":""},null,{"$f":"IFERROR(INDEX($A$4:$R$1642,$AE416,COLUMNS($A:$B)),\"\")","v":""},{"$f":"IFERROR(INDEX($A$4:$R$1642,$AE416,COLUMNS($A:$C)),\"\")","v":""},{"$f":"IFERROR(INDEX($A$4:$R$1642,$AE416,COLUMNS($A:$R)),\"\")","v":""},null,null,null,null,null,null,null,null,51]
[null,null,null,null,null,null,null,null,null,null,null,null,null,null,null,null,null,null,null,null,null,null,null,null,2,0,null,"",{"$f":"ROWS($AC$4:AC417)","v":414},"",{"$f":"IFERROR(SMALL($AD$4:$AD$1642,ROWS($AD$4:AD417)),\"\")","v":""},null,{"$f":"IFERROR(INDEX($A$4:$R$1642,$AE417,COLUMNS($A:$B)),\"\")","v":""},{"$f":"IFERROR(INDEX($A$4:$R$1642,$AE417,COLUMNS($A:$C)),\"\")","v":""},{"$f":"IFERROR(INDEX($A$4:$R$1642,$AE417,COLUMNS($A:$R)),\"\")","v":""},null,null,null,null,null,null,null,null,51]
[null,null,null,null,null,null,null,null,null,null,null,null,null,null,null,null,null,null,null,null,null,null,null,null,2,0,null,"",{"$f":"ROWS($AC$4:AC418)","v":415},"",{"$f":"IFERROR(SMALL($AD$4:$AD$1642,ROWS($AD$4:AD418)),\"\")","v":""},null,{"$f":"IFERROR(INDEX($A$4:$R$1642,$AE418,COLUMNS($A:$B)),\"\")","v":""},{"$f":"IFERROR(INDEX($A$4:$R$1642,$AE418,COLUMNS($A:$C)),\"\")","v":""},{"$f":"IFERROR(INDEX($A$4:$R$1642,$AE418,COLUMNS($A:$R)),\"\")","v":""},null,null,null,null,null,null,null,null,51]
[{"$f":"AR419","v":52},null,{"$f":"(VLOOKUP($B419,'Elenco Prezzi2'!$A$2:$E$201,2,FALSE))","v":{"$error":"#N/A"}},null,null,null,null,null,null,null,null,null,null,null,null,null,null,null,null,null,null,null,null,null,2,0,null,{"$f":"IF(W419>0,\"OK\",\"\")","v":""},{"$f":"ROWS($AC$4:AC419)","v":416},{"$f":"IF(AB419=\"ok\",AC419,\"\")","v":""},{"$f":"IFERROR(SMALL($AD$4:$AD$1642,ROWS($AD$4:AD419)),\"\")","v":""},null,{"$f":"IFERROR(INDEX($A$4:$R$1642,$AE419,COLUMNS($A:$B)),\"\")","v":""},{"$f":"IFERROR(INDEX($A$4:$R$1642,$AE419,COLUMNS($A:$C)),\"\")","v":""},{"$f":"IFERROR(INDEX($A$4:$R$1642,$AE419,COLUMNS($A:$R)),\"\")","v":""},null,null,null,null,null,null,null,1,{"$f":"IF(AQ419=\"\",AR418,AR418+AQ419)","v":52}]
[null,null,null,{"$f":"CONCATENATE(AK420&AL420&AM420&AN420)","v":""},null,null,null,null,{"$f":"IFERROR(IF(PRODUCT(E420:H420)=0,\"\",PRODUCT(E420:H420)),\"\")","v":""},{"$f":"I420","v":""},null,{"$f":"IF(E420>0,\" (p/u) \"&Modulo2.GetFormula(E420),\"\")","v":""},{"$f":"IF(F420>0,\" (lu) \"&Modulo2.GetFormula(F420),\"\")","v":""},{"$f":"IF(G420>0,\" (la) \"&Modulo2.GetFormula(G420),\"\")","v":""},{"$f":"IF(H420>0,\" (H) \"&Modulo2.GetFormula(H420),\"\")","v":""},null,null,null,null,null,null,null,null,null,{"$f":"IF(AO420=\"\",Y419,Y419+AO420)","v":2},{"$f":"IF(AP420=\"\",Z419,Z419+AP420)","v":0},null,"",{"$f":"ROWS($AC$4:AC420)","v":417},"",{"$f":"IFERROR(SMALL($AD$4:$AD$1642,ROWS($AD$4:AD420)),\"\")","v":""},null,{"$f":"IFERROR(INDEX($A$4:$R$1642,$AE420,COLUMNS($A:$B)),\"\")","v":""},{"$f":"IFERROR(INDEX($A$4:$R$1642,$AE420,COLUMNS($A:$C)),\"\")","v":""},{"$f":"IFERROR(INDEX($A$4:$R$1642,$AE420,COLUMNS($A:$R)),\"\")","v":""},null,{"$f":"IFERROR(IF(SEARCH(\"=\",L420),L420,\"\"),\"\")","v":""},{"$f":"IFERROR(IF(SEARCH(\"=\",M420),M420,\"\"),\"\")","v":""},{"$f":"IFERROR(IF(SEARCH(\"=\",N420),N420,\"\"),\"\")","v":""},{"$f":"IFERROR(IF(SEARCH(\"=\",O420),O420,\"\"),\"\")","v":""},null,null,null,52]
[null,null,null,"",null,null,null,null,"","",null,{"$f":"IF(E421>0,\" (p/u) \"&Modulo2.GetFormula(E421),\"\")","v":""},{"$f":"IF(F421>0,\" (lu) \"&Modulo2.GetFormula(F421),\"\")","v":""},{"$f":"IF(G421>0,\" (la) \"&Modulo2.GetFormula(G421),\"\")","v":""},{"$f":"IF(H421>0,\" (H) \"&Modulo2.GetFormula(H421),\"\")","v":""},null,null,null,null,null,null,null,null,null,2,0,null,"",{"$f":"ROWS($AC$4:AC421)","v":418},"",{"$f":"IFERROR(SMALL($AD$4:$AD$1642,ROWS($AD$4:AD421)),\"\")","v":""},null,{"$f":"IFERROR(INDEX($A$4:$R$1642,$AE421,COLUMNS($A:$B)),\"\")","v":""},{"$f":"IFERROR(INDEX($A$4:$R$1642,$AE421,COLUMNS($A:$C)),\"\")","v":""},{"$f":"IFERROR(INDEX($A$4:$R$1642,$AE421,COLUMNS($A:$R)),\"\")","v":""},null,"","","","",null,null,null,52]
[null,null,null,"",null,null,null,null,"","",null,{"$f":"IF(E422>0,\" (p/u) \"&Modulo2.GetFormula(E422),\"\")","v":""},{"$f":"IF(F422>0,\" (lu) \"&Modulo2.GetFormula(F422),\"\")","v":""},{"$f":"IF(G422>0,\" (la) \"&Modulo2.GetFormula(G422),\"\")","v":""},{"$f":"IF(H422>0,\" (H) \"&Modulo2.GetFormula(H422),\"\")","v":""},null,null,null,null,null,null,null,null,null,2,0,null,"",{"$f":"ROWS($AC$4:AC422)","v":419},"",{"$f":"IFERROR(SMALL($AD$4:$AD$1642,ROWS($AD$4:AD422)),\"\")","v":""},null,{"$f":"IFERROR(INDEX($A$4:$R$1642,$AE422,COLUMNS($A:$B)),\"\")","v":""},{"$f":"IFERROR(INDEX($A$4:$R$1642,$AE422,COLUMNS($A:$C)),\"\")","v":""},{"$f":"IFERROR(INDEX($A$4:$R$1642,$AE422,COLUMNS($A:$R)),\"\")","v":""},null,"","","","",null,null,null,52]
[null,null,null,null,null,null,null,{"$f":"CONCATENATE(\"SOMMANO [\",VLOOKUP(B419,'Elenco Prezzi2'!$A$2:$E$201,3,FALSE()),\"]\")","v":{"$error":"#N/A"}},{"$f":"IF(T423=\"s\",V424,SUBTOTAL(9,I419:I423))","v":{"$error":"#REF!"}},null,{"$f":"VLOOKUP(B419,'Elenco Prezzi2'!$A$2:$E$201,5,FALSE)","v":{"$error":"#N/A"}},null,null,null,null,null,null,{"$f":"IFERROR(I423*K423,\"\")","v":""},null,"s",null,null,null,{"$f":"R423","v":""},2,0,null,"",{"$f":"ROWS($AC$4:AC423)","v":420},"",{"$f":"IFERROR(SMALL($AD$4:$AD$1642,ROWS($AD$4:AD423)),\"\")","v":""},null,{"$f":"IFERROR(INDEX($A$4:$R$1642,$AE423,COLUMNS($A:$B)),\"\")","v":""},{"$f":"IFERROR(INDEX($A$4:$R$1642,$AE423,COLUMNS($A:$C)),\"\")","v":""},{"$f":"IFERROR(INDEX($A$4:$R$1642,$AE423,COLUMNS($A:$R)),\"\")","v":""},null,null,null,null,null,null,null,null,52]
[null,null,null,null,null,null,null,{"$f":"IF(I424<0,\"a detrarre\",\"\")","v":""},{"$f":"SUMIF(I419:I422,\"<0\")","v":0},null,null,null,null,null,null,null,null,null,{"$f":"R423","v":""},null,null,{"$f":"VLOOKUP(B419,#REF!,4,FALSE)","v":{"$error":"#REF!"}},null,null,2,0,null,"",{"$f":"ROWS($AC$4:AC424)","v":421},"",{"$f":"IFERROR(SMALL($AD$4:$AD$1642,ROWS($AD$4:AD424)),\"\")","v":""},null,{"$f":"IFERROR(INDEX($A$4:$R$1642,$AE424,COLUMNS($A:$B)),\"\")","v":""},{"$f":"IFERROR(INDEX($A$4:$R$1642,$AE424,COLUMNS($A:$C)),\"\")","v":""},{"$f":"IFERROR(INDEX($A$4:$R$1642,$AE424,COLUMNS($A:$R)),\"\")","v":""},null,null,null,null,null,null,null,null,52]
[null,null,null,null,null,null,null,null,null,null,null,null,null,null,null,null,null,null,null,null,null,null,null,null,2,0,null,"",{"$f":"ROWS($AC$4:AC425)","v":422},"",{"$f":"IFERROR(SMALL($AD$4:$AD$1642,ROWS($AD$4:AD425)),\"\")","v":""},null,{"$f":"IFERROR(INDEX($A$4:$R$1642,$AE425,COLUMNS($A:$B)),\"\")","v":""},{"$f":"IFERROR(INDEX($A$4:$R$1642,$AE425,COLUMNS($A:$C)),\"\")","v":""},{"$f":"IFERROR(INDEX($A$4:$R$1642,$AE425,COLUMNS($A:$R)),\"\")","v":""},null,null,null,null,null,null,null,null,52]
[null,null,null,null,null,null,null,null,null,null,null,null,null,null,null,null,null,null,null,null,null,null,null,null,2,0,null,"",{"$f":"ROWS($AC$4:AC426)","v":423},"",{"$f":"IFERROR(SMALL($AD$4:$AD$1642,ROWS($AD$4:AD426)),\"\")","v":""},null,{"$f":"IFERROR(INDEX($A$4:$R$1642,$AE426,COLUMNS($A:$B)),\"\")","v":""},{"$f":"IFERROR(INDEX($A$4:$R$1642,$AE426,COLUMNS($A:$C)),\"\")","v":""},{"$f":"IFERROR(INDEX($A$4:$R$1642,$AE426,COLUMNS($A:$R)),\"\")","v":""},null,null,null,null,null,null,null,null,52]
[{"$f":"AR427","v":53},null,{"$f":"(VLOOKUP($B427,'Elenco Prezzi2'!$A$2:$E$201,2,FALSE))","v":{"$error":"#N/A"}},null,null,null,null,null,null,null,null,null,null,null,null,null,null,null,null,null,null,null,null,null,2,0,null,"",{"$f":"ROWS($AC$4:AC427)","v":424},"",{"$f":"IFERROR(SMALL($AD$4:$AD$1642,ROWS($AD$4:AD427)),\"\")","v":""},null,{"$f":"IFERROR(INDEX($A$4:$R$1642,$AE427,COLUMNS($A:$B)),\"\")","v":""},{"$f":"IFERROR(INDEX($A$4:$R$1642,$AE427,COLUMNS($A:$C)),\"\")","v":""},{"$f":"IFERROR(INDEX($A$4:$R$1642,$AE427,COLUMNS($A:$R)),\"\")","v":""},null,null,null,null,null,null,null,1,53]
[null,null,null,{"$f":"CONCATENATE(AK428&AL428&AM428&AN428)","v":""},null,null,null,null,{"$f":"IFERROR(IF(PRODUCT(E428:H428)=0,\"\",PRODUCT(E428:H428)),\"\")","v":""},{"$f":"I428","v":""},null,{"$f":"IF(E428>0,\" (p/u) \"&Modulo2.GetFormula(E428),\"\")","v":""},{"$f":"IF(F428>0,\" (lu) \"&Modulo2.GetFormula(F428),\"\")","v":""},{"$f":"IF(G428>0,\" (la) \"&Modulo2.GetFormula(G428),\"\")","v":""},{"$f":"IF(H428>0,\" (H) \"&Modulo2.GetFormula(H428),\"\")","v":""},null,null,null,null,null,null,null,null,null,2,0,null,"",{"$f":"ROWS($AC$4:AC428)","v":425},"",{"$f":"IFERROR(SMALL($AD$4:$AD$1642,ROWS($AD$4:AD428)),\"\")","v":""},null,{"$f":"IFERROR(INDEX($A$4:$R$1642,$AE428,COLUMNS($A:$B)),\"\")","v":""},{"$f":"IFERROR(INDEX($A$4:$R$1642,$AE428,COLUMNS($A:$C)),\"\")","v":""},{"$f":"IFERROR(INDEX($A$4:$R$1642,$AE428,COLUMNS($A:$R)),\"\")","v":""},null,{"$f":"IFERROR(IF(SEARCH(\"=\",L428),L428,\"\"),\"\")","v":""},{"$f":"IFERROR(IF(SEARCH(\"=\",M428),M428,\"\"),\"\")","v":""},{"$f":"IFERROR(IF(SEARCH(\"=\",N428),N428,\"\"),\"\")","v":""},{"$f":"IFERROR(IF(SEARCH(\"=\",O428),O428,\"\"),\"\")","v":""},null,null,null,53]
[null,null,null,"",null,null,null,null,"","",null,{"$f":"IF(E429>0,\" (p/u) \"&Modulo2.GetFormula(E429),\"\")","v":""},{"$f":"IF(F429>0,\" (lu) \"&Modulo2.GetFormula(F429),\"\")","v":""},{"$f":"IF(G429>0,\" (la) \"&Modulo2.GetFormula(G429),\"\")","v":""},{"$f":"IF(H429>0,\" (H) \"&Modulo2.GetFormula(H429),\"\")","v":""},null,null,null,null,null,null,null,null,null,2,0,null,"",{"$f":"ROWS($AC$4:AC429)","v":426},"",{"$f":"IFERROR(SMALL($AD$4:$AD$1642,ROWS($AD$4:AD429)),\"\")","v":""},null,{"$f":"IFERROR(INDEX($A$4:$R$1642,$AE429,COLUMNS($A:$B)),\"\")","v":""},{"$f":"IFERROR(INDEX($A$4:$R$1642,$AE429,COLUMNS($A:$C)),\"\")","v":""},{"$f":"IFERROR(INDEX($A$4:$R$1642,$AE429,COLUMNS($A:$R)),\"\")","v":""},null,"","","","",null,null,null,53]
[null,null,null,"",null,null,null,null,"","",null,{"$f":"IF(E430>0,\" (p/u) \"&Modulo2.GetFormula(E430),\"\")","v":""},{"$f":"IF(F430>0,\" (lu) \"&Modulo2.GetFormula(F430),\"\")","v":""},{"$f":"IF(G430>0,\" (la) \"&Modulo2.GetFormula(G430),\"\")","v":""},{"$f":"IF(H430>0,\" (H) \"&Modulo2.GetFormula(H430),\"\")","v":""},null,null,null,null,null,null,null,null,null,2,0,null,"",{"$f":"ROWS($AC$4:AC430)","v":427},"",{"$f":"IFERROR(SMALL($AD$4:$AD$1642,ROWS($AD$4:AD430)),\"\")","v":""},null,{"$f":"IFERROR(INDEX($A$4:$R$1642,$AE430,COLUMNS($A:$B)),\"\")","v":""},{"$f":"IFERROR(INDEX($A$4:$R$1642,$AE430,COLUMNS($A:$C)),\"\")","v":""},{"$f":"IFERROR(INDEX($A$4:$R$1642,$AE430,COLUMNS($A:$R)),\"\")","v":""},null,"","","","",null,null,null,53]
[null,null,null,null,null,null,null,{"$f":"CONCATENATE(\"SOMMANO [\",VLOOKUP(B427,'Elenco Prezzi2'!$A$2:$E$201,3,FALSE()),\"]\")","v":{"$error":"#N/A"}},{"$f":"IF(T431=\"s\",V432,SUBTOTAL(9,I427:I431))","v":{"$error":"#REF!"}},null,{"$f":"VLOOKUP(B427,'Elenco Prezzi2'!$A$2:$E$201,5,FALSE)","v":{"$error":"#N/A"}},null,null,null,null,null,null,{"$f":"IFERROR(I431*K431,\"\")","v":""},null,"s",null,null,null,{"$f":"R431","v":""},2,0,null,"",{"$f":"ROWS($AC$4:AC431)","v":428},"",{"$f":"IFERROR(SMALL($AD$4:$AD$1642,ROWS($AD$4:AD431)),\"\")","v":""},null,{"$f":"IFERROR(INDEX($A$4:$R$1642,$AE431,COLUMNS($A:$B)),\"\")","v":""},{"$f":"IFERROR(INDEX($A$4:$R$1642,$AE431,COLUMNS($A:$C)),\"\")","v":""},{"$f":"IFERROR(INDEX($A$4:$R$1642,$AE431,COLUMNS($A:$R)),\"\")","v":""},null,null,null,null,null,null,null,null,53]
[null,null,null,null,null,null,null,{"$f":"IF(I432<0,\"a detrarre\",\"\")","v":""},{"$f":"SUMIF(I427:I430,\"<0\")","v":0},null,null,null,null,null,null,null,null,null,{"$f":"R431","v":""},null,null,{"$f":"VLOOKUP(B427,#REF!,4,FALSE)","v":{"$error":"#REF!"}},null,null,2,0,null,"",{"$f":"ROWS($AC$4:AC432)","v":429},"",{"$f":"IFERROR(SMALL($AD$4:$AD$1642,ROWS($AD$4:AD432)),\"\")","v":""},null,{"$f":"IFERROR(INDEX($A$4:$R$1642,$AE432,COLUMNS($A:$B)),\"\")","v":""},{"$f":"IFERROR(INDEX($A$4:$R$1642,$AE432,COLUMNS($A:$C)),\"\")","v":""},{"$f":"IFERROR(INDEX($A$4:$R$1642,$AE432,COLUMNS($A:$R)),\"\")","v":""},null,null,null,null,null,null,null,null,53]
[null,null,null,null,null,null,null,null,null,null,null,null,null,null,null,null,null,null,null,null,null,null,null,null,2,0,null,"",{"$f":"ROWS($AC$4:AC433)","v":430},"",{"$f":"IFERROR(SMALL($AD$4:$AD$1642,ROWS($AD$4:AD433)),\"\")","v":""},null,{"$f":"IFERROR(INDEX($A$4:$R$1642,$AE433,COLUMNS($A:$B)),\"\")","v":""},{"$f":"IFERROR(INDEX($A$4:$R$1642,$AE433,COLUMNS($A:$C)),\"\")","v":""},{"$f":"IFERROR(INDEX($A$4:$R$1642,$AE433,COLUMNS($A:$R)),\"\")","v":""},null,null,null,null,null,null,null,null,53]
[null,null,null,null,null,null,null,null,null,null,null,null,null,null,null,null,null,null,null,null,null,null,null,null,2,0,null,"",{"$f":"ROWS($AC$4:AC434)","v":431},"",{"$f":"IFERROR(SMALL($AD$4:$AD$1642,ROWS($AD$4:AD434)),\"\")","v":""},null,{"$f":"IFERROR(INDEX($A$4:$R$1642,$AE434,COLUMNS($A:$B)),\"\")","v":""},{"$f":"IFERROR(INDEX($A$4:$R$1642,$AE434,COLUMNS($A:$C)),\"\")","v":""},{"$f":"IFERROR(INDEX($A$4:$R$1642,$AE434,COLUMNS($A:$R)),\"\")","v":""},null,null,null,null,null,null,null,null,53]
[{"$f":"AR435","v":54},null,{"$f":"(VLOOKUP($B435,'Elenco Prezzi2'!$A$2:$E$201,2,FALSE))","v":{"$error":"#N/A"}},null,null,null,null,null,null,null,null,null,null,null,null,null,null,null,null,null,null,null,null,null,2,0,null,"",{"$f":"ROWS($AC$4:AC435)","v":432},"",{"$f":"IFERROR(SMALL($AD$4:$AD$1642,ROWS($AD$4:AD435)),\"\")","v":""},null,{"$f":"IFERROR(INDEX($A$4:$R$1642,$AE435,COLUMNS($A:$B)),\"\")","v":""},{"$f":"IFERROR(INDEX($A$4:$R$1642,$AE435,COLUMNS($A:$C)),\"\")","v":""},{"$f":"IFERROR(INDEX($A$4:$R$1642,$AE435,COLUMNS($A:$R)),\"\")","v":""},null,null,null,null,null,null,null,1,54]
[null,null,null,{"$f":"CONCATENATE(AK436&AL436&AM436&AN436)","v":""},null,null,null,null,{"$f":"IFERROR(IF(PRODUCT(E436:H436)=0,\"\",PRODUCT(E436:H436)),\"\")","v":""},{"$f":"I436","v":""},null,{"$f":"IF(E436>0,\" (p/u) \"&Modulo2.GetFormula(E436),\"\")","v":""},{"$f":"IF(F436>0,\" (lu) \"&Modulo2.GetFormula(F436),\"\")","v":""},{"$f":"IF(G436>0,\" (la) \"&Modulo2.GetFormula(G436),\"\")","v":""},{"$f":"IF(H436>0,\" (H) \"&Modulo2.GetFormula(H436),\"\")","v":""},null,null,null,null,null,null,null,null,null,2,0,null,"",{"$f":"ROWS($AC$4:AC436)","v":433},"",{"$f":"IFERROR(SMALL($AD$4:$AD$1642,ROWS($AD$4:AD436)),\"\")","v":""},null,{"$f":"IFERROR(INDEX($A$4:$R$1642,$AE436,COLUMNS($A:$B)),\"\")","v":""},{"$f":"IFERROR(INDEX($A$4:$R$1642,$AE436,COLUMNS($A:$C)),\"\")","v":""},{"$f":"IFERROR(INDEX($A$4:$R$1642,$AE436,COLUMNS($A:$R)),\"\")","v":""},null,{"$f":"IFERROR(IF(SEARCH(\"=\",L436),L436,\"\"),\"\")","v":""},{"$f":"IFERROR(IF(SEARCH(\"=\",M436),M436,\"\"),\"\")","v":""},{"$f":"IFERROR(IF(SEARCH(\"=\",N436),N436,\"\"),\"\")","v":""},{"$f":"IFERROR(IF(SEARCH(\"=\",O436),O436,\"\"),\"\")","v":""},null,null,null,54]
[null,null,null,"",null,null,null,null,"","",null,{"$f":"IF(E437>0,\" (p/u) \"&Modulo2.GetFormula(E437),\"\")","v":""},{"$f":"IF(F437>0,\" (lu) \"&Modulo2.GetFormula(F437),\"\")","v":""},{"$f":"IF(G437>0,\" (la) \"&Modulo2.GetFormula(G437),\"\")","v":""},{"$f":"IF(H437>0,\" (H) \"&Modulo2.GetFormula(H437),\"\")","v":""},null,null,null,null,null,null,null,null,null,2,0,null,"",{"$f":"ROWS($AC$4:AC437)","v":434},"",{"$f":"IFERROR(SMALL($AD$4:$AD$1642,ROWS($AD$4:AD437)),\"\")","v":""},null,{"$f":"IFERROR(INDEX($A$4:$R$1642,$AE437,COLUMNS($A:$B)),\"\")","v":""},{"$f":"IFERROR(INDEX($A$4:$R$1642,$AE437,COLUMNS($A:$C)),\"\")","v":""},{"$f":"IFERROR(INDEX($A$4:$R$1642,$AE437,COLUMNS($A:$R)),\"\")","v":""},null,"","","","",null,null,null,54]
[null,null,null,"",null,null,null,null,"","",null,{"$f":"IF(E438>0,\" (p/u) \"&Modulo2.GetFormula(E438),\"\")","v":""},{"$f":"IF(F438>0,\" (lu) \"&Modulo2.GetFormula(F438),\"\")","v":""},{"$f":"IF(G438>0,\" (la) \"&Modulo2.GetFormula(G438),\"\")","v":""},{"$f":"IF(H438>0,\" (H) \"&Modulo2.GetFormula(H438),\"\")","v":""},null,null,null,null,null,null,null,null,null,2,0,null,"",{"$f":"ROWS($AC$4:AC438)","v":435},"",{"$f":"IFERROR(SMALL($AD$4:$AD$1642,ROWS($AD$4:AD438)),\"\")","v":""},null,{"$f":"IFERROR(INDEX($A$4:$R$1642,$AE438,COLUMNS($A:$B)),\"\")","v":""},{"$f":"IFERROR(INDEX($A$4:$R$1642,$AE438,COLUMNS($A:$C)),\"\")","v":""},{"$f":"IFERROR(INDEX($A$4:$R$1642,$AE438,COLUMNS($A:$R)),\"\")","v":""},null,"","","","",null,null,null,54]
[null,null,null,null,null,null,null,{"$f":"CONCATENATE(\"SOMMANO [\",VLOOKUP(B435,'Elenco Prezzi2'!$A$2:$E$201,3,FALSE()),\"]\")","v":{"$error":"#N/A"}},{"$f":"IF(T439=\"s\",V440,SUBTOTAL(9,I435:I439))","v":{"$error":"#REF!"}},null,{"$f":"VLOOKUP(B435,'Elenco Prezzi2'!$A$2:$E$201,5,FALSE)","v":{"$error":"#N/A"}},null,null,null,null,null,null,{"$f":"IFERROR(I439*K439,\"\")","v":""},null,"s",null,null,null,{"$f":"R439","v":""},2,0,null,"",{"$f":"ROWS($AC$4:AC439)","v":436},"",{"$f":"IFERROR(SMALL($AD$4:$AD$1642,ROWS($AD$4:AD439)),\"\")","v":""},null,{"$f":"IFERROR(INDEX($A$4:$R$1642,$AE439,COLUMNS($A:$B)),\"\")","v":""},{"$f":"IFERROR(INDEX($A$4:$R$1642,$AE439,COLUMNS($A:$C)),\"\")","v":""},{"$f":"IFERROR(INDEX($A$4:$R$1642,$AE439,COLUMNS($A:$R)),\"\")","v":""},null,null,null,null,null,null,null,null,54]
[null,null,null,null,null,null,null,{"$f":"IF(I440<0,\"a detrarre\",\"\")","v":""},{"$f":"SUMIF(I435:I438,\"<0\")","v":0},null,null,null,null,null,null,null,null,null,{"$f":"R439","v":""},null,null,{"$f":"VLOOKUP(B435,#REF!,4,FALSE)","v":{"$error":"#REF!"}},null,null,2,0,null,"",{"$f":"ROWS($AC$4:AC440)","v":437},"",{"$f":"IFERROR(SMALL($AD$4:$AD$1642,ROWS($AD$4:AD440)),\"\")","v":""},null,{"$f":"IFERROR(INDEX($A$4:$R$1642,$AE440,COLUMNS($A:$B)),\"\")","v":""},{"$f":"IFERROR(INDEX($A$4:$R$1642,$AE440,COLUMNS($A:$C)),\"\")","v":""},{"$f":"IFERROR(INDEX($A$4:$R$1642,$AE440,COLUMNS($A:$R)),\"\")","v":""},null,null,null,null,null,null,null,null,54]
[null,null,null,null,null,null,null,null,null,null,null,null,null,null,null,null,null,null,null,null,null,null,null,null,2,0,null,"",{"$f":"ROWS($AC$4:AC441)","v":438},"",{"$f":"IFERROR(SMALL($AD$4:$AD$1642,ROWS($AD$4:AD441)),\"\")","v":""},null,{"$f":"IFERROR(INDEX($A$4:$R$1642,$AE441,COLUMNS($A:$B)),\"\")","v":""},{"$f":"IFERROR(INDEX($A$4:$R$1642,$AE441,COLUMNS($A:$C)),\"\")","v":""},{"$f":"IFERROR(INDEX($A$4:$R$1642,$AE441,COLUMNS($A:$R)),\"\")","v":""},null,null,null,null,null,null,null,null,54]
[null,null,null,null,null,null,null,null,null,null,null,null,null,null,null,null,null,null,null,null,null,null,null,null,2,0,null,"",{"$f":"ROWS($AC$4:AC442)","v":439},"",{"$f":"IFERROR(SMALL($AD$4:$AD$1642,ROWS($AD$4:AD442)),\"\")","v":""},null,{"$f":"IFERROR(INDEX($A$4:$R$1642,$AE442,COLUMNS($A:$B)),\"\")","v":""},{"$f":"IFERROR(INDEX($A$4:$R$1642,$AE442,COLUMNS($A:$C)),\"\")","v":""},{"$f":"IFERROR(INDEX($A$4:$R$1642,$AE442,COLUMNS($A:$R)),\"\")","v":""},null,null,null,null,null,null,null,null,54]
[{"$f":"AR443","v":55},null,{"$f":"(VLOOKUP($B443,'Elenco Prezzi2'!$A$2:$E$201,2,FALSE))","v":{"$error":"#N/A"}},null,null,null,null,null,null,null,null,null,null,null,null,null,null,null,null,null,null,null,null,null,2,0,null,"",{"$f":"ROWS($AC$4:AC443)","v":440},"",{"$f":"IFERROR(SMALL($AD$4:$AD$1642,ROWS($AD$4:AD443)),\"\")","v":""},null,{"$f":"IFERROR(INDEX($A$4:$R$1642,$AE443,COLUMNS($A:$B)),\"\")","v":""},{"$f":"IFERROR(INDEX($A$4:$R$1642,$AE443,COLUMNS($A:$C)),\"\")","v":""},{"$f":"IFERROR(INDEX($A$4:$R$1642,$AE443,COLUMNS($A:$R)),\"\")","v":""},null,null,null,null,null,null,null,1,55]
[null,null,null,{"$f":"CONCATENATE(AK444&AL444&AM444&AN444)","v":""},null,null,null,null,{"$f":"IFERROR(IF(PRODUCT(E444:H444)=0,\"\",PRODUCT(E444:H444)),\"\")","v":""},{"$f":"I444","v":""},null,{"$f":"IF(E444>0,\" (p/u) \"&Modulo2.GetFormula(E444),\"\")","v":""},{"$f":"IF(F444>0,\" (lu) \"&Modulo2.GetFormula(F444),\"\")","v":""},{"$f":"IF(G444>0,\" (la) \"&Modulo2.GetFormula(G444),\"\")","v":""},{"$f":"IF(H444>0,\" (H) \"&Modulo2.GetFormula(H444),\"\")","v":""},null,null,null,null,null,null,null,null,null,2,0,null,"",{"$f":"ROWS($AC$4:AC444)","v":441},"",{"$f":"IFERROR(SMALL($AD$4:$AD$1642,ROWS($AD$4:AD444)),\"\")","v":""},null,{"$f":"IFERROR(INDEX($A$4:$R$1642,$AE444,COLUMNS($A:$B)),\"\")","v":""},{"$f":"IFERROR(INDEX($A$4:$R$1642,$AE444,COLUMNS($A:$C)),\"\")","v":""},{"$f":"IFERROR(INDEX($A$4:$R$1642,$AE444,COLUMNS($A:$R)),\"\")","v":""},null,{"$f":"IFERROR(IF(SEARCH(\"=\",L444),L444,\"\"),\"\")","v":""},{"$f":"IFERROR(IF(SEARCH(\"=\",M444),M444,\"\"),\"\")","v":""},{"$f":"IFERROR(IF(SEARCH(\"=\",N444),N444,\"\"),\"\")","v":""},{"$f":"IFERROR(IF(SEARCH(\"=\",O444),O444,\"\"),\"\")","v":""},null,null,null,55]
[null,null,null,"",null,null,null,null,"","",null,{"$f":"IF(E445>0,\" (p/u) \"&Modulo2.GetFormula(E445),\"\")","v":""},{"$f":"IF(F445>0,\" (lu) \"&Modulo2.GetFormula(F445),\"\")","v":""},{"$f":"IF(G445>0,\" (la) \"&Modulo2.GetFormula(G445),\"\")","v":""},{"$f":"IF(H445>0,\" (H) \"&Modulo2.GetFormula(H445),\"\")","v":""},null,null,null,null,null,null,null,null,null,2,0,null,"",{"$f":"ROWS($AC$4:AC445)","v":442},"",{"$f":"IFERROR(SMALL($AD$4:$AD$1642,ROWS($AD$4:AD445)),\"\")","v":""},null,{"$f":"IFERROR(INDEX($A$4:$R$1642,$AE445,COLUMNS($A:$B)),\"\")","v":""},{"$f":"IFERROR(INDEX($A$4:$R$1642,$AE445,COLUMNS($A:$C)),\"\")","v":""},{"$f":"IFERROR(INDEX($A$4:$R$1642,$AE445,COLUMNS($A:$R)),\"\")","v":""},null,"","","","",null,null,null,55]
[null,null,null,"",null,null,null,null,"","",null,{"$f":"IF(E446>0,\" (p/u) \"&Modulo2.GetFormula(E446),\"\")","v":""},{"$f":"IF(F446>0,\" (lu) \"&Modulo2.GetFormula(F446),\"\")","v":""},{"$f":"IF(G446>0,\" (la) \"&Modulo2.GetFormula(G446),\"\")","v":""},{"$f":"IF(H446>0,\" (H) \"&Modulo2.GetFormula(H446),\"\")","v":""},null,null,null,null,null,null,null,null,null,2,0,null,"",{"$f":"ROWS($AC$4:AC446)","v":443},"",{"$f":"IFERROR(SMALL($AD$4:$AD$1642,ROWS($AD$4:AD446)),\"\")","v":""},null,{"$f":"IFERROR(INDEX($A$4:$R$1642,$AE446,COLUMNS($A:$B)),\"\")","v":""},{"$f":"IFERROR(INDEX($A$4:$R$1642,$AE446,COLUMNS($A:$C)),\"\")","v":""},{"$f":"IFERROR(INDEX($A$4:$R$1642,$AE446,COLUMNS($A:$R)),\"\")","v":""},null,"","","","",null,null,null,55]
[null,null,null,null,null,null,null,{"$f":"CONCATENATE(\"SOMMANO [\",VLOOKUP(B443,'Elenco Prezzi2'!$A$2:$E$201,3,FALSE()),\"]\")","v":{"$error":"#N/A"}},{"$f":"IF(T447=\"s\",V448,SUBTOTAL(9,I443:I447))","v":{"$error":"#REF!"}},null,{"$f":"VLOOKUP(B443,'Elenco Prezzi2'!$A$2:$E$201,5,FALSE)","v":{"$error":"#N/A"}},null,null,null,null,null,null,{"$f":"IFERROR(I447*K447,\"\")","v":""},null,"s",null,null,null,{"$f":"R447","v":""},2,0,null,"",{"$f":"ROWS($AC$4:AC447)","v":444},"",{"$f":"IFERROR(SMALL($AD$4:$AD$1642,ROWS($AD$4:AD447)),\"\")","v":""},null,{"$f":"IFERROR(INDEX($A$4:$R$1642,$AE447,COLUMNS($A:$B)),\"\")","v":""},{"$f":"IFERROR(INDEX($A$4:$R$1642,$AE447,COLUMNS($A:$C)),\"\")","v":""},{"$f":"IFERROR(INDEX($A$4:$R$1642,$AE447,COLUMNS($A:$R)),\"\")","v":""},null,null,null,null,null,null,null,null,55]
[null,null,null,null,null,null,null,{"$f":"IF(I448<0,\"a detrarre\",\"\")","v":""},{"$f":"SUMIF(I443:I446,\"<0\")","v":0},null,null,null,null,null,null,null,null,null,{"$f":"R447","v":""},null,null,{"$f":"VLOOKUP(B443,#REF!,4,FALSE)","v":{"$error":"#REF!"}},null,null,2,0,null,"",{"$f":"ROWS($AC$4:AC448)","v":445},"",{"$f":"IFERROR(SMALL($AD$4:$AD$1642,ROWS($AD$4:AD448)),\"\")","v":""},null,{"$f":"IFERROR(INDEX($A$4:$R$1642,$AE448,COLUMNS($A:$B)),\"\")","v":""},{"$f":"IFERROR(INDEX($A$4:$R$1642,$AE448,COLUMNS($A:$C)),\"\")","v":""},{"$f":"IFERROR(INDEX($A$4:$R$1642,$AE448,COLUMNS($A:$R)),\"\")","v":""},null,null,null,null,null,null,null,null,55]
[null,null,null,null,null,null,null,null,null,null,null,null,null,null,null,null,null,null,null,null,null,null,null,null,2,0,null,"",{"$f":"ROWS($AC$4:AC449)","v":446},"",{"$f":"IFERROR(SMALL($AD$4:$AD$1642,ROWS($AD$4:AD449)),\"\")","v":""},null,{"$f":"IFERROR(INDEX($A$4:$R$1642,$AE449,COLUMNS($A:$B)),\"\")","v":""},{"$f":"IFERROR(INDEX($A$4:$R$1642,$AE449,COLUMNS($A:$C)),\"\")","v":""},{"$f":"IFERROR(INDEX($A$4:$R$1642,$AE449,COLUMNS($A:$R)),\"\")","v":""},null,null,null,null,null,null,null,null,55]
[null,null,null,null,null,null,null,null,null,null,null,null,null,null,null,null,null,null,null,null,null,null,null,null,2,0,null,"",{"$f":"ROWS($AC$4:AC450)","v":447},"",{"$f":"IFERROR(SMALL($AD$4:$AD$1642,ROWS($AD$4:AD450)),\"\")","v":""},null,{"$f":"IFERROR(INDEX($A$4:$R$1642,$AE450,COLUMNS($A:$B)),\"\")","v":""},{"$f":"IFERROR(INDEX($A$4:$R$1642,$AE450,COLUMNS($A:$C)),\"\")","v":""},{"$f":"IFERROR(INDEX($A$4:$R$1642,$AE450,COLUMNS($A:$R)),\"\")","v":""},null,null,null,null,null,null,null,null,55]
[{"$f":"AR451","v":56},null,{"$f":"(VLOOKUP($B451,'Elenco Prezzi2'!$A$2:$E$201,2,FALSE))","v":{"$error":"#N/A"}},null,null,null,null,null,null,null,null,null,null,null,null,null,null,null,null,null,null,null,null,null,2,0,null,"",{"$f":"ROWS($AC$4:AC451)","v":448},"",{"$f":"IFERROR(SMALL($AD$4:$AD$1642,ROWS($AD$4:AD451)),\"\")","v":""},null,{"$f":"IFERROR(INDEX($A$4:$R$1642,$AE451,COLUMNS($A:$B)),\"\")","v":""},{"$f":"IFERROR(INDEX($A$4:$R$1642,$AE451,COLUMNS($A:$C)),\"\")","v":""},{"$f":"IFERROR(INDEX($A$4:$R$1642,$AE451,COLUMNS($A:$R)),\"\")","v":""},null,null,null,null,null,null,null,1,56]
[null,null,null,{"$f":"CONCATENATE(AK452&AL452&AM452&AN452)","v":""},null,null,null,null,{"$f":"IFERROR(IF(PRODUCT(E452:H452)=0,\"\",PRODUCT(E452:H452)),\"\")","v":""},{"$f":"I452","v":""},null,{"$f":"IF(E452>0,\" (p/u) \"&Modulo2.GetFormula(E452),\"\")","v":""},{"$f":"IF(F452>0,\" (lu) \"&Modulo2.GetFormula(F452),\"\")","v":""},{"$f":"IF(G452>0,\" (la) \"&Modulo2.GetFormula(G452),\"\")","v":""},{"$f":"IF(H452>0,\" (H) \"&Modulo2.GetFormula(H452),\"\")","v":""},null,null,null,null,null,null,null,null,null,2,0,null,"",{"$f":"ROWS($AC$4:AC452)","v":449},"",{"$f":"IFERROR(SMALL($AD$4:$AD$1642,ROWS($AD$4:AD452)),\"\")","v":""},null,{"$f":"IFERROR(INDEX($A$4:$R$1642,$AE452,COLUMNS($A:$B)),\"\")","v":""},{"$f":"IFERROR(INDEX($A$4:$R$1642,$AE452,COLUMNS($A:$C)),\"\")","v":""},{"$f":"IFERROR(INDEX($A$4:$R$1642,$AE452,COLUMNS($A:$R)),\"\")","v":""},null,{"$f":"IFERROR(IF(SEARCH(\"=\",L452),L452,\"\"),\"\")","v":""},{"$f":"IFERROR(IF(SEARCH(\"=\",M452),M452,\"\"),\"\")","v":""},{"$f":"IFERROR(IF(SEARCH(\"=\",N452),N452,\"\"),\"\")","v":""},{"$f":"IFERROR(IF(SEARCH(\"=\",O452),O452,\"\"),\"\")","v":""},null,null,null,56]
[null,null,null,"",null,null,null,null,"","",null,{"$f":"IF(E453>0,\" (p/u) \"&Modulo2.GetFormula(E453),\"\")","v":""},{"$f":"IF(F453>0,\" (lu) \"&Modulo2.GetFormula(F453),\"\")","v":""},{"$f":"IF(G453>0,\" (la) \"&Modulo2.GetFormula(G453),\"\")","v":""},{"$f":"IF(H453>0,\" (H) \"&Modulo2.GetFormula(H453),\"\")","v":""},null,null,null,null,null,null,null,null,null,2,0,null,"",{"$f":"ROWS($AC$4:AC453)","v":450},"",{"$f":"IFERROR(SMALL($AD$4:$AD$1642,ROWS($AD$4:AD453)),\"\")","v":""},null,{"$f":"IFERROR(INDEX($A$4:$R$1642,$AE453,COLUMNS($A:$B)),\"\")","v":""},{"$f":"IFERROR(INDEX($A$4:$R$1642,$AE453,COLUMNS($A:$C)),\"\")","v":""},{"$f":"IFERROR(INDEX($A$4:$R$1642,$AE453,COLUMNS($A:$R)),\"\")","v":""},null,"","","","",null,null,null,56]
[null,null,null,"",null,null,null,null,"","",null,{"$f":"IF(E454>0,\" (p/u) \"&Modulo2.GetFormula(E454),\"\")","v":""},{"$f":"IF(F454>0,\" (lu) \"&Modulo2.GetFormula(F454),\"\")","v":""},{"$f":"IF(G454>0,\" (la) \"&Modulo2.GetFormula(G454),\"\")","v":""},{"$f":"IF(H454>0,\" (H) \"&Modulo2.GetFormula(H454),\"\")","v":""},null,null,null,null,null,null,null,null,null,2,0,null,"",{"$f":"ROWS($AC$4:AC454)","v":451},"",{"$f":"IFERROR(SMALL($AD$4:$AD$1642,ROWS($AD$4:AD454)),\"\")","v":""},null,{"$f":"IFERROR(INDEX($A$4:$R$1642,$AE454,COLUMNS($A:$B)),\"\")","v":""},{"$f":"IFERROR(INDEX($A$4:$R$1642,$AE454,COLUMNS($A:$C)),\"\")","v":""},{"$f":"IFERROR(INDEX($A$4:$R$1642,$AE454,COLUMNS($A:$R)),\"\")","v":""},null,"","","","",null,null,null,56]
[null,null,null,null,null,null,null,{"$f":"CONCATENATE(\"SOMMANO [\",VLOOKUP(B451,'Elenco Prezzi2'!$A$2:$E$201,3,FALSE()),\"]\")","v":{"$error":"#N/A"}},{"$f":"IF(T455=\"s\",V456,SUBTOTAL(9,I451:I455))","v":{"$error":"#REF!"}},null,{"$f":"VLOOKUP(B451,'Elenco Prezzi2'!$A$2:$E$201,5,FALSE)","v":{"$error":"#N/A"}},null,null,null,null,null,null,{"$f":"IFERROR(I455*K455,\"\")","v":""},null,"s",null,null,null,{"$f":"R455","v":""},2,0,null,"",{"$f":"ROWS($AC$4:AC455)","v":452},"",{"$f":"IFERROR(SMALL($AD$4:$AD$1642,ROWS($AD$4:AD455)),\"\")","v":""},null,{"$f":"IFERROR(INDEX($A$4:$R$1642,$AE455,COLUMNS($A:$B)),\"\")","v":""},{"$f":"IFERROR(INDEX($A$4:$R$1642,$AE455,COLUMNS($A:$C)),\"\")","v":""},{"$f":"IFERROR(INDEX($A$4:$R$1642,$AE455,COLUMNS($A:$R)),\"\")","v":""},null,null,null,null,null,null,null,null,56]
[null,null,null,null,null,null,null,{"$f":"IF(I456<0,\"a detrarre\",\"\")","v":""},{"$f":"SUMIF(I451:I454,\"<0\")","v":0},null,null,null,null,null,null,null,null,null,{"$f":"R455","v":""},null,null,{"$f":"VLOOKUP(B451,#REF!,4,FALSE)","v":{"$error":"#REF!"}},null,null,2,0,null,"",{"$f":"ROWS($AC$4:AC456)","v":453},"",{"$f":"IFERROR(SMALL($AD$4:$AD$1642,ROWS($AD$4:AD456)),\"\")","v":""},null,{"$f":"IFERROR(INDEX($A$4:$R$1642,$AE456,COLUMNS($A:$B)),\"\")","v":""},{"$f":"IFERROR(INDEX($A$4:$R$1642,$AE456,COLUMNS($A:$C)),\"\")","v":""},{"$f":"IFERROR(INDEX($A$4:$R$1642,$AE456,COLUMNS($A:$R)),\"\")","v":""},null,null,null,null,null,null,null,null,56]
[null,null,null,null,null,null,null,null,null,null,null,null,null,null,null,null,null,null,null,null,null,null,null,null,2,0,null,"",{"$f":"ROWS($AC$4:AC457)","v":454},"",{"$f":"IFERROR(SMALL($AD$4:$AD$1642,ROWS($AD$4:AD457)),\"\")","v":""},null,{"$f":"IFERROR(INDEX($A$4:$R$1642,$AE457,COLUMNS($A:$B)),\"\")","v":""},{"$f":"IFERROR(INDEX($A$4:$R$1642,$AE457,COLUMNS($A:$C)),\"\")","v":""},{"$f":"IFERROR(INDEX($A$4:$R$1642,$AE457,COLUMNS($A:$R)),\"\")","v":""},null,null,null,null,null,null,null,null,56]
[null,null,null,null,null,null,null,null,null,null,null,null,null,null,null,null,null,null,null,null,null,null,null,null,2,0,null,"",{"$f":"ROWS($AC$4:AC458)","v":455},"",{"$f":"IFERROR(SMALL($AD$4:$AD$1642,ROWS($AD$4:AD458)),\"\")","v":""},null,{"$f":"IFERROR(INDEX($A$4:$R$1642,$AE458,COLUMNS($A:$B)),\"\")","v":""},{"$f":"IFERROR(INDEX($A$4:$R$1642,$AE458,COLUMNS($A:$C)),\"\")","v":""},{"$f":"IFERROR(INDEX($A$4:$R$1642,$AE458,COLUMNS($A:$R)),\"\")","v":""},null,null,null,null,null,null,null,null,56]
[{"$f":"AR459","v":57},null,{"$f":"(VLOOKUP($B459,'Elenco Prezzi2'!$A$2:$E$201,2,FALSE))","v":{"$error":"#N/A"}},null,null,null,null,null,null,null,null,null,null,null,null,null,null,null,null,null,null,null,null,null,2,0,null,"",{"$f":"ROWS($AC$4:AC459)","v":456},"",{"$f":"IFERROR(SMALL($AD$4:$AD$1642,ROWS($AD$4:AD459)),\"\")","v":""},null,{"$f":"IFERROR(INDEX($A$4:$R$1642,$AE459,COLUMNS($A:$B)),\"\")","v":""},{"$f":"IFERROR(INDEX($A$4:$R$1642,$AE459,COLUMNS($A:$C)),\"\")","v":""},{"$f":"IFERROR(INDEX($A$4:$R$1642,$AE459,COLUMNS($A:$R)),\"\")","v":""},null,null,null,null,null,null,null,1,57]
[null,null,null,{"$f":"CONCATENATE(AK460&AL460&AM460&AN460)","v":""},null,null,null,null,{"$f":"IFERROR(IF(PRODUCT(E460:H460)=0,\"\",PRODUCT(E460:H460)),\"\")","v":""},{"$f":"I460","v":""},null,{"$f":"IF(E460>0,\" (p/u) \"&Modulo2.GetFormula(E460),\"\")","v":""},{"$f":"IF(F460>0,\" (lu) \"&Modulo2.GetFormula(F460),\"\")","v":""},{"$f":"IF(G460>0,\" (la) \"&Modulo2.GetFormula(G460),\"\")","v":""},{"$f":"IF(H460>0,\" (H) \"&Modulo2.GetFormula(H460),\"\")","v":""},null,null,null,null,null,null,null,null,null,2,0,null,"",{"$f":"ROWS($AC$4:AC460)","v":457},"",{"$f":"IFERROR(SMALL($AD$4:$AD$1642,ROWS($AD$4:AD460)),\"\")","v":""},null,{"$f":"IFERROR(INDEX($A$4:$R$1642,$AE460,COLUMNS($A:$B)),\"\")","v":""},{"$f":"IFERROR(INDEX($A$4:$R$1642,$AE460,COLUMNS($A:$C)),\"\")","v":""},{"$f":"IFERROR(INDEX($A$4:$R$1642,$AE460,COLUMNS($A:$R)),\"\")","v":""},null,{"$f":"IFERROR(IF(SEARCH(\"=\",L460),L460,\"\"),\"\")","v":""},{"$f":"IFERROR(IF(SEARCH(\"=\",M460),M460,\"\"),\"\")","v":""},{"$f":"IFERROR(IF(SEARCH(\"=\",N460),N460,\"\"),\"\")","v":""},{"$f":"IFERROR(IF(SEARCH(\"=\",O460),O460,\"\"),\"\")","v":""},null,null,null,57]
[null,null,null,"",null,null,null,null,"","",null,{"$f":"IF(E461>0,\" (p/u) \"&Modulo2.GetFormula(E461),\"\")","v":""},{"$f":"IF(F461>0,\" (lu) \"&Modulo2.GetFormula(F461),\"\")","v":""},{"$f":"IF(G461>0,\" (la) \"&Modulo2.GetFormula(G461),\"\")","v":""},{"$f":"IF(H461>0,\" (H) \"&Modulo2.GetFormula(H461),\"\")","v":""},null,null,null,null,null,null,null,null,null,2,0,null,"",{"$f":"ROWS($AC$4:AC461)","v":458},"",{"$f":"IFERROR(SMALL($AD$4:$AD$1642,ROWS($AD$4:AD461)),\"\")","v":""},null,{"$f":"IFERROR(INDEX($A$4:$R$1642,$AE461,COLUMNS($A:$B)),\"\")","v":""},{"$f":"IFERROR(INDEX($A$4:$R$1642,$AE461,COLUMNS($A:$C)),\"\")","v":""},{"$f":"IFERROR(INDEX($A$4:$R$1642,$AE461,COLUMNS($A:$R)),\"\")","v":""},null,"","","","",null,null,null,57]
[null,null,null,"",null,null,null,null,"","",null,{"$f":"IF(E462>0,\" (p/u) \"&Modulo2.GetFormula(E462),\"\")","v":""},{"$f":"IF(F462>0,\" (lu) \"&Modulo2.GetFormula(F462),\"\")","v":""},{"$f":"IF(G462>0,\" (la) \"&Modulo2.GetFormula(G462),\"\")","v":""},{"$f":"IF(H462>0,\" (H) \"&Modulo2.GetFormula(H462),\"\")","v":""},null,null,null,null,null,null,null,null,null,2,0,null,"",{"$f":"ROWS($AC$4:AC462)","v":459},"",{"$f":"IFERROR(SMALL($AD$4:$AD$1642,ROWS($AD$4:AD462)),\"\")","v":""},null,{"$f":"IFERROR(INDEX($A$4:$R$1642,$AE462,COLUMNS($A:$B)),\"\")","v":""},{"$f":"IFERROR(INDEX($A$4:$R$1642,$AE462,COLUMNS($A:$C)),\"\")","v":""},{"$f":"IFERROR(INDEX($A$4:$R$1642,$AE462,COLUMNS($A:$R)),\"\")","v":""},null,"","","","",null,null,null,57]
[null,null,null,null,null,null,null,{"$f":"CONCATENATE(\"SOMMANO [\",VLOOKUP(B459,'Elenco Prezzi2'!$A$2:$E$201,3,FALSE()),\"]\")","v":{"$error":"#N/A"}},{"$f":"IF(T463=\"s\",V464,SUBTOTAL(9,I459:I463))","v":{"$error":"#REF!"}},null,{"$f":"VLOOKUP(B459,'Elenco Prezzi2'!$A$2:$E$201,5,FALSE)","v":{"$error":"#N/A"}},null,null,null,null,null,null,{"$f":"IFERROR(I463*K463,\"\")","v":""},null,"s",null,null,null,{"$f":"R463","v":""},2,0,null,"",{"$f":"ROWS($AC$4:AC463)","v":460},"",{"$f":"IFERROR(SMALL($AD$4:$AD$1642,ROWS($AD$4:AD463)),\"\")","v":""},null,{"$f":"IFERROR(INDEX($A$4:$R$1642,$AE463,COLUMNS($A:$B)),\"\")","v":""},{"$f":"IFERROR(INDEX($A$4:$R$1642,$AE463,COLUMNS($A:$C)),\"\")","v":""},{"$f":"IFERROR(INDEX($A$4:$R$1642,$AE463,COLUMNS($A:$R)),\"\")","v":""},null,null,null,null,null,null,null,null,57]
[null,null,null,null,null,null,null,{"$f":"IF(I464<0,\"a detrarre\",\"\")","v":""},{"$f":"SUMIF(I459:I462,\"<0\")","v":0},null,null,null,null,null,null,null,null,null,{"$f":"R463","v":""},null,null,{"$f":"VLOOKUP(B459,#REF!,4,FALSE)","v":{"$error":"#REF!"}},null,null,2,0,null,"",{"$f":"ROWS($AC$4:AC464)","v":461},"",{"$f":"IFERROR(SMALL($AD$4:$AD$1642,ROWS($AD$4:AD464)),\"\")","v":""},null,{"$f":"IFERROR(INDEX($A$4:$R$1642,$AE464,COLUMNS($A:$B)),\"\")","v":""},{"$f":"IFERROR(INDEX($A$4:$R$1642,$AE464,COLUMNS($A:$C)),\"\")","v":""},{"$f":"IFERROR(INDEX($A$4:$R$1642,$AE464,COLUMNS($A:$R)),\"\")","v":""},null,null,null,null,null,null,null,null,57]
[null,null,null,null,null,null,null,null,null,null,null,null,null,null,null,null,null,null,null,null,null,null,null,null,2,0,null,"",{"$f":"ROWS($AC$4:AC465)","v":462},"",{"$f":"IFERROR(SMALL($AD$4:$AD$1642,ROWS($AD$4:AD465)),\"\")","v":""},null,{"$f":"IFERROR(INDEX($A$4:$R$1642,$AE465,COLUMNS($A:$B)),\"\")","v":""},{"$f":"IFERROR(INDEX($A$4:$R$1642,$AE465,COLUMNS($A:$C)),\"\")","v":""},{"$f":"IFERROR(INDEX($A$4:$R$1642,$AE465,COLUMNS($A:$R)),\"\")","v":""},null,null,null,null,null,null,null,null,57]
[null,null,null,null,null,null,null,null,null,null,null,null,null,null,null,null,null,null,null,null,null,null,null,null,2,0,null,"",{"$f":"ROWS($AC$4:AC466)","v":463},"",{"$f":"IFERROR(SMALL($AD$4:$AD$1642,ROWS($AD$4:AD466)),\"\")","v":""},null,{"$f":"IFERROR(INDEX($A$4:$R$1642,$AE466,COLUMNS($A:$B)),\"\")","v":""},{"$f":"IFERROR(INDEX($A$4:$R$1642,$AE466,COLUMNS($A:$C)),\"\")","v":""},{"$f":"IFERROR(INDEX($A$4:$R$1642,$AE466,COLUMNS($A:$R)),\"\")","v":""},null,null,null,null,null,null,null,null,57]
[{"$f":"AR467","v":58},null,{"$f":"(VLOOKUP($B467,'Elenco Prezzi2'!$A$2:$E$201,2,FALSE))","v":{"$error":"#N/A"}},null,null,null,null,null,null,null,null,null,null,null,null,null,null,null,null,null,null,null,null,null,2,0,null,"",{"$f":"ROWS($AC$4:AC467)","v":464},"",{"$f":"IFERROR(SMALL($AD$4:$AD$1642,ROWS($AD$4:AD467)),\"\")","v":""},null,{"$f":"IFERROR(INDEX($A$4:$R$1642,$AE467,COLUMNS($A:$B)),\"\")","v":""},{"$f":"IFERROR(INDEX($A$4:$R$1642,$AE467,COLUMNS($A:$C)),\"\")","v":""},{"$f":"IFERROR(INDEX($A$4:$R$1642,$AE467,COLUMNS($A:$R)),\"\")","v":""},null,null,null,null,null,null,null,1,58]
[null,null,null,{"$f":"CONCATENATE(AK468&AL468&AM468&AN468)","v":""},null,null,null,null,{"$f":"IFERROR(IF(PRODUCT(E468:H468)=0,\"\",PRODUCT(E468:H468)),\"\")","v":""},{"$f":"I468","v":""},null,{"$f":"IF(E468>0,\" (p/u) \"&Modulo2.GetFormula(E468),\"\")","v":""},{"$f":"IF(F468>0,\" (lu) \"&Modulo2.GetFormula(F468),\"\")","v":""},{"$f":"IF(G468>0,\" (la) \"&Modulo2.GetFormula(G468),\"\")","v":""},{"$f":"IF(H468>0,\" (H) \"&Modulo2.GetFormula(H468),\"\")","v":""},null,null,null,null,null,null,null,null,null,2,0,null,"",{"$f":"ROWS($AC$4:AC468)","v":465},"",{"$f":"IFERROR(SMALL($AD$4:$AD$1642,ROWS($AD$4:AD468)),\"\")","v":""},null,{"$f":"IFERROR(INDEX($A$4:$R$1642,$AE468,COLUMNS($A:$B)),\"\")","v":""},{"$f":"IFERROR(INDEX($A$4:$R$1642,$AE468,COLUMNS($A:$C)),\"\")","v":""},{"$f":"IFERROR(INDEX($A$4:$R$1642,$AE468,COLUMNS($A:$R)),\"\")","v":""},null,{"$f":"IFERROR(IF(SEARCH(\"=\",L468),L468,\"\"),\"\")","v":""},{"$f":"IFERROR(IF(SEARCH(\"=\",M468),M468,\"\"),\"\")","v":""},{"$f":"IFERROR(IF(SEARCH(\"=\",N468),N468,\"\"),\"\")","v":""},{"$f":"IFERROR(IF(SEARCH(\"=\",O468),O468,\"\"),\"\")","v":""},null,null,null,58]
[null,null,null,"",null,null,null,null,"","",null,{"$f":"IF(E469>0,\" (p/u) \"&Modulo2.GetFormula(E469),\"\")","v":""},{"$f":"IF(F469>0,\" (lu) \"&Modulo2.GetFormula(F469),\"\")","v":""},{"$f":"IF(G469>0,\" (la) \"&Modulo2.GetFormula(G469),\"\")","v":""},{"$f":"IF(H469>0,\" (H) \"&Modulo2.GetFormula(H469),\"\")","v":""},null,null,null,null,null,null,null,null,null,2,0,null,"",{"$f":"ROWS($AC$4:AC469)","v":466},"",{"$f":"IFERROR(SMALL($AD$4:$AD$1642,ROWS($AD$4:AD469)),\"\")","v":""},null,{"$f":"IFERROR(INDEX($A$4:$R$1642,$AE469,COLUMNS($A:$B)),\"\")","v":""},{"$f":"IFERROR(INDEX($A$4:$R$1642,$AE469,COLUMNS($A:$C)),\"\")","v":""},{"$f":"IFERROR(INDEX($A$4:$R$1642,$AE469,COLUMNS($A:$R)),\"\")","v":""},null,"","","","",null,null,null,58]
[null,null,null,"",null,null,null,null,"","",null,{"$f":"IF(E470>0,\" (p/u) \"&Modulo2.GetFormula(E470),\"\")","v":""},{"$f":"IF(F470>0,\" (lu) \"&Modulo2.GetFormula(F470),\"\")","v":""},{"$f":"IF(G470>0,\" (la) \"&Modulo2.GetFormula(G470),\"\")","v":""},{"$f":"IF(H470>0,\" (H) \"&Modulo2.GetFormula(H470),\"\")","v":""},null,null,null,null,null,null,null,null,null,2,0,null,"",{"$f":"ROWS($AC$4:AC470)","v":467},"",{"$f":"IFERROR(SMALL($AD$4:$AD$1642,ROWS($AD$4:AD470)),\"\")","v":""},null,{"$f":"IFERROR(INDEX($A$4:$R$1642,$AE470,COLUMNS($A:$B)),\"\")","v":""},{"$f":"IFERROR(INDEX($A$4:$R$1642,$AE470,COLUMNS($A:$C)),\"\")","v":""},{"$f":"IFERROR(INDEX($A$4:$R$1642,$AE470,COLUMNS($A:$R)),\"\")","v":""},null,"","","","",null,null,null,58]
[null,null,null,null,null,null,null,{"$f":"CONCATENATE(\"SOMMANO [\",VLOOKUP(B467,'Elenco Prezzi2'!$A$2:$E$201,3,FALSE()),\"]\")","v":{"$error":"#N/A"}},{"$f":"IF(T471=\"s\",V472,SUBTOTAL(9,I467:I471))","v":{"$error":"#REF!"}},null,{"$f":"VLOOKUP(B467,'Elenco Prezzi2'!$A$2:$E$201,5,FALSE)","v":{"$error":"#N/A"}},null,null,null,null,null,null,{"$f":"IFERROR(I471*K471,\"\")","v":""},null,"s",null,null,null,{"$f":"R471","v":""},2,0,null,"",{"$f":"ROWS($AC$4:AC471)","v":468},"",{"$f":"IFERROR(SMALL($AD$4:$AD$1642,ROWS($AD$4:AD471)),\"\")","v":""},null,{"$f":"IFERROR(INDEX($A$4:$R$1642,$AE471,COLUMNS($A:$B)),\"\")","v":""},{"$f":"IFERROR(INDEX($A$4:$R$1642,$AE471,COLUMNS($A:$C)),\"\")","v":""},{"$f":"IFERROR(INDEX($A$4:$R$1642,$AE471,COLUMNS($A:$R)),\"\")","v":""},null,null,null,null,null,null,null,null,58]
[null,null,null,null,null,null,null,{"$f":"IF(I472<0,\"a detrarre\",\"\")","v":""},{"$f":"SUMIF(I467:I470,\"<0\")","v":0},null,null,null,null,null,null,null,null,null,{"$f":"R471","v":""},null,null,{"$f":"VLOOKUP(B467,#REF!,4,FALSE)","v":{"$error":"#REF!"}},null,null,2,0,null,"",{"$f":"ROWS($AC$4:AC472)","v":469},"",{"$f":"IFERROR(SMALL($AD$4:$AD$1642,ROWS($AD$4:AD472)),\"\")","v":""},null,{"$f":"IFERROR(INDEX($A$4:$R$1642,$AE472,COLUMNS($A:$B)),\"\")","v":""},{"$f":"IFERROR(INDEX($A$4:$R$1642,$AE472,COLUMNS($A:$C)),\"\")","v":""},{"$f":"IFERROR(INDEX($A$4:$R$1642,$AE472,COLUMNS($A:$R)),\"\")","v":""},null,null,null,null,null,null,null,null,58]
[null,null,null,null,null,null,null,null,null,null,null,null,null,null,null,null,null,null,null,null,null,null,null,null,2,0,null,"",{"$f":"ROWS($AC$4:AC473)","v":470},"",{"$f":"IFERROR(SMALL($AD$4:$AD$1642,ROWS($AD$4:AD473)),\"\")","v":""},null,{"$f":"IFERROR(INDEX($A$4:$R$1642,$AE473,COLUMNS($A:$B)),\"\")","v":""},{"$f":"IFERROR(INDEX($A$4:$R$1642,$AE473,COLUMNS($A:$C)),\"\")","v":""},{"$f":"IFERROR(INDEX($A$4:$R$1642,$AE473,COLUMNS($A:$R)),\"\")","v":""},null,null,null,null,null,null,null,null,58]
[null,null,null,null,null,null,null,null,null,null,null,null,null,null,null,null,null,null,null,null,null,null,null,null,2,0,null,"",{"$f":"ROWS($AC$4:AC474)","v":471},"",{"$f":"IFERROR(SMALL($AD$4:$AD$1642,ROWS($AD$4:AD474)),\"\")","v":""},null,{"$f":"IFERROR(INDEX($A$4:$R$1642,$AE474,COLUMNS($A:$B)),\"\")","v":""},{"$f":"IFERROR(INDEX($A$4:$R$1642,$AE474,COLUMNS($A:$C)),\"\")","v":""},{"$f":"IFERROR(INDEX($A$4:$R$1642,$AE474,COLUMNS($A:$R)),\"\")","v":""},null,null,null,null,null,null,null,null,58]
[{"$f":"AR475","v":59},null,{"$f":"(VLOOKUP($B475,'Elenco Prezzi2'!$A$2:$E$201,2,FALSE))","v":{"$error":"#N/A"}},null,null,null,null,null,null,null,null,null,null,null,null,null,null,null,null,null,null,null,null,null,2,0,null,"",{"$f":"ROWS($AC$4:AC475)","v":472},"",{"$f":"IFERROR(SMALL($AD$4:$AD$1642,ROWS($AD$4:AD475)),\"\")","v":""},null,{"$f":"IFERROR(INDEX($A$4:$R$1642,$AE475,COLUMNS($A:$B)),\"\")","v":""},{"$f":"IFERROR(INDEX($A$4:$R$1642,$AE475,COLUMNS($A:$C)),\"\")","v":""},{"$f":"IFERROR(INDEX($A$4:$R$1642,$AE475,COLUMNS($A:$R)),\"\")","v":""},null,null,null,null,null,null,null,1,59]
[null,null,null,{"$f":"CONCATENATE(AK476&AL476&AM476&AN476)","v":""},null,null,null,null,{"$f":"IFERROR(IF(PRODUCT(E476:H476)=0,\"\",PRODUCT(E476:H476)),\"\")","v":""},{"$f":"I476","v":""},null,{"$f":"IF(E476>0,\" (p/u) \"&Modulo2.GetFormula(E476),\"\")","v":""},{"$f":"IF(F476>0,\" (lu) \"&Modulo2.GetFormula(F476),\"\")","v":""},{"$f":"IF(G476>0,\" (la) \"&Modulo2.GetFormula(G476),\"\")","v":""},{"$f":"IF(H476>0,\" (H) \"&Modulo2.GetFormula(H476),\"\")","v":""},null,null,null,null,null,null,null,null,null,2,0,null,"",{"$f":"ROWS($AC$4:AC476)","v":473},"",{"$f":"IFERROR(SMALL($AD$4:$AD$1642,ROWS($AD$4:AD476)),\"\")","v":""},null,{"$f":"IFERROR(INDEX($A$4:$R$1642,$AE476,COLUMNS($A:$B)),\"\")","v":""},{"$f":"IFERROR(INDEX($A$4:$R$1642,$AE476,COLUMNS($A:$C)),\"\")","v":""},{"$f":"IFERROR(INDEX($A$4:$R$1642,$AE476,COLUMNS($A:$R)),\"\")","v":""},null,{"$f":"IFERROR(IF(SEARCH(\"=\",L476),L476,\"\"),\"\")","v":""},{"$f":"IFERROR(IF(SEARCH(\"=\",M476),M476,\"\"),\"\")","v":""},{"$f":"IFERROR(IF(SEARCH(\"=\",N476),N476,\"\"),\"\")","v":""},{"$f":"IFERROR(IF(SEARCH(\"=\",O476),O476,\"\"),\"\")","v":""},null,null,null,59]
[null,null,null,"",null,null,null,null,"","",null,{"$f":"IF(E477>0,\" (p/u) \"&Modulo2.GetFormula(E477),\"\")","v":""},{"$f":"IF(F477>0,\" (lu) \"&Modulo2.GetFormula(F477),\"\")","v":""},{"$f":"IF(G477>0,\" (la) \"&Modulo2.GetFormula(G477),\"\")","v":""},{"$f":"IF(H477>0,\" (H) \"&Modulo2.GetFormula(H477),\"\")","v":""},null,null,null,null,null,null,null,null,null,2,0,null,"",{"$f":"ROWS($AC$4:AC477)","v":474},"",{"$f":"IFERROR(SMALL($AD$4:$AD$1642,ROWS($AD$4:AD477)),\"\")","v":""},null,{"$f":"IFERROR(INDEX($A$4:$R$1642,$AE477,COLUMNS($A:$B)),\"\")","v":""},{"$f":"IFERROR(INDEX($A$4:$R$1642,$AE477,COLUMNS($A:$C)),\"\")","v":""},{"$f":"IFERROR(INDEX($A$4:$R$1642,$AE477,COLUMNS($A:$R)),\"\")","v":""},null,"","","","",null,null,null,59]
[null,null,null,"",null,null,null,null,"","",null,{"$f":"IF(E478>0,\" (p/u) \"&Modulo2.GetFormula(E478),\"\")","v":""},{"$f":"IF(F478>0,\" (lu) \"&Modulo2.GetFormula(F478),\"\")","v":""},{"$f":"IF(G478>0,\" (la) \"&Modulo2.GetFormula(G478),\"\")","v":""},{"$f":"IF(H478>0,\" (H) \"&Modulo2.GetFormula(H478),\"\")","v":""},null,null,null,null,null,null,null,null,null,2,0,null,"",{"$f":"ROWS($AC$4:AC478)","v":475},"",{"$f":"IFERROR(SMALL($AD$4:$AD$1642,ROWS($AD$4:AD478)),\"\")","v":""},null,{"$f":"IFERROR(INDEX($A$4:$R$1642,$AE478,COLUMNS($A:$B)),\"\")","v":""},{"$f":"IFERROR(INDEX($A$4:$R$1642,$AE478,COLUMNS($A:$C)),\"\")","v":""},{"$f":"IFERROR(INDEX($A$4:$R$1642,$AE478,COLUMNS($A:$R)),\"\")","v":""},null,"","","","",null,null,null,59]
[null,null,null,null,null,null,null,{"$f":"CONCATENATE(\"SOMMANO [\",VLOOKUP(B475,'Elenco Prezzi2'!$A$2:$E$201,3,FALSE()),\"]\")","v":{"$error":"#N/A"}},{"$f":"IF(T479=\"s\",V480,SUBTOTAL(9,I475:I479))","v":{"$error":"#REF!"}},null,{"$f":"VLOOKUP(B475,'Elenco Prezzi2'!$A$2:$E$201,5,FALSE)","v":{"$error":"#N/A"}},null,null,null,null,null,null,{"$f":"IFERROR(I479*K479,\"\")","v":""},null,"s",null,null,null,{"$f":"R479","v":""},2,0,null,"",{"$f":"ROWS($AC$4:AC479)","v":476},"",{"$f":"IFERROR(SMALL($AD$4:$AD$1642,ROWS($AD$4:AD479)),\"\")","v":""},null,{"$f":"IFERROR(INDEX($A$4:$R$1642,$AE479,COLUMNS($A:$B)),\"\")","v":""},{"$f":"IFERROR(INDEX($A$4:$R$1642,$AE479,COLUMNS($A:$C)),\"\")","v":""},{"$f":"IFERROR(INDEX($A$4:$R$1642,$AE479,COLUMNS($A:$R)),\"\")","v":""},null,null,null,null,null,null,null,null,59]
[null,null,null,null,null,null,null,{"$f":"IF(I480<0,\"a detrarre\",\"\")","v":""},{"$f":"SUMIF(I475:I478,\"<0\")","v":0},null,null,null,null,null,null,null,null,null,{"$f":"R479","v":""},null,null,{"$f":"VLOOKUP(B475,#REF!,4,FALSE)","v":{"$error":"#REF!"}},null,null,2,0,null,"",{"$f":"ROWS($AC$4:AC480)","v":477},"",{"$f":"IFERROR(SMALL($AD$4:$AD$1642,ROWS($AD$4:AD480)),\"\")","v":""},null,{"$f":"IFERROR(INDEX($A$4:$R$1642,$AE480,COLUMNS($A:$B)),\"\")","v":""},{"$f":"IFERROR(INDEX($A$4:$R$1642,$AE480,COLUMNS($A:$C)),\"\")","v":""},{"$f":"IFERROR(INDEX($A$4:$R$1642,$AE480,COLUMNS($A:$R)),\"\")","v":""},null,null,null,null,null,null,null,null,59]
[null,null,null,null,null,null,null,null,null,null,null,null,null,null,null,null,null,null,null,null,null,null,null,null,2,0,null,"",{"$f":"ROWS($AC$4:AC481)","v":478},"",{"$f":"IFERROR(SMALL($AD$4:$AD$1642,ROWS($AD$4:AD481)),\"\")","v":""},null,{"$f":"IFERROR(INDEX($A$4:$R$1642,$AE481,COLUMNS($A:$B)),\"\")","v":""},{"$f":"IFERROR(INDEX($A$4:$R$1642,$AE481,COLUMNS($A:$C)),\"\")","v":""},{"$f":"IFERROR(INDEX($A$4:$R$1642,$AE481,COLUMNS($A:$R)),\"\")","v":""},null,null,null,null,null,null,null,null,59]
[null,null,null,null,null,null,null,null,null,null,null,null,null,null,null,null,null,null,null,null,null,null,null,null,2,0,null,"",{"$f":"ROWS($AC$4:AC482)","v":479},"",{"$f":"IFERROR(SMALL($AD$4:$AD$1642,ROWS($AD$4:AD482)),\"\")","v":""},null,{"$f":"IFERROR(INDEX($A$4:$R$1642,$AE482,COLUMNS($A:$B)),\"\")","v":""},{"$f":"IFERROR(INDEX($A$4:$R$1642,$AE482,COLUMNS($A:$C)),\"\")","v":""},{"$f":"IFERROR(INDEX($A$4:$R$1642,$AE482,COLUMNS($A:$R)),\"\")","v":""},null,null,null,null,null,null,null,null,59]
[{"$f":"AR483","v":60},null,{"$f":"(VLOOKUP($B483,'Elenco Prezzi2'!$A$2:$E$201,2,FALSE))","v":{"$error":"#N/A"}},null,null,null,null,null,null,null,null,null,null,null,null,null,null,null,null,null,null,null,null,null,2,0,null,{"$f":"IF(W483>0,\"OK\",\"\")","v":""},{"$f":"ROWS($AC$4:AC483)","v":480},{"$f":"IF(AB483=\"ok\",AC483,\"\")","v":""},{"$f":"IFERROR(SMALL($AD$4:$AD$1642,ROWS($AD$4:AD483)),\"\")","v":""},null,{"$f":"IFERROR(INDEX($A$4:$R$1642,$AE483,COLUMNS($A:$B)),\"\")","v":""},{"$f":"IFERROR(INDEX($A$4:$R$1642,$AE483,COLUMNS($A:$C)),\"\")","v":""},{"$f":"IFERROR(INDEX($A$4:$R$1642,$AE483,COLUMNS($A:$R)),\"\")","v":""},null,null,null,null,null,null,null,1,{"$f":"IF(AQ483=\"\",AR482,AR482+AQ483)","v":60}]
[null,null,null,{"$f":"CONCATENATE(AK484&AL484&AM484&AN484)","v":""},null,null,null,null,{"$f":"IFERROR(IF(PRODUCT(E484:H484)=0,\"\",PRODUCT(E484:H484)),\"\")","v":""},{"$f":"I484","v":""},null,{"$f":"IF(E484>0,\" (p/u) \"&Modulo2.GetFormula(E484),\"\")","v":""},{"$f":"IF(F484>0,\" (lu) \"&Modulo2.GetFormula(F484),\"\")","v":""},{"$f":"IF(G484>0,\" (la) \"&Modulo2.GetFormula(G484),\"\")","v":""},{"$f":"IF(H484>0,\" (H) \"&Modulo2.GetFormula(H484),\"\")","v":""},null,null,null,null,null,null,null,null,null,{"$f":"IF(AO484=\"\",Y483,Y483+AO484)","v":2},{"$f":"IF(AP484=\"\",Z483,Z483+AP484)","v":0},null,"",{"$f":"ROWS($AC$4:AC484)","v":481},"",{"$f":"IFERROR(SMALL($AD$4:$AD$1642,ROWS($AD$4:AD484)),\"\")","v":""},null,{"$f":"IFERROR(INDEX($A$4:$R$1642,$AE484,COLUMNS($A:$B)),\"\")","v":""},{"$f":"IFERROR(INDEX($A$4:$R$1642,$AE484,COLUMNS($A:$C)),\"\")","v":""},{"$f":"IFERROR(INDEX($A$4:$R$1642,$AE484,COLUMNS($A:$R)),\"\")","v":""},null,{"$f":"IFERROR(IF(SEARCH(\"=\",L484),L484,\"\"),\"\")","v":""},{"$f":"IFERROR(IF(SEARCH(\"=\",M484),M484,\"\"),\"\")","v":""},{"$f":"IFERROR(IF(SEARCH(\"=\",N484),N484,\"\"),\"\")","v":""},{"$f":"IFERROR(IF(SEARCH(\"=\",O484),O484,\"\"),\"\")","v":""},null,null,null,60]
[null,null,null,"",null,null,null,null,"","",null,{"$f":"IF(E485>0,\" (p/u) \"&Modulo2.GetFormula(E485),\"\")","v":""},{"$f":"IF(F485>0,\" (lu) \"&Modulo2.GetFormula(F485),\"\")","v":""},{"$f":"IF(G485>0,\" (la) \"&Modulo2.GetFormula(G485),\"\")","v":""},{"$f":"IF(H485>0,\" (H) \"&Modulo2.GetFormula(H485),\"\")","v":""},null,null,null,null,null,null,null,null,null,2,0,null,"",{"$f":"ROWS($AC$4:AC485)","v":482},"",{"$f":"IFERROR(SMALL($AD$4:$AD$1642,ROWS($AD$4:AD485)),\"\")","v":""},null,{"$f":"IFERROR(INDEX($A$4:$R$1642,$AE485,COLUMNS($A:$B)),\"\")","v":""},{"$f":"IFERROR(INDEX($A$4:$R$1642,$AE485,COLUMNS($A:$C)),\"\")","v":""},{"$f":"IFERROR(INDEX($A$4:$R$1642,$AE485,COLUMNS($A:$R)),\"\")","v":""},null,"","","","",null,null,null,60]
[null,null,null,"",null,null,null,null,"","",null,{"$f":"IF(E486>0,\" (p/u) \"&Modulo2.GetFormula(E486),\"\")","v":""},{"$f":"IF(F486>0,\" (lu) \"&Modulo2.GetFormula(F486),\"\")","v":""},{"$f":"IF(G486>0,\" (la) \"&Modulo2.GetFormula(G486),\"\")","v":""},{"$f":"IF(H486>0,\" (H) \"&Modulo2.GetFormula(H486),\"\")","v":""},null,null,null,null,null,null,null,null,null,2,0,null,"",{"$f":"ROWS($AC$4:AC486)","v":483},"",{"$f":"IFERROR(SMALL($AD$4:$AD$1642,ROWS($AD$4:AD486)),\"\")","v":""},null,{"$f":"IFERROR(INDEX($A$4:$R$1642,$AE486,COLUMNS($A:$B)),\"\")","v":""},{"$f":"IFERROR(INDEX($A$4:$R$1642,$AE486,COLUMNS($A:$C)),\"\")","v":""},{"$f":"IFERROR(INDEX($A$4:$R$1642,$AE486,COLUMNS($A:$R)),\"\")","v":""},null,"","","","",null,null,null,60]
[null,null,null,null,null,null,null,{"$f":"CONCATENATE(\"SOMMANO [\",VLOOKUP(B483,'Elenco Prezzi2'!$A$2:$E$201,3,FALSE()),\"]\")","v":{"$error":"#N/A"}},{"$f":"IF(T487=\"s\",V488,SUBTOTAL(9,I483:I487))","v":{"$error":"#REF!"}},null,{"$f":"VLOOKUP(B483,'Elenco Prezzi2'!$A$2:$E$201,5,FALSE)","v":{"$error":"#N/A"}},null,null,null,null,null,null,{"$f":"IFERROR(I487*K487,\"\")","v":""},null,"s",null,null,null,{"$f":"R487","v":""},2,0,null,"",{"$f":"ROWS($AC$4:AC487)","v":484},"",{"$f":"IFERROR(SMALL($AD$4:$AD$1642,ROWS($AD$4:AD487)),\"\")","v":""},null,{"$f":"IFERROR(INDEX($A$4:$R$1642,$AE487,COLUMNS($A:$B)),\"\")","v":""},{"$f":"IFERROR(INDEX($A$4:$R$1642,$AE487,COLUMNS($A:$C)),\"\")","v":""},{"$f":"IFERROR(INDEX($A$4:$R$1642,$AE487,COLUMNS($A:$R)),\"\")","v":""},null,null,null,null,null,null,null,null,60]
[null,null,null,null,null,null,null,{"$f":"IF(I488<0,\"a detrarre\",\"\")","v":""},{"$f":"SUMIF(I483:I486,\"<0\")","v":0},null,null,null,null,null,null,null,null,null,{"$f":"R487","v":""},null,null,{"$f":"VLOOKUP(B483,#REF!,4,FALSE)","v":{"$error":"#REF!"}},null,null,2,0,null,"",{"$f":"ROWS($AC$4:AC488)","v":485},"",{"$f":"IFERROR(SMALL($AD$4:$AD$1642,ROWS($AD$4:AD488)),\"\")","v":""},null,{"$f":"IFERROR(INDEX($A$4:$R$1642,$AE488,COLUMNS($A:$B)),\"\")","v":""},{"$f":"IFERROR(INDEX($A$4:$R$1642,$AE488,COLUMNS($A:$C)),\"\")","v":""},{"$f":"IFERROR(INDEX($A$4:$R$1642,$AE488,COLUMNS($A:$R)),\"\")","v":""},null,null,null,null,null,null,null,null,60]
[null,null,null,null,null,null,null,null,null,null,null,null,null,null,null,null,null,null,null,null,null,null,null,null,2,0,null,"",{"$f":"ROWS($AC$4:AC489)","v":486},"",{"$f":"IFERROR(SMALL($AD$4:$AD$1642,ROWS($AD$4:AD489)),\"\")","v":""},null,{"$f":"IFERROR(INDEX($A$4:$R$1642,$AE489,COLUMNS($A:$B)),\"\")","v":""},{"$f":"IFERROR(INDEX($A$4:$R$1642,$AE489,COLUMNS($A:$C)),\"\")","v":""},{"$f":"IFERROR(INDEX($A$4:$R$1642,$AE489,COLUMNS($A:$R)),\"\")","v":""},null,null,null,null,null,null,null,null,60]
[null,null,null,null,null,null,null,null,null,null,null,null,null,null,null,null,null,null,null,null,null,null,null,null,2,0,null,"",{"$f":"ROWS($AC$4:AC490)","v":487},"",{"$f":"IFERROR(SMALL($AD$4:$AD$1642,ROWS($AD$4:AD490)),\"\")","v":""},null,{"$f":"IFERROR(INDEX($A$4:$R$1642,$AE490,COLUMNS($A:$B)),\"\")","v":""},{"$f":"IFERROR(INDEX($A$4:$R$1642,$AE490,COLUMNS($A:$C)),\"\")","v":""},{"$f":"IFERROR(INDEX($A$4:$R$1642,$AE490,COLUMNS($A:$R)),\"\")","v":""},null,null,null,null,null,null,null,null,60]
[{"$f":"AR491","v":61},null,{"$f":"(VLOOKUP($B491,'Elenco Prezzi2'!$A$2:$E$201,2,FALSE))","v":{"$error":"#N/A"}},null,null,null,null,null,null,null,null,null,null,null,null,null,null,null,null,null,null,null,null,null,2,0,null,"",{"$f":"ROWS($AC$4:AC491)","v":488},"",{"$f":"IFERROR(SMALL($AD$4:$AD$1642,ROWS($AD$4:AD491)),\"\")","v":""},null,{"$f":"IFERROR(INDEX($A$4:$R$1642,$AE491,COLUMNS($A:$B)),\"\")","v":""},{"$f":"IFERROR(INDEX($A$4:$R$1642,$AE491,COLUMNS($A:$C)),\"\")","v":""},{"$f":"IFERROR(INDEX($A$4:$R$1642,$AE491,COLUMNS($A:$R)),\"\")","v":""},null,null,null,null,null,null,null,1,61]
[null,null,null,{"$f":"CONCATENATE(AK492&AL492&AM492&AN492)","v":""},null,null,null,null,{"$f":"IFERROR(IF(PRODUCT(E492:H492)=0,\"\",PRODUCT(E492:H492)),\"\")","v":""},{"$f":"I492","v":""},null,{"$f":"IF(E492>0,\" (p/u) \"&Modulo2.GetFormula(E492),\"\")","v":""},{"$f":"IF(F492>0,\" (lu) \"&Modulo2.GetFormula(F492),\"\")","v":""},{"$f":"IF(G492>0,\" (la) \"&Modulo2.GetFormula(G492),\"\")","v":""},{"$f":"IF(H492>0,\" (H) \"&Modulo2.GetFormula(H492),\"\")","v":""},null,null,null,null,null,null,null,null,null,2,0,null,"",{"$f":"ROWS($AC$4:AC492)","v":489},"",{"$f":"IFERROR(SMALL($AD$4:$AD$1642,ROWS($AD$4:AD492)),\"\")","v":""},null,{"$f":"IFERROR(INDEX($A$4:$R$1642,$AE492,COLUMNS($A:$B)),\"\")","v":""},{"$f":"IFERROR(INDEX($A$4:$R$1642,$AE492,COLUMNS($A:$C)),\"\")","v":""},{"$f":"IFERROR(INDEX($A$4:$R$1642,$AE492,COLUMNS($A:$R)),\"\")","v":""},null,{"$f":"IFERROR(IF(SEARCH(\"=\",L492),L492,\"\"),\"\")","v":""},{"$f":"IFERROR(IF(SEARCH(\"=\",M492),M492,\"\"),\"\")","v":""},{"$f":"IFERROR(IF(SEARCH(\"=\",N492),N492,\"\"),\"\")","v":""},{"$f":"IFERROR(IF(SEARCH(\"=\",O492),O492,\"\"),\"\")","v":""},null,null,null,61]
[null,null,null,"",null,null,null,null,"","",null,{"$f":"IF(E493>0,\" (p/u) \"&Modulo2.GetFormula(E493),\"\")","v":""},{"$f":"IF(F493>0,\" (lu) \"&Modulo2.GetFormula(F493),\"\")","v":""},{"$f":"IF(G493>0,\" (la) \"&Modulo2.GetFormula(G493),\"\")","v":""},{"$f":"IF(H493>0,\" (H) \"&Modulo2.GetFormula(H493),\"\")","v":""},null,null,null,null,null,null,null,null,null,2,0,null,"",{"$f":"ROWS($AC$4:AC493)","v":490},"",{"$f":"IFERROR(SMALL($AD$4:$AD$1642,ROWS($AD$4:AD493)),\"\")","v":""},null,{"$f":"IFERROR(INDEX($A$4:$R$1642,$AE493,COLUMNS($A:$B)),\"\")","v":""},{"$f":"IFERROR(INDEX($A$4:$R$1642,$AE493,COLUMNS($A:$C)),\"\")","v":""},{"$f":"IFERROR(INDEX($A$4:$R$1642,$AE493,COLUMNS($A:$R)),\"\")","v":""},null,"","","","",null,null,null,61]
[null,null,null,"",null,null,null,null,"","",null,{"$f":"IF(E494>0,\" (p/u) \"&Modulo2.GetFormula(E494),\"\")","v":""},{"$f":"IF(F494>0,\" (lu) \"&Modulo2.GetFormula(F494),\"\")","v":""},{"$f":"IF(G494>0,\" (la) \"&Modulo2.GetFormula(G494),\"\")","v":""},{"$f":"IF(H494>0,\" (H) \"&Modulo2.GetFormula(H494),\"\")","v":""},null,null,null,null,null,null,null,null,null,2,0,null,"",{"$f":"ROWS($AC$4:AC494)","v":491},"",{"$f":"IFERROR(SMALL($AD$4:$AD$1642,ROWS($AD$4:AD494)),\"\")","v":""},null,{"$f":"IFERROR(INDEX($A$4:$R$1642,$AE494,COLUMNS($A:$B)),\"\")","v":""},{"$f":"IFERROR(INDEX($A$4:$R$1642,$AE494,COLUMNS($A:$C)),\"\")","v":""},{"$f":"IFERROR(INDEX($A$4:$R$1642,$AE494,COLUMNS($A:$R)),\"\")","v":""},null,"","","","",null,null,null,61]
[null,null,null,null,null,null,null,{"$f":"CONCATENATE(\"SOMMANO [\",VLOOKUP(B491,'Elenco Prezzi2'!$A$2:$E$201,3,FALSE()),\"]\")","v":{"$error":"#N/A"}},{"$f":"IF(T495=\"s\",V496,SUBTOTAL(9,I491:I495))","v":{"$error":"#REF!"}},null,{"$f":"VLOOKUP(B491,'Elenco Prezzi2'!$A$2:$E$201,5,FALSE)","v":{"$error":"#N/A"}},null,null,null,null,null,null,{"$f":"IFERROR(I495*K495,\"\")","v":""},null,"s",null,null,null,{"$f":"R495","v":""},2,0,null,"",{"$f":"ROWS($AC$4:AC495)","v":492},"",{"$f":"IFERROR(SMALL($AD$4:$AD$1642,ROWS($AD$4:AD495)),\"\")","v":""},null,{"$f":"IFERROR(INDEX($A$4:$R$1642,$AE495,COLUMNS($A:$B)),\"\")","v":""},{"$f":"IFERROR(INDEX($A$4:$R$1642,$AE495,COLUMNS($A:$C)),\"\")","v":""},{"$f":"IFERROR(INDEX($A$4:$R$1642,$AE495,COLUMNS($A:$R)),\"\")","v":""},null,null,null,null,null,null,null,null,61]
[null,null,null,null,null,null,null,{"$f":"IF(I496<0,\"a detrarre\",\"\")","v":""},{"$f":"SUMIF(I491:I494,\"<0\")","v":0},null,null,null,null,null,null,null,null,null,{"$f":"R495","v":""},null,null,{"$f":"VLOOKUP(B491,#REF!,4,FALSE)","v":{"$error":"#REF!"}},null,null,2,0,null,"",{"$f":"ROWS($AC$4:AC496)","v":493},"",{"$f":"IFERROR(SMALL($AD$4:$AD$1642,ROWS($AD$4:AD496)),\"\")","v":""},null,{"$f":"IFERROR(INDEX($A$4:$R$1642,$AE496,COLUMNS($A:$B)),\"\")","v":""},{"$f":"IFERROR(INDEX($A$4:$R$1642,$AE496,COLUMNS($A:$C)),\"\")","v":""},{"$f":"IFERROR(INDEX($A$4:$R$1642,$AE496,COLUMNS($A:$R)),\"\")","v":""},null,null,null,null,null,null,null,null,61]
[null,null,null,null,null,null,null,null,null,null,null,null,null,null,null,null,null,null,null,null,null,null,null,null,2,0,null,"",{"$f":"ROWS($AC$4:AC497)","v":494},"",{"$f":"IFERROR(SMALL($AD$4:$AD$1642,ROWS($AD$4:AD497)),\"\")","v":""},null,{"$f":"IFERROR(INDEX($A$4:$R$1642,$AE497,COLUMNS($A:$B)),\"\")","v":""},{"$f":"IFERROR(INDEX($A$4:$R$1642,$AE497,COLUMNS($A:$C)),\"\")","v":""},{"$f":"IFERROR(INDEX($A$4:$R$1642,$AE497,COLUMNS($A:$R)),\"\")","v":""},null,null,null,null,null,null,null,null,61]
[null,null,null,null,null,null,null,null,null,null,null,null,null,null,null,null,null,null,null,null,null,null,null,null,2,0,null,"",{"$f":"ROWS($AC$4:AC498)","v":495},"",{"$f":"IFERROR(SMALL($AD$4:$AD$1642,ROWS($AD$4:AD498)),\"\")","v":""},null,{"$f":"IFERROR(INDEX($A$4:$R$1642,$AE498,COLUMNS($A:$B)),\"\")","v":""},{"$f":"IFERROR(INDEX($A$4:$R$1642,$AE498,COLUMNS($A:$C)),\"\")","v":""},{"$f":"IFERROR(INDEX($A$4:$R$1642,$AE498,COLUMNS($A:$R)),\"\")","v":""},null,null,null,null,null,null,null,null,61]
[{"$f":"AR499","v":62},null,{"$f":"(VLOOKUP($B499,'Elenco Prezzi2'!$A$2:$E$201,2,FALSE))","v":{"$error":"#N/A"}},null,null,null,null,null,null,null,null,null,null,null,null,null,null,null,null,null,null,null,null,null,2,0,null,"",{"$f":"ROWS($AC$4:AC499)","v":496},"",{"$f":"IFERROR(SMALL($AD$4:$AD$1642,ROWS($AD$4:AD499)),\"\")","v":""},null,{"$f":"IFERROR(INDEX($A$4:$R$1642,$AE499,COLUMNS($A:$B)),\"\")","v":""},{"$f":"IFERROR(INDEX($A$4:$R$1642,$AE499,COLUMNS($A:$C)),\"\")","v":""},{"$f":"IFERROR(INDEX($A$4:$R$1642,$AE499,COLUMNS($A:$R)),\"\")","v":""},null,null,null,null,null,null,null,1,62]
[null,null,null,{"$f":"CONCATENATE(AK500&AL500&AM500&AN500)","v":""},null,null,null,null,{"$f":"IFERROR(IF(PRODUCT(E500:H500)=0,\"\",PRODUCT(E500:H500)),\"\")","v":""},{"$f":"I500","v":""},null,{"$f":"IF(E500>0,\" (p/u) \"&Modulo2.GetFormula(E500),\"\")","v":""},{"$f":"IF(F500>0,\" (lu) \"&Modulo2.GetFormula(F500),\"\")","v":""},{"$f":"IF(G500>0,\" (la) \"&Modulo2.GetFormula(G500),\"\")","v":""},{"$f":"IF(H500>0,\" (H) \"&Modulo2.GetFormula(H500),\"\")","v":""},null,null,null,null,null,null,null,null,null,2,0,null,"",{"$f":"ROWS($AC$4:AC500)","v":497},"",{"$f":"IFERROR(SMALL($AD$4:$AD$1642,ROWS($AD$4:AD500)),\"\")","v":""},null,{"$f":"IFERROR(INDEX($A$4:$R$1642,$AE500,COLUMNS($A:$B)),\"\")","v":""},{"$f":"IFERROR(INDEX($A$4:$R$1642,$AE500,COLUMNS($A:$C)),\"\")","v":""},{"$f":"IFERROR(INDEX($A$4:$R$1642,$AE500,COLUMNS($A:$R)),\"\")","v":""},null,{"$f":"IFERROR(IF(SEARCH(\"=\",L500),L500,\"\"),\"\")","v":""},{"$f":"IFERROR(IF(SEARCH(\"=\",M500),M500,\"\"),\"\")","v":""},{"$f":"IFERROR(IF(SEARCH(\"=\",N500),N500,\"\"),\"\")","v":""},{"$f":"IFERROR(IF(SEARCH(\"=\",O500),O500,\"\"),\"\")","v":""},null,null,null,62]
[null,null,null,"",null,null,null,null,"","",null,{"$f":"IF(E501>0,\" (p/u) \"&Modulo2.GetFormula(E501),\"\")","v":""},{"$f":"IF(F501>0,\" (lu) \"&Modulo2.GetFormula(F501),\"\")","v":""},{"$f":"IF(G501>0,\" (la) \"&Modulo2.GetFormula(G501),\"\")","v":""},{"$f":"IF(H501>0,\" (H) \"&Modulo2.GetFormula(H501),\"\")","v":""},null,null,null,null,null,null,null,null,null,2,0,null,"",{"$f":"ROWS($AC$4:AC501)","v":498},"",{"$f":"IFERROR(SMALL($AD$4:$AD$1642,ROWS($AD$4:AD501)),\"\")","v":""},null,{"$f":"IFERROR(INDEX($A$4:$R$1642,$AE501,COLUMNS($A:$B)),\"\")","v":""},{"$f":"IFERROR(INDEX($A$4:$R$1642,$AE501,COLUMNS($A:$C)),\"\")","v":""},{"$f":"IFERROR(INDEX($A$4:$R$1642,$AE501,COLUMNS($A:$R)),\"\")","v":""},null,"","","","",null,null,null,62]
[null,null,null,"",null,null,null,null,"","",null,{"$f":"IF(E502>0,\" (p/u) \"&Modulo2.GetFormula(E502),\"\")","v":""},{"$f":"IF(F502>0,\" (lu) \"&Modulo2.GetFormula(F502),\"\")","v":""},{"$f":"IF(G502>0,\" (la) \"&Modulo2.GetFormula(G502),\"\")","v":""},{"$f":"IF(H502>0,\" (H) \"&Modulo2.GetFormula(H502),\"\")","v":""},null,null,null,null,null,null,null,null,null,2,0,null,"",{"$f":"ROWS($AC$4:AC502)","v":499},"",{"$f":"IFERROR(SMALL($AD$4:$AD$1642,ROWS($AD$4:AD502)),\"\")","v":""},null,{"$f":"IFERROR(INDEX($A$4:$R$1642,$AE502,COLUMNS($A:$B)),\"\")","v":""},{"$f":"IFERROR(INDEX($A$4:$R$1642,$AE502,COLUMNS($A:$C)),\"\")","v":""},{"$f":"IFERROR(INDEX($A$4:$R$1642,$AE502,COLUMNS($A:$R)),\"\")","v":""},null,"","","","",null,null,null,62]
[null,null,null,null,null,null,null,{"$f":"CONCATENATE(\"SOMMANO [\",VLOOKUP(B499,'Elenco Prezzi2'!$A$2:$E$201,3,FALSE()),\"]\")","v":{"$error":"#N/A"}},{"$f":"IF(T503=\"s\",V504,SUBTOTAL(9,I499:I503))","v":{"$error":"#REF!"}},null,{"$f":"VLOOKUP(B499,'Elenco Prezzi2'!$A$2:$E$201,5,FALSE)","v":{"$error":"#N/A"}},null,null,null,null,null,null,{"$f":"IFERROR(I503*K503,\"\")","v":""},null,"s",null,null,null,{"$f":"R503","v":""},2,0,null,"",{"$f":"ROWS($AC$4:AC503)","v":500},"",{"$f":"IFERROR(SMALL($AD$4:$AD$1642,ROWS($AD$4:AD503)),\"\")","v":""},null,{"$f":"IFERROR(INDEX($A$4:$R$1642,$AE503,COLUMNS($A:$B)),\"\")","v":""},{"$f":"IFERROR(INDEX($A$4:$R$1642,$AE503,COLUMNS($A:$C)),\"\")","v":""},{"$f":"IFERROR(INDEX($A$4:$R$1642,$AE503,COLUMNS($A:$R)),\"\")","v":""},null,null,null,null,null,null,null,null,62]
[null,null,null,null,null,null,null,{"$f":"IF(I504<0,\"a detrarre\",\"\")","v":""},{"$f":"SUMIF(I499:I502,\"<0\")","v":0},null,null,null,null,null,null,null,null,null,{"$f":"R503","v":""},null,null,{"$f":"VLOOKUP(B499,#REF!,4,FALSE)","v":{"$error":"#REF!"}},null,null,2,0,null,"",{"$f":"ROWS($AC$4:AC504)","v":501},"",{"$f":"IFERROR(SMALL($AD$4:$AD$1642,ROWS($AD$4:AD504)),\"\")","v":""},null,{"$f":"IFERROR(INDEX($A$4:$R$1642,$AE504,COLUMNS($A:$B)),\"\")","v":""},{"$f":"IFERROR(INDEX($A$4:$R$1642,$AE504,COLUMNS($A:$C)),\"\")","v":""},{"$f":"IFERROR(INDEX($A$4:$R$1642,$AE504,COLUMNS($A:$R)),\"\")","v":""},null,null,null,null,null,null,null,null,62]
[null,null,null,null,null,null,null,null,null,null,null,null,null,null,null,null,null,null,null,null,null,null,null,null,2,0,null,"",{"$f":"ROWS($AC$4:AC505)","v":502},"",{"$f":"IFERROR(SMALL($AD$4:$AD$1642,ROWS($AD$4:AD505)),\"\")","v":""},null,{"$f":"IFERROR(INDEX($A$4:$R$1642,$AE505,COLUMNS($A:$B)),\"\")","v":""},{"$f":"IFERROR(INDEX($A$4:$R$1642,$AE505,COLUMNS($A:$C)),\"\")","v":""},{"$f":"IFERROR(INDEX($A$4:$R$1642,$AE505,COLUMNS($A:$R)),\"\")","v":""},null,null,null,null,null,null,null,null,62]
[null,null,null,null,null,null,null,null,null,null,null,null,null,null,null,null,null,null,null,null,null,null,null,null,2,0,null,"",{"$f":"ROWS($AC$4:AC506)","v":503},"",{"$f":"IFERROR(SMALL($AD$4:$AD$1642,ROWS($AD$4:AD506)),\"\")","v":""},null,{"$f":"IFERROR(INDEX($A$4:$R$1642,$AE506,COLUMNS($A:$B)),\"\")","v":""},{"$f":"IFERROR(INDEX($A$4:$R$1642,$AE506,COLUMNS($A:$C)),\"\")","v":""},{"$f":"IFERROR(INDEX($A$4:$R$1642,$AE506,COLUMNS($A:$R)),\"\")","v":""},null,null,null,null,null,null,null,null,62]
[{"$f":"AR507","v":63},null,{"$f":"(VLOOKUP($B507,'Elenco Prezzi2'!$A$2:$E$201,2,FALSE))","v":{"$error":"#N/A"}},null,null,null,null,null,null,null,null,null,null,null,null,null,null,null,null,null,null,null,null,null,2,0,null,"",{"$f":"ROWS($AC$4:AC507)","v":504},"",{"$f":"IFERROR(SMALL($AD$4:$AD$1642,ROWS($AD$4:AD507)),\"\")","v":""},null,{"$f":"IFERROR(INDEX($A$4:$R$1642,$AE507,COLUMNS($A:$B)),\"\")","v":""},{"$f":"IFERROR(INDEX($A$4:$R$1642,$AE507,COLUMNS($A:$C)),\"\")","v":""},{"$f":"IFERROR(INDEX($A$4:$R$1642,$AE507,COLUMNS($A:$R)),\"\")","v":""},null,null,null,null,null,null,null,1,63]
[null,null,null,{"$f":"CONCATENATE(AK508&AL508&AM508&AN508)","v":""},null,null,null,null,{"$f":"IFERROR(IF(PRODUCT(E508:H508)=0,\"\",PRODUCT(E508:H508)),\"\")","v":""},{"$f":"I508","v":""},null,{"$f":"IF(E508>0,\" (p/u) \"&Modulo2.GetFormula(E508),\"\")","v":""},{"$f":"IF(F508>0,\" (lu) \"&Modulo2.GetFormula(F508),\"\")","v":""},{"$f":"IF(G508>0,\" (la) \"&Modulo2.GetFormula(G508),\"\")","v":""},{"$f":"IF(H508>0,\" (H) \"&Modulo2.GetFormula(H508),\"\")","v":""},null,null,null,null,null,null,null,null,null,2,0,null,"",{"$f":"ROWS($AC$4:AC508)","v":505},"",{"$f":"IFERROR(SMALL($AD$4:$AD$1642,ROWS($AD$4:AD508)),\"\")","v":""},null,{"$f":"IFERROR(INDEX($A$4:$R$1642,$AE508,COLUMNS($A:$B)),\"\")","v":""},{"$f":"IFERROR(INDEX($A$4:$R$1642,$AE508,COLUMNS($A:$C)),\"\")","v":""},{"$f":"IFERROR(INDEX($A$4:$R$1642,$AE508,COLUMNS($A:$R)),\"\")","v":""},null,{"$f":"IFERROR(IF(SEARCH(\"=\",L508),L508,\"\"),\"\")","v":""},{"$f":"IFERROR(IF(SEARCH(\"=\",M508),M508,\"\"),\"\")","v":""},{"$f":"IFERROR(IF(SEARCH(\"=\",N508),N508,\"\"),\"\")","v":""},{"$f":"IFERROR(IF(SEARCH(\"=\",O508),O508,\"\"),\"\")","v":""},null,null,null,63]
[null,null,null,"",null,null,null,null,"","",null,{"$f":"IF(E509>0,\" (p/u) \"&Modulo2.GetFormula(E509),\"\")","v":""},{"$f":"IF(F509>0,\" (lu) \"&Modulo2.GetFormula(F509),\"\")","v":""},{"$f":"IF(G509>0,\" (la) \"&Modulo2.GetFormula(G509),\"\")","v":""},{"$f":"IF(H509>0,\" (H) \"&Modulo2.GetFormula(H509),\"\")","v":""},null,null,null,null,null,null,null,null,null,2,0,null,"",{"$f":"ROWS($AC$4:AC509)","v":506},"",{"$f":"IFERROR(SMALL($AD$4:$AD$1642,ROWS($AD$4:AD509)),\"\")","v":""},null,{"$f":"IFERROR(INDEX($A$4:$R$1642,$AE509,COLUMNS($A:$B)),\"\")","v":""},{"$f":"IFERROR(INDEX($A$4:$R$1642,$AE509,COLUMNS($A:$C)),\"\")","v":""},{"$f":"IFERROR(INDEX($A$4:$R$1642,$AE509,COLUMNS($A:$R)),\"\")","v":""},null,"","","","",null,null,null,63]
[null,null,null,"",null,null,null,null,"","",null,{"$f":"IF(E510>0,\" (p/u) \"&Modulo2.GetFormula(E510),\"\")","v":""},{"$f":"IF(F510>0,\" (lu) \"&Modulo2.GetFormula(F510),\"\")","v":""},{"$f":"IF(G510>0,\" (la) \"&Modulo2.GetFormula(G510),\"\")","v":""},{"$f":"IF(H510>0,\" (H) \"&Modulo2.GetFormula(H510),\"\")","v":""},null,null,null,null,null,null,null,null,null,2,0,null,"",{"$f":"ROWS($AC$4:AC510)","v":507},"",{"$f":"IFERROR(SMALL($AD$4:$AD$1642,ROWS($AD$4:AD510)),\"\")","v":""},null,{"$f":"IFERROR(INDEX($A$4:$R$1642,$AE510,COLUMNS($A:$B)),\"\")","v":""},{"$f":"IFERROR(INDEX($A$4:$R$1642,$AE510,COLUMNS($A:$C)),\"\")","v":""},{"$f":"IFERROR(INDEX($A$4:$R$1642,$AE510,COLUMNS($A:$R)),\"\")","v":""},null,"","","","",null,null,null,63]
[null,null,null,null,null,null,null,{"$f":"CONCATENATE(\"SOMMANO [\",VLOOKUP(B507,'Elenco Prezzi2'!$A$2:$E$201,3,FALSE()),\"]\")","v":{"$error":"#N/A"}},{"$f":"IF(T511=\"s\",V512,SUBTOTAL(9,I507:I511))","v":{"$error":"#REF!"}},null,{"$f":"VLOOKUP(B507,'Elenco Prezzi2'!$A$2:$E$201,5,FALSE)","v":{"$error":"#N/A"}},null,null,null,null,null,null,{"$f":"IFERROR(I511*K511,\"\")","v":""},null,"s",null,null,null,{"$f":"R511","v":""},2,0,null,"",{"$f":"ROWS($AC$4:AC511)","v":508},"",{"$f":"IFERROR(SMALL($AD$4:$AD$1642,ROWS($AD$4:AD511)),\"\")","v":""},null,{"$f":"IFERROR(INDEX($A$4:$R$1642,$AE511,COLUMNS($A:$B)),\"\")","v":""},{"$f":"IFERROR(INDEX($A$4:$R$1642,$AE511,COLUMNS($A:$C)),\"\")","v":""},{"$f":"IFERROR(INDEX($A$4:$R$1642,$AE511,COLUMNS($A:$R)),\"\")","v":""},null,null,null,null,null,null,null,null,63]
[null,null,null,null,null,null,null,{"$f":"IF(I512<0,\"a detrarre\",\"\")","v":""},{"$f":"SUMIF(I507:I510,\"<0\")","v":0},null,null,null,null,null,null,null,null,null,{"$f":"R511","v":""},null,null,{"$f":"VLOOKUP(B507,#REF!,4,FALSE)","v":{"$error":"#REF!"}},null,null,2,0,null,"",{"$f":"ROWS($AC$4:AC512)","v":509},"",{"$f":"IFERROR(SMALL($AD$4:$AD$1642,ROWS($AD$4:AD512)),\"\")","v":""},null,{"$f":"IFERROR(INDEX($A$4:$R$1642,$AE512,COLUMNS($A:$B)),\"\")","v":""},{"$f":"IFERROR(INDEX($A$4:$R$1642,$AE512,COLUMNS($A:$C)),\"\")","v":""},{"$f":"IFERROR(INDEX($A$4:$R$1642,$AE512,COLUMNS($A:$R)),\"\")","v":""},null,null,null,null,null,null,null,null,63]
[null,null,null,null,null,null,null,null,null,null,null,null,null,null,null,null,null,null,null,null,null,null,null,null,2,0,null,"",{"$f":"ROWS($AC$4:AC513)","v":510},"",{"$f":"IFERROR(SMALL($AD$4:$AD$1642,ROWS($AD$4:AD513)),\"\")","v":""},null,{"$f":"IFERROR(INDEX($A$4:$R$1642,$AE513,COLUMNS($A:$B)),\"\")","v":""},{"$f":"IFERROR(INDEX($A$4:$R$1642,$AE513,COLUMNS($A:$C)),\"\")","v":""},{"$f":"IFERROR(INDEX($A$4:$R$1642,$AE513,COLUMNS($A:$R)),\"\")","v":""},null,null,null,null,null,null,null,null,63]
[null,null,null,null,null,null,null,null,null,null,null,null,null,null,null,null,null,null,null,null,null,null,null,null,2,0,null,"",{"$f":"ROWS($AC$4:AC514)","v":511},"",{"$f":"IFERROR(SMALL($AD$4:$AD$1642,ROWS($AD$4:AD514)),\"\")","v":""},null,{"$f":"IFERROR(INDEX($A$4:$R$1642,$AE514,COLUMNS($A:$B)),\"\")","v":""},{"$f":"IFERROR(INDEX($A$4:$R$1642,$AE514,COLUMNS($A:$C)),\"\")","v":""},{"$f":"IFERROR(INDEX($A$4:$R$1642,$AE514,COLUMNS($A:$R)),\"\")","v":""},null,null,null,null,null,null,null,null,63]
[{"$f":"AR515","v":64},null,{"$f":"(VLOOKUP($B515,'Elenco Prezzi2'!$A$2:$E$201,2,FALSE))","v":{"$error":"#N/A"}},null,null,null,null,null,null,null,null,null,null,null,null,null,null,null,null,null,null,null,null,null,2,0,null,"",{"$f":"ROWS($AC$4:AC515)","v":512},"",{"$f":"IFERROR(SMALL($AD$4:$AD$1642,ROWS($AD$4:AD515)),\"\")","v":""},null,{"$f":"IFERROR(INDEX($A$4:$R$1642,$AE515,COLUMNS($A:$B)),\"\")","v":""},{"$f":"IFERROR(INDEX($A$4:$R$1642,$AE515,COLUMNS($A:$C)),\"\")","v":""},{"$f":"IFERROR(INDEX($A$4:$R$1642,$AE515,COLUMNS($A:$R)),\"\")","v":""},null,null,null,null,null,null,null,1,64]
[null,null,null,{"$f":"CONCATENATE(AK516&AL516&AM516&AN516)","v":""},null,null,null,null,{"$f":"IFERROR(IF(PRODUCT(E516:H516)=0,\"\",PRODUCT(E516:H516)),\"\")","v":""},{"$f":"I516","v":""},null,{"$f":"IF(E516>0,\" (p/u) \"&Modulo2.GetFormula(E516),\"\")","v":""},{"$f":"IF(F516>0,\" (lu) \"&Modulo2.GetFormula(F516),\"\")","v":""},{"$f":"IF(G516>0,\" (la) \"&Modulo2.GetFormula(G516),\"\")","v":""},{"$f":"IF(H516>0,\" (H) \"&Modulo2.GetFormula(H516),\"\")","v":""},null,null,null,null,null,null,null,null,null,2,0,null,"",{"$f":"ROWS($AC$4:AC516)","v":513},"",{"$f":"IFERROR(SMALL($AD$4:$AD$1642,ROWS($AD$4:AD516)),\"\")","v":""},null,{"$f":"IFERROR(INDEX($A$4:$R$1642,$AE516,COLUMNS($A:$B)),\"\")","v":""},{"$f":"IFERROR(INDEX($A$4:$R$1642,$AE516,COLUMNS($A:$C)),\"\")","v":""},{"$f":"IFERROR(INDEX($A$4:$R$1642,$AE516,COLUMNS($A:$R)),\"\")","v":""},null,{"$f":"IFERROR(IF(SEARCH(\"=\",L516),L516,\"\"),\"\")","v":""},{"$f":"IFERROR(IF(SEARCH(\"=\",M516),M516,\"\"),\"\")","v":""},{"$f":"IFERROR(IF(SEARCH(\"=\",N516),N516,\"\"),\"\")","v":""},{"$f":"IFERROR(IF(SEARCH(\"=\",O516),O516,\"\"),\"\")","v":""},null,null,null,64]
[null,null,null,"",null,null,null,null,"","",null,{"$f":"IF(E517>0,\" (p/u) \"&Modulo2.GetFormula(E517),\"\")","v":""},{"$f":"IF(F517>0,\" (lu) \"&Modulo2.GetFormula(F517),\"\")","v":""},{"$f":"IF(G517>0,\" (la) \"&Modulo2.GetFormula(G517),\"\")","v":""},{"$f":"IF(H517>0,\" (H) \"&Modulo2.GetFormula(H517),\"\")","v":""},null,null,null,null,null,null,null,null,null,2,0,null,"",{"$f":"ROWS($AC$4:AC517)","v":514},"",{"$f":"IFERROR(SMALL($AD$4:$AD$1642,ROWS($AD$4:AD517)),\"\")","v":""},null,{"$f":"IFERROR(INDEX($A$4:$R$1642,$AE517,COLUMNS($A:$B)),\"\")","v":""},{"$f":"IFERROR(INDEX($A$4:$R$1642,$AE517,COLUMNS($A:$C)),\"\")","v":""},{"$f":"IFERROR(INDEX($A$4:$R$1642,$AE517,COLUMNS($A:$R)),\"\")","v":""},null,"","","","",null,null,null,64]
[null,null,null,"",null,null,null,null,"","",null,{"$f":"IF(E518>0,\" (p/u) \"&Modulo2.GetFormula(E518),\"\")","v":""},{"$f":"IF(F518>0,\" (lu) \"&Modulo2.GetFormula(F518),\"\")","v":""},{"$f":"IF(G518>0,\" (la) \"&Modulo2.GetFormula(G518),\"\")","v":""},{"$f":"IF(H518>0,\" (H) \"&Modulo2.GetFormula(H518),\"\")","v":""},null,null,null,null,null,null,null,null,null,2,0,null,"",{"$f":"ROWS($AC$4:AC518)","v":515},"",{"$f":"IFERROR(SMALL($AD$4:$AD$1642,ROWS($AD$4:AD518)),\"\")","v":""},null,{"$f":"IFERROR(INDEX($A$4:$R$1642,$AE518,COLUMNS($A:$B)),\"\")","v":""},{"$f":"IFERROR(INDEX($A$4:$R$1642,$AE518,COLUMNS($A:$C)),\"\")","v":""},{"$f":"IFERROR(INDEX($A$4:$R$1642,$AE518,COLUMNS($A:$R)),\"\")","v":""},null,"","","","",null,null,null,64]
[null,null,null,null,null,null,null,{"$f":"CONCATENATE(\"SOMMANO [\",VLOOKUP(B515,'Elenco Prezzi2'!$A$2:$E$201,3,FALSE()),\"]\")","v":{"$error":"#N/A"}},{"$f":"IF(T519=\"s\",V520,SUBTOTAL(9,I515:I519))","v":{"$error":"#REF!"}},null,{"$f":"VLOOKUP(B515,'Elenco Prezzi2'!$A$2:$E$201,5,FALSE)","v":{"$error":"#N/A"}},null,null,null,null,null,null,{"$f":"IFERROR(I519*K519,\"\")","v":""},null,"s",null,null,null,{"$f":"R519","v":""},2,0,null,"",{"$f":"ROWS($AC$4:AC519)","v":516},"",{"$f":"IFERROR(SMALL($AD$4:$AD$1642,ROWS($AD$4:AD519)),\"\")","v":""},null,{"$f":"IFERROR(INDEX($A$4:$R$1642,$AE519,COLUMNS($A:$B)),\"\")","v":""},{"$f":"IFERROR(INDEX($A$4:$R$1642,$AE519,COLUMNS($A:$C)),\"\")","v":""},{"$f":"IFERROR(INDEX($A$4:$R$1642,$AE519,COLUMNS($A:$R)),\"\")","v":""},null,null,null,null,null,null,null,null,64]
[null,null,null,null,null,null,null,{"$f":"IF(I520<0,\"a detrarre\",\"\")","v":""},{"$f":"SUMIF(I515:I518,\"<0\")","v":0},null,null,null,null,null,null,null,null,null,{"$f":"R519","v":""},null,null,{"$f":"VLOOKUP(B515,#REF!,4,FALSE)","v":{"$error":"#REF!"}},null,null,2,0,null,"",{"$f":"ROWS($AC$4:AC520)","v":517},"",{"$f":"IFERROR(SMALL($AD$4:$AD$1642,ROWS($AD$4:AD520)),\"\")","v":""},null,{"$f":"IFERROR(INDEX($A$4:$R$1642,$AE520,COLUMNS($A:$B)),\"\")","v":""},{"$f":"IFERROR(INDEX($A$4:$R$1642,$AE520,COLUMNS($A:$C)),\"\")","v":""},{"$f":"IFERROR(INDEX($A$4:$R$1642,$AE520,COLUMNS($A:$R)),\"\")","v":""},null,null,null,null,null,null,null,null,64]
[null,null,null,null,null,null,null,null,null,null,null,null,null,null,null,null,null,null,null,null,null,null,null,null,2,0,null,"",{"$f":"ROWS($AC$4:AC521)","v":518},"",{"$f":"IFERROR(SMALL($AD$4:$AD$1642,ROWS($AD$4:AD521)),\"\")","v":""},null,{"$f":"IFERROR(INDEX($A$4:$R$1642,$AE521,COLUMNS($A:$B)),\"\")","v":""},{"$f":"IFERROR(INDEX($A$4:$R$1642,$AE521,COLUMNS($A:$C)),\"\")","v":""},{"$f":"IFERROR(INDEX($A$4:$R$1642,$AE521,COLUMNS($A:$R)),\"\")","v":""},null,null,null,null,null,null,null,null,64]
[null,null,null,null,null,null,null,null,null,null,null,null,null,null,null,null,null,null,null,null,null,null,null,null,2,0,null,"",{"$f":"ROWS($AC$4:AC522)","v":519},"",{"$f":"IFERROR(SMALL($AD$4:$AD$1642,ROWS($AD$4:AD522)),\"\")","v":""},null,{"$f":"IFERROR(INDEX($A$4:$R$1642,$AE522,COLUMNS($A:$B)),\"\")","v":""},{"$f":"IFERROR(INDEX($A$4:$R$1642,$AE522,COLUMNS($A:$C)),\"\")","v":""},{"$f":"IFERROR(INDEX($A$4:$R$1642,$AE522,COLUMNS($A:$R)),\"\")","v":""},null,null,null,null,null,null,null,null,64]
[{"$f":"AR523","v":65},null,{"$f":"(VLOOKUP($B523,'Elenco Prezzi2'!$A$2:$E$201,2,FALSE))","v":{"$error":"#N/A"}},null,null,null,null,null,null,null,null,null,null,null,null,null,null,null,null,null,null,null,null,null,2,0,null,"",{"$f":"ROWS($AC$4:AC523)","v":520},"",{"$f":"IFERROR(SMALL($AD$4:$AD$1642,ROWS($AD$4:AD523)),\"\")","v":""},null,{"$f":"IFERROR(INDEX($A$4:$R$1642,$AE523,COLUMNS($A:$B)),\"\")","v":""},{"$f":"IFERROR(INDEX($A$4:$R$1642,$AE523,COLUMNS($A:$C)),\"\")","v":""},{"$f":"IFERROR(INDEX($A$4:$R$1642,$AE523,COLUMNS($A:$R)),\"\")","v":""},null,null,null,null,null,null,null,1,65]
[null,null,null,{"$f":"CONCATENATE(AK524&AL524&AM524&AN524)","v":""},null,null,null,null,{"$f":"IFERROR(IF(PRODUCT(E524:H524)=0,\"\",PRODUCT(E524:H524)),\"\")","v":""},{"$f":"I524","v":""},null,{"$f":"IF(E524>0,\" (p/u) \"&Modulo2.GetFormula(E524),\"\")","v":""},{"$f":"IF(F524>0,\" (lu) \"&Modulo2.GetFormula(F524),\"\")","v":""},{"$f":"IF(G524>0,\" (la) \"&Modulo2.GetFormula(G524),\"\")","v":""},{"$f":"IF(H524>0,\" (H) \"&Modulo2.GetFormula(H524),\"\")","v":""},null,null,null,null,null,null,null,null,null,2,0,null,"",{"$f":"ROWS($AC$4:AC524)","v":521},"",{"$f":"IFERROR(SMALL($AD$4:$AD$1642,ROWS($AD$4:AD524)),\"\")","v":""},null,{"$f":"IFERROR(INDEX($A$4:$R$1642,$AE524,COLUMNS($A:$B)),\"\")","v":""},{"$f":"IFERROR(INDEX($A$4:$R$1642,$AE524,COLUMNS($A:$C)),\"\")","v":""},{"$f":"IFERROR(INDEX($A$4:$R$1642,$AE524,COLUMNS($A:$R)),\"\")","v":""},null,{"$f":"IFERROR(IF(SEARCH(\"=\",L524),L524,\"\"),\"\")","v":""},{"$f":"IFERROR(IF(SEARCH(\"=\",M524),M524,\"\"),\"\")","v":""},{"$f":"IFERROR(IF(SEARCH(\"=\",N524),N524,\"\"),\"\")","v":""},{"$f":"IFERROR(IF(SEARCH(\"=\",O524),O524,\"\"),\"\")","v":""},null,null,null,65]
[null,null,null,"",null,null,null,null,"","",null,{"$f":"IF(E525>0,\" (p/u) \"&Modulo2.GetFormula(E525),\"\")","v":""},{"$f":"IF(F525>0,\" (lu) \"&Modulo2.GetFormula(F525),\"\")","v":""},{"$f":"IF(G525>0,\" (la) \"&Modulo2.GetFormula(G525),\"\")","v":""},{"$f":"IF(H525>0,\" (H) \"&Modulo2.GetFormula(H525),\"\")","v":""},null,null,null,null,null,null,null,null,null,2,0,null,"",{"$f":"ROWS($AC$4:AC525)","v":522},"",{"$f":"IFERROR(SMALL($AD$4:$AD$1642,ROWS($AD$4:AD525)),\"\")","v":""},null,{"$f":"IFERROR(INDEX($A$4:$R$1642,$AE525,COLUMNS($A:$B)),\"\")","v":""},{"$f":"IFERROR(INDEX($A$4:$R$1642,$AE525,COLUMNS($A:$C)),\"\")","v":""},{"$f":"IFERROR(INDEX($A$4:$R$1642,$AE525,COLUMNS($A:$R)),\"\")","v":""},null,"","","","",null,null,null,65]
[null,null,null,"",null,null,null,null,"","",null,{"$f":"IF(E526>0,\" (p/u) \"&Modulo2.GetFormula(E526),\"\")","v":""},{"$f":"IF(F526>0,\" (lu) \"&Modulo2.GetFormula(F526),\"\")","v":""},{"$f":"IF(G526>0,\" (la) \"&Modulo2.GetFormula(G526),\"\")","v":""},{"$f":"IF(H526>0,\" (H) \"&Modulo2.GetFormula(H526),\"\")","v":""},null,null,null,null,null,null,null,null,null,2,0,null,"",{"$f":"ROWS($AC$4:AC526)","v":523},"",{"$f":"IFERROR(SMALL($AD$4:$AD$1642,ROWS($AD$4:AD526)),\"\")","v":""},null,{"$f":"IFERROR(INDEX($A$4:$R$1642,$AE526,COLUMNS($A:$B)),\"\")","v":""},{"$f":"IFERROR(INDEX($A$4:$R$1642,$AE526,COLUMNS($A:$C)),\"\")","v":""},{"$f":"IFERROR(INDEX($A$4:$R$1642,$AE526,COLUMNS($A:$R)),\"\")","v":""},null,"","","","",null,null,null,65]
[null,null,null,null,null,null,null,{"$f":"CONCATENATE(\"SOMMANO [\",VLOOKUP(B523,'Elenco Prezzi2'!$A$2:$E$201,3,FALSE()),\"]\")","v":{"$error":"#N/A"}},{"$f":"IF(T527=\"s\",V528,SUBTOTAL(9,I523:I527))","v":{"$error":"#REF!"}},null,{"$f":"VLOOKUP(B523,'Elenco Prezzi2'!$A$2:$E$201,5,FALSE)","v":{"$error":"#N/A"}},null,null,null,null,null,null,{"$f":"IFERROR(I527*K527,\"\")","v":""},null,"s",null,null,null,{"$f":"R527","v":""},2,0,null,"",{"$f":"ROWS($AC$4:AC527)","v":524},"",{"$f":"IFERROR(SMALL($AD$4:$AD$1642,ROWS($AD$4:AD527)),\"\")","v":""},null,{"$f":"IFERROR(INDEX($A$4:$R$1642,$AE527,COLUMNS($A:$B)),\"\")","v":""},{"$f":"IFERROR(INDEX($A$4:$R$1642,$AE527,COLUMNS($A:$C)),\"\")","v":""},{"$f":"IFERROR(INDEX($A$4:$R$1642,$AE527,COLUMNS($A:$R)),\"\")","v":""},null,null,null,null,null,null,null,null,65]
[null,null,null,null,null,null,null,{"$f":"IF(I528<0,\"a detrarre\",\"\")","v":""},{"$f":"SUMIF(I523:I526,\"<0\")","v":0},null,null,null,null,null,null,null,null,null,{"$f":"R527","v":""},null,null,{"$f":"VLOOKUP(B523,#REF!,4,FALSE)","v":{"$error":"#REF!"}},null,null,2,0,null,"",{"$f":"ROWS($AC$4:AC528)","v":525},"",{"$f":"IFERROR(SMALL($AD$4:$AD$1642,ROWS($AD$4:AD528)),\"\")","v":""},null,{"$f":"IFERROR(INDEX($A$4:$R$1642,$AE528,COLUMNS($A:$B)),\"\")","v":""},{"$f":"IFERROR(INDEX($A$4:$R$1642,$AE528,COLUMNS($A:$C)),\"\")","v":""},{"$f":"IFERROR(INDEX($A$4:$R$1642,$AE528,COLUMNS($A:$R)),\"\")","v":""},null,null,null,null,null,null,null,null,65]
[null,null,null,null,null,null,null,null,null,null,null,null,null,null,null,null,null,null,null,null,null,null,null,null,2,0,null,"",{"$f":"ROWS($AC$4:AC529)","v":526},"",{"$f":"IFERROR(SMALL($AD$4:$AD$1642,ROWS($AD$4:AD529)),\"\")","v":""},null,{"$f":"IFERROR(INDEX($A$4:$R$1642,$AE529,COLUMNS($A:$B)),\"\")","v":""},{"$f":"IFERROR(INDEX($A$4:$R$1642,$AE529,COLUMNS($A:$C)),\"\")","v":""},{"$f":"IFERROR(INDEX($A$4:$R$1642,$AE529,COLUMNS($A:$R)),\"\")","v":""},null,null,null,null,null,null,null,null,65]
[null,null,null,null,null,null,null,null,null,null,null,null,null,null,null,null,null,null,null,null,null,null,null,null,2,0,null,"",{"$f":"ROWS($AC$4:AC530)","v":527},"",{"$f":"IFERROR(SMALL($AD$4:$AD$1642,ROWS($AD$4:AD530)),\"\")","v":""},null,{"$f":"IFERROR(INDEX($A$4:$R$1642,$AE530,COLUMNS($A:$B)),\"\")","v":""},{"$f":"IFERROR(INDEX($A$4:$R$1642,$AE530,COLUMNS($A:$C)),\"\")","v":""},{"$f":"IFERROR(INDEX($A$4:$R$1642,$AE530,COLUMNS($A:$R)),\"\")","v":""},null,null,null,null,null,null,null,null,65]
[{"$f":"AR531","v":66},null,{"$f":"(VLOOKUP($B531,'Elenco Prezzi2'!$A$2:$E$201,2,FALSE))","v":{"$error":"#N/A"}},null,null,null,null,null,null,null,null,null,null,null,null,null,null,null,null,null,null,null,null,null,2,0,null,"",{"$f":"ROWS($AC$4:AC531)","v":528},"",{"$f":"IFERROR(SMALL($AD$4:$AD$1642,ROWS($AD$4:AD531)),\"\")","v":""},null,{"$f":"IFERROR(INDEX($A$4:$R$1642,$AE531,COLUMNS($A:$B)),\"\")","v":""},{"$f":"IFERROR(INDEX($A$4:$R$1642,$AE531,COLUMNS($A:$C)),\"\")","v":""},{"$f":"IFERROR(INDEX($A$4:$R$1642,$AE531,COLUMNS($A:$R)),\"\")","v":""},null,null,null,null,null,null,null,1,66]
[null,null,null,{"$f":"CONCATENATE(AK532&AL532&AM532&AN532)","v":""},null,null,null,null,{"$f":"IFERROR(IF(PRODUCT(E532:H532)=0,\"\",PRODUCT(E532:H532)),\"\")","v":""},{"$f":"I532","v":""},null,{"$f":"IF(E532>0,\" (p/u) \"&Modulo2.GetFormula(E532),\"\")","v":""},{"$f":"IF(F532>0,\" (lu) \"&Modulo2.GetFormula(F532),\"\")","v":""},{"$f":"IF(G532>0,\" (la) \"&Modulo2.GetFormula(G532),\"\")","v":""},{"$f":"IF(H532>0,\" (H) \"&Modulo2.GetFormula(H532),\"\")","v":""},null,null,null,null,null,null,null,null,null,2,0,null,"",{"$f":"ROWS($AC$4:AC532)","v":529},"",{"$f":"IFERROR(SMALL($AD$4:$AD$1642,ROWS($AD$4:AD532)),\"\")","v":""},null,{"$f":"IFERROR(INDEX($A$4:$R$1642,$AE532,COLUMNS($A:$B)),\"\")","v":""},{"$f":"IFERROR(INDEX($A$4:$R$1642,$AE532,COLUMNS($A:$C)),\"\")","v":""},{"$f":"IFERROR(INDEX($A$4:$R$1642,$AE532,COLUMNS($A:$R)),\"\")","v":""},null,{"$f":"IFERROR(IF(SEARCH(\"=\",L532),L532,\"\"),\"\")","v":""},{"$f":"IFERROR(IF(SEARCH(\"=\",M532),M532,\"\"),\"\")","v":""},{"$f":"IFERROR(IF(SEARCH(\"=\",N532),N532,\"\"),\"\")","v":""},{"$f":"IFERROR(IF(SEARCH(\"=\",O532),O532,\"\"),\"\")","v":""},null,null,null,66]
[null,null,null,"",null,null,null,null,"","",null,{"$f":"IF(E533>0,\" (p/u) \"&Modulo2.GetFormula(E533),\"\")","v":""},{"$f":"IF(F533>0,\" (lu) \"&Modulo2.GetFormula(F533),\"\")","v":""},{"$f":"IF(G533>0,\" (la) \"&Modulo2.GetFormula(G533),\"\")","v":""},{"$f":"IF(H533>0,\" (H) \"&Modulo2.GetFormula(H533),\"\")","v":""},null,null,null,null,null,null,null,null,null,2,0,null,"",{"$f":"ROWS($AC$4:AC533)","v":530},"",{"$f":"IFERROR(SMALL($AD$4:$AD$1642,ROWS($AD$4:AD533)),\"\")","v":""},null,{"$f":"IFERROR(INDEX($A$4:$R$1642,$AE533,COLUMNS($A:$B)),\"\")","v":""},{"$f":"IFERROR(INDEX($A$4:$R$1642,$AE533,COLUMNS($A:$C)),\"\")","v":""},{"$f":"IFERROR(INDEX($A$4:$R$1642,$AE533,COLUMNS($A:$R)),\"\")","v":""},null,"","","","",null,null,null,66]
[null,null,null,"",null,null,null,null,"","",null,{"$f":"IF(E534>0,\" (p/u) \"&Modulo2.GetFormula(E534),\"\")","v":""},{"$f":"IF(F534>0,\" (lu) \"&Modulo2.GetFormula(F534),\"\")","v":""},{"$f":"IF(G534>0,\" (la) \"&Modulo2.GetFormula(G534),\"\")","v":""},{"$f":"IF(H534>0,\" (H) \"&Modulo2.GetFormula(H534),\"\")","v":""},null,null,null,null,null,null,null,null,null,2,0,null,"",{"$f":"ROWS($AC$4:AC534)","v":531},"",{"$f":"IFERROR(SMALL($AD$4:$AD$1642,ROWS($AD$4:AD534)),\"\")","v":""},null,{"$f":"IFERROR(INDEX($A$4:$R$1642,$AE534,COLUMNS($A:$B)),\"\")","v":""},{"$f":"IFERROR(INDEX($A$4:$R$1642,$AE534,COLUMNS($A:$C)),\"\")","v":""},{"$f":"IFERROR(INDEX($A$4:$R$1642,$AE534,COLUMNS($A:$R)),\"\")","v":""},null,"","","","",null,null,null,66]
[null,null,null,null,null,null,null,{"$f":"CONCATENATE(\"SOMMANO [\",VLOOKUP(B531,'Elenco Prezzi2'!$A$2:$E$201,3,FALSE()),\"]\")","v":{"$error":"#N/A"}},{"$f":"IF(T535=\"s\",V536,SUBTOTAL(9,I531:I535))","v":{"$error":"#REF!"}},null,{"$f":"VLOOKUP(B531,'Elenco Prezzi2'!$A$2:$E$201,5,FALSE)","v":{"$error":"#N/A"}},null,null,null,null,null,null,{"$f":"IFERROR(I535*K535,\"\")","v":""},null,"s",null,null,null,{"$f":"R535","v":""},2,0,null,"",{"$f":"ROWS($AC$4:AC535)","v":532},"",{"$f":"IFERROR(SMALL($AD$4:$AD$1642,ROWS($AD$4:AD535)),\"\")","v":""},null,{"$f":"IFERROR(INDEX($A$4:$R$1642,$AE535,COLUMNS($A:$B)),\"\")","v":""},{"$f":"IFERROR(INDEX($A$4:$R$1642,$AE535,COLUMNS($A:$C)),\"\")","v":""},{"$f":"IFERROR(INDEX($A$4:$R$1642,$AE535,COLUMNS($A:$R)),\"\")","v":""},null,null,null,null,null,null,null,null,66]
[null,null,null,null,null,null,null,{"$f":"IF(I536<0,\"a detrarre\",\"\")","v":""},{"$f":"SUMIF(I531:I534,\"<0\")","v":0},null,null,null,null,null,null,null,null,null,{"$f":"R535","v":""},null,null,{"$f":"VLOOKUP(B531,#REF!,4,FALSE)","v":{"$error":"#REF!"}},null,null,2,0,null,"",{"$f":"ROWS($AC$4:AC536)","v":533},"",{"$f":"IFERROR(SMALL($AD$4:$AD$1642,ROWS($AD$4:AD536)),\"\")","v":""},null,{"$f":"IFERROR(INDEX($A$4:$R$1642,$AE536,COLUMNS($A:$B)),\"\")","v":""},{"$f":"IFERROR(INDEX($A$4:$R$1642,$AE536,COLUMNS($A:$C)),\"\")","v":""},{"$f":"IFERROR(INDEX($A$4:$R$1642,$AE536,COLUMNS($A:$R)),\"\")","v":""},null,null,null,null,null,null,null,null,66]
[null,null,null,null,null,null,null,null,null,null,null,null,null,null,null,null,null,null,null,null,null,null,null,null,2,0,null,"",{"$f":"ROWS($AC$4:AC537)","v":534},"",{"$f":"IFERROR(SMALL($AD$4:$AD$1642,ROWS($AD$4:AD537)),\"\")","v":""},null,{"$f":"IFERROR(INDEX($A$4:$R$1642,$AE537,COLUMNS($A:$B)),\"\")","v":""},{"$f":"IFERROR(INDEX($A$4:$R$1642,$AE537,COLUMNS($A:$C)),\"\")","v":""},{"$f":"IFERROR(INDEX($A$4:$R$1642,$AE537,COLUMNS($A:$R)),\"\")","v":""},null,null,null,null,null,null,null,null,66]
[null,null,null,null,null,null,null,null,null,null,null,null,null,null,null,null,null,null,null,null,null,null,null,null,2,0,null,"",{"$f":"ROWS($AC$4:AC538)","v":535},"",{"$f":"IFERROR(SMALL($AD$4:$AD$1642,ROWS($AD$4:AD538)),\"\")","v":""},null,{"$f":"IFERROR(INDEX($A$4:$R$1642,$AE538,COLUMNS($A:$B)),\"\")","v":""},{"$f":"IFERROR(INDEX($A$4:$R$1642,$AE538,COLUMNS($A:$C)),\"\")","v":""},{"$f":"IFERROR(INDEX($A$4:$R$1642,$AE538,COLUMNS($A:$R)),\"\")","v":""},null,null,null,null,null,null,null,null,66]
[{"$f":"AR539","v":67},null,{"$f":"(VLOOKUP($B539,'Elenco Prezzi2'!$A$2:$E$201,2,FALSE))","v":{"$error":"#N/A"}},null,null,null,null,null,null,null,null,null,null,null,null,null,null,null,null,null,null,null,null,null,2,0,null,"",{"$f":"ROWS($AC$4:AC539)","v":536},"",{"$f":"IFERROR(SMALL($AD$4:$AD$1642,ROWS($AD$4:AD539)),\"\")","v":""},null,{"$f":"IFERROR(INDEX($A$4:$R$1642,$AE539,COLUMNS($A:$B)),\"\")","v":""},{"$f":"IFERROR(INDEX($A$4:$R$1642,$AE539,COLUMNS($A:$C)),\"\")","v":""},{"$f":"IFERROR(INDEX($A$4:$R$1642,$AE539,COLUMNS($A:$R)),\"\")","v":""},null,null,null,null,null,null,null,1,67]
[null,null,null,{"$f":"CONCATENATE(AK540&AL540&AM540&AN540)","v":""},null,null,null,null,{"$f":"IFERROR(IF(PRODUCT(E540:H540)=0,\"\",PRODUCT(E540:H540)),\"\")","v":""},{"$f":"I540","v":""},null,{"$f":"IF(E540>0,\" (p/u) \"&Modulo2.GetFormula(E540),\"\")","v":""},{"$f":"IF(F540>0,\" (lu) \"&Modulo2.GetFormula(F540),\"\")","v":""},{"$f":"IF(G540>0,\" (la) \"&Modulo2.GetFormula(G540),\"\")","v":""},{"$f":"IF(H540>0,\" (H) \"&Modulo2.GetFormula(H540),\"\")","v":""},null,null,null,null,null,null,null,null,null,2,0,null,"",{"$f":"ROWS($AC$4:AC540)","v":537},"",{"$f":"IFERROR(SMALL($AD$4:$AD$1642,ROWS($AD$4:AD540)),\"\")","v":""},null,{"$f":"IFERROR(INDEX($A$4:$R$1642,$AE540,COLUMNS($A:$B)),\"\")","v":""},{"$f":"IFERROR(INDEX($A$4:$R$1642,$AE540,COLUMNS($A:$C)),\"\")","v":""},{"$f":"IFERROR(INDEX($A$4:$R$1642,$AE540,COLUMNS($A:$R)),\"\")","v":""},null,{"$f":"IFERROR(IF(SEARCH(\"=\",L540),L540,\"\"),\"\")","v":""},{"$f":"IFERROR(IF(SEARCH(\"=\",M540),M540,\"\"),\"\")","v":""},{"$f":"IFERROR(IF(SEARCH(\"=\",N540),N540,\"\"),\"\")","v":""},{"$f":"IFERROR(IF(SEARCH(\"=\",O540),O540,\"\"),\"\")","v":""},null,null,null,67]
[null,null,null,"",null,null,null,null,"","",null,{"$f":"IF(E541>0,\" (p/u) \"&Modulo2.GetFormula(E541),\"\")","v":""},{"$f":"IF(F541>0,\" (lu) \"&Modulo2.GetFormula(F541),\"\")","v":""},{"$f":"IF(G541>0,\" (la) \"&Modulo2.GetFormula(G541),\"\")","v":""},{"$f":"IF(H541>0,\" (H) \"&Modulo2.GetFormula(H541),\"\")","v":""},null,null,null,null,null,null,null,null,null,2,0,null,"",{"$f":"ROWS($AC$4:AC541)","v":538},"",{"$f":"IFERROR(SMALL($AD$4:$AD$1642,ROWS($AD$4:AD541)),\"\")","v":""},null,{"$f":"IFERROR(INDEX($A$4:$R$1642,$AE541,COLUMNS($A:$B)),\"\")","v":""},{"$f":"IFERROR(INDEX($A$4:$R$1642,$AE541,COLUMNS($A:$C)),\"\")","v":""},{"$f":"IFERROR(INDEX($A$4:$R$1642,$AE541,COLUMNS($A:$R)),\"\")","v":""},null,"","","","",null,null,null,67]
[null,null,null,"",null,null,null,null,"","",null,{"$f":"IF(E542>0,\" (p/u) \"&Modulo2.GetFormula(E542),\"\")","v":""},{"$f":"IF(F542>0,\" (lu) \"&Modulo2.GetFormula(F542),\"\")","v":""},{"$f":"IF(G542>0,\" (la) \"&Modulo2.GetFormula(G542),\"\")","v":""},{"$f":"IF(H542>0,\" (H) \"&Modulo2.GetFormula(H542),\"\")","v":""},null,null,null,null,null,null,null,null,null,2,0,null,"",{"$f":"ROWS($AC$4:AC542)","v":539},"",{"$f":"IFERROR(SMALL($AD$4:$AD$1642,ROWS($AD$4:AD542)),\"\")","v":""},null,{"$f":"IFERROR(INDEX($A$4:$R$1642,$AE542,COLUMNS($A:$B)),\"\")","v":""},{"$f":"IFERROR(INDEX($A$4:$R$1642,$AE542,COLUMNS($A:$C)),\"\")","v":""},{"$f":"IFERROR(INDEX($A$4:$R$1642,$AE542,COLUMNS($A:$R)),\"\")","v":""},null,"","","","",null,null,null,67]
[null,null,null,null,null,null,null,{"$f":"CONCATENATE(\"SOMMANO [\",VLOOKUP(B539,'Elenco Prezzi2'!$A$2:$E$201,3,FALSE()),\"]\")","v":{"$error":"#N/A"}},{"$f":"IF(T543=\"s\",V544,SUBTOTAL(9,I539:I543))","v":{"$error":"#REF!"}},null,{"$f":"VLOOKUP(B539,'Elenco Prezzi2'!$A$2:$E$201,5,FALSE)","v":{"$error":"#N/A"}},null,null,null,null,null,null,{"$f":"IFERROR(I543*K543,\"\")","v":""},null,"s",null,null,null,{"$f":"R543","v":""},2,0,null,"",{"$f":"ROWS($AC$4:AC543)","v":540},"",{"$f":"IFERROR(SMALL($AD$4:$AD$1642,ROWS($AD$4:AD543)),\"\")","v":""},null,{"$f":"IFERROR(INDEX($A$4:$R$1642,$AE543,COLUMNS($A:$B)),\"\")","v":""},{"$f":"IFERROR(INDEX($A$4:$R$1642,$AE543,COLUMNS($A:$C)),\"\")","v":""},{"$f":"IFERROR(INDEX($A$4:$R$1642,$AE543,COLUMNS($A:$R)),\"\")","v":""},null,null,null,null,null,null,null,null,67]
[null,null,null,null,null,null,null,{"$f":"IF(I544<0,\"a detrarre\",\"\")","v":""},{"$f":"SUMIF(I539:I542,\"<0\")","v":0},null,null,null,null,null,null,null,null,null,{"$f":"R543","v":""},null,null,{"$f":"VLOOKUP(B539,#REF!,4,FALSE)","v":{"$error":"#REF!"}},null,null,2,0,null,"",{"$f":"ROWS($AC$4:AC544)","v":541},"",{"$f":"IFERROR(SMALL($AD$4:$AD$1642,ROWS($AD$4:AD544)),\"\")","v":""},null,{"$f":"IFERROR(INDEX($A$4:$R$1642,$AE544,COLUMNS($A:$B)),\"\")","v":""},{"$f":"IFERROR(INDEX($A$4:$R$1642,$AE544,COLUMNS($A:$C)),\"\")","v":""},{"$f":"IFERROR(INDEX($A$4:$R$1642,$AE544,COLUMNS($A:$R)),\"\")","v":""},null,null,null,null,null,null,null,null,67]
[null,null,null,null,null,null,null,null,null,null,null,null,null,null,null,null,null,null,null,null,null,null,null,null,2,0,null,"",{"$f":"ROWS($AC$4:AC545)","v":542},"",{"$f":"IFERROR(SMALL($AD$4:$AD$1642,ROWS($AD$4:AD545)),\"\")","v":""},null,{"$f":"IFERROR(INDEX($A$4:$R$1642,$AE545,COLUMNS($A:$B)),\"\")","v":""},{"$f":"IFERROR(INDEX($A$4:$R$1642,$AE545,COLUMNS($A:$C)),\"\")","v":""},{"$f":"IFERROR(INDEX($A$4:$R$1642,$AE545,COLUMNS($A:$R)),\"\")","v":""},null,null,null,null,null,null,null,null,67]
[null,null,null,null,null,null,null,null,null,null,null,null,null,null,null,null,null,null,null,null,null,null,null,null,2,0,null,"",{"$f":"ROWS($AC$4:AC546)","v":543},"",{"$f":"IFERROR(SMALL($AD$4:$AD$1642,ROWS($AD$4:AD546)),\"\")","v":""},null,{"$f":"IFERROR(INDEX($A$4:$R$1642,$AE546,COLUMNS($A:$B)),\"\")","v":""},{"$f":"IFERROR(INDEX($A$4:$R$1642,$AE546,COLUMNS($A:$C)),\"\")","v":""},{"$f":"IFERROR(INDEX($A$4:$R$1642,$AE546,COLUMNS($A:$R)),\"\")","v":""},null,null,null,null,null,null,null,null,67]
[{"$f":"AR547","v":68},null,{"$f":"(VLOOKUP($B547,'Elenco Prezzi2'!$A$2:$E$201,2,FALSE))","v":{"$error":"#N/A"}},null,null,null,null,null,null,null,null,null,null,null,null,null,null,null,null,null,null,null,null,null,2,0,null,{"$f":"IF(W547>0,\"OK\",\"\")","v":""},{"$f":"ROWS($AC$4:AC547)","v":544},{"$f":"IF(AB547=\"ok\",AC547,\"\")","v":""},{"$f":"IFERROR(SMALL($AD$4:$AD$1642,ROWS($AD$4:AD547)),\"\")","v":""},null,{"$f":"IFERROR(INDEX($A$4:$R$1642,$AE547,COLUMNS($A:$B)),\"\")","v":""},{"$f":"IFERROR(INDEX($A$4:$R$1642,$AE547,COLUMNS($A:$C)),\"\")","v":""},{"$f":"IFERROR(INDEX($A$4:$R$1642,$AE547,COLUMNS($A:$R)),\"\")","v":""},null,null,null,null,null,null,null,1,{"$f":"IF(AQ547=\"\",AR546,AR546+AQ547)","v":68}]
[null,null,null,{"$f":"CONCATENATE(AK548&AL548&AM548&AN548)","v":""},null,null,null,null,{"$f":"IFERROR(IF(PRODUCT(E548:H548)=0,\"\",PRODUCT(E548:H548)),\"\")","v":""},{"$f":"I548","v":""},null,{"$f":"IF(E548>0,\" (p/u) \"&Modulo2.GetFormula(E548),\"\")","v":""},{"$f":"IF(F548>0,\" (lu) \"&Modulo2.GetFormula(F548),\"\")","v":""},{"$f":"IF(G548>0,\" (la) \"&Modulo2.GetFormula(G548),\"\")","v":""},{"$f":"IF(H548>0,\" (H) \"&Modulo2.GetFormula(H548),\"\")","v":""},null,null,null,null,null,null,null,null,null,{"$f":"IF(AO548=\"\",Y547,Y547+AO548)","v":2},{"$f":"IF(AP548=\"\",Z547,Z547+AP548)","v":0},null,"",{"$f":"ROWS($AC$4:AC548)","v":545},"",{"$f":"IFERROR(SMALL($AD$4:$AD$1642,ROWS($AD$4:AD548)),\"\")","v":""},null,{"$f":"IFERROR(INDEX($A$4:$R$1642,$AE548,COLUMNS($A:$B)),\"\")","v":""},{"$f":"IFERROR(INDEX($A$4:$R$1642,$AE548,COLUMNS($A:$C)),\"\")","v":""},{"$f":"IFERROR(INDEX($A$4:$R$1642,$AE548,COLUMNS($A:$R)),\"\")","v":""},null,{"$f":"IFERROR(IF(SEARCH(\"=\",L548),L548,\"\"),\"\")","v":""},{"$f":"IFERROR(IF(SEARCH(\"=\",M548),M548,\"\"),\"\")","v":""},{"$f":"IFERROR(IF(SEARCH(\"=\",N548),N548,\"\"),\"\")","v":""},{"$f":"IFERROR(IF(SEARCH(\"=\",O548),O548,\"\"),\"\")","v":""},null,null,null,68]
[null,null,null,"",null,null,null,null,"","",null,{"$f":"IF(E549>0,\" (p/u) \"&Modulo2.GetFormula(E549),\"\")","v":""},{"$f":"IF(F549>0,\" (lu) \"&Modulo2.GetFormula(F549),\"\")","v":""},{"$f":"IF(G549>0,\" (la) \"&Modulo2.GetFormula(G549),\"\")","v":""},{"$f":"IF(H549>0,\" (H) \"&Modulo2.GetFormula(H549),\"\")","v":""},null,null,null,null,null,null,null,null,null,2,0,null,"",{"$f":"ROWS($AC$4:AC549)","v":546},"",{"$f":"IFERROR(SMALL($AD$4:$AD$1642,ROWS($AD$4:AD549)),\"\")","v":""},null,{"$f":"IFERROR(INDEX($A$4:$R$1642,$AE549,COLUMNS($A:$B)),\"\")","v":""},{"$f":"IFERROR(INDEX($A$4:$R$1642,$AE549,COLUMNS($A:$C)),\"\")","v":""},{"$f":"IFERROR(INDEX($A$4:$R$1642,$AE549,COLUMNS($A:$R)),\"\")","v":""},null,"","","","",null,null,null,68]
[null,null,null,"",null,null,null,null,"","",null,{"$f":"IF(E550>0,\" (p/u) \"&Modulo2.GetFormula(E550),\"\")","v":""},{"$f":"IF(F550>0,\" (lu) \"&Modulo2.GetFormula(F550),\"\")","v":""},{"$f":"IF(G550>0,\" (la) \"&Modulo2.GetFormula(G550),\"\")","v":""},{"$f":"IF(H550>0,\" (H) \"&Modulo2.GetFormula(H550),\"\")","v":""},null,null,null,null,null,null,null,null,null,2,0,null,"",{"$f":"ROWS($AC$4:AC550)","v":547},"",{"$f":"IFERROR(SMALL($AD$4:$AD$1642,ROWS($AD$4:AD550)),\"\")","v":""},null,{"$f":"IFERROR(INDEX($A$4:$R$1642,$AE550,COLUMNS($A:$B)),\"\")","v":""},{"$f":"IFERROR(INDEX($A$4:$R$1642,$AE550,COLUMNS($A:$C)),\"\")","v":""},{"$f":"IFERROR(INDEX($A$4:$R$1642,$AE550,COLUMNS($A:$R)),\"\")","v":""},null,"","","","",null,null,null,68]
[null,null,null,null,null,null,null,{"$f":"CONCATENATE(\"SOMMANO [\",VLOOKUP(B547,'Elenco Prezzi2'!$A$2:$E$201,3,FALSE()),\"]\")","v":{"$error":"#N/A"}},{"$f":"IF(T551=\"s\",V552,SUBTOTAL(9,I547:I551))","v":{"$error":"#REF!"}},null,{"$f":"VLOOKUP(B547,'Elenco Prezzi2'!$A$2:$E$201,5,FALSE)","v":{"$error":"#N/A"}},null,null,null,null,null,null,{"$f":"IFERROR(I551*K551,\"\")","v":""},null,"s",null,null,null,{"$f":"R551","v":""},2,0,null,"",{"$f":"ROWS($AC$4:AC551)","v":548},"",{"$f":"IFERROR(SMALL($AD$4:$AD$1642,ROWS($AD$4:AD551)),\"\")","v":""},null,{"$f":"IFERROR(INDEX($A$4:$R$1642,$AE551,COLUMNS($A:$B)),\"\")","v":""},{"$f":"IFERROR(INDEX($A$4:$R$1642,$AE551,COLUMNS($A:$C)),\"\")","v":""},{"$f":"IFERROR(INDEX($A$4:$R$1642,$AE551,COLUMNS($A:$R)),\"\")","v":""},null,null,null,null,null,null,null,null,68]
[null,null,null,null,null,null,null,{"$f":"IF(I552<0,\"a detrarre\",\"\")","v":""},{"$f":"SUMIF(I547:I550,\"<0\")","v":0},null,null,null,null,null,null,null,null,null,{"$f":"R551","v":""},null,null,{"$f":"VLOOKUP(B547,#REF!,4,FALSE)","v":{"$error":"#REF!"}},null,null,2,0,null,"",{"$f":"ROWS($AC$4:AC552)","v":549},"",{"$f":"IFERROR(SMALL($AD$4:$AD$1642,ROWS($AD$4:AD552)),\"\")","v":""},null,{"$f":"IFERROR(INDEX($A$4:$R$1642,$AE552,COLUMNS($A:$B)),\"\")","v":""},{"$f":"IFERROR(INDEX($A$4:$R$1642,$AE552,COLUMNS($A:$C)),\"\")","v":""},{"$f":"IFERROR(INDEX($A$4:$R$1642,$AE552,COLUMNS($A:$R)),\"\")","v":""},null,null,null,null,null,null,null,null,68]
[null,null,null,null,null,null,null,null,null,null,null,null,null,null,null,null,null,null,null,null,null,null,null,null,2,0,null,"",{"$f":"ROWS($AC$4:AC553)","v":550},"",{"$f":"IFERROR(SMALL($AD$4:$AD$1642,ROWS($AD$4:AD553)),\"\")","v":""},null,{"$f":"IFERROR(INDEX($A$4:$R$1642,$AE553,COLUMNS($A:$B)),\"\")","v":""},{"$f":"IFERROR(INDEX($A$4:$R$1642,$AE553,COLUMNS($A:$C)),\"\")","v":""},{"$f":"IFERROR(INDEX($A$4:$R$1642,$AE553,COLUMNS($A:$R)),\"\")","v":""},null,null,null,null,null,null,null,null,68]
[null,null,null,null,null,null,null,null,null,null,null,null,null,null,null,null,null,null,null,null,null,null,null,null,2,0,null,"",{"$f":"ROWS($AC$4:AC554)","v":551},"",{"$f":"IFERROR(SMALL($AD$4:$AD$1642,ROWS($AD$4:AD554)),\"\")","v":""},null,{"$f":"IFERROR(INDEX($A$4:$R$1642,$AE554,COLUMNS($A:$B)),\"\")","v":""},{"$f":"IFERROR(INDEX($A$4:$R$1642,$AE554,COLUMNS($A:$C)),\"\")","v":""},{"$f":"IFERROR(INDEX($A$4:$R$1642,$AE554,COLUMNS($A:$R)),\"\")","v":""},null,null,null,null,null,null,null,null,68]
[{"$f":"AR555","v":69},null,{"$f":"(VLOOKUP($B555,'Elenco Prezzi2'!$A$2:$E$201,2,FALSE))","v":{"$error":"#N/A"}},null,null,null,null,null,null,null,null,null,null,null,null,null,null,null,null,null,null,null,null,null,2,0,null,"",{"$f":"ROWS($AC$4:AC555)","v":552},"",{"$f":"IFERROR(SMALL($AD$4:$AD$1642,ROWS($AD$4:AD555)),\"\")","v":""},null,{"$f":"IFERROR(INDEX($A$4:$R$1642,$AE555,COLUMNS($A:$B)),\"\")","v":""},{"$f":"IFERROR(INDEX($A$4:$R$1642,$AE555,COLUMNS($A:$C)),\"\")","v":""},{"$f":"IFERROR(INDEX($A$4:$R$1642,$AE555,COLUMNS($A:$R)),\"\")","v":""},null,null,null,null,null,null,null,1,69]
[null,null,null,{"$f":"CONCATENATE(AK556&AL556&AM556&AN556)","v":""},null,null,null,null,{"$f":"IFERROR(IF(PRODUCT(E556:H556)=0,\"\",PRODUCT(E556:H556)),\"\")","v":""},{"$f":"I556","v":""},null,{"$f":"IF(E556>0,\" (p/u) \"&Modulo2.GetFormula(E556),\"\")","v":""},{"$f":"IF(F556>0,\" (lu) \"&Modulo2.GetFormula(F556),\"\")","v":""},{"$f":"IF(G556>0,\" (la) \"&Modulo2.GetFormula(G556),\"\")","v":""},{"$f":"IF(H556>0,\" (H) \"&Modulo2.GetFormula(H556),\"\")","v":""},null,null,null,null,null,null,null,null,null,2,0,null,"",{"$f":"ROWS($AC$4:AC556)","v":553},"",{"$f":"IFERROR(SMALL($AD$4:$AD$1642,ROWS($AD$4:AD556)),\"\")","v":""},null,{"$f":"IFERROR(INDEX($A$4:$R$1642,$AE556,COLUMNS($A:$B)),\"\")","v":""},{"$f":"IFERROR(INDEX($A$4:$R$1642,$AE556,COLUMNS($A:$C)),\"\")","v":""},{"$f":"IFERROR(INDEX($A$4:$R$1642,$AE556,COLUMNS($A:$R)),\"\")","v":""},null,{"$f":"IFERROR(IF(SEARCH(\"=\",L556),L556,\"\"),\"\")","v":""},{"$f":"IFERROR(IF(SEARCH(\"=\",M556),M556,\"\"),\"\")","v":""},{"$f":"IFERROR(IF(SEARCH(\"=\",N556),N556,\"\"),\"\")","v":""},{"$f":"IFERROR(IF(SEARCH(\"=\",O556),O556,\"\"),\"\")","v":""},null,null,null,69]
[null,null,null,"",null,null,null,null,"","",null,{"$f":"IF(E557>0,\" (p/u) \"&Modulo2.GetFormula(E557),\"\")","v":""},{"$f":"IF(F557>0,\" (lu) \"&Modulo2.GetFormula(F557),\"\")","v":""},{"$f":"IF(G557>0,\" (la) \"&Modulo2.GetFormula(G557),\"\")","v":""},{"$f":"IF(H557>0,\" (H) \"&Modulo2.GetFormula(H557),\"\")","v":""},null,null,null,null,null,null,null,null,null,2,0,null,"",{"$f":"ROWS($AC$4:AC557)","v":554},"",{"$f":"IFERROR(SMALL($AD$4:$AD$1642,ROWS($AD$4:AD557)),\"\")","v":""},null,{"$f":"IFERROR(INDEX($A$4:$R$1642,$AE557,COLUMNS($A:$B)),\"\")","v":""},{"$f":"IFERROR(INDEX($A$4:$R$1642,$AE557,COLUMNS($A:$C)),\"\")","v":""},{"$f":"IFERROR(INDEX($A$4:$R$1642,$AE557,COLUMNS($A:$R)),\"\")","v":""},null,"","","","",null,null,null,69]
[null,null,null,"",null,null,null,null,"","",null,{"$f":"IF(E558>0,\" (p/u) \"&Modulo2.GetFormula(E558),\"\")","v":""},{"$f":"IF(F558>0,\" (lu) \"&Modulo2.GetFormula(F558),\"\")","v":""},{"$f":"IF(G558>0,\" (la) \"&Modulo2.GetFormula(G558),\"\")","v":""},{"$f":"IF(H558>0,\" (H) \"&Modulo2.GetFormula(H558),\"\")","v":""},null,null,null,null,null,null,null,null,null,2,0,null,"",{"$f":"ROWS($AC$4:AC558)","v":555},"",{"$f":"IFERROR(SMALL($AD$4:$AD$1642,ROWS($AD$4:AD558)),\"\")","v":""},null,{"$f":"IFERROR(INDEX($A$4:$R$1642,$AE558,COLUMNS($A:$B)),\"\")","v":""},{"$f":"IFERROR(INDEX($A$4:$R$1642,$AE558,COLUMNS($A:$C)),\"\")","v":""},{"$f":"IFERROR(INDEX($A$4:$R$1642,$AE558,COLUMNS($A:$R)),\"\")","v":""},null,"","","","",null,null,null,69]
[null,null,null,null,null,null,null,{"$f":"CONCATENATE(\"SOMMANO [\",VLOOKUP(B555,'Elenco Prezzi2'!$A$2:$E$201,3,FALSE()),\"]\")","v":{"$error":"#N/A"}},{"$f":"IF(T559=\"s\",V560,SUBTOTAL(9,I555:I559))","v":{"$error":"#REF!"}},null,{"$f":"VLOOKUP(B555,'Elenco Prezzi2'!$A$2:$E$201,5,FALSE)","v":{"$error":"#N/A"}},null,null,null,null,null,null,{"$f":"IFERROR(I559*K559,\"\")","v":""},null,"s",null,null,null,{"$f":"R559","v":""},2,0,null,"",{"$f":"ROWS($AC$4:AC559)","v":556},"",{"$f":"IFERROR(SMALL($AD$4:$AD$1642,ROWS($AD$4:AD559)),\"\")","v":""},null,{"$f":"IFERROR(INDEX($A$4:$R$1642,$AE559,COLUMNS($A:$B)),\"\")","v":""},{"$f":"IFERROR(INDEX($A$4:$R$1642,$AE559,COLUMNS($A:$C)),\"\")","v":""},{"$f":"IFERROR(INDEX($A$4:$R$1642,$AE559,COLUMNS($A:$R)),\"\")","v":""},null,null,null,null,null,null,null,null,69]
[null,null,null,null,null,null,null,{"$f":"IF(I560<0,\"a detrarre\",\"\")","v":""},{"$f":"SUMIF(I555:I558,\"<0\")","v":0},null,null,null,null,null,null,null,null,null,{"$f":"R559","v":""},null,null,{"$f":"VLOOKUP(B555,#REF!,4,FALSE)","v":{"$error":"#REF!"}},null,null,2,0,null,"",{"$f":"ROWS($AC$4:AC560)","v":557},"",{"$f":"IFERROR(SMALL($AD$4:$AD$1642,ROWS($AD$4:AD560)),\"\")","v":""},null,{"$f":"IFERROR(INDEX($A$4:$R$1642,$AE560,COLUMNS($A:$B)),\"\")","v":""},{"$f":"IFERROR(INDEX($A$4:$R$1642,$AE560,COLUMNS($A:$C)),\"\")","v":""},{"$f":"IFERROR(INDEX($A$4:$R$1642,$AE560,COLUMNS($A:$R)),\"\")","v":""},null,null,null,null,null,null,null,null,69]
[null,null,null,null,null,null,null,null,null,null,null,null,null,null,null,null,null,null,null,null,null,null,null,null,2,0,null,"",{"$f":"ROWS($AC$4:AC561)","v":558},"",{"$f":"IFERROR(SMALL($AD$4:$AD$1642,ROWS($AD$4:AD561)),\"\")","v":""},null,{"$f":"IFERROR(INDEX($A$4:$R$1642,$AE561,COLUMNS($A:$B)),\"\")","v":""},{"$f":"IFERROR(INDEX($A$4:$R$1642,$AE561,COLUMNS($A:$C)),\"\")","v":""},{"$f":"IFERROR(INDEX($A$4:$R$1642,$AE561,COLUMNS($A:$R)),\"\")","v":""},null,null,null,null,null,null,null,null,69]
[null,null,null,null,null,null,null,null,null,null,null,null,null,null,null,null,null,null,null,null,null,null,null,null,2,0,null,"",{"$f":"ROWS($AC$4:AC562)","v":559},"",{"$f":"IFERROR(SMALL($AD$4:$AD$1642,ROWS($AD$4:AD562)),\"\")","v":""},null,{"$f":"IFERROR(INDEX($A$4:$R$1642,$AE562,COLUMNS($A:$B)),\"\")","v":""},{"$f":"IFERROR(INDEX($A$4:$R$1642,$AE562,COLUMNS($A:$C)),\"\")","v":""},{"$f":"IFERROR(INDEX($A$4:$R$1642,$AE562,COLUMNS($A:$R)),\"\")","v":""},null,null,null,null,null,null,null,null,69]
[{"$f":"AR563","v":70},null,{"$f":"(VLOOKUP($B563,'Elenco Prezzi2'!$A$2:$E$201,2,FALSE))","v":{"$error":"#N/A"}},null,null,null,null,null,null,null,null,null,null,null,null,null,null,null,null,null,null,null,null,null,2,0,null,"",{"$f":"ROWS($AC$4:AC563)","v":560},"",{"$f":"IFERROR(SMALL($AD$4:$AD$1642,ROWS($AD$4:AD563)),\"\")","v":""},null,{"$f":"IFERROR(INDEX($A$4:$R$1642,$AE563,COLUMNS($A:$B)),\"\")","v":""},{"$f":"IFERROR(INDEX($A$4:$R$1642,$AE563,COLUMNS($A:$C)),\"\")","v":""},{"$f":"IFERROR(INDEX($A$4:$R$1642,$AE563,COLUMNS($A:$R)),\"\")","v":""},null,null,null,null,null,null,null,1,70]
[null,null,null,{"$f":"CONCATENATE(AK564&AL564&AM564&AN564)","v":""},null,null,null,null,{"$f":"IFERROR(IF(PRODUCT(E564:H564)=0,\"\",PRODUCT(E564:H564)),\"\")","v":""},{"$f":"I564","v":""},null,{"$f":"IF(E564>0,\" (p/u) \"&Modulo2.GetFormula(E564),\"\")","v":""},{"$f":"IF(F564>0,\" (lu) \"&Modulo2.GetFormula(F564),\"\")","v":""},{"$f":"IF(G564>0,\" (la) \"&Modulo2.GetFormula(G564),\"\")","v":""},{"$f":"IF(H564>0,\" (H) \"&Modulo2.GetFormula(H564),\"\")","v":""},null,null,null,null,null,null,null,null,null,2,0,null,"",{"$f":"ROWS($AC$4:AC564)","v":561},"",{"$f":"IFERROR(SMALL($AD$4:$AD$1642,ROWS($AD$4:AD564)),\"\")","v":""},null,{"$f":"IFERROR(INDEX($A$4:$R$1642,$AE564,COLUMNS($A:$B)),\"\")","v":""},{"$f":"IFERROR(INDEX($A$4:$R$1642,$AE564,COLUMNS($A:$C)),\"\")","v":""},{"$f":"IFERROR(INDEX($A$4:$R$1642,$AE564,COLUMNS($A:$R)),\"\")","v":""},null,{"$f":"IFERROR(IF(SEARCH(\"=\",L564),L564,\"\"),\"\")","v":""},{"$f":"IFERROR(IF(SEARCH(\"=\",M564),M564,\"\"),\"\")","v":""},{"$f":"IFERROR(IF(SEARCH(\"=\",N564),N564,\"\"),\"\")","v":""},{"$f":"IFERROR(IF(SEARCH(\"=\",O564),O564,\"\"),\"\")","v":""},null,null,null,70]
[null,null,null,"",null,null,null,null,"","",null,{"$f":"IF(E565>0,\" (p/u) \"&Modulo2.GetFormula(E565),\"\")","v":""},{"$f":"IF(F565>0,\" (lu) \"&Modulo2.GetFormula(F565),\"\")","v":""},{"$f":"IF(G565>0,\" (la) \"&Modulo2.GetFormula(G565),\"\")","v":""},{"$f":"IF(H565>0,\" (H) \"&Modulo2.GetFormula(H565),\"\")","v":""},null,null,null,null,null,null,null,null,null,2,0,null,"",{"$f":"ROWS($AC$4:AC565)","v":562},"",{"$f":"IFERROR(SMALL($AD$4:$AD$1642,ROWS($AD$4:AD565)),\"\")","v":""},null,{"$f":"IFERROR(INDEX($A$4:$R$1642,$AE565,COLUMNS($A:$B)),\"\")","v":""},{"$f":"IFERROR(INDEX($A$4:$R$1642,$AE565,COLUMNS($A:$C)),\"\")","v":""},{"$f":"IFERROR(INDEX($A$4:$R$1642,$AE565,COLUMNS($A:$R)),\"\")","v":""},null,"","","","",null,null,null,70]
[null,null,null,"",null,null,null,null,"","",null,{"$f":"IF(E566>0,\" (p/u) \"&Modulo2.GetFormula(E566),\"\")","v":""},{"$f":"IF(F566>0,\" (lu) \"&Modulo2.GetFormula(F566),\"\")","v":""},{"$f":"IF(G566>0,\" (la) \"&Modulo2.GetFormula(G566),\"\")","v":""},{"$f":"IF(H566>0,\" (H) \"&Modulo2.GetFormula(H566),\"\")","v":""},null,null,null,null,null,null,null,null,null,2,0,null,"",{"$f":"ROWS($AC$4:AC566)","v":563},"",{"$f":"IFERROR(SMALL($AD$4:$AD$1642,ROWS($AD$4:AD566)),\"\")","v":""},null,{"$f":"IFERROR(INDEX($A$4:$R$1642,$AE566,COLUMNS($A:$B)),\"\")","v":""},{"$f":"IFERROR(INDEX($A$4:$R$1642,$AE566,COLUMNS($A:$C)),\"\")","v":""},{"$f":"IFERROR(INDEX($A$4:$R$1642,$AE566,COLUMNS($A:$R)),\"\")","v":""},null,"","","","",null,null,null,70]
[null,null,null,null,null,null,null,{"$f":"CONCATENATE(\"SOMMANO [\",VLOOKUP(B563,'Elenco Prezzi2'!$A$2:$E$201,3,FALSE()),\"]\")","v":{"$error":"#N/A"}},{"$f":"IF(T567=\"s\",V568,SUBTOTAL(9,I563:I567))","v":{"$error":"#REF!"}},null,{"$f":"VLOOKUP(B563,'Elenco Prezzi2'!$A$2:$E$201,5,FALSE)","v":{"$error":"#N/A"}},null,null,null,null,null,null,{"$f":"IFERROR(I567*K567,\"\")","v":""},null,"s",null,null,null,{"$f":"R567","v":""},2,0,null,"",{"$f":"ROWS($AC$4:AC567)","v":564},"",{"$f":"IFERROR(SMALL($AD$4:$AD$1642,ROWS($AD$4:AD567)),\"\")","v":""},null,{"$f":"IFERROR(INDEX($A$4:$R$1642,$AE567,COLUMNS($A:$B)),\"\")","v":""},{"$f":"IFERROR(INDEX($A$4:$R$1642,$AE567,COLUMNS($A:$C)),\"\")","v":""},{"$f":"IFERROR(INDEX($A$4:$R$1642,$AE567,COLUMNS($A:$R)),\"\")","v":""},null,null,null,null,null,null,null,null,70]
[null,null,null,null,null,null,null,{"$f":"IF(I568<0,\"a detrarre\",\"\")","v":""},{"$f":"SUMIF(I563:I566,\"<0\")","v":0},null,null,null,null,null,null,null,null,null,{"$f":"R567","v":""},null,null,{"$f":"VLOOKUP(B563,#REF!,4,FALSE)","v":{"$error":"#REF!"}},null,null,2,0,null,"",{"$f":"ROWS($AC$4:AC568)","v":565},"",{"$f":"IFERROR(SMALL($AD$4:$AD$1642,ROWS($AD$4:AD568)),\"\")","v":""},null,{"$f":"IFERROR(INDEX($A$4:$R$1642,$AE568,COLUMNS($A:$B)),\"\")","v":""},{"$f":"IFERROR(INDEX($A$4:$R$1642,$AE568,COLUMNS($A:$C)),\"\")","v":""},{"$f":"IFERROR(INDEX($A$4:$R$1642,$AE568,COLUMNS($A:$R)),\"\")","v":""},null,null,null,null,null,null,null,null,70]
[null,null,null,null,null,null,null,null,null,null,null,null,null,null,null,null,null,null,null,null,null,null,null,null,2,0,null,"",{"$f":"ROWS($AC$4:AC569)","v":566},"",{"$f":"IFERROR(SMALL($AD$4:$AD$1642,ROWS($AD$4:AD569)),\"\")","v":""},null,{"$f":"IFERROR(INDEX($A$4:$R$1642,$AE569,COLUMNS($A:$B)),\"\")","v":""},{"$f":"IFERROR(INDEX($A$4:$R$1642,$AE569,COLUMNS($A:$C)),\"\")","v":""},{"$f":"IFERROR(INDEX($A$4:$R$1642,$AE569,COLUMNS($A:$R)),\"\")","v":""},null,null,null,null,null,null,null,null,70]
[null,null,null,null,null,null,null,null,null,null,null,null,null,null,null,null,null,null,null,null,null,null,null,null,2,0,null,"",{"$f":"ROWS($AC$4:AC570)","v":567},"",{"$f":"IFERROR(SMALL($AD$4:$AD$1642,ROWS($AD$4:AD570)),\"\")","v":""},null,{"$f":"IFERROR(INDEX($A$4:$R$1642,$AE570,COLUMNS($A:$B)),\"\")","v":""},{"$f":"IFERROR(INDEX($A$4:$R$1642,$AE570,COLUMNS($A:$C)),\"\")","v":""},{"$f":"IFERROR(INDEX($A$4:$R$1642,$AE570,COLUMNS($A:$R)),\"\")","v":""},null,null,null,null,null,null,null,null,70]
[{"$f":"AR571","v":71},null,{"$f":"(VLOOKUP($B571,'Elenco Prezzi2'!$A$2:$E$201,2,FALSE))","v":{"$error":"#N/A"}},null,null,null,null,null,null,null,null,null,null,null,null,null,null,null,null,null,null,null,null,null,2,0,null,"",{"$f":"ROWS($AC$4:AC571)","v":568},"",{"$f":"IFERROR(SMALL($AD$4:$AD$1642,ROWS($AD$4:AD571)),\"\")","v":""},null,{"$f":"IFERROR(INDEX($A$4:$R$1642,$AE571,COLUMNS($A:$B)),\"\")","v":""},{"$f":"IFERROR(INDEX($A$4:$R$1642,$AE571,COLUMNS($A:$C)),\"\")","v":""},{"$f":"IFERROR(INDEX($A$4:$R$1642,$AE571,COLUMNS($A:$R)),\"\")","v":""},null,null,null,null,null,null,null,1,71]
[null,null,null,{"$f":"CONCATENATE(AK572&AL572&AM572&AN572)","v":""},null,null,null,null,{"$f":"IFERROR(IF(PRODUCT(E572:H572)=0,\"\",PRODUCT(E572:H572)),\"\")","v":""},{"$f":"I572","v":""},null,{"$f":"IF(E572>0,\" (p/u) \"&Modulo2.GetFormula(E572),\"\")","v":""},{"$f":"IF(F572>0,\" (lu) \"&Modulo2.GetFormula(F572),\"\")","v":""},{"$f":"IF(G572>0,\" (la) \"&Modulo2.GetFormula(G572),\"\")","v":""},{"$f":"IF(H572>0,\" (H) \"&Modulo2.GetFormula(H572),\"\")","v":""},null,null,null,null,null,null,null,null,null,2,0,null,"",{"$f":"ROWS($AC$4:AC572)","v":569},"",{"$f":"IFERROR(SMALL($AD$4:$AD$1642,ROWS($AD$4:AD572)),\"\")","v":""},null,{"$f":"IFERROR(INDEX($A$4:$R$1642,$AE572,COLUMNS($A:$B)),\"\")","v":""},{"$f":"IFERROR(INDEX($A$4:$R$1642,$AE572,COLUMNS($A:$C)),\"\")","v":""},{"$f":"IFERROR(INDEX($A$4:$R$1642,$AE572,COLUMNS($A:$R)),\"\")","v":""},null,{"$f":"IFERROR(IF(SEARCH(\"=\",L572),L572,\"\"),\"\")","v":""},{"$f":"IFERROR(IF(SEARCH(\"=\",M572),M572,\"\"),\"\")","v":""},{"$f":"IFERROR(IF(SEARCH(\"=\",N572),N572,\"\"),\"\")","v":""},{"$f":"IFERROR(IF(SEARCH(\"=\",O572),O572,\"\"),\"\")","v":""},null,null,null,71]
[null,null,null,"",null,null,null,null,"","",null,{"$f":"IF(E573>0,\" (p/u) \"&Modulo2.GetFormula(E573),\"\")","v":""},{"$f":"IF(F573>0,\" (lu) \"&Modulo2.GetFormula(F573),\"\")","v":""},{"$f":"IF(G573>0,\" (la) \"&Modulo2.GetFormula(G573),\"\")","v":""},{"$f":"IF(H573>0,\" (H) \"&Modulo2.GetFormula(H573),\"\")","v":""},null,null,null,null,null,null,null,null,null,2,0,null,"",{"$f":"ROWS($AC$4:AC573)","v":570},"",{"$f":"IFERROR(SMALL($AD$4:$AD$1642,ROWS($AD$4:AD573)),\"\")","v":""},null,{"$f":"IFERROR(INDEX($A$4:$R$1642,$AE573,COLUMNS($A:$B)),\"\")","v":""},{"$f":"IFERROR(INDEX($A$4:$R$1642,$AE573,COLUMNS($A:$C)),\"\")","v":""},{"$f":"IFERROR(INDEX($A$4:$R$1642,$AE573,COLUMNS($A:$R)),\"\")","v":""},null,"","","","",null,null,null,71]
[null,null,null,"",null,null,null,null,"","",null,{"$f":"IF(E574>0,\" (p/u) \"&Modulo2.GetFormula(E574),\"\")","v":""},{"$f":"IF(F574>0,\" (lu) \"&Modulo2.GetFormula(F574),\"\")","v":""},{"$f":"IF(G574>0,\" (la) \"&Modulo2.GetFormula(G574),\"\")","v":""},{"$f":"IF(H574>0,\" (H) \"&Modulo2.GetFormula(H574),\"\")","v":""},null,null,null,null,null,null,null,null,null,2,0,null,"",{"$f":"ROWS($AC$4:AC574)","v":571},"",{"$f":"IFERROR(SMALL($AD$4:$AD$1642,ROWS($AD$4:AD574)),\"\")","v":""},null,{"$f":"IFERROR(INDEX($A$4:$R$1642,$AE574,COLUMNS($A:$B)),\"\")","v":""},{"$f":"IFERROR(INDEX($A$4:$R$1642,$AE574,COLUMNS($A:$C)),\"\")","v":""},{"$f":"IFERROR(INDEX($A$4:$R$1642,$AE574,COLUMNS($A:$R)),\"\")","v":""},null,"","","","",null,null,null,71]
[null,null,null,null,null,null,null,{"$f":"CONCATENATE(\"SOMMANO [\",VLOOKUP(B571,'Elenco Prezzi2'!$A$2:$E$201,3,FALSE()),\"]\")","v":{"$error":"#N/A"}},{"$f":"IF(T575=\"s\",V576,SUBTOTAL(9,I571:I575))","v":{"$error":"#REF!"}},null,{"$f":"VLOOKUP(B571,'Elenco Prezzi2'!$A$2:$E$201,5,FALSE)","v":{"$error":"#N/A"}},null,null,null,null,null,null,{"$f":"IFERROR(I575*K575,\"\")","v":""},null,"s",null,null,null,{"$f":"R575","v":""},2,0,null,"",{"$f":"ROWS($AC$4:AC575)","v":572},"",{"$f":"IFERROR(SMALL($AD$4:$AD$1642,ROWS($AD$4:AD575)),\"\")","v":""},null,{"$f":"IFERROR(INDEX($A$4:$R$1642,$AE575,COLUMNS($A:$B)),\"\")","v":""},{"$f":"IFERROR(INDEX($A$4:$R$1642,$AE575,COLUMNS($A:$C)),\"\")","v":""},{"$f":"IFERROR(INDEX($A$4:$R$1642,$AE575,COLUMNS($A:$R)),\"\")","v":""},null,null,null,null,null,null,null,null,71]
[null,null,null,null,null,null,null,{"$f":"IF(I576<0,\"a detrarre\",\"\")","v":""},{"$f":"SUMIF(I571:I574,\"<0\")","v":0},null,null,null,null,null,null,null,null,null,{"$f":"R575","v":""},null,null,{"$f":"VLOOKUP(B571,#REF!,4,FALSE)","v":{"$error":"#REF!"}},null,null,2,0,null,"",{"$f":"ROWS($AC$4:AC576)","v":573},"",{"$f":"IFERROR(SMALL($AD$4:$AD$1642,ROWS($AD$4:AD576)),\"\")","v":""},null,{"$f":"IFERROR(INDEX($A$4:$R$1642,$AE576,COLUMNS($A:$B)),\"\")","v":""},{"$f":"IFERROR(INDEX($A$4:$R$1642,$AE576,COLUMNS($A:$C)),\"\")","v":""},{"$f":"IFERROR(INDEX($A$4:$R$1642,$AE576,COLUMNS($A:$R)),\"\")","v":""},null,null,null,null,null,null,null,null,71]
[null,null,null,null,null,null,null,null,null,null,null,null,null,null,null,null,null,null,null,null,null,null,null,null,2,0,null,"",{"$f":"ROWS($AC$4:AC577)","v":574},"",{"$f":"IFERROR(SMALL($AD$4:$AD$1642,ROWS($AD$4:AD577)),\"\")","v":""},null,{"$f":"IFERROR(INDEX($A$4:$R$1642,$AE577,COLUMNS($A:$B)),\"\")","v":""},{"$f":"IFERROR(INDEX($A$4:$R$1642,$AE577,COLUMNS($A:$C)),\"\")","v":""},{"$f":"IFERROR(INDEX($A$4:$R$1642,$AE577,COLUMNS($A:$R)),\"\")","v":""},null,null,null,null,null,null,null,null,71]
[null,null,null,null,null,null,null,null,null,null,null,null,null,null,null,null,null,null,null,null,null,null,null,null,2,0,null,"",{"$f":"ROWS($AC$4:AC578)","v":575},"",{"$f":"IFERROR(SMALL($AD$4:$AD$1642,ROWS($AD$4:AD578)),\"\")","v":""},null,{"$f":"IFERROR(INDEX($A$4:$R$1642,$AE578,COLUMNS($A:$B)),\"\")","v":""},{"$f":"IFERROR(INDEX($A$4:$R$1642,$AE578,COLUMNS($A:$C)),\"\")","v":""},{"$f":"IFERROR(INDEX($A$4:$R$1642,$AE578,COLUMNS($A:$R)),\"\")","v":""},null,null,null,null,null,null,null,null,71]
[{"$f":"AR579","v":72},null,{"$f":"(VLOOKUP($B579,'Elenco Prezzi2'!$A$2:$E$201,2,FALSE))","v":{"$error":"#N/A"}},null,null,null,null,null,null,null,null,null,null,null,null,null,null,null,null,null,null,null,null,null,2,0,null,"",{"$f":"ROWS($AC$4:AC579)","v":576},"",{"$f":"IFERROR(SMALL($AD$4:$AD$1642,ROWS($AD$4:AD579)),\"\")","v":""},null,{"$f":"IFERROR(INDEX($A$4:$R$1642,$AE579,COLUMNS($A:$B)),\"\")","v":""},{"$f":"IFERROR(INDEX($A$4:$R$1642,$AE579,COLUMNS($A:$C)),\"\")","v":""},{"$f":"IFERROR(INDEX($A$4:$R$1642,$AE579,COLUMNS($A:$R)),\"\")","v":""},null,null,null,null,null,null,null,1,72]
[null,null,null,{"$f":"CONCATENATE(AK580&AL580&AM580&AN580)","v":""},null,null,null,null,{"$f":"IFERROR(IF(PRODUCT(E580:H580)=0,\"\",PRODUCT(E580:H580)),\"\")","v":""},{"$f":"I580","v":""},null,{"$f":"IF(E580>0,\" (p/u) \"&Modulo2.GetFormula(E580),\"\")","v":""},{"$f":"IF(F580>0,\" (lu) \"&Modulo2.GetFormula(F580),\"\")","v":""},{"$f":"IF(G580>0,\" (la) \"&Modulo2.GetFormula(G580),\"\")","v":""},{"$f":"IF(H580>0,\" (H) \"&Modulo2.GetFormula(H580),\"\")","v":""},null,null,null,null,null,null,null,null,null,2,0,null,"",{"$f":"ROWS($AC$4:AC580)","v":577},"",{"$f":"IFERROR(SMALL($AD$4:$AD$1642,ROWS($AD$4:AD580)),\"\")","v":""},null,{"$f":"IFERROR(INDEX($A$4:$R$1642,$AE580,COLUMNS($A:$B)),\"\")","v":""},{"$f":"IFERROR(INDEX($A$4:$R$1642,$AE580,COLUMNS($A:$C)),\"\")","v":""},{"$f":"IFERROR(INDEX($A$4:$R$1642,$AE580,COLUMNS($A:$R)),\"\")","v":""},null,{"$f":"IFERROR(IF(SEARCH(\"=\",L580),L580,\"\"),\"\")","v":""},{"$f":"IFERROR(IF(SEARCH(\"=\",M580),M580,\"\"),\"\")","v":""},{"$f":"IFERROR(IF(SEARCH(\"=\",N580),N580,\"\"),\"\")","v":""},{"$f":"IFERROR(IF(SEARCH(\"=\",O580),O580,\"\"),\"\")","v":""},null,null,null,72]
[null,null,null,"",null,null,null,null,"","",null,{"$f":"IF(E581>0,\" (p/u) \"&Modulo2.GetFormula(E581),\"\")","v":""},{"$f":"IF(F581>0,\" (lu) \"&Modulo2.GetFormula(F581),\"\")","v":""},{"$f":"IF(G581>0,\" (la) \"&Modulo2.GetFormula(G581),\"\")","v":""},{"$f":"IF(H581>0,\" (H) \"&Modulo2.GetFormula(H581),\"\")","v":""},null,null,null,null,null,null,null,null,null,2,0,null,"",{"$f":"ROWS($AC$4:AC581)","v":578},"",{"$f":"IFERROR(SMALL($AD$4:$AD$1642,ROWS($AD$4:AD581)),\"\")","v":""},null,{"$f":"IFERROR(INDEX($A$4:$R$1642,$AE581,COLUMNS($A:$B)),\"\")","v":""},{"$f":"IFERROR(INDEX($A$4:$R$1642,$AE581,COLUMNS($A:$C)),\"\")","v":""},{"$f":"IFERROR(INDEX($A$4:$R$1642,$AE581,COLUMNS($A:$R)),\"\")","v":""},null,"","","","",null,null,null,72]
[null,null,null,"",null,null,null,null,"","",null,{"$f":"IF(E582>0,\" (p/u) \"&Modulo2.GetFormula(E582),\"\")","v":""},{"$f":"IF(F582>0,\" (lu) \"&Modulo2.GetFormula(F582),\"\")","v":""},{"$f":"IF(G582>0,\" (la) \"&Modulo2.GetFormula(G582),\"\")","v":""},{"$f":"IF(H582>0,\" (H) \"&Modulo2.GetFormula(H582),\"\")","v":""},null,null,null,null,null,null,null,null,null,2,0,null,"",{"$f":"ROWS($AC$4:AC582)","v":579},"",{"$f":"IFERROR(SMALL($AD$4:$AD$1642,ROWS($AD$4:AD582)),\"\")","v":""},null,{"$f":"IFERROR(INDEX($A$4:$R$1642,$AE582,COLUMNS($A:$B)),\"\")","v":""},{"$f":"IFERROR(INDEX($A$4:$R$1642,$AE582,COLUMNS($A:$C)),\"\")","v":""},{"$f":"IFERROR(INDEX($A$4:$R$1642,$AE582,COLUMNS($A:$R)),\"\")","v":""},null,"","","","",null,null,null,72]
[null,null,null,null,null,null,null,{"$f":"CONCATENATE(\"SOMMANO [\",VLOOKUP(B579,'Elenco Prezzi2'!$A$2:$E$201,3,FALSE()),\"]\")","v":{"$error":"#N/A"}},{"$f":"IF(T583=\"s\",V584,SUBTOTAL(9,I579:I583))","v":{"$error":"#REF!"}},null,{"$f":"VLOOKUP(B579,'Elenco Prezzi2'!$A$2:$E$201,5,FALSE)","v":{"$error":"#N/A"}},null,null,null,null,null,null,{"$f":"IFERROR(I583*K583,\"\")","v":""},null,"s",null,null,null,{"$f":"R583","v":""},2,0,null,"",{"$f":"ROWS($AC$4:AC583)","v":580},"",{"$f":"IFERROR(SMALL($AD$4:$AD$1642,ROWS($AD$4:AD583)),\"\")","v":""},null,{"$f":"IFERROR(INDEX($A$4:$R$1642,$AE583,COLUMNS($A:$B)),\"\")","v":""},{"$f":"IFERROR(INDEX($A$4:$R$1642,$AE583,COLUMNS($A:$C)),\"\")","v":""},{"$f":"IFERROR(INDEX($A$4:$R$1642,$AE583,COLUMNS($A:$R)),\"\")","v":""},null,null,null,null,null,null,null,null,72]
[null,null,null,null,null,null,null,{"$f":"IF(I584<0,\"a detrarre\",\"\")","v":""},{"$f":"SUMIF(I579:I582,\"<0\")","v":0},null,null,null,null,null,null,null,null,null,{"$f":"R583","v":""},null,null,{"$f":"VLOOKUP(B579,#REF!,4,FALSE)","v":{"$error":"#REF!"}},null,null,2,0,null,"",{"$f":"ROWS($AC$4:AC584)","v":581},"",{"$f":"IFERROR(SMALL($AD$4:$AD$1642,ROWS($AD$4:AD584)),\"\")","v":""},null,{"$f":"IFERROR(INDEX($A$4:$R$1642,$AE584,COLUMNS($A:$B)),\"\")","v":""},{"$f":"IFERROR(INDEX($A$4:$R$1642,$AE584,COLUMNS($A:$C)),\"\")","v":""},{"$f":"IFERROR(INDEX($A$4:$R$1642,$AE584,COLUMNS($A:$R)),\"\")","v":""},null,null,null,null,null,null,null,null,72]
[null,null,null,null,null,null,null,null,null,null,null,null,null,null,null,null,null,null,null,null,null,null,null,null,2,0,null,"",{"$f":"ROWS($AC$4:AC585)","v":582},"",{"$f":"IFERROR(SMALL($AD$4:$AD$1642,ROWS($AD$4:AD585)),\"\")","v":""},null,{"$f":"IFERROR(INDEX($A$4:$R$1642,$AE585,COLUMNS($A:$B)),\"\")","v":""},{"$f":"IFERROR(INDEX($A$4:$R$1642,$AE585,COLUMNS($A:$C)),\"\")","v":""},{"$f":"IFERROR(INDEX($A$4:$R$1642,$AE585,COLUMNS($A:$R)),\"\")","v":""},null,null,null,null,null,null,null,null,72]
[null,null,null,null,null,null,null,null,null,null,null,null,null,null,null,null,null,null,null,null,null,null,null,null,2,0,null,"",{"$f":"ROWS($AC$4:AC586)","v":583},"",{"$f":"IFERROR(SMALL($AD$4:$AD$1642,ROWS($AD$4:AD586)),\"\")","v":""},null,{"$f":"IFERROR(INDEX($A$4:$R$1642,$AE586,COLUMNS($A:$B)),\"\")","v":""},{"$f":"IFERROR(INDEX($A$4:$R$1642,$AE586,COLUMNS($A:$C)),\"\")","v":""},{"$f":"IFERROR(INDEX($A$4:$R$1642,$AE586,COLUMNS($A:$R)),\"\")","v":""},null,null,null,null,null,null,null,null,72]
[{"$f":"AR587","v":73},null,{"$f":"(VLOOKUP($B587,'Elenco Prezzi2'!$A$2:$E$201,2,FALSE))","v":{"$error":"#N/A"}},null,null,null,null,null,null,null,null,null,null,null,null,null,null,null,null,null,null,null,null,null,2,0,null,"",{"$f":"ROWS($AC$4:AC587)","v":584},"",{"$f":"IFERROR(SMALL($AD$4:$AD$1642,ROWS($AD$4:AD587)),\"\")","v":""},null,{"$f":"IFERROR(INDEX($A$4:$R$1642,$AE587,COLUMNS($A:$B)),\"\")","v":""},{"$f":"IFERROR(INDEX($A$4:$R$1642,$AE587,COLUMNS($A:$C)),\"\")","v":""},{"$f":"IFERROR(INDEX($A$4:$R$1642,$AE587,COLUMNS($A:$R)),\"\")","v":""},null,null,null,null,null,null,null,1,73]
[null,null,null,{"$f":"CONCATENATE(AK588&AL588&AM588&AN588)","v":""},null,null,null,null,{"$f":"IFERROR(IF(PRODUCT(E588:H588)=0,\"\",PRODUCT(E588:H588)),\"\")","v":""},{"$f":"I588","v":""},null,{"$f":"IF(E588>0,\" (p/u) \"&Modulo2.GetFormula(E588),\"\")","v":""},{"$f":"IF(F588>0,\" (lu) \"&Modulo2.GetFormula(F588),\"\")","v":""},{"$f":"IF(G588>0,\" (la) \"&Modulo2.GetFormula(G588),\"\")","v":""},{"$f":"IF(H588>0,\" (H) \"&Modulo2.GetFormula(H588),\"\")","v":""},null,null,null,null,null,null,null,null,null,2,0,null,"",{"$f":"ROWS($AC$4:AC588)","v":585},"",{"$f":"IFERROR(SMALL($AD$4:$AD$1642,ROWS($AD$4:AD588)),\"\")","v":""},null,{"$f":"IFERROR(INDEX($A$4:$R$1642,$AE588,COLUMNS($A:$B)),\"\")","v":""},{"$f":"IFERROR(INDEX($A$4:$R$1642,$AE588,COLUMNS($A:$C)),\"\")","v":""},{"$f":"IFERROR(INDEX($A$4:$R$1642,$AE588,COLUMNS($A:$R)),\"\")","v":""},null,{"$f":"IFERROR(IF(SEARCH(\"=\",L588),L588,\"\"),\"\")","v":""},{"$f":"IFERROR(IF(SEARCH(\"=\",M588),M588,\"\"),\"\")","v":""},{"$f":"IFERROR(IF(SEARCH(\"=\",N588),N588,\"\"),\"\")","v":""},{"$f":"IFERROR(IF(SEARCH(\"=\",O588),O588,\"\"),\"\")","v":""},null,null,null,73]
[null,null,null,"",null,null,null,null,"","",null,{"$f":"IF(E589>0,\" (p/u) \"&Modulo2.GetFormula(E589),\"\")","v":""},{"$f":"IF(F589>0,\" (lu) \"&Modulo2.GetFormula(F589),\"\")","v":""},{"$f":"IF(G589>0,\" (la) \"&Modulo2.GetFormula(G589),\"\")","v":""},{"$f":"IF(H589>0,\" (H) \"&Modulo2.GetFormula(H589),\"\")","v":""},null,null,null,null,null,null,null,null,null,2,0,null,"",{"$f":"ROWS($AC$4:AC589)","v":586},"",{"$f":"IFERROR(SMALL($AD$4:$AD$1642,ROWS($AD$4:AD589)),\"\")","v":""},null,{"$f":"IFERROR(INDEX($A$4:$R$1642,$AE589,COLUMNS($A:$B)),\"\")","v":""},{"$f":"IFERROR(INDEX($A$4:$R$1642,$AE589,COLUMNS($A:$C)),\"\")","v":""},{"$f":"IFERROR(INDEX($A$4:$R$1642,$AE589,COLUMNS($A:$R)),\"\")","v":""},null,"","","","",null,null,null,73]
[null,null,null,"",null,null,null,null,"","",null,{"$f":"IF(E590>0,\" (p/u) \"&Modulo2.GetFormula(E590),\"\")","v":""},{"$f":"IF(F590>0,\" (lu) \"&Modulo2.GetFormula(F590),\"\")","v":""},{"$f":"IF(G590>0,\" (la) \"&Modulo2.GetFormula(G590),\"\")","v":""},{"$f":"IF(H590>0,\" (H) \"&Modulo2.GetFormula(H590),\"\")","v":""},null,null,null,null,null,null,null,null,null,2,0,null,"",{"$f":"ROWS($AC$4:AC590)","v":587},"",{"$f":"IFERROR(SMALL($AD$4:$AD$1642,ROWS($AD$4:AD590)),\"\")","v":""},null,{"$f":"IFERROR(INDEX($A$4:$R$1642,$AE590,COLUMNS($A:$B)),\"\")","v":""},{"$f":"IFERROR(INDEX($A$4:$R$1642,$AE590,COLUMNS($A:$C)),\"\")","v":""},{"$f":"IFERROR(INDEX($A$4:$R$1642,$AE590,COLUMNS($A:$R)),\"\")","v":""},null,"","","","",null,null,null,73]
[null,null,null,null,null,null,null,{"$f":"CONCATENATE(\"SOMMANO [\",VLOOKUP(B587,'Elenco Prezzi2'!$A$2:$E$201,3,FALSE()),\"]\")","v":{"$error":"#N/A"}},{"$f":"IF(T591=\"s\",V592,SUBTOTAL(9,I587:I591))","v":{"$error":"#REF!"}},null,{"$f":"VLOOKUP(B587,'Elenco Prezzi2'!$A$2:$E$201,5,FALSE)","v":{"$error":"#N/A"}},null,null,null,null,null,null,{"$f":"IFERROR(I591*K591,\"\")","v":""},null,"s",null,null,null,{"$f":"R591","v":""},2,0,null,"",{"$f":"ROWS($AC$4:AC591)","v":588},"",{"$f":"IFERROR(SMALL($AD$4:$AD$1642,ROWS($AD$4:AD591)),\"\")","v":""},null,{"$f":"IFERROR(INDEX($A$4:$R$1642,$AE591,COLUMNS($A:$B)),\"\")","v":""},{"$f":"IFERROR(INDEX($A$4:$R$1642,$AE591,COLUMNS($A:$C)),\"\")","v":""},{"$f":"IFERROR(INDEX($A$4:$R$1642,$AE591,COLUMNS($A:$R)),\"\")","v":""},null,null,null,null,null,null,null,null,73]
[null,null,null,null,null,null,null,{"$f":"IF(I592<0,\"a detrarre\",\"\")","v":""},{"$f":"SUMIF(I587:I590,\"<0\")","v":0},null,null,null,null,null,null,null,null,null,{"$f":"R591","v":""},null,null,{"$f":"VLOOKUP(B587,#REF!,4,FALSE)","v":{"$error":"#REF!"}},null,null,2,0,null,"",{"$f":"ROWS($AC$4:AC592)","v":589},"",{"$f":"IFERROR(SMALL($AD$4:$AD$1642,ROWS($AD$4:AD592)),\"\")","v":""},null,{"$f":"IFERROR(INDEX($A$4:$R$1642,$AE592,COLUMNS($A:$B)),\"\")","v":""},{"$f":"IFERROR(INDEX($A$4:$R$1642,$AE592,COLUMNS($A:$C)),\"\")","v":""},{"$f":"IFERROR(INDEX($A$4:$R$1642,$AE592,COLUMNS($A:$R)),\"\")","v":""},null,null,null,null,null,null,null,null,73]
[null,null,null,null,null,null,null,null,null,null,null,null,null,null,null,null,null,null,null,null,null,null,null,null,2,0,null,"",{"$f":"ROWS($AC$4:AC593)","v":590},"",{"$f":"IFERROR(SMALL($AD$4:$AD$1642,ROWS($AD$4:AD593)),\"\")","v":""},null,{"$f":"IFERROR(INDEX($A$4:$R$1642,$AE593,COLUMNS($A:$B)),\"\")","v":""},{"$f":"IFERROR(INDEX($A$4:$R$1642,$AE593,COLUMNS($A:$C)),\"\")","v":""},{"$f":"IFERROR(INDEX($A$4:$R$1642,$AE593,COLUMNS($A:$R)),\"\")","v":""},null,null,null,null,null,null,null,null,73]
[null,null,null,null,null,null,null,null,null,null,null,null,null,null,null,null,null,null,null,null,null,null,null,null,2,0,null,"",{"$f":"ROWS($AC$4:AC594)","v":591},"",{"$f":"IFERROR(SMALL($AD$4:$AD$1642,ROWS($AD$4:AD594)),\"\")","v":""},null,{"$f":"IFERROR(INDEX($A$4:$R$1642,$AE594,COLUMNS($A:$B)),\"\")","v":""},{"$f":"IFERROR(INDEX($A$4:$R$1642,$AE594,COLUMNS($A:$C)),\"\")","v":""},{"$f":"IFERROR(INDEX($A$4:$R$1642,$AE594,COLUMNS($A:$R)),\"\")","v":""},null,null,null,null,null,null,null,null,73]
[{"$f":"AR595","v":74},null,{"$f":"(VLOOKUP($B595,'Elenco Prezzi2'!$A$2:$E$201,2,FALSE))","v":{"$error":"#N/A"}},null,null,null,null,null,null,null,null,null,null,null,null,null,null,null,null,null,null,null,null,null,2,0,null,"",{"$f":"ROWS($AC$4:AC595)","v":592},"",{"$f":"IFERROR(SMALL($AD$4:$AD$1642,ROWS($AD$4:AD595)),\"\")","v":""},null,{"$f":"IFERROR(INDEX($A$4:$R$1642,$AE595,COLUMNS($A:$B)),\"\")","v":""},{"$f":"IFERROR(INDEX($A$4:$R$1642,$AE595,COLUMNS($A:$C)),\"\")","v":""},{"$f":"IFERROR(INDEX($A$4:$R$1642,$AE595,COLUMNS($A:$R)),\"\")","v":""},null,null,null,null,null,null,null,1,74]
[null,null,null,{"$f":"CONCATENATE(AK596&AL596&AM596&AN596)","v":""},null,null,null,null,{"$f":"IFERROR(IF(PRODUCT(E596:H596)=0,\"\",PRODUCT(E596:H596)),\"\")","v":""},{"$f":"I596","v":""},null,{"$f":"IF(E596>0,\" (p/u) \"&Modulo2.GetFormula(E596),\"\")","v":""},{"$f":"IF(F596>0,\" (lu) \"&Modulo2.GetFormula(F596),\"\")","v":""},{"$f":"IF(G596>0,\" (la) \"&Modulo2.GetFormula(G596),\"\")","v":""},{"$f":"IF(H596>0,\" (H) \"&Modulo2.GetFormula(H596),\"\")","v":""},null,null,null,null,null,null,null,null,null,2,0,null,"",{"$f":"ROWS($AC$4:AC596)","v":593},"",{"$f":"IFERROR(SMALL($AD$4:$AD$1642,ROWS($AD$4:AD596)),\"\")","v":""},null,{"$f":"IFERROR(INDEX($A$4:$R$1642,$AE596,COLUMNS($A:$B)),\"\")","v":""},{"$f":"IFERROR(INDEX($A$4:$R$1642,$AE596,COLUMNS($A:$C)),\"\")","v":""},{"$f":"IFERROR(INDEX($A$4:$R$1642,$AE596,COLUMNS($A:$R)),\"\")","v":""},null,{"$f":"IFERROR(IF(SEARCH(\"=\",L596),L596,\"\"),\"\")","v":""},{"$f":"IFERROR(IF(SEARCH(\"=\",M596),M596,\"\"),\"\")","v":""},{"$f":"IFERROR(IF(SEARCH(\"=\",N596),N596,\"\"),\"\")","v":""},{"$f":"IFERROR(IF(SEARCH(\"=\",O596),O596,\"\"),\"\")","v":""},null,null,null,74]
[null,null,null,"",null,null,null,null,"","",null,{"$f":"IF(E597>0,\" (p/u) \"&Modulo2.GetFormula(E597),\"\")","v":""},{"$f":"IF(F597>0,\" (lu) \"&Modulo2.GetFormula(F597),\"\")","v":""},{"$f":"IF(G597>0,\" (la) \"&Modulo2.GetFormula(G597),\"\")","v":""},{"$f":"IF(H597>0,\" (H) \"&Modulo2.GetFormula(H597),\"\")","v":""},null,null,null,null,null,null,null,null,null,2,0,null,"",{"$f":"ROWS($AC$4:AC597)","v":594},"",{"$f":"IFERROR(SMALL($AD$4:$AD$1642,ROWS($AD$4:AD597)),\"\")","v":""},null,{"$f":"IFERROR(INDEX($A$4:$R$1642,$AE597,COLUMNS($A:$B)),\"\")","v":""},{"$f":"IFERROR(INDEX($A$4:$R$1642,$AE597,COLUMNS($A:$C)),\"\")","v":""},{"$f":"IFERROR(INDEX($A$4:$R$1642,$AE597,COLUMNS($A:$R)),\"\")","v":""},null,"","","","",null,null,null,74]
[null,null,null,"",null,null,null,null,"","",null,{"$f":"IF(E598>0,\" (p/u) \"&Modulo2.GetFormula(E598),\"\")","v":""},{"$f":"IF(F598>0,\" (lu) \"&Modulo2.GetFormula(F598),\"\")","v":""},{"$f":"IF(G598>0,\" (la) \"&Modulo2.GetFormula(G598),\"\")","v":""},{"$f":"IF(H598>0,\" (H) \"&Modulo2.GetFormula(H598),\"\")","v":""},null,null,null,null,null,null,null,null,null,2,0,null,"",{"$f":"ROWS($AC$4:AC598)","v":595},"",{"$f":"IFERROR(SMALL($AD$4:$AD$1642,ROWS($AD$4:AD598)),\"\")","v":""},null,{"$f":"IFERROR(INDEX($A$4:$R$1642,$AE598,COLUMNS($A:$B)),\"\")","v":""},{"$f":"IFERROR(INDEX($A$4:$R$1642,$AE598,COLUMNS($A:$C)),\"\")","v":""},{"$f":"IFERROR(INDEX($A$4:$R$1642,$AE598,COLUMNS($A:$R)),\"\")","v":""},null,"","","","",null,null,null,74]
[null,null,null,null,null,null,null,{"$f":"CONCATENATE(\"SOMMANO [\",VLOOKUP(B595,'Elenco Prezzi2'!$A$2:$E$201,3,FALSE()),\"]\")","v":{"$error":"#N/A"}},{"$f":"IF(T599=\"s\",V600,SUBTOTAL(9,I595:I599))","v":{"$error":"#REF!"}},null,{"$f":"VLOOKUP(B595,'Elenco Prezzi2'!$A$2:$E$201,5,FALSE)","v":{"$error":"#N/A"}},null,null,null,null,null,null,{"$f":"IFERROR(I599*K599,\"\")","v":""},null,"s",null,null,null,{"$f":"R599","v":""},2,0,null,"",{"$f":"ROWS($AC$4:AC599)","v":596},"",{"$f":"IFERROR(SMALL($AD$4:$AD$1642,ROWS($AD$4:AD599)),\"\")","v":""},null,{"$f":"IFERROR(INDEX($A$4:$R$1642,$AE599,COLUMNS($A:$B)),\"\")","v":""},{"$f":"IFERROR(INDEX($A$4:$R$1642,$AE599,COLUMNS($A:$C)),\"\")","v":""},{"$f":"IFERROR(INDEX($A$4:$R$1642,$AE599,COLUMNS($A:$R)),\"\")","v":""},null,null,null,null,null,null,null,null,74]
[null,null,null,null,null,null,null,{"$f":"IF(I600<0,\"a detrarre\",\"\")","v":""},{"$f":"SUMIF(I595:I598,\"<0\")","v":0},null,null,null,null,null,null,null,null,null,{"$f":"R599","v":""},null,null,{"$f":"VLOOKUP(B595,#REF!,4,FALSE)","v":{"$error":"#REF!"}},null,null,2,0,null,"",{"$f":"ROWS($AC$4:AC600)","v":597},"",{"$f":"IFERROR(SMALL($AD$4:$AD$1642,ROWS($AD$4:AD600)),\"\")","v":""},null,{"$f":"IFERROR(INDEX($A$4:$R$1642,$AE600,COLUMNS($A:$B)),\"\")","v":""},{"$f":"IFERROR(INDEX($A$4:$R$1642,$AE600,COLUMNS($A:$C)),\"\")","v":""},{"$f":"IFERROR(INDEX($A$4:$R$1642,$AE600,COLUMNS($A:$R)),\"\")","v":""},null,null,null,null,null,null,null,null,74]
[null,null,null,null,null,null,null,null,null,null,null,null,null,null,null,null,null,null,null,null,null,null,null,null,2,0,null,"",{"$f":"ROWS($AC$4:AC601)","v":598},"",{"$f":"IFERROR(SMALL($AD$4:$AD$1642,ROWS($AD$4:AD601)),\"\")","v":""},null,{"$f":"IFERROR(INDEX($A$4:$R$1642,$AE601,COLUMNS($A:$B)),\"\")","v":""},{"$f":"IFERROR(INDEX($A$4:$R$1642,$AE601,COLUMNS($A:$C)),\"\")","v":""},{"$f":"IFERROR(INDEX($A$4:$R$1642,$AE601,COLUMNS($A:$R)),\"\")","v":""},null,null,null,null,null,null,null,null,74]
[null,null,null,null,null,null,null,null,null,null,null,null,null,null,null,null,null,null,null,null,null,null,null,null,2,0,null,"",{"$f":"ROWS($AC$4:AC602)","v":599},"",{"$f":"IFERROR(SMALL($AD$4:$AD$1642,ROWS($AD$4:AD602)),\"\")","v":""},null,{"$f":"IFERROR(INDEX($A$4:$R$1642,$AE602,COLUMNS($A:$B)),\"\")","v":""},{"$f":"IFERROR(INDEX($A$4:$R$1642,$AE602,COLUMNS($A:$C)),\"\")","v":""},{"$f":"IFERROR(INDEX($A$4:$R$1642,$AE602,COLUMNS($A:$R)),\"\")","v":""},null,null,null,null,null,null,null,null,74]
[{"$f":"AR603","v":75},null,{"$f":"(VLOOKUP($B603,'Elenco Prezzi2'!$A$2:$E$201,2,FALSE))","v":{"$error":"#N/A"}},null,null,null,null,null,null,null,null,null,null,null,null,null,null,null,null,null,null,null,null,null,2,0,null,"",{"$f":"ROWS($AC$4:AC603)","v":600},"",{"$f":"IFERROR(SMALL($AD$4:$AD$1642,ROWS($AD$4:AD603)),\"\")","v":""},null,{"$f":"IFERROR(INDEX($A$4:$R$1642,$AE603,COLUMNS($A:$B)),\"\")","v":""},{"$f":"IFERROR(INDEX($A$4:$R$1642,$AE603,COLUMNS($A:$C)),\"\")","v":""},{"$f":"IFERROR(INDEX($A$4:$R$1642,$AE603,COLUMNS($A:$R)),\"\")","v":""},null,null,null,null,null,null,null,1,75]
[null,null,null,{"$f":"CONCATENATE(AK604&AL604&AM604&AN604)","v":""},null,null,null,null,{"$f":"IFERROR(IF(PRODUCT(E604:H604)=0,\"\",PRODUCT(E604:H604)),\"\")","v":""},{"$f":"I604","v":""},null,{"$f":"IF(E604>0,\" (p/u) \"&Modulo2.GetFormula(E604),\"\")","v":""},{"$f":"IF(F604>0,\" (lu) \"&Modulo2.GetFormula(F604),\"\")","v":""},{"$f":"IF(G604>0,\" (la) \"&Modulo2.GetFormula(G604),\"\")","v":""},{"$f":"IF(H604>0,\" (H) \"&Modulo2.GetFormula(H604),\"\")","v":""},null,null,null,null,null,null,null,null,null,2,0,null,"",{"$f":"ROWS($AC$4:AC604)","v":601},"",{"$f":"IFERROR(SMALL($AD$4:$AD$1642,ROWS($AD$4:AD604)),\"\")","v":""},null,{"$f":"IFERROR(INDEX($A$4:$R$1642,$AE604,COLUMNS($A:$B)),\"\")","v":""},{"$f":"IFERROR(INDEX($A$4:$R$1642,$AE604,COLUMNS($A:$C)),\"\")","v":""},{"$f":"IFERROR(INDEX($A$4:$R$1642,$AE604,COLUMNS($A:$R)),\"\")","v":""},null,{"$f":"IFERROR(IF(SEARCH(\"=\",L604),L604,\"\"),\"\")","v":""},{"$f":"IFERROR(IF(SEARCH(\"=\",M604),M604,\"\"),\"\")","v":""},{"$f":"IFERROR(IF(SEARCH(\"=\",N604),N604,\"\"),\"\")","v":""},{"$f":"IFERROR(IF(SEARCH(\"=\",O604),O604,\"\"),\"\")","v":""},null,null,null,75]
[null,null,null,"",null,null,null,null,"","",null,{"$f":"IF(E605>0,\" (p/u) \"&Modulo2.GetFormula(E605),\"\")","v":""},{"$f":"IF(F605>0,\" (lu) \"&Modulo2.GetFormula(F605),\"\")","v":""},{"$f":"IF(G605>0,\" (la) \"&Modulo2.GetFormula(G605),\"\")","v":""},{"$f":"IF(H605>0,\" (H) \"&Modulo2.GetFormula(H605),\"\")","v":""},null,null,null,null,null,null,null,null,null,2,0,null,"",{"$f":"ROWS($AC$4:AC605)","v":602},"",{"$f":"IFERROR(SMALL($AD$4:$AD$1642,ROWS($AD$4:AD605)),\"\")","v":""},null,{"$f":"IFERROR(INDEX($A$4:$R$1642,$AE605,COLUMNS($A:$B)),\"\")","v":""},{"$f":"IFERROR(INDEX($A$4:$R$1642,$AE605,COLUMNS($A:$C)),\"\")","v":""},{"$f":"IFERROR(INDEX($A$4:$R$1642,$AE605,COLUMNS($A:$R)),\"\")","v":""},null,"","","","",null,null,null,75]
[null,null,null,"",null,null,null,null,"","",null,{"$f":"IF(E606>0,\" (p/u) \"&Modulo2.GetFormula(E606),\"\")","v":""},{"$f":"IF(F606>0,\" (lu) \"&Modulo2.GetFormula(F606),\"\")","v":""},{"$f":"IF(G606>0,\" (la) \"&Modulo2.GetFormula(G606),\"\")","v":""},{"$f":"IF(H606>0,\" (H) \"&Modulo2.GetFormula(H606),\"\")","v":""},null,null,null,null,null,null,null,null,null,2,0,null,"",{"$f":"ROWS($AC$4:AC606)","v":603},"",{"$f":"IFERROR(SMALL($AD$4:$AD$1642,ROWS($AD$4:AD606)),\"\")","v":""},null,{"$f":"IFERROR(INDEX($A$4:$R$1642,$AE606,COLUMNS($A:$B)),\"\")","v":""},{"$f":"IFERROR(INDEX($A$4:$R$1642,$AE606,COLUMNS($A:$C)),\"\")","v":""},{"$f":"IFERROR(INDEX($A$4:$R$1642,$AE606,COLUMNS($A:$R)),\"\")","v":""},null,"","","","",null,null,null,75]
[null,null,null,null,null,null,null,{"$f":"CONCATENATE(\"SOMMANO [\",VLOOKUP(B603,'Elenco Prezzi2'!$A$2:$E$201,3,FALSE()),\"]\")","v":{"$error":"#N/A"}},{"$f":"IF(T607=\"s\",V608,SUBTOTAL(9,I603:I607))","v":{"$error":"#REF!"}},null,{"$f":"VLOOKUP(B603,'Elenco Prezzi2'!$A$2:$E$201,5,FALSE)","v":{"$error":"#N/A"}},null,null,null,null,null,null,{"$f":"IFERROR(I607*K607,\"\")","v":""},null,"s",null,null,null,{"$f":"R607","v":""},2,0,null,"",{"$f":"ROWS($AC$4:AC607)","v":604},"",{"$f":"IFERROR(SMALL($AD$4:$AD$1642,ROWS($AD$4:AD607)),\"\")","v":""},null,{"$f":"IFERROR(INDEX($A$4:$R$1642,$AE607,COLUMNS($A:$B)),\"\")","v":""},{"$f":"IFERROR(INDEX($A$4:$R$1642,$AE607,COLUMNS($A:$C)),\"\")","v":""},{"$f":"IFERROR(INDEX($A$4:$R$1642,$AE607,COLUMNS($A:$R)),\"\")","v":""},null,null,null,null,null,null,null,null,75]
[null,null,null,null,null,null,null,{"$f":"IF(I608<0,\"a detrarre\",\"\")","v":""},{"$f":"SUMIF(I603:I606,\"<0\")","v":0},null,null,null,null,null,null,null,null,null,{"$f":"R607","v":""},null,null,{"$f":"VLOOKUP(B603,#REF!,4,FALSE)","v":{"$error":"#REF!"}},null,null,2,0,null,"",{"$f":"ROWS($AC$4:AC608)","v":605},"",{"$f":"IFERROR(SMALL($AD$4:$AD$1642,ROWS($AD$4:AD608)),\"\")","v":""},null,{"$f":"IFERROR(INDEX($A$4:$R$1642,$AE608,COLUMNS($A:$B)),\"\")","v":""},{"$f":"IFERROR(INDEX($A$4:$R$1642,$AE608,COLUMNS($A:$C)),\"\")","v":""},{"$f":"IFERROR(INDEX($A$4:$R$1642,$AE608,COLUMNS($A:$R)),\"\")","v":""},null,null,null,null,null,null,null,null,75]
[null,null,null,null,null,null,null,null,null,null,null,null,null,null,null,null,null,null,null,null,null,null,null,null,2,0,null,"",{"$f":"ROWS($AC$4:AC609)","v":606},"",{"$f":"IFERROR(SMALL($AD$4:$AD$1642,ROWS($AD$4:AD609)),\"\")","v":""},null,{"$f":"IFERROR(INDEX($A$4:$R$1642,$AE609,COLUMNS($A:$B)),\"\")","v":""},{"$f":"IFERROR(INDEX($A$4:$R$1642,$AE609,COLUMNS($A:$C)),\"\")","v":""},{"$f":"IFERROR(INDEX($A$4:$R$1642,$AE609,COLUMNS($A:$R)),\"\")","v":""},null,null,null,null,null,null,null,null,75]
[null,null,null,null,null,null,null,null,null,null,null,null,null,null,null,null,null,null,null,null,null,null,null,null,2,0,null,"",{"$f":"ROWS($AC$4:AC610)","v":607},"",{"$f":"IFERROR(SMALL($AD$4:$AD$1642,ROWS($AD$4:AD610)),\"\")","v":""},null,{"$f":"IFERROR(INDEX($A$4:$R$1642,$AE610,COLUMNS($A:$B)),\"\")","v":""},{"$f":"IFERROR(INDEX($A$4:$R$1642,$AE610,COLUMNS($A:$C)),\"\")","v":""},{"$f":"IFERROR(INDEX($A$4:$R$1642,$AE610,COLUMNS($A:$R)),\"\")","v":""},null,null,null,null,null,null,null,null,75]
[{"$f":"AR611","v":76},null,{"$f":"(VLOOKUP($B611,'Elenco Prezzi2'!$A$2:$E$201,2,FALSE))","v":{"$error":"#N/A"}},null,null,null,null,null,null,null,null,null,null,null,null,null,null,null,null,null,null,null,null,null,2,0,null,{"$f":"IF(W611>0,\"OK\",\"\")","v":""},{"$f":"ROWS($AC$4:AC611)","v":608},{"$f":"IF(AB611=\"ok\",AC611,\"\")","v":""},{"$f":"IFERROR(SMALL($AD$4:$AD$1642,ROWS($AD$4:AD611)),\"\")","v":""},null,{"$f":"IFERROR(INDEX($A$4:$R$1642,$AE611,COLUMNS($A:$B)),\"\")","v":""},{"$f":"IFERROR(INDEX($A$4:$R$1642,$AE611,COLUMNS($A:$C)),\"\")","v":""},{"$f":"IFERROR(INDEX($A$4:$R$1642,$AE611,COLUMNS($A:$R)),\"\")","v":""},null,null,null,null,null,null,null,1,{"$f":"IF(AQ611=\"\",AR610,AR610+AQ611)","v":76}]
[null,null,null,{"$f":"CONCATENATE(AK612&AL612&AM612&AN612)","v":""},null,null,null,null,{"$f":"IFERROR(IF(PRODUCT(E612:H612)=0,\"\",PRODUCT(E612:H612)),\"\")","v":""},{"$f":"I612","v":""},null,{"$f":"IF(E612>0,\" (p/u) \"&Modulo2.GetFormula(E612),\"\")","v":""},{"$f":"IF(F612>0,\" (lu) \"&Modulo2.GetFormula(F612),\"\")","v":""},{"$f":"IF(G612>0,\" (la) \"&Modulo2.GetFormula(G612),\"\")","v":""},{"$f":"IF(H612>0,\" (H) \"&Modulo2.GetFormula(H612),\"\")","v":""},null,null,null,null,null,null,null,null,null,{"$f":"IF(AO612=\"\",Y611,Y611+AO612)","v":2},{"$f":"IF(AP612=\"\",Z611,Z611+AP612)","v":0},null,"",{"$f":"ROWS($AC$4:AC612)","v":609},"",{"$f":"IFERROR(SMALL($AD$4:$AD$1642,ROWS($AD$4:AD612)),\"\")","v":""},null,{"$f":"IFERROR(INDEX($A$4:$R$1642,$AE612,COLUMNS($A:$B)),\"\")","v":""},{"$f":"IFERROR(INDEX($A$4:$R$1642,$AE612,COLUMNS($A:$C)),\"\")","v":""},{"$f":"IFERROR(INDEX($A$4:$R$1642,$AE612,COLUMNS($A:$R)),\"\")","v":""},null,{"$f":"IFERROR(IF(SEARCH(\"=\",L612),L612,\"\"),\"\")","v":""},{"$f":"IFERROR(IF(SEARCH(\"=\",M612),M612,\"\"),\"\")","v":""},{"$f":"IFERROR(IF(SEARCH(\"=\",N612),N612,\"\"),\"\")","v":""},{"$f":"IFERROR(IF(SEARCH(\"=\",O612),O612,\"\"),\"\")","v":""},null,null,null,76]
[null,null,null,"",null,null,null,null,"","",null,{"$f":"IF(E613>0,\" (p/u) \"&Modulo2.GetFormula(E613),\"\")","v":""},{"$f":"IF(F613>0,\" (lu) \"&Modulo2.GetFormula(F613),\"\")","v":""},{"$f":"IF(G613>0,\" (la) \"&Modulo2.GetFormula(G613),\"\")","v":""},{"$f":"IF(H613>0,\" (H) \"&Modulo2.GetFormula(H613),\"\")","v":""},null,null,null,null,null,null,null,null,null,2,0,null,"",{"$f":"ROWS($AC$4:AC613)","v":610},"",{"$f":"IFERROR(SMALL($AD$4:$AD$1642,ROWS($AD$4:AD613)),\"\")","v":""},null,{"$f":"IFERROR(INDEX($A$4:$R$1642,$AE613,COLUMNS($A:$B)),\"\")","v":""},{"$f":"IFERROR(INDEX($A$4:$R$1642,$AE613,COLUMNS($A:$C)),\"\")","v":""},{"$f":"IFERROR(INDEX($A$4:$R$1642,$AE613,COLUMNS($A:$R)),\"\")","v":""},null,"","","","",null,null,null,76]
[null,null,null,"",null,null,null,null,"","",null,{"$f":"IF(E614>0,\" (p/u) \"&Modulo2.GetFormula(E614),\"\")","v":""},{"$f":"IF(F614>0,\" (lu) \"&Modulo2.GetFormula(F614),\"\")","v":""},{"$f":"IF(G614>0,\" (la) \"&Modulo2.GetFormula(G614),\"\")","v":""},{"$f":"IF(H614>0,\" (H) \"&Modulo2.GetFormula(H614),\"\")","v":""},null,null,null,null,null,null,null,null,null,2,0,null,"",{"$f":"ROWS($AC$4:AC614)","v":611},"",{"$f":"IFERROR(SMALL($AD$4:$AD$1642,ROWS($AD$4:AD614)),\"\")","v":""},null,{"$f":"IFERROR(INDEX($A$4:$R$1642,$AE614,COLUMNS($A:$B)),\"\")","v":""},{"$f":"IFERROR(INDEX($A$4:$R$1642,$AE614,COLUMNS($A:$C)),\"\")","v":""},{"$f":"IFERROR(INDEX($A$4:$R$1642,$AE614,COLUMNS($A:$R)),\"\")","v":""},null,"","","","",null,null,null,76]
[null,null,null,null,null,null,null,{"$f":"CONCATENATE(\"SOMMANO [\",VLOOKUP(B611,'Elenco Prezzi2'!$A$2:$E$201,3,FALSE()),\"]\")","v":{"$error":"#N/A"}},{"$f":"IF(T615=\"s\",V616,SUBTOTAL(9,I611:I615))","v":{"$error":"#REF!"}},null,{"$f":"VLOOKUP(B611,'Elenco Prezzi2'!$A$2:$E$201,5,FALSE)","v":{"$error":"#N/A"}},null,null,null,null,null,null,{"$f":"IFERROR(I615*K615,\"\")","v":""},null,"s",null,null,null,{"$f":"R615","v":""},2,0,null,"",{"$f":"ROWS($AC$4:AC615)","v":612},"",{"$f":"IFERROR(SMALL($AD$4:$AD$1642,ROWS($AD$4:AD615)),\"\")","v":""},null,{"$f":"IFERROR(INDEX($A$4:$R$1642,$AE615,COLUMNS($A:$B)),\"\")","v":""},{"$f":"IFERROR(INDEX($A$4:$R$1642,$AE615,COLUMNS($A:$C)),\"\")","v":""},{"$f":"IFERROR(INDEX($A$4:$R$1642,$AE615,COLUMNS($A:$R)),\"\")","v":""},null,null,null,null,null,null,null,null,76]
[null,null,null,null,null,null,null,{"$f":"IF(I616<0,\"a detrarre\",\"\")","v":""},{"$f":"SUMIF(I611:I614,\"<0\")","v":0},null,null,null,null,null,null,null,null,null,{"$f":"R615","v":""},null,null,{"$f":"VLOOKUP(B611,#REF!,4,FALSE)","v":{"$error":"#REF!"}},null,null,2,0,null,"",{"$f":"ROWS($AC$4:AC616)","v":613},"",{"$f":"IFERROR(SMALL($AD$4:$AD$1642,ROWS($AD$4:AD616)),\"\")","v":""},null,{"$f":"IFERROR(INDEX($A$4:$R$1642,$AE616,COLUMNS($A:$B)),\"\")","v":""},{"$f":"IFERROR(INDEX($A$4:$R$1642,$AE616,COLUMNS($A:$C)),\"\")","v":""},{"$f":"IFERROR(INDEX($A$4:$R$1642,$AE616,COLUMNS($A:$R)),\"\")","v":""},null,null,null,null,null,null,null,null,76]
[null,null,null,null,null,null,null,null,null,null,null,null,null,null,null,null,null,null,null,null,null,null,null,null,2,0,null,"",{"$f":"ROWS($AC$4:AC617)","v":614},"",{"$f":"IFERROR(SMALL($AD$4:$AD$1642,ROWS($AD$4:AD617)),\"\")","v":""},null,{"$f":"IFERROR(INDEX($A$4:$R$1642,$AE617,COLUMNS($A:$B)),\"\")","v":""},{"$f":"IFERROR(INDEX($A$4:$R$1642,$AE617,COLUMNS($A:$C)),\"\")","v":""},{"$f":"IFERROR(INDEX($A$4:$R$1642,$AE617,COLUMNS($A:$R)),\"\")","v":""},null,null,null,null,null,null,null,null,76]
[null,null,null,null,null,null,null,null,null,null,null,null,null,null,null,null,null,null,null,null,null,null,null,null,2,0,null,"",{"$f":"ROWS($AC$4:AC618)","v":615},"",{"$f":"IFERROR(SMALL($AD$4:$AD$1642,ROWS($AD$4:AD618)),\"\")","v":""},null,{"$f":"IFERROR(INDEX($A$4:$R$1642,$AE618,COLUMNS($A:$B)),\"\")","v":""},{"$f":"IFERROR(INDEX($A$4:$R$1642,$AE618,COLUMNS($A:$C)),\"\")","v":""},{"$f":"IFERROR(INDEX($A$4:$R$1642,$AE618,COLUMNS($A:$R)),\"\")","v":""},null,null,null,null,null,null,null,null,76]
[{"$f":"AR619","v":77},null,{"$f":"(VLOOKUP($B619,'Elenco Prezzi2'!$A$2:$E$201,2,FALSE))","v":{"$error":"#N/A"}},null,null,null,null,null,null,null,null,null,null,null,null,null,null,null,null,null,null,null,null,null,2,0,null,"",{"$f":"ROWS($AC$4:AC619)","v":616},"",{"$f":"IFERROR(SMALL($AD$4:$AD$1642,ROWS($AD$4:AD619)),\"\")","v":""},null,{"$f":"IFERROR(INDEX($A$4:$R$1642,$AE619,COLUMNS($A:$B)),\"\")","v":""},{"$f":"IFERROR(INDEX($A$4:$R$1642,$AE619,COLUMNS($A:$C)),\"\")","v":""},{"$f":"IFERROR(INDEX($A$4:$R$1642,$AE619,COLUMNS($A:$R)),\"\")","v":""},null,null,null,null,null,null,null,1,77]
[null,null,null,{"$f":"CONCATENATE(AK620&AL620&AM620&AN620)","v":""},null,null,null,null,{"$f":"IFERROR(IF(PRODUCT(E620:H620)=0,\"\",PRODUCT(E620:H620)),\"\")","v":""},{"$f":"I620","v":""},null,{"$f":"IF(E620>0,\" (p/u) \"&Modulo2.GetFormula(E620),\"\")","v":""},{"$f":"IF(F620>0,\" (lu) \"&Modulo2.GetFormula(F620),\"\")","v":""},{"$f":"IF(G620>0,\" (la) \"&Modulo2.GetFormula(G620),\"\")","v":""},{"$f":"IF(H620>0,\" (H) \"&Modulo2.GetFormula(H620),\"\")","v":""},null,null,null,null,null,null,null,null,null,2,0,null,"",{"$f":"ROWS($AC$4:AC620)","v":617},"",{"$f":"IFERROR(SMALL($AD$4:$AD$1642,ROWS($AD$4:AD620)),\"\")","v":""},null,{"$f":"IFERROR(INDEX($A$4:$R$1642,$AE620,COLUMNS($A:$B)),\"\")","v":""},{"$f":"IFERROR(INDEX($A$4:$R$1642,$AE620,COLUMNS($A:$C)),\"\")","v":""},{"$f":"IFERROR(INDEX($A$4:$R$1642,$AE620,COLUMNS($A:$R)),\"\")","v":""},null,{"$f":"IFERROR(IF(SEARCH(\"=\",L620),L620,\"\"),\"\")","v":""},{"$f":"IFERROR(IF(SEARCH(\"=\",M620),M620,\"\"),\"\")","v":""},{"$f":"IFERROR(IF(SEARCH(\"=\",N620),N620,\"\"),\"\")","v":""},{"$f":"IFERROR(IF(SEARCH(\"=\",O620),O620,\"\"),\"\")","v":""},null,null,null,77]
[null,null,null,"",null,null,null,null,"","",null,{"$f":"IF(E621>0,\" (p/u) \"&Modulo2.GetFormula(E621),\"\")","v":""},{"$f":"IF(F621>0,\" (lu) \"&Modulo2.GetFormula(F621),\"\")","v":""},{"$f":"IF(G621>0,\" (la) \"&Modulo2.GetFormula(G621),\"\")","v":""},{"$f":"IF(H621>0,\" (H) \"&Modulo2.GetFormula(H621),\"\")","v":""},null,null,null,null,null,null,null,null,null,2,0,null,"",{"$f":"ROWS($AC$4:AC621)","v":618},"",{"$f":"IFERROR(SMALL($AD$4:$AD$1642,ROWS($AD$4:AD621)),\"\")","v":""},null,{"$f":"IFERROR(INDEX($A$4:$R$1642,$AE621,COLUMNS($A:$B)),\"\")","v":""},{"$f":"IFERROR(INDEX($A$4:$R$1642,$AE621,COLUMNS($A:$C)),\"\")","v":""},{"$f":"IFERROR(INDEX($A$4:$R$1642,$AE621,COLUMNS($A:$R)),\"\")","v":""},null,"","","","",null,null,null,77]
[null,null,null,"",null,null,null,null,"","",null,{"$f":"IF(E622>0,\" (p/u) \"&Modulo2.GetFormula(E622),\"\")","v":""},{"$f":"IF(F622>0,\" (lu) \"&Modulo2.GetFormula(F622),\"\")","v":""},{"$f":"IF(G622>0,\" (la) \"&Modulo2.GetFormula(G622),\"\")","v":""},{"$f":"IF(H622>0,\" (H) \"&Modulo2.GetFormula(H622),\"\")","v":""},null,null,null,null,null,null,null,null,null,2,0,null,"",{"$f":"ROWS($AC$4:AC622)","v":619},"",{"$f":"IFERROR(SMALL($AD$4:$AD$1642,ROWS($AD$4:AD622)),\"\")","v":""},null,{"$f":"IFERROR(INDEX($A$4:$R$1642,$AE622,COLUMNS($A:$B)),\"\")","v":""},{"$f":"IFERROR(INDEX($A$4:$R$1642,$AE622,COLUMNS($A:$C)),\"\")","v":""},{"$f":"IFERROR(INDEX($A$4:$R$1642,$AE622,COLUMNS($A:$R)),\"\")","v":""},null,"","","","",null,null,null,77]
[null,null,null,null,null,null,null,{"$f":"CONCATENATE(\"SOMMANO [\",VLOOKUP(B619,'Elenco Prezzi2'!$A$2:$E$201,3,FALSE()),\"]\")","v":{"$error":"#N/A"}},{"$f":"IF(T623=\"s\",V624,SUBTOTAL(9,I619:I623))","v":{"$error":"#REF!"}},null,{"$f":"VLOOKUP(B619,'Elenco Prezzi2'!$A$2:$E$201,5,FALSE)","v":{"$error":"#N/A"}},null,null,null,null,null,null,{"$f":"IFERROR(I623*K623,\"\")","v":""},null,"s",null,null,null,{"$f":"R623","v":""},2,0,null,"",{"$f":"ROWS($AC$4:AC623)","v":620},"",{"$f":"IFERROR(SMALL($AD$4:$AD$1642,ROWS($AD$4:AD623)),\"\")","v":""},null,{"$f":"IFERROR(INDEX($A$4:$R$1642,$AE623,COLUMNS($A:$B)),\"\")","v":""},{"$f":"IFERROR(INDEX($A$4:$R$1642,$AE623,COLUMNS($A:$C)),\"\")","v":""},{"$f":"IFERROR(INDEX($A$4:$R$1642,$AE623,COLUMNS($A:$R)),\"\")","v":""},null,null,null,null,null,null,null,null,77]
[null,null,null,null,null,null,null,{"$f":"IF(I624<0,\"a detrarre\",\"\")","v":""},{"$f":"SUMIF(I619:I622,\"<0\")","v":0},null,null,null,null,null,null,null,null,null,{"$f":"R623","v":""},null,null,{"$f":"VLOOKUP(B619,#REF!,4,FALSE)","v":{"$error":"#REF!"}},null,null,2,0,null,"",{"$f":"ROWS($AC$4:AC624)","v":621},"",{"$f":"IFERROR(SMALL($AD$4:$AD$1642,ROWS($AD$4:AD624)),\"\")","v":""},null,{"$f":"IFERROR(INDEX($A$4:$R$1642,$AE624,COLUMNS($A:$B)),\"\")","v":""},{"$f":"IFERROR(INDEX($A$4:$R$1642,$AE624,COLUMNS($A:$C)),\"\")","v":""},{"$f":"IFERROR(INDEX($A$4:$R$1642,$AE624,COLUMNS($A:$R)),\"\")","v":""},null,null,null,null,null,null,null,null,77]
[null,null,null,null,null,null,null,null,null,null,null,null,null,null,null,null,null,null,null,null,null,null,null,null,2,0,null,"",{"$f":"ROWS($AC$4:AC625)","v":622},"",{"$f":"IFERROR(SMALL($AD$4:$AD$1642,ROWS($AD$4:AD625)),\"\")","v":""},null,{"$f":"IFERROR(INDEX($A$4:$R$1642,$AE625,COLUMNS($A:$B)),\"\")","v":""},{"$f":"IFERROR(INDEX($A$4:$R$1642,$AE625,COLUMNS($A:$C)),\"\")","v":""},{"$f":"IFERROR(INDEX($A$4:$R$1642,$AE625,COLUMNS($A:$R)),\"\")","v":""},null,null,null,null,null,null,null,null,77]
[null,null,null,null,null,null,null,null,null,null,null,null,null,null,null,null,null,null,null,null,null,null,null,null,2,0,null,"",{"$f":"ROWS($AC$4:AC626)","v":623},"",{"$f":"IFERROR(SMALL($AD$4:$AD$1642,ROWS($AD$4:AD626)),\"\")","v":""},null,{"$f":"IFERROR(INDEX($A$4:$R$1642,$AE626,COLUMNS($A:$B)),\"\")","v":""},{"$f":"IFERROR(INDEX($A$4:$R$1642,$AE626,COLUMNS($A:$C)),\"\")","v":""},{"$f":"IFERROR(INDEX($A$4:$R$1642,$AE626,COLUMNS($A:$R)),\"\")","v":""},null,null,null,null,null,null,null,null,77]
[{"$f":"AR627","v":78},null,{"$f":"(VLOOKUP($B627,'Elenco Prezzi2'!$A$2:$E$201,2,FALSE))","v":{"$error":"#N/A"}},null,null,null,null,null,null,null,null,null,null,null,null,null,null,null,null,null,null,null,null,null,2,0,null,"",{"$f":"ROWS($AC$4:AC627)","v":624},"",{"$f":"IFERROR(SMALL($AD$4:$AD$1642,ROWS($AD$4:AD627)),\"\")","v":""},null,{"$f":"IFERROR(INDEX($A$4:$R$1642,$AE627,COLUMNS($A:$B)),\"\")","v":""},{"$f":"IFERROR(INDEX($A$4:$R$1642,$AE627,COLUMNS($A:$C)),\"\")","v":""},{"$f":"IFERROR(INDEX($A$4:$R$1642,$AE627,COLUMNS($A:$R)),\"\")","v":""},null,null,null,null,null,null,null,1,78]
[null,null,null,{"$f":"CONCATENATE(AK628&AL628&AM628&AN628)","v":""},null,null,null,null,{"$f":"IFERROR(IF(PRODUCT(E628:H628)=0,\"\",PRODUCT(E628:H628)),\"\")","v":""},{"$f":"I628","v":""},null,{"$f":"IF(E628>0,\" (p/u) \"&Modulo2.GetFormula(E628),\"\")","v":""},{"$f":"IF(F628>0,\" (lu) \"&Modulo2.GetFormula(F628),\"\")","v":""},{"$f":"IF(G628>0,\" (la) \"&Modulo2.GetFormula(G628),\"\")","v":""},{"$f":"IF(H628>0,\" (H) \"&Modulo2.GetFormula(H628),\"\")","v":""},null,null,null,null,null,null,null,null,null,2,0,null,"",{"$f":"ROWS($AC$4:AC628)","v":625},"",{"$f":"IFERROR(SMALL($AD$4:$AD$1642,ROWS($AD$4:AD628)),\"\")","v":""},null,{"$f":"IFERROR(INDEX($A$4:$R$1642,$AE628,COLUMNS($A:$B)),\"\")","v":""},{"$f":"IFERROR(INDEX($A$4:$R$1642,$AE628,COLUMNS($A:$C)),\"\")","v":""},{"$f":"IFERROR(INDEX($A$4:$R$1642,$AE628,COLUMNS($A:$R)),\"\")","v":""},null,{"$f":"IFERROR(IF(SEARCH(\"=\",L628),L628,\"\"),\"\")","v":""},{"$f":"IFERROR(IF(SEARCH(\"=\",M628),M628,\"\"),\"\")","v":""},{"$f":"IFERROR(IF(SEARCH(\"=\",N628),N628,\"\"),\"\")","v":""},{"$f":"IFERROR(IF(SEARCH(\"=\",O628),O628,\"\"),\"\")","v":""},null,null,null,78]
[null,null,null,"",null,null,null,null,"","",null,{"$f":"IF(E629>0,\" (p/u) \"&Modulo2.GetFormula(E629),\"\")","v":""},{"$f":"IF(F629>0,\" (lu) \"&Modulo2.GetFormula(F629),\"\")","v":""},{"$f":"IF(G629>0,\" (la) \"&Modulo2.GetFormula(G629),\"\")","v":""},{"$f":"IF(H629>0,\" (H) \"&Modulo2.GetFormula(H629),\"\")","v":""},null,null,null,null,null,null,null,null,null,2,0,null,"",{"$f":"ROWS($AC$4:AC629)","v":626},"",{"$f":"IFERROR(SMALL($AD$4:$AD$1642,ROWS($AD$4:AD629)),\"\")","v":""},null,{"$f":"IFERROR(INDEX($A$4:$R$1642,$AE629,COLUMNS($A:$B)),\"\")","v":""},{"$f":"IFERROR(INDEX($A$4:$R$1642,$AE629,COLUMNS($A:$C)),\"\")","v":""},{"$f":"IFERROR(INDEX($A$4:$R$1642,$AE629,COLUMNS($A:$R)),\"\")","v":""},null,"","","","",null,null,null,78]
[null,null,null,"",null,null,null,null,"","",null,{"$f":"IF(E630>0,\" (p/u) \"&Modulo2.GetFormula(E630),\"\")","v":""},{"$f":"IF(F630>0,\" (lu) \"&Modulo2.GetFormula(F630),\"\")","v":""},{"$f":"IF(G630>0,\" (la) \"&Modulo2.GetFormula(G630),\"\")","v":""},{"$f":"IF(H630>0,\" (H) \"&Modulo2.GetFormula(H630),\"\")","v":""},null,null,null,null,null,null,null,null,null,2,0,null,"",{"$f":"ROWS($AC$4:AC630)","v":627},"",{"$f":"IFERROR(SMALL($AD$4:$AD$1642,ROWS($AD$4:AD630)),\"\")","v":""},null,{"$f":"IFERROR(INDEX($A$4:$R$1642,$AE630,COLUMNS($A:$B)),\"\")","v":""},{"$f":"IFERROR(INDEX($A$4:$R$1642,$AE630,COLUMNS($A:$C)),\"\")","v":""},{"$f":"IFERROR(INDEX($A$4:$R$1642,$AE630,COLUMNS($A:$R)),\"\")","v":""},null,"","","","",null,null,null,78]
[null,null,null,null,null,null,null,{"$f":"CONCATENATE(\"SOMMANO [\",VLOOKUP(B627,'Elenco Prezzi2'!$A$2:$E$201,3,FALSE()),\"]\")","v":{"$error":"#N/A"}},{"$f":"IF(T631=\"s\",V632,SUBTOTAL(9,I627:I631))","v":{"$error":"#REF!"}},null,{"$f":"VLOOKUP(B627,'Elenco Prezzi2'!$A$2:$E$201,5,FALSE)","v":{"$error":"#N/A"}},null,null,null,null,null,null,{"$f":"IFERROR(I631*K631,\"\")","v":""},null,"s",null,null,null,{"$f":"R631","v":""},2,0,null,"",{"$f":"ROWS($AC$4:AC631)","v":628},"",{"$f":"IFERROR(SMALL($AD$4:$AD$1642,ROWS($AD$4:AD631)),\"\")","v":""},null,{"$f":"IFERROR(INDEX($A$4:$R$1642,$AE631,COLUMNS($A:$B)),\"\")","v":""},{"$f":"IFERROR(INDEX($A$4:$R$1642,$AE631,COLUMNS($A:$C)),\"\")","v":""},{"$f":"IFERROR(INDEX($A$4:$R$1642,$AE631,COLUMNS($A:$R)),\"\")","v":""},null,null,null,null,null,null,null,null,78]
[null,null,null,null,null,null,null,{"$f":"IF(I632<0,\"a detrarre\",\"\")","v":""},{"$f":"SUMIF(I627:I630,\"<0\")","v":0},null,null,null,null,null,null,null,null,null,{"$f":"R631","v":""},null,null,{"$f":"VLOOKUP(B627,#REF!,4,FALSE)","v":{"$error":"#REF!"}},null,null,2,0,null,"",{"$f":"ROWS($AC$4:AC632)","v":629},"",{"$f":"IFERROR(SMALL($AD$4:$AD$1642,ROWS($AD$4:AD632)),\"\")","v":""},null,{"$f":"IFERROR(INDEX($A$4:$R$1642,$AE632,COLUMNS($A:$B)),\"\")","v":""},{"$f":"IFERROR(INDEX($A$4:$R$1642,$AE632,COLUMNS($A:$C)),\"\")","v":""},{"$f":"IFERROR(INDEX($A$4:$R$1642,$AE632,COLUMNS($A:$R)),\"\")","v":""},null,null,null,null,null,null,null,null,78]
[null,null,null,null,null,null,null,null,null,null,null,null,null,null,null,null,null,null,null,null,null,null,null,null,2,0,null,"",{"$f":"ROWS($AC$4:AC633)","v":630},"",{"$f":"IFERROR(SMALL($AD$4:$AD$1642,ROWS($AD$4:AD633)),\"\")","v":""},null,{"$f":"IFERROR(INDEX($A$4:$R$1642,$AE633,COLUMNS($A:$B)),\"\")","v":""},{"$f":"IFERROR(INDEX($A$4:$R$1642,$AE633,COLUMNS($A:$C)),\"\")","v":""},{"$f":"IFERROR(INDEX($A$4:$R$1642,$AE633,COLUMNS($A:$R)),\"\")","v":""},null,null,null,null,null,null,null,null,78]
[null,null,null,null,null,null,null,null,null,null,null,null,null,null,null,null,null,null,null,null,null,null,null,null,2,0,null,"",{"$f":"ROWS($AC$4:AC634)","v":631},"",{"$f":"IFERROR(SMALL($AD$4:$AD$1642,ROWS($AD$4:AD634)),\"\")","v":""},null,{"$f":"IFERROR(INDEX($A$4:$R$1642,$AE634,COLUMNS($A:$B)),\"\")","v":""},{"$f":"IFERROR(INDEX($A$4:$R$1642,$AE634,COLUMNS($A:$C)),\"\")","v":""},{"$f":"IFERROR(INDEX($A$4:$R$1642,$AE634,COLUMNS($A:$R)),\"\")","v":""},null,null,null,null,null,null,null,null,78]
[{"$f":"AR635","v":79},null,{"$f":"(VLOOKUP($B635,'Elenco Prezzi2'!$A$2:$E$201,2,FALSE))","v":{"$error":"#N/A"}},null,null,null,null,null,null,null,null,null,null,null,null,null,null,null,null,null,null,null,null,null,2,0,null,"",{"$f":"ROWS($AC$4:AC635)","v":632},"",{"$f":"IFERROR(SMALL($AD$4:$AD$1642,ROWS($AD$4:AD635)),\"\")","v":""},null,{"$f":"IFERROR(INDEX($A$4:$R$1642,$AE635,COLUMNS($A:$B)),\"\")","v":""},{"$f":"IFERROR(INDEX($A$4:$R$1642,$AE635,COLUMNS($A:$C)),\"\")","v":""},{"$f":"IFERROR(INDEX($A$4:$R$1642,$AE635,COLUMNS($A:$R)),\"\")","v":""},null,null,null,null,null,null,null,1,79]
[null,null,null,{"$f":"CONCATENATE(AK636&AL636&AM636&AN636)","v":""},null,null,null,null,{"$f":"IFERROR(IF(PRODUCT(E636:H636)=0,\"\",PRODUCT(E636:H636)),\"\")","v":""},{"$f":"I636","v":""},null,{"$f":"IF(E636>0,\" (p/u) \"&Modulo2.GetFormula(E636),\"\")","v":""},{"$f":"IF(F636>0,\" (lu) \"&Modulo2.GetFormula(F636),\"\")","v":""},{"$f":"IF(G636>0,\" (la) \"&Modulo2.GetFormula(G636),\"\")","v":""},{"$f":"IF(H636>0,\" (H) \"&Modulo2.GetFormula(H636),\"\")","v":""},null,null,null,null,null,null,null,null,null,2,0,null,"",{"$f":"ROWS($AC$4:AC636)","v":633},"",{"$f":"IFERROR(SMALL($AD$4:$AD$1642,ROWS($AD$4:AD636)),\"\")","v":""},null,{"$f":"IFERROR(INDEX($A$4:$R$1642,$AE636,COLUMNS($A:$B)),\"\")","v":""},{"$f":"IFERROR(INDEX($A$4:$R$1642,$AE636,COLUMNS($A:$C)),\"\")","v":""},{"$f":"IFERROR(INDEX($A$4:$R$1642,$AE636,COLUMNS($A:$R)),\"\")","v":""},null,{"$f":"IFERROR(IF(SEARCH(\"=\",L636),L636,\"\"),\"\")","v":""},{"$f":"IFERROR(IF(SEARCH(\"=\",M636),M636,\"\"),\"\")","v":""},{"$f":"IFERROR(IF(SEARCH(\"=\",N636),N636,\"\"),\"\")","v":""},{"$f":"IFERROR(IF(SEARCH(\"=\",O636),O636,\"\"),\"\")","v":""},null,null,null,79]
[null,null,null,"",null,null,null,null,"","",null,{"$f":"IF(E637>0,\" (p/u) \"&Modulo2.GetFormula(E637),\"\")","v":""},{"$f":"IF(F637>0,\" (lu) \"&Modulo2.GetFormula(F637),\"\")","v":""},{"$f":"IF(G637>0,\" (la) \"&Modulo2.GetFormula(G637),\"\")","v":""},{"$f":"IF(H637>0,\" (H) \"&Modulo2.GetFormula(H637),\"\")","v":""},null,null,null,null,null,null,null,null,null,2,0,null,"",{"$f":"ROWS($AC$4:AC637)","v":634},"",{"$f":"IFERROR(SMALL($AD$4:$AD$1642,ROWS($AD$4:AD637)),\"\")","v":""},null,{"$f":"IFERROR(INDEX($A$4:$R$1642,$AE637,COLUMNS($A:$B)),\"\")","v":""},{"$f":"IFERROR(INDEX($A$4:$R$1642,$AE637,COLUMNS($A:$C)),\"\")","v":""},{"$f":"IFERROR(INDEX($A$4:$R$1642,$AE637,COLUMNS($A:$R)),\"\")","v":""},null,"","","","",null,null,null,79]
[null,null,null,"",null,null,null,null,"","",null,{"$f":"IF(E638>0,\" (p/u) \"&Modulo2.GetFormula(E638),\"\")","v":""},{"$f":"IF(F638>0,\" (lu) \"&Modulo2.GetFormula(F638),\"\")","v":""},{"$f":"IF(G638>0,\" (la) \"&Modulo2.GetFormula(G638),\"\")","v":""},{"$f":"IF(H638>0,\" (H) \"&Modulo2.GetFormula(H638),\"\")","v":""},null,null,null,null,null,null,null,null,null,2,0,null,"",{"$f":"ROWS($AC$4:AC638)","v":635},"",{"$f":"IFERROR(SMALL($AD$4:$AD$1642,ROWS($AD$4:AD638)),\"\")","v":""},null,{"$f":"IFERROR(INDEX($A$4:$R$1642,$AE638,COLUMNS($A:$B)),\"\")","v":""},{"$f":"IFERROR(INDEX($A$4:$R$1642,$AE638,COLUMNS($A:$C)),\"\")","v":""},{"$f":"IFERROR(INDEX($A$4:$R$1642,$AE638,COLUMNS($A:$R)),\"\")","v":""},null,"","","","",null,null,null,79]
[null,null,null,null,null,null,null,{"$f":"CONCATENATE(\"SOMMANO [\",VLOOKUP(B635,'Elenco Prezzi2'!$A$2:$E$201,3,FALSE()),\"]\")","v":{"$error":"#N/A"}},{"$f":"IF(T639=\"s\",V640,SUBTOTAL(9,I635:I639))","v":{"$error":"#REF!"}},null,{"$f":"VLOOKUP(B635,'Elenco Prezzi2'!$A$2:$E$201,5,FALSE)","v":{"$error":"#N/A"}},null,null,null,null,null,null,{"$f":"IFERROR(I639*K639,\"\")","v":""},null,"s",null,null,null,{"$f":"R639","v":""},2,0,null,"",{"$f":"ROWS($AC$4:AC639)","v":636},"",{"$f":"IFERROR(SMALL($AD$4:$AD$1642,ROWS($AD$4:AD639)),\"\")","v":""},null,{"$f":"IFERROR(INDEX($A$4:$R$1642,$AE639,COLUMNS($A:$B)),\"\")","v":""},{"$f":"IFERROR(INDEX($A$4:$R$1642,$AE639,COLUMNS($A:$C)),\"\")","v":""},{"$f":"IFERROR(INDEX($A$4:$R$1642,$AE639,COLUMNS($A:$R)),\"\")","v":""},null,null,null,null,null,null,null,null,79]
[null,null,null,null,null,null,null,{"$f":"IF(I640<0,\"a detrarre\",\"\")","v":""},{"$f":"SUMIF(I635:I638,\"<0\")","v":0},null,null,null,null,null,null,null,null,null,{"$f":"R639","v":""},null,null,{"$f":"VLOOKUP(B635,#REF!,4,FALSE)","v":{"$error":"#REF!"}},null,null,2,0,null,"",{"$f":"ROWS($AC$4:AC640)","v":637},"",{"$f":"IFERROR(SMALL($AD$4:$AD$1642,ROWS($AD$4:AD640)),\"\")","v":""},null,{"$f":"IFERROR(INDEX($A$4:$R$1642,$AE640,COLUMNS($A:$B)),\"\")","v":""},{"$f":"IFERROR(INDEX($A$4:$R$1642,$AE640,COLUMNS($A:$C)),\"\")","v":""},{"$f":"IFERROR(INDEX($A$4:$R$1642,$AE640,COLUMNS($A:$R)),\"\")","v":""},null,null,null,null,null,null,null,null,79]
[null,null,null,null,null,null,null,null,null,null,null,null,null,null,null,null,null,null,null,null,null,null,null,null,2,0,null,"",{"$f":"ROWS($AC$4:AC641)","v":638},"",{"$f":"IFERROR(SMALL($AD$4:$AD$1642,ROWS($AD$4:AD641)),\"\")","v":""},null,{"$f":"IFERROR(INDEX($A$4:$R$1642,$AE641,COLUMNS($A:$B)),\"\")","v":""},{"$f":"IFERROR(INDEX($A$4:$R$1642,$AE641,COLUMNS($A:$C)),\"\")","v":""},{"$f":"IFERROR(INDEX($A$4:$R$1642,$AE641,COLUMNS($A:$R)),\"\")","v":""},null,null,null,null,null,null,null,null,79]
[null,null,null,null,null,null,null,null,null,null,null,null,null,null,null,null,null,null,null,null,null,null,null,null,2,0,null,"",{"$f":"ROWS($AC$4:AC642)","v":639},"",{"$f":"IFERROR(SMALL($AD$4:$AD$1642,ROWS($AD$4:AD642)),\"\")","v":""},null,{"$f":"IFERROR(INDEX($A$4:$R$1642,$AE642,COLUMNS($A:$B)),\"\")","v":""},{"$f":"IFERROR(INDEX($A$4:$R$1642,$AE642,COLUMNS($A:$C)),\"\")","v":""},{"$f":"IFERROR(INDEX($A$4:$R$1642,$AE642,COLUMNS($A:$R)),\"\")","v":""},null,null,null,null,null,null,null,null,79]
[{"$f":"AR643","v":80},null,{"$f":"(VLOOKUP($B643,'Elenco Prezzi2'!$A$2:$E$201,2,FALSE))","v":{"$error":"#N/A"}},null,null,null,null,null,null,null,null,null,null,null,null,null,null,null,null,null,null,null,null,null,2,0,null,"",{"$f":"ROWS($AC$4:AC643)","v":640},"",{"$f":"IFERROR(SMALL($AD$4:$AD$1642,ROWS($AD$4:AD643)),\"\")","v":""},null,{"$f":"IFERROR(INDEX($A$4:$R$1642,$AE643,COLUMNS($A:$B)),\"\")","v":""},{"$f":"IFERROR(INDEX($A$4:$R$1642,$AE643,COLUMNS($A:$C)),\"\")","v":""},{"$f":"IFERROR(INDEX($A$4:$R$1642,$AE643,COLUMNS($A:$R)),\"\")","v":""},null,null,null,null,null,null,null,1,80]
[null,null,null,{"$f":"CONCATENATE(AK644&AL644&AM644&AN644)","v":""},null,null,null,null,{"$f":"IFERROR(IF(PRODUCT(E644:H644)=0,\"\",PRODUCT(E644:H644)),\"\")","v":""},{"$f":"I644","v":""},null,{"$f":"IF(E644>0,\" (p/u) \"&Modulo2.GetFormula(E644),\"\")","v":""},{"$f":"IF(F644>0,\" (lu) \"&Modulo2.GetFormula(F644),\"\")","v":""},{"$f":"IF(G644>0,\" (la) \"&Modulo2.GetFormula(G644),\"\")","v":""},{"$f":"IF(H644>0,\" (H) \"&Modulo2.GetFormula(H644),\"\")","v":""},null,null,null,null,null,null,null,null,null,2,0,null,"",{"$f":"ROWS($AC$4:AC644)","v":641},"",{"$f":"IFERROR(SMALL($AD$4:$AD$1642,ROWS($AD$4:AD644)),\"\")","v":""},null,{"$f":"IFERROR(INDEX($A$4:$R$1642,$AE644,COLUMNS($A:$B)),\"\")","v":""},{"$f":"IFERROR(INDEX($A$4:$R$1642,$AE644,COLUMNS($A:$C)),\"\")","v":""},{"$f":"IFERROR(INDEX($A$4:$R$1642,$AE644,COLUMNS($A:$R)),\"\")","v":""},null,{"$f":"IFERROR(IF(SEARCH(\"=\",L644),L644,\"\"),\"\")","v":""},{"$f":"IFERROR(IF(SEARCH(\"=\",M644),M644,\"\"),\"\")","v":""},{"$f":"IFERROR(IF(SEARCH(\"=\",N644),N644,\"\"),\"\")","v":""},{"$f":"IFERROR(IF(SEARCH(\"=\",O644),O644,\"\"),\"\")","v":""},null,null,null,80]
[null,null,null,"",null,null,null,null,"","",null,{"$f":"IF(E645>0,\" (p/u) \"&Modulo2.GetFormula(E645),\"\")","v":""},{"$f":"IF(F645>0,\" (lu) \"&Modulo2.GetFormula(F645),\"\")","v":""},{"$f":"IF(G645>0,\" (la) \"&Modulo2.GetFormula(G645),\"\")","v":""},{"$f":"IF(H645>0,\" (H) \"&Modulo2.GetFormula(H645),\"\")","v":""},null,null,null,null,null,null,null,null,null,2,0,null,"",{"$f":"ROWS($AC$4:AC645)","v":642},"",{"$f":"IFERROR(SMALL($AD$4:$AD$1642,ROWS($AD$4:AD645)),\"\")","v":""},null,{"$f":"IFERROR(INDEX($A$4:$R$1642,$AE645,COLUMNS($A:$B)),\"\")","v":""},{"$f":"IFERROR(INDEX($A$4:$R$1642,$AE645,COLUMNS($A:$C)),\"\")","v":""},{"$f":"IFERROR(INDEX($A$4:$R$1642,$AE645,COLUMNS($A:$R)),\"\")","v":""},null,"","","","",null,null,null,80]
[null,null,null,"",null,null,null,null,"","",null,{"$f":"IF(E646>0,\" (p/u) \"&Modulo2.GetFormula(E646),\"\")","v":""},{"$f":"IF(F646>0,\" (lu) \"&Modulo2.GetFormula(F646),\"\")","v":""},{"$f":"IF(G646>0,\" (la) \"&Modulo2.GetFormula(G646),\"\")","v":""},{"$f":"IF(H646>0,\" (H) \"&Modulo2.GetFormula(H646),\"\")","v":""},null,null,null,null,null,null,null,null,null,2,0,null,"",{"$f":"ROWS($AC$4:AC646)","v":643},"",{"$f":"IFERROR(SMALL($AD$4:$AD$1642,ROWS($AD$4:AD646)),\"\")","v":""},null,{"$f":"IFERROR(INDEX($A$4:$R$1642,$AE646,COLUMNS($A:$B)),\"\")","v":""},{"$f":"IFERROR(INDEX($A$4:$R$1642,$AE646,COLUMNS($A:$C)),\"\")","v":""},{"$f":"IFERROR(INDEX($A$4:$R$1642,$AE646,COLUMNS($A:$R)),\"\")","v":""},null,"","","","",null,null,null,80]
[null,null,null,null,null,null,null,{"$f":"CONCATENATE(\"SOMMANO [\",VLOOKUP(B643,'Elenco Prezzi2'!$A$2:$E$201,3,FALSE()),\"]\")","v":{"$error":"#N/A"}},{"$f":"IF(T647=\"s\",V648,SUBTOTAL(9,I643:I647))","v":{"$error":"#REF!"}},null,{"$f":"VLOOKUP(B643,'Elenco Prezzi2'!$A$2:$E$201,5,FALSE)","v":{"$error":"#N/A"}},null,null,null,null,null,null,{"$f":"IFERROR(I647*K647,\"\")","v":""},null,"s",null,null,null,{"$f":"R647","v":""},2,0,null,"",{"$f":"ROWS($AC$4:AC647)","v":644},"",{"$f":"IFERROR(SMALL($AD$4:$AD$1642,ROWS($AD$4:AD647)),\"\")","v":""},null,{"$f":"IFERROR(INDEX($A$4:$R$1642,$AE647,COLUMNS($A:$B)),\"\")","v":""},{"$f":"IFERROR(INDEX($A$4:$R$1642,$AE647,COLUMNS($A:$C)),\"\")","v":""},{"$f":"IFERROR(INDEX($A$4:$R$1642,$AE647,COLUMNS($A:$R)),\"\")","v":""},null,null,null,null,null,null,null,null,80]
[null,null,null,null,null,null,null,{"$f":"IF(I648<0,\"a detrarre\",\"\")","v":""},{"$f":"SUMIF(I643:I646,\"<0\")","v":0},null,null,null,null,null,null,null,null,null,{"$f":"R647","v":""},null,null,{"$f":"VLOOKUP(B643,#REF!,4,FALSE)","v":{"$error":"#REF!"}},null,null,2,0,null,"",{"$f":"ROWS($AC$4:AC648)","v":645},"",{"$f":"IFERROR(SMALL($AD$4:$AD$1642,ROWS($AD$4:AD648)),\"\")","v":""},null,{"$f":"IFERROR(INDEX($A$4:$R$1642,$AE648,COLUMNS($A:$B)),\"\")","v":""},{"$f":"IFERROR(INDEX($A$4:$R$1642,$AE648,COLUMNS($A:$C)),\"\")","v":""},{"$f":"IFERROR(INDEX($A$4:$R$1642,$AE648,COLUMNS($A:$R)),\"\")","v":""},null,null,null,null,null,null,null,null,80]
[null,null,null,null,null,null,null,null,null,null,null,null,null,null,null,null,null,null,null,null,null,null,null,null,2,0,null,"",{"$f":"ROWS($AC$4:AC649)","v":646},"",{"$f":"IFERROR(SMALL($AD$4:$AD$1642,ROWS($AD$4:AD649)),\"\")","v":""},null,{"$f":"IFERROR(INDEX($A$4:$R$1642,$AE649,COLUMNS($A:$B)),\"\")","v":""},{"$f":"IFERROR(INDEX($A$4:$R$1642,$AE649,COLUMNS($A:$C)),\"\")","v":""},{"$f":"IFERROR(INDEX($A$4:$R$1642,$AE649,COLUMNS($A:$R)),\"\")","v":""},null,null,null,null,null,null,null,null,80]
[null,null,null,null,null,null,null,null,null,null,null,null,null,null,null,null,null,null,null,null,null,null,null,null,2,0,null,"",{"$f":"ROWS($AC$4:AC650)","v":647},"",{"$f":"IFERROR(SMALL($AD$4:$AD$1642,ROWS($AD$4:AD650)),\"\")","v":""},null,{"$f":"IFERROR(INDEX($A$4:$R$1642,$AE650,COLUMNS($A:$B)),\"\")","v":""},{"$f":"IFERROR(INDEX($A$4:$R$1642,$AE650,COLUMNS($A:$C)),\"\")","v":""},{"$f":"IFERROR(INDEX($A$4:$R$1642,$AE650,COLUMNS($A:$R)),\"\")","v":""},null,null,null,null,null,null,null,null,80]
[{"$f":"AR651","v":81},null,{"$f":"(VLOOKUP($B651,'Elenco Prezzi2'!$A$2:$E$201,2,FALSE))","v":{"$error":"#N/A"}},null,null,null,null,null,null,null,null,null,null,null,null,null,null,null,null,null,null,null,null,null,2,0,null,"",{"$f":"ROWS($AC$4:AC651)","v":648},"",{"$f":"IFERROR(SMALL($AD$4:$AD$1642,ROWS($AD$4:AD651)),\"\")","v":""},null,{"$f":"IFERROR(INDEX($A$4:$R$1642,$AE651,COLUMNS($A:$B)),\"\")","v":""},{"$f":"IFERROR(INDEX($A$4:$R$1642,$AE651,COLUMNS($A:$C)),\"\")","v":""},{"$f":"IFERROR(INDEX($A$4:$R$1642,$AE651,COLUMNS($A:$R)),\"\")","v":""},null,null,null,null,null,null,null,1,81]
[null,null,null,{"$f":"CONCATENATE(AK652&AL652&AM652&AN652)","v":""},null,null,null,null,{"$f":"IFERROR(IF(PRODUCT(E652:H652)=0,\"\",PRODUCT(E652:H652)),\"\")","v":""},{"$f":"I652","v":""},null,{"$f":"IF(E652>0,\" (p/u) \"&Modulo2.GetFormula(E652),\"\")","v":""},{"$f":"IF(F652>0,\" (lu) \"&Modulo2.GetFormula(F652),\"\")","v":""},{"$f":"IF(G652>0,\" (la) \"&Modulo2.GetFormula(G652),\"\")","v":""},{"$f":"IF(H652>0,\" (H) \"&Modulo2.GetFormula(H652),\"\")","v":""},null,null,null,null,null,null,null,null,null,2,0,null,"",{"$f":"ROWS($AC$4:AC652)","v":649},"",{"$f":"IFERROR(SMALL($AD$4:$AD$1642,ROWS($AD$4:AD652)),\"\")","v":""},null,{"$f":"IFERROR(INDEX($A$4:$R$1642,$AE652,COLUMNS($A:$B)),\"\")","v":""},{"$f":"IFERROR(INDEX($A$4:$R$1642,$AE652,COLUMNS($A:$C)),\"\")","v":""},{"$f":"IFERROR(INDEX($A$4:$R$1642,$AE652,COLUMNS($A:$R)),\"\")","v":""},null,{"$f":"IFERROR(IF(SEARCH(\"=\",L652),L652,\"\"),\"\")","v":""},{"$f":"IFERROR(IF(SEARCH(\"=\",M652),M652,\"\"),\"\")","v":""},{"$f":"IFERROR(IF(SEARCH(\"=\",N652),N652,\"\"),\"\")","v":""},{"$f":"IFERROR(IF(SEARCH(\"=\",O652),O652,\"\"),\"\")","v":""},null,null,null,81]
[null,null,null,"",null,null,null,null,"","",null,{"$f":"IF(E653>0,\" (p/u) \"&Modulo2.GetFormula(E653),\"\")","v":""},{"$f":"IF(F653>0,\" (lu) \"&Modulo2.GetFormula(F653),\"\")","v":""},{"$f":"IF(G653>0,\" (la) \"&Modulo2.GetFormula(G653),\"\")","v":""},{"$f":"IF(H653>0,\" (H) \"&Modulo2.GetFormula(H653),\"\")","v":""},null,null,null,null,null,null,null,null,null,2,0,null,"",{"$f":"ROWS($AC$4:AC653)","v":650},"",{"$f":"IFERROR(SMALL($AD$4:$AD$1642,ROWS($AD$4:AD653)),\"\")","v":""},null,{"$f":"IFERROR(INDEX($A$4:$R$1642,$AE653,COLUMNS($A:$B)),\"\")","v":""},{"$f":"IFERROR(INDEX($A$4:$R$1642,$AE653,COLUMNS($A:$C)),\"\")","v":""},{"$f":"IFERROR(INDEX($A$4:$R$1642,$AE653,COLUMNS($A:$R)),\"\")","v":""},null,"","","","",null,null,null,81]
[null,null,null,"",null,null,null,null,"","",null,{"$f":"IF(E654>0,\" (p/u) \"&Modulo2.GetFormula(E654),\"\")","v":""},{"$f":"IF(F654>0,\" (lu) \"&Modulo2.GetFormula(F654),\"\")","v":""},{"$f":"IF(G654>0,\" (la) \"&Modulo2.GetFormula(G654),\"\")","v":""},{"$f":"IF(H654>0,\" (H) \"&Modulo2.GetFormula(H654),\"\")","v":""},null,null,null,null,null,null,null,null,null,2,0,null,"",{"$f":"ROWS($AC$4:AC654)","v":651},"",{"$f":"IFERROR(SMALL($AD$4:$AD$1642,ROWS($AD$4:AD654)),\"\")","v":""},null,{"$f":"IFERROR(INDEX($A$4:$R$1642,$AE654,COLUMNS($A:$B)),\"\")","v":""},{"$f":"IFERROR(INDEX($A$4:$R$1642,$AE654,COLUMNS($A:$C)),\"\")","v":""},{"$f":"IFERROR(INDEX($A$4:$R$1642,$AE654,COLUMNS($A:$R)),\"\")","v":""},null,"","","","",null,null,null,81]
[null,null,null,null,null,null,null,{"$f":"CONCATENATE(\"SOMMANO [\",VLOOKUP(B651,'Elenco Prezzi2'!$A$2:$E$201,3,FALSE()),\"]\")","v":{"$error":"#N/A"}},{"$f":"IF(T655=\"s\",V656,SUBTOTAL(9,I651:I655))","v":{"$error":"#REF!"}},null,{"$f":"VLOOKUP(B651,'Elenco Prezzi2'!$A$2:$E$201,5,FALSE)","v":{"$error":"#N/A"}},null,null,null,null,null,null,{"$f":"IFERROR(I655*K655,\"\")","v":""},null,"s",null,null,null,{"$f":"R655","v":""},2,0,null,"",{"$f":"ROWS($AC$4:AC655)","v":652},"",{"$f":"IFERROR(SMALL($AD$4:$AD$1642,ROWS($AD$4:AD655)),\"\")","v":""},null,{"$f":"IFERROR(INDEX($A$4:$R$1642,$AE655,COLUMNS($A:$B)),\"\")","v":""},{"$f":"IFERROR(INDEX($A$4:$R$1642,$AE655,COLUMNS($A:$C)),\"\")","v":""},{"$f":"IFERROR(INDEX($A$4:$R$1642,$AE655,COLUMNS($A:$R)),\"\")","v":""},null,null,null,null,null,null,null,null,81]
[null,null,null,null,null,null,null,{"$f":"IF(I656<0,\"a detrarre\",\"\")","v":""},{"$f":"SUMIF(I651:I654,\"<0\")","v":0},null,null,null,null,null,null,null,null,null,{"$f":"R655","v":""},null,null,{"$f":"VLOOKUP(B651,#REF!,4,FALSE)","v":{"$error":"#REF!"}},null,null,2,0,null,"",{"$f":"ROWS($AC$4:AC656)","v":653},"",{"$f":"IFERROR(SMALL($AD$4:$AD$1642,ROWS($AD$4:AD656)),\"\")","v":""},null,{"$f":"IFERROR(INDEX($A$4:$R$1642,$AE656,COLUMNS($A:$B)),\"\")","v":""},{"$f":"IFERROR(INDEX($A$4:$R$1642,$AE656,COLUMNS($A:$C)),\"\")","v":""},{"$f":"IFERROR(INDEX($A$4:$R$1642,$AE656,COLUMNS($A:$R)),\"\")","v":""},null,null,null,null,null,null,null,null,81]
[null,null,null,null,null,null,null,null,null,null,null,null,null,null,null,null,null,null,null,null,null,null,null,null,2,0,null,"",{"$f":"ROWS($AC$4:AC657)","v":654},"",{"$f":"IFERROR(SMALL($AD$4:$AD$1642,ROWS($AD$4:AD657)),\"\")","v":""},null,{"$f":"IFERROR(INDEX($A$4:$R$1642,$AE657,COLUMNS($A:$B)),\"\")","v":""},{"$f":"IFERROR(INDEX($A$4:$R$1642,$AE657,COLUMNS($A:$C)),\"\")","v":""},{"$f":"IFERROR(INDEX($A$4:$R$1642,$AE657,COLUMNS($A:$R)),\"\")","v":""},null,null,null,null,null,null,null,null,81]
[null,null,null,null,null,null,null,null,null,null,null,null,null,null,null,null,null,null,null,null,null,null,null,null,2,0,null,"",{"$f":"ROWS($AC$4:AC658)","v":655},"",{"$f":"IFERROR(SMALL($AD$4:$AD$1642,ROWS($AD$4:AD658)),\"\")","v":""},null,{"$f":"IFERROR(INDEX($A$4:$R$1642,$AE658,COLUMNS($A:$B)),\"\")","v":""},{"$f":"IFERROR(INDEX($A$4:$R$1642,$AE658,COLUMNS($A:$C)),\"\")","v":""},{"$f":"IFERROR(INDEX($A$4:$R$1642,$AE658,COLUMNS($A:$R)),\"\")","v":""},null,null,null,null,null,null,null,null,81]
[{"$f":"AR659","v":82},null,{"$f":"(VLOOKUP($B659,'Elenco Prezzi2'!$A$2:$E$201,2,FALSE))","v":{"$error":"#N/A"}},null,null,null,null,null,null,null,null,null,null,null,null,null,null,null,null,null,null,null,null,null,2,0,null,"",{"$f":"ROWS($AC$4:AC659)","v":656},"",{"$f":"IFERROR(SMALL($AD$4:$AD$1642,ROWS($AD$4:AD659)),\"\")","v":""},null,{"$f":"IFERROR(INDEX($A$4:$R$1642,$AE659,COLUMNS($A:$B)),\"\")","v":""},{"$f":"IFERROR(INDEX($A$4:$R$1642,$AE659,COLUMNS($A:$C)),\"\")","v":""},{"$f":"IFERROR(INDEX($A$4:$R$1642,$AE659,COLUMNS($A:$R)),\"\")","v":""},null,null,null,null,null,null,null,1,82]
[null,null,null,{"$f":"CONCATENATE(AK660&AL660&AM660&AN660)","v":""},null,null,null,null,{"$f":"IFERROR(IF(PRODUCT(E660:H660)=0,\"\",PRODUCT(E660:H660)),\"\")","v":""},{"$f":"I660","v":""},null,{"$f":"IF(E660>0,\" (p/u) \"&Modulo2.GetFormula(E660),\"\")","v":""},{"$f":"IF(F660>0,\" (lu) \"&Modulo2.GetFormula(F660),\"\")","v":""},{"$f":"IF(G660>0,\" (la) \"&Modulo2.GetFormula(G660),\"\")","v":""},{"$f":"IF(H660>0,\" (H) \"&Modulo2.GetFormula(H660),\"\")","v":""},null,null,null,null,null,null,null,null,null,2,0,null,"",{"$f":"ROWS($AC$4:AC660)","v":657},"",{"$f":"IFERROR(SMALL($AD$4:$AD$1642,ROWS($AD$4:AD660)),\"\")","v":""},null,{"$f":"IFERROR(INDEX($A$4:$R$1642,$AE660,COLUMNS($A:$B)),\"\")","v":""},{"$f":"IFERROR(INDEX($A$4:$R$1642,$AE660,COLUMNS($A:$C)),\"\")","v":""},{"$f":"IFERROR(INDEX($A$4:$R$1642,$AE660,COLUMNS($A:$R)),\"\")","v":""},null,{"$f":"IFERROR(IF(SEARCH(\"=\",L660),L660,\"\"),\"\")","v":""},{"$f":"IFERROR(IF(SEARCH(\"=\",M660),M660,\"\"),\"\")","v":""},{"$f":"IFERROR(IF(SEARCH(\"=\",N660),N660,\"\"),\"\")","v":""},{"$f":"IFERROR(IF(SEARCH(\"=\",O660),O660,\"\"),\"\")","v":""},null,null,null,82]
[null,null,null,"",null,null,null,null,"","",null,{"$f":"IF(E661>0,\" (p/u) \"&Modulo2.GetFormula(E661),\"\")","v":""},{"$f":"IF(F661>0,\" (lu) \"&Modulo2.GetFormula(F661),\"\")","v":""},{"$f":"IF(G661>0,\" (la) \"&Modulo2.GetFormula(G661),\"\")","v":""},{"$f":"IF(H661>0,\" (H) \"&Modulo2.GetFormula(H661),\"\")","v":""},null,null,null,null,null,null,null,null,null,2,0,null,"",{"$f":"ROWS($AC$4:AC661)","v":658},"",{"$f":"IFERROR(SMALL($AD$4:$AD$1642,ROWS($AD$4:AD661)),\"\")","v":""},null,{"$f":"IFERROR(INDEX($A$4:$R$1642,$AE661,COLUMNS($A:$B)),\"\")","v":""},{"$f":"IFERROR(INDEX($A$4:$R$1642,$AE661,COLUMNS($A:$C)),\"\")","v":""},{"$f":"IFERROR(INDEX($A$4:$R$1642,$AE661,COLUMNS($A:$R)),\"\")","v":""},null,"","","","",null,null,null,82]
[null,null,null,"",null,null,null,null,"","",null,{"$f":"IF(E662>0,\" (p/u) \"&Modulo2.GetFormula(E662),\"\")","v":""},{"$f":"IF(F662>0,\" (lu) \"&Modulo2.GetFormula(F662),\"\")","v":""},{"$f":"IF(G662>0,\" (la) \"&Modulo2.GetFormula(G662),\"\")","v":""},{"$f":"IF(H662>0,\" (H) \"&Modulo2.GetFormula(H662),\"\")","v":""},null,null,null,null,null,null,null,null,null,2,0,null,"",{"$f":"ROWS($AC$4:AC662)","v":659},"",{"$f":"IFERROR(SMALL($AD$4:$AD$1642,ROWS($AD$4:AD662)),\"\")","v":""},null,{"$f":"IFERROR(INDEX($A$4:$R$1642,$AE662,COLUMNS($A:$B)),\"\")","v":""},{"$f":"IFERROR(INDEX($A$4:$R$1642,$AE662,COLUMNS($A:$C)),\"\")","v":""},{"$f":"IFERROR(INDEX($A$4:$R$1642,$AE662,COLUMNS($A:$R)),\"\")","v":""},null,"","","","",null,null,null,82]
[null,null,null,null,null,null,null,{"$f":"CONCATENATE(\"SOMMANO [\",VLOOKUP(B659,'Elenco Prezzi2'!$A$2:$E$201,3,FALSE()),\"]\")","v":{"$error":"#N/A"}},{"$f":"IF(T663=\"s\",V664,SUBTOTAL(9,I659:I663))","v":{"$error":"#REF!"}},null,{"$f":"VLOOKUP(B659,'Elenco Prezzi2'!$A$2:$E$201,5,FALSE)","v":{"$error":"#N/A"}},null,null,null,null,null,null,{"$f":"IFERROR(I663*K663,\"\")","v":""},null,"s",null,null,null,{"$f":"R663","v":""},2,0,null,"",{"$f":"ROWS($AC$4:AC663)","v":660},"",{"$f":"IFERROR(SMALL($AD$4:$AD$1642,ROWS($AD$4:AD663)),\"\")","v":""},null,{"$f":"IFERROR(INDEX($A$4:$R$1642,$AE663,COLUMNS($A:$B)),\"\")","v":""},{"$f":"IFERROR(INDEX($A$4:$R$1642,$AE663,COLUMNS($A:$C)),\"\")","v":""},{"$f":"IFERROR(INDEX($A$4:$R$1642,$AE663,COLUMNS($A:$R)),\"\")","v":""},null,null,null,null,null,null,null,null,82]
[null,null,null,null,null,null,null,{"$f":"IF(I664<0,\"a detrarre\",\"\")","v":""},{"$f":"SUMIF(I659:I662,\"<0\")","v":0},null,null,null,null,null,null,null,null,null,{"$f":"R663","v":""},null,null,{"$f":"VLOOKUP(B659,#REF!,4,FALSE)","v":{"$error":"#REF!"}},null,null,2,0,null,"",{"$f":"ROWS($AC$4:AC664)","v":661},"",{"$f":"IFERROR(SMALL($AD$4:$AD$1642,ROWS($AD$4:AD664)),\"\")","v":""},null,{"$f":"IFERROR(INDEX($A$4:$R$1642,$AE664,COLUMNS($A:$B)),\"\")","v":""},{"$f":"IFERROR(INDEX($A$4:$R$1642,$AE664,COLUMNS($A:$C)),\"\")","v":""},{"$f":"IFERROR(INDEX($A$4:$R$1642,$AE664,COLUMNS($A:$R)),\"\")","v":""},null,null,null,null,null,null,null,null,82]
[null,null,null,null,null,null,null,null,null,null,null,null,null,null,null,null,null,null,null,null,null,null,null,null,2,0,null,"",{"$f":"ROWS($AC$4:AC665)","v":662},"",{"$f":"IFERROR(SMALL($AD$4:$AD$1642,ROWS($AD$4:AD665)),\"\")","v":""},null,{"$f":"IFERROR(INDEX($A$4:$R$1642,$AE665,COLUMNS($A:$B)),\"\")","v":""},{"$f":"IFERROR(INDEX($A$4:$R$1642,$AE665,COLUMNS($A:$C)),\"\")","v":""},{"$f":"IFERROR(INDEX($A$4:$R$1642,$AE665,COLUMNS($A:$R)),\"\")","v":""},null,null,null,null,null,null,null,null,82]
[null,null,null,null,null,null,null,null,null,null,null,null,null,null,null,null,null,null,null,null,null,null,null,null,2,0,null,"",{"$f":"ROWS($AC$4:AC666)","v":663},"",{"$f":"IFERROR(SMALL($AD$4:$AD$1642,ROWS($AD$4:AD666)),\"\")","v":""},null,{"$f":"IFERROR(INDEX($A$4:$R$1642,$AE666,COLUMNS($A:$B)),\"\")","v":""},{"$f":"IFERROR(INDEX($A$4:$R$1642,$AE666,COLUMNS($A:$C)),\"\")","v":""},{"$f":"IFERROR(INDEX($A$4:$R$1642,$AE666,COLUMNS($A:$R)),\"\")","v":""},null,null,null,null,null,null,null,null,82]
[{"$f":"AR667","v":83},null,{"$f":"(VLOOKUP($B667,'Elenco Prezzi2'!$A$2:$E$201,2,FALSE))","v":{"$error":"#N/A"}},null,null,null,null,null,null,null,null,null,null,null,null,null,null,null,null,null,null,null,null,null,2,0,null,"",{"$f":"ROWS($AC$4:AC667)","v":664},"",{"$f":"IFERROR(SMALL($AD$4:$AD$1642,ROWS($AD$4:AD667)),\"\")","v":""},null,{"$f":"IFERROR(INDEX($A$4:$R$1642,$AE667,COLUMNS($A:$B)),\"\")","v":""},{"$f":"IFERROR(INDEX($A$4:$R$1642,$AE667,COLUMNS($A:$C)),\"\")","v":""},{"$f":"IFERROR(INDEX($A$4:$R$1642,$AE667,COLUMNS($A:$R)),\"\")","v":""},null,null,null,null,null,null,null,1,83]
[null,null,null,{"$f":"CONCATENATE(AK668&AL668&AM668&AN668)","v":""},null,null,null,null,{"$f":"IFERROR(IF(PRODUCT(E668:H668)=0,\"\",PRODUCT(E668:H668)),\"\")","v":""},{"$f":"I668","v":""},null,{"$f":"IF(E668>0,\" (p/u) \"&Modulo2.GetFormula(E668),\"\")","v":""},{"$f":"IF(F668>0,\" (lu) \"&Modulo2.GetFormula(F668),\"\")","v":""},{"$f":"IF(G668>0,\" (la) \"&Modulo2.GetFormula(G668),\"\")","v":""},{"$f":"IF(H668>0,\" (H) \"&Modulo2.GetFormula(H668),\"\")","v":""},null,null,null,null,null,null,null,null,null,2,0,null,"",{"$f":"ROWS($AC$4:AC668)","v":665},"",{"$f":"IFERROR(SMALL($AD$4:$AD$1642,ROWS($AD$4:AD668)),\"\")","v":""},null,{"$f":"IFERROR(INDEX($A$4:$R$1642,$AE668,COLUMNS($A:$B)),\"\")","v":""},{"$f":"IFERROR(INDEX($A$4:$R$1642,$AE668,COLUMNS($A:$C)),\"\")","v":""},{"$f":"IFERROR(INDEX($A$4:$R$1642,$AE668,COLUMNS($A:$R)),\"\")","v":""},null,{"$f":"IFERROR(IF(SEARCH(\"=\",L668),L668,\"\"),\"\")","v":""},{"$f":"IFERROR(IF(SEARCH(\"=\",M668),M668,\"\"),\"\")","v":""},{"$f":"IFERROR(IF(SEARCH(\"=\",N668),N668,\"\"),\"\")","v":""},{"$f":"IFERROR(IF(SEARCH(\"=\",O668),O668,\"\"),\"\")","v":""},null,null,null,83]
[null,null,null,"",null,null,null,null,"","",null,{"$f":"IF(E669>0,\" (p/u) \"&Modulo2.GetFormula(E669),\"\")","v":""},{"$f":"IF(F669>0,\" (lu) \"&Modulo2.GetFormula(F669),\"\")","v":""},{"$f":"IF(G669>0,\" (la) \"&Modulo2.GetFormula(G669),\"\")","v":""},{"$f":"IF(H669>0,\" (H) \"&Modulo2.GetFormula(H669),\"\")","v":""},null,null,null,null,null,null,null,null,null,2,0,null,"",{"$f":"ROWS($AC$4:AC669)","v":666},"",{"$f":"IFERROR(SMALL($AD$4:$AD$1642,ROWS($AD$4:AD669)),\"\")","v":""},null,{"$f":"IFERROR(INDEX($A$4:$R$1642,$AE669,COLUMNS($A:$B)),\"\")","v":""},{"$f":"IFERROR(INDEX($A$4:$R$1642,$AE669,COLUMNS($A:$C)),\"\")","v":""},{"$f":"IFERROR(INDEX($A$4:$R$1642,$AE669,COLUMNS($A:$R)),\"\")","v":""},null,"","","","",null,null,null,83]
[null,null,null,"",null,null,null,null,"","",null,{"$f":"IF(E670>0,\" (p/u) \"&Modulo2.GetFormula(E670),\"\")","v":""},{"$f":"IF(F670>0,\" (lu) \"&Modulo2.GetFormula(F670),\"\")","v":""},{"$f":"IF(G670>0,\" (la) \"&Modulo2.GetFormula(G670),\"\")","v":""},{"$f":"IF(H670>0,\" (H) \"&Modulo2.GetFormula(H670),\"\")","v":""},null,null,null,null,null,null,null,null,null,2,0,null,"",{"$f":"ROWS($AC$4:AC670)","v":667},"",{"$f":"IFERROR(SMALL($AD$4:$AD$1642,ROWS($AD$4:AD670)),\"\")","v":""},null,{"$f":"IFERROR(INDEX($A$4:$R$1642,$AE670,COLUMNS($A:$B)),\"\")","v":""},{"$f":"IFERROR(INDEX($A$4:$R$1642,$AE670,COLUMNS($A:$C)),\"\")","v":""},{"$f":"IFERROR(INDEX($A$4:$R$1642,$AE670,COLUMNS($A:$R)),\"\")","v":""},null,"","","","",null,null,null,83]
[null,null,null,null,null,null,null,{"$f":"CONCATENATE(\"SOMMANO [\",VLOOKUP(B667,'Elenco Prezzi2'!$A$2:$E$201,3,FALSE()),\"]\")","v":{"$error":"#N/A"}},{"$f":"IF(T671=\"s\",V672,SUBTOTAL(9,I667:I671))","v":{"$error":"#REF!"}},null,{"$f":"VLOOKUP(B667,'Elenco Prezzi2'!$A$2:$E$201,5,FALSE)","v":{"$error":"#N/A"}},null,null,null,null,null,null,{"$f":"IFERROR(I671*K671,\"\")","v":""},null,"s",null,null,null,{"$f":"R671","v":""},2,0,null,"",{"$f":"ROWS($AC$4:AC671)","v":668},"",{"$f":"IFERROR(SMALL($AD$4:$AD$1642,ROWS($AD$4:AD671)),\"\")","v":""},null,{"$f":"IFERROR(INDEX($A$4:$R$1642,$AE671,COLUMNS($A:$B)),\"\")","v":""},{"$f":"IFERROR(INDEX($A$4:$R$1642,$AE671,COLUMNS($A:$C)),\"\")","v":""},{"$f":"IFERROR(INDEX($A$4:$R$1642,$AE671,COLUMNS($A:$R)),\"\")","v":""},null,null,null,null,null,null,null,null,83]
[null,null,null,null,null,null,null,{"$f":"IF(I672<0,\"a detrarre\",\"\")","v":""},{"$f":"SUMIF(I667:I670,\"<0\")","v":0},null,null,null,null,null,null,null,null,null,{"$f":"R671","v":""},null,null,{"$f":"VLOOKUP(B667,#REF!,4,FALSE)","v":{"$error":"#REF!"}},null,null,2,0,null,"",{"$f":"ROWS($AC$4:AC672)","v":669},"",{"$f":"IFERROR(SMALL($AD$4:$AD$1642,ROWS($AD$4:AD672)),\"\")","v":""},null,{"$f":"IFERROR(INDEX($A$4:$R$1642,$AE672,COLUMNS($A:$B)),\"\")","v":""},{"$f":"IFERROR(INDEX($A$4:$R$1642,$AE672,COLUMNS($A:$C)),\"\")","v":""},{"$f":"IFERROR(INDEX($A$4:$R$1642,$AE672,COLUMNS($A:$R)),\"\")","v":""},null,null,null,null,null,null,null,null,83]
[null,null,null,null,null,null,null,null,null,null,null,null,null,null,null,null,null,null,null,null,null,null,null,null,2,0,null,"",{"$f":"ROWS($AC$4:AC673)","v":670},"",{"$f":"IFERROR(SMALL($AD$4:$AD$1642,ROWS($AD$4:AD673)),\"\")","v":""},null,{"$f":"IFERROR(INDEX($A$4:$R$1642,$AE673,COLUMNS($A:$B)),\"\")","v":""},{"$f":"IFERROR(INDEX($A$4:$R$1642,$AE673,COLUMNS($A:$C)),\"\")","v":""},{"$f":"IFERROR(INDEX($A$4:$R$1642,$AE673,COLUMNS($A:$R)),\"\")","v":""},null,null,null,null,null,null,null,null,83]
[null,null,null,null,null,null,null,null,null,null,null,null,null,null,null,null,null,null,null,null,null,null,null,null,2,0,null,"",{"$f":"ROWS($AC$4:AC674)","v":671},"",{"$f":"IFERROR(SMALL($AD$4:$AD$1642,ROWS($AD$4:AD674)),\"\")","v":""},null,{"$f":"IFERROR(INDEX($A$4:$R$1642,$AE674,COLUMNS($A:$B)),\"\")","v":""},{"$f":"IFERROR(INDEX($A$4:$R$1642,$AE674,COLUMNS($A:$C)),\"\")","v":""},{"$f":"IFERROR(INDEX($A$4:$R$1642,$AE674,COLUMNS($A:$R)),\"\")","v":""},null,null,null,null,null,null,null,null,83]
[{"$f":"AR675","v":84},null,{"$f":"(VLOOKUP($B675,'Elenco Prezzi2'!$A$2:$E$201,2,FALSE))","v":{"$error":"#N/A"}},null,null,null,null,null,null,null,null,null,null,null,null,null,null,null,null,null,null,null,null,null,2,0,null,{"$f":"IF(W675>0,\"OK\",\"\")","v":""},{"$f":"ROWS($AC$4:AC675)","v":672},{"$f":"IF(AB675=\"ok\",AC675,\"\")","v":""},{"$f":"IFERROR(SMALL($AD$4:$AD$1642,ROWS($AD$4:AD675)),\"\")","v":""},null,{"$f":"IFERROR(INDEX($A$4:$R$1642,$AE675,COLUMNS($A:$B)),\"\")","v":""},{"$f":"IFERROR(INDEX($A$4:$R$1642,$AE675,COLUMNS($A:$C)),\"\")","v":""},{"$f":"IFERROR(INDEX($A$4:$R$1642,$AE675,COLUMNS($A:$R)),\"\")","v":""},null,null,null,null,null,null,null,1,{"$f":"IF(AQ675=\"\",AR674,AR674+AQ675)","v":84}]
[null,null,null,{"$f":"CONCATENATE(AK676&AL676&AM676&AN676)","v":""},null,null,null,null,{"$f":"IFERROR(IF(PRODUCT(E676:H676)=0,\"\",PRODUCT(E676:H676)),\"\")","v":""},{"$f":"I676","v":""},null,{"$f":"IF(E676>0,\" (p/u) \"&Modulo2.GetFormula(E676),\"\")","v":""},{"$f":"IF(F676>0,\" (lu) \"&Modulo2.GetFormula(F676),\"\")","v":""},{"$f":"IF(G676>0,\" (la) \"&Modulo2.GetFormula(G676),\"\")","v":""},{"$f":"IF(H676>0,\" (H) \"&Modulo2.GetFormula(H676),\"\")","v":""},null,null,null,null,null,null,null,null,null,{"$f":"IF(AO676=\"\",Y675,Y675+AO676)","v":2},{"$f":"IF(AP676=\"\",Z675,Z675+AP676)","v":0},null,"",{"$f":"ROWS($AC$4:AC676)","v":673},"",{"$f":"IFERROR(SMALL($AD$4:$AD$1642,ROWS($AD$4:AD676)),\"\")","v":""},null,{"$f":"IFERROR(INDEX($A$4:$R$1642,$AE676,COLUMNS($A:$B)),\"\")","v":""},{"$f":"IFERROR(INDEX($A$4:$R$1642,$AE676,COLUMNS($A:$C)),\"\")","v":""},{"$f":"IFERROR(INDEX($A$4:$R$1642,$AE676,COLUMNS($A:$R)),\"\")","v":""},null,{"$f":"IFERROR(IF(SEARCH(\"=\",L676),L676,\"\"),\"\")","v":""},{"$f":"IFERROR(IF(SEARCH(\"=\",M676),M676,\"\"),\"\")","v":""},{"$f":"IFERROR(IF(SEARCH(\"=\",N676),N676,\"\"),\"\")","v":""},{"$f":"IFERROR(IF(SEARCH(\"=\",O676),O676,\"\"),\"\")","v":""},null,null,null,84]
[null,null,null,"",null,null,null,null,"","",null,{"$f":"IF(E677>0,\" (p/u) \"&Modulo2.GetFormula(E677),\"\")","v":""},{"$f":"IF(F677>0,\" (lu) \"&Modulo2.GetFormula(F677),\"\")","v":""},{"$f":"IF(G677>0,\" (la) \"&Modulo2.GetFormula(G677),\"\")","v":""},{"$f":"IF(H677>0,\" (H) \"&Modulo2.GetFormula(H677),\"\")","v":""},null,null,null,null,null,null,null,null,null,2,0,null,"",{"$f":"ROWS($AC$4:AC677)","v":674},"",{"$f":"IFERROR(SMALL($AD$4:$AD$1642,ROWS($AD$4:AD677)),\"\")","v":""},null,{"$f":"IFERROR(INDEX($A$4:$R$1642,$AE677,COLUMNS($A:$B)),\"\")","v":""},{"$f":"IFERROR(INDEX($A$4:$R$1642,$AE677,COLUMNS($A:$C)),\"\")","v":""},{"$f":"IFERROR(INDEX($A$4:$R$1642,$AE677,COLUMNS($A:$R)),\"\")","v":""},null,"","","","",null,null,null,84]
[null,null,null,"",null,null,null,null,"","",null,{"$f":"IF(E678>0,\" (p/u) \"&Modulo2.GetFormula(E678),\"\")","v":""},{"$f":"IF(F678>0,\" (lu) \"&Modulo2.GetFormula(F678),\"\")","v":""},{"$f":"IF(G678>0,\" (la) \"&Modulo2.GetFormula(G678),\"\")","v":""},{"$f":"IF(H678>0,\" (H) \"&Modulo2.GetFormula(H678),\"\")","v":""},null,null,null,null,null,null,null,null,null,2,0,null,"",{"$f":"ROWS($AC$4:AC678)","v":675},"",{"$f":"IFERROR(SMALL($AD$4:$AD$1642,ROWS($AD$4:AD678)),\"\")","v":""},null,{"$f":"IFERROR(INDEX($A$4:$R$1642,$AE678,COLUMNS($A:$B)),\"\")","v":""},{"$f":"IFERROR(INDEX($A$4:$R$1642,$AE678,COLUMNS($A:$C)),\"\")","v":""},{"$f":"IFERROR(INDEX($A$4:$R$1642,$AE678,COLUMNS($A:$R)),\"\")","v":""},null,"","","","",null,null,null,84]
[null,null,null,null,null,null,null,{"$f":"CONCATENATE(\"SOMMANO [\",VLOOKUP(B675,'Elenco Prezzi2'!$A$2:$E$201,3,FALSE()),\"]\")","v":{"$error":"#N/A"}},{"$f":"IF(T679=\"s\",V680,SUBTOTAL(9,I675:I679))","v":{"$error":"#REF!"}},null,{"$f":"VLOOKUP(B675,'Elenco Prezzi2'!$A$2:$E$201,5,FALSE)","v":{"$error":"#N/A"}},null,null,null,null,null,null,{"$f":"IFERROR(I679*K679,\"\")","v":""},null,"s",null,null,null,{"$f":"R679","v":""},2,0,null,"",{"$f":"ROWS($AC$4:AC679)","v":676},"",{"$f":"IFERROR(SMALL($AD$4:$AD$1642,ROWS($AD$4:AD679)),\"\")","v":""},null,{"$f":"IFERROR(INDEX($A$4:$R$1642,$AE679,COLUMNS($A:$B)),\"\")","v":""},{"$f":"IFERROR(INDEX($A$4:$R$1642,$AE679,COLUMNS($A:$C)),\"\")","v":""},{"$f":"IFERROR(INDEX($A$4:$R$1642,$AE679,COLUMNS($A:$R)),\"\")","v":""},null,null,null,null,null,null,null,null,84]
[null,null,null,null,null,null,null,{"$f":"IF(I680<0,\"a detrarre\",\"\")","v":""},{"$f":"SUMIF(I675:I678,\"<0\")","v":0},null,null,null,null,null,null,null,null,null,{"$f":"R679","v":""},null,null,{"$f":"VLOOKUP(B675,#REF!,4,FALSE)","v":{"$error":"#REF!"}},null,null,2,0,null,"",{"$f":"ROWS($AC$4:AC680)","v":677},"",{"$f":"IFERROR(SMALL($AD$4:$AD$1642,ROWS($AD$4:AD680)),\"\")","v":""},null,{"$f":"IFERROR(INDEX($A$4:$R$1642,$AE680,COLUMNS($A:$B)),\"\")","v":""},{"$f":"IFERROR(INDEX($A$4:$R$1642,$AE680,COLUMNS($A:$C)),\"\")","v":""},{"$f":"IFERROR(INDEX($A$4:$R$1642,$AE680,COLUMNS($A:$R)),\"\")","v":""},null,null,null,null,null,null,null,null,84]
[null,null,null,null,null,null,null,null,null,null,null,null,null,null,null,null,null,null,null,null,null,null,null,null,2,0,null,"",{"$f":"ROWS($AC$4:AC681)","v":678},"",{"$f":"IFERROR(SMALL($AD$4:$AD$1642,ROWS($AD$4:AD681)),\"\")","v":""},null,{"$f":"IFERROR(INDEX($A$4:$R$1642,$AE681,COLUMNS($A:$B)),\"\")","v":""},{"$f":"IFERROR(INDEX($A$4:$R$1642,$AE681,COLUMNS($A:$C)),\"\")","v":""},{"$f":"IFERROR(INDEX($A$4:$R$1642,$AE681,COLUMNS($A:$R)),\"\")","v":""},null,null,null,null,null,null,null,null,84]
[null,null,null,null,null,null,null,null,null,null,null,null,null,null,null,null,null,null,null,null,null,null,null,null,2,0,null,"",{"$f":"ROWS($AC$4:AC682)","v":679},"",{"$f":"IFERROR(SMALL($AD$4:$AD$1642,ROWS($AD$4:AD682)),\"\")","v":""},null,{"$f":"IFERROR(INDEX($A$4:$R$1642,$AE682,COLUMNS($A:$B)),\"\")","v":""},{"$f":"IFERROR(INDEX($A$4:$R$1642,$AE682,COLUMNS($A:$C)),\"\")","v":""},{"$f":"IFERROR(INDEX($A$4:$R$1642,$AE682,COLUMNS($A:$R)),\"\")","v":""},null,null,null,null,null,null,null,null,84]
[{"$f":"AR683","v":85},null,{"$f":"(VLOOKUP($B683,'Elenco Prezzi2'!$A$2:$E$201,2,FALSE))","v":{"$error":"#N/A"}},null,null,null,null,null,null,null,null,null,null,null,null,null,null,null,null,null,null,null,null,null,2,0,null,"",{"$f":"ROWS($AC$4:AC683)","v":680},"",{"$f":"IFERROR(SMALL($AD$4:$AD$1642,ROWS($AD$4:AD683)),\"\")","v":""},null,{"$f":"IFERROR(INDEX($A$4:$R$1642,$AE683,COLUMNS($A:$B)),\"\")","v":""},{"$f":"IFERROR(INDEX($A$4:$R$1642,$AE683,COLUMNS($A:$C)),\"\")","v":""},{"$f":"IFERROR(INDEX($A$4:$R$1642,$AE683,COLUMNS($A:$R)),\"\")","v":""},null,null,null,null,null,null,null,1,85]
[null,null,null,{"$f":"CONCATENATE(AK684&AL684&AM684&AN684)","v":""},null,null,null,null,{"$f":"IFERROR(IF(PRODUCT(E684:H684)=0,\"\",PRODUCT(E684:H684)),\"\")","v":""},{"$f":"I684","v":""},null,{"$f":"IF(E684>0,\" (p/u) \"&Modulo2.GetFormula(E684),\"\")","v":""},{"$f":"IF(F684>0,\" (lu) \"&Modulo2.GetFormula(F684),\"\")","v":""},{"$f":"IF(G684>0,\" (la) \"&Modulo2.GetFormula(G684),\"\")","v":""},{"$f":"IF(H684>0,\" (H) \"&Modulo2.GetFormula(H684),\"\")","v":""},null,null,null,null,null,null,null,null,null,2,0,null,"",{"$f":"ROWS($AC$4:AC684)","v":681},"",{"$f":"IFERROR(SMALL($AD$4:$AD$1642,ROWS($AD$4:AD684)),\"\")","v":""},null,{"$f":"IFERROR(INDEX($A$4:$R$1642,$AE684,COLUMNS($A:$B)),\"\")","v":""},{"$f":"IFERROR(INDEX($A$4:$R$1642,$AE684,COLUMNS($A:$C)),\"\")","v":""},{"$f":"IFERROR(INDEX($A$4:$R$1642,$AE684,COLUMNS($A:$R)),\"\")","v":""},null,{"$f":"IFERROR(IF(SEARCH(\"=\",L684),L684,\"\"),\"\")","v":""},{"$f":"IFERROR(IF(SEARCH(\"=\",M684),M684,\"\"),\"\")","v":""},{"$f":"IFERROR(IF(SEARCH(\"=\",N684),N684,\"\"),\"\")","v":""},{"$f":"IFERROR(IF(SEARCH(\"=\",O684),O684,\"\"),\"\")","v":""},null,null,null,85]
[null,null,null,"",null,null,null,null,"","",null,{"$f":"IF(E685>0,\" (p/u) \"&Modulo2.GetFormula(E685),\"\")","v":""},{"$f":"IF(F685>0,\" (lu) \"&Modulo2.GetFormula(F685),\"\")","v":""},{"$f":"IF(G685>0,\" (la) \"&Modulo2.GetFormula(G685),\"\")","v":""},{"$f":"IF(H685>0,\" (H) \"&Modulo2.GetFormula(H685),\"\")","v":""},null,null,null,null,null,null,null,null,null,2,0,null,"",{"$f":"ROWS($AC$4:AC685)","v":682},"",{"$f":"IFERROR(SMALL($AD$4:$AD$1642,ROWS($AD$4:AD685)),\"\")","v":""},null,{"$f":"IFERROR(INDEX($A$4:$R$1642,$AE685,COLUMNS($A:$B)),\"\")","v":""},{"$f":"IFERROR(INDEX($A$4:$R$1642,$AE685,COLUMNS($A:$C)),\"\")","v":""},{"$f":"IFERROR(INDEX($A$4:$R$1642,$AE685,COLUMNS($A:$R)),\"\")","v":""},null,"","","","",null,null,null,85]
[null,null,null,"",null,null,null,null,"","",null,{"$f":"IF(E686>0,\" (p/u) \"&Modulo2.GetFormula(E686),\"\")","v":""},{"$f":"IF(F686>0,\" (lu) \"&Modulo2.GetFormula(F686),\"\")","v":""},{"$f":"IF(G686>0,\" (la) \"&Modulo2.GetFormula(G686),\"\")","v":""},{"$f":"IF(H686>0,\" (H) \"&Modulo2.GetFormula(H686),\"\")","v":""},null,null,null,null,null,null,null,null,null,2,0,null,"",{"$f":"ROWS($AC$4:AC686)","v":683},"",{"$f":"IFERROR(SMALL($AD$4:$AD$1642,ROWS($AD$4:AD686)),\"\")","v":""},null,{"$f":"IFERROR(INDEX($A$4:$R$1642,$AE686,COLUMNS($A:$B)),\"\")","v":""},{"$f":"IFERROR(INDEX($A$4:$R$1642,$AE686,COLUMNS($A:$C)),\"\")","v":""},{"$f":"IFERROR(INDEX($A$4:$R$1642,$AE686,COLUMNS($A:$R)),\"\")","v":""},null,"","","","",null,null,null,85]
[null,null,null,null,null,null,null,{"$f":"CONCATENATE(\"SOMMANO [\",VLOOKUP(B683,'Elenco Prezzi2'!$A$2:$E$201,3,FALSE()),\"]\")","v":{"$error":"#N/A"}},{"$f":"IF(T687=\"s\",V688,SUBTOTAL(9,I683:I687))","v":{"$error":"#REF!"}},null,{"$f":"VLOOKUP(B683,'Elenco Prezzi2'!$A$2:$E$201,5,FALSE)","v":{"$error":"#N/A"}},null,null,null,null,null,null,{"$f":"IFERROR(I687*K687,\"\")","v":""},null,"s",null,null,null,{"$f":"R687","v":""},2,0,null,"",{"$f":"ROWS($AC$4:AC687)","v":684},"",{"$f":"IFERROR(SMALL($AD$4:$AD$1642,ROWS($AD$4:AD687)),\"\")","v":""},null,{"$f":"IFERROR(INDEX($A$4:$R$1642,$AE687,COLUMNS($A:$B)),\"\")","v":""},{"$f":"IFERROR(INDEX($A$4:$R$1642,$AE687,COLUMNS($A:$C)),\"\")","v":""},{"$f":"IFERROR(INDEX($A$4:$R$1642,$AE687,COLUMNS($A:$R)),\"\")","v":""},null,null,null,null,null,null,null,null,85]
[null,null,null,null,null,null,null,{"$f":"IF(I688<0,\"a detrarre\",\"\")","v":""},{"$f":"SUMIF(I683:I686,\"<0\")","v":0},null,null,null,null,null,null,null,null,null,{"$f":"R687","v":""},null,null,{"$f":"VLOOKUP(B683,#REF!,4,FALSE)","v":{"$error":"#REF!"}},null,null,2,0,null,"",{"$f":"ROWS($AC$4:AC688)","v":685},"",{"$f":"IFERROR(SMALL($AD$4:$AD$1642,ROWS($AD$4:AD688)),\"\")","v":""},null,{"$f":"IFERROR(INDEX($A$4:$R$1642,$AE688,COLUMNS($A:$B)),\"\")","v":""},{"$f":"IFERROR(INDEX($A$4:$R$1642,$AE688,COLUMNS($A:$C)),\"\")","v":""},{"$f":"IFERROR(INDEX($A$4:$R$1642,$AE688,COLUMNS($A:$R)),\"\")","v":""},null,null,null,null,null,null,null,null,85]
[null,null,null,null,null,null,null,null,null,null,null,null,null,null,null,null,null,null,null,null,null,null,null,null,2,0,null,"",{"$f":"ROWS($AC$4:AC689)","v":686},"",{"$f":"IFERROR(SMALL($AD$4:$AD$1642,ROWS($AD$4:AD689)),\"\")","v":""},null,{"$f":"IFERROR(INDEX($A$4:$R$1642,$AE689,COLUMNS($A:$B)),\"\")","v":""},{"$f":"IFERROR(INDEX($A$4:$R$1642,$AE689,COLUMNS($A:$C)),\"\")","v":""},{"$f":"IFERROR(INDEX($A$4:$R$1642,$AE689,COLUMNS($A:$R)),\"\")","v":""},null,null,null,null,null,null,null,null,85]
[null,null,null,null,null,null,null,null,null,null,null,null,null,null,null,null,null,null,null,null,null,null,null,null,2,0,null,"",{"$f":"ROWS($AC$4:AC690)","v":687},"",{"$f":"IFERROR(SMALL($AD$4:$AD$1642,ROWS($AD$4:AD690)),\"\")","v":""},null,{"$f":"IFERROR(INDEX($A$4:$R$1642,$AE690,COLUMNS($A:$B)),\"\")","v":""},{"$f":"IFERROR(INDEX($A$4:$R$1642,$AE690,COLUMNS($A:$C)),\"\")","v":""},{"$f":"IFERROR(INDEX($A$4:$R$1642,$AE690,COLUMNS($A:$R)),\"\")","v":""},null,null,null,null,null,null,null,null,85]
[{"$f":"AR691","v":86},null,{"$f":"(VLOOKUP($B691,'Elenco Prezzi2'!$A$2:$E$201,2,FALSE))","v":{"$error":"#N/A"}},null,null,null,null,null,null,null,null,null,null,null,null,null,null,null,null,null,null,null,null,null,2,0,null,"",{"$f":"ROWS($AC$4:AC691)","v":688},"",{"$f":"IFERROR(SMALL($AD$4:$AD$1642,ROWS($AD$4:AD691)),\"\")","v":""},null,{"$f":"IFERROR(INDEX($A$4:$R$1642,$AE691,COLUMNS($A:$B)),\"\")","v":""},{"$f":"IFERROR(INDEX($A$4:$R$1642,$AE691,COLUMNS($A:$C)),\"\")","v":""},{"$f":"IFERROR(INDEX($A$4:$R$1642,$AE691,COLUMNS($A:$R)),\"\")","v":""},null,null,null,null,null,null,null,1,86]
[null,null,null,{"$f":"CONCATENATE(AK692&AL692&AM692&AN692)","v":""},null,null,null,null,{"$f":"IFERROR(IF(PRODUCT(E692:H692)=0,\"\",PRODUCT(E692:H692)),\"\")","v":""},{"$f":"I692","v":""},null,{"$f":"IF(E692>0,\" (p/u) \"&Modulo2.GetFormula(E692),\"\")","v":""},{"$f":"IF(F692>0,\" (lu) \"&Modulo2.GetFormula(F692),\"\")","v":""},{"$f":"IF(G692>0,\" (la) \"&Modulo2.GetFormula(G692),\"\")","v":""},{"$f":"IF(H692>0,\" (H) \"&Modulo2.GetFormula(H692),\"\")","v":""},null,null,null,null,null,null,null,null,null,2,0,null,"",{"$f":"ROWS($AC$4:AC692)","v":689},"",{"$f":"IFERROR(SMALL($AD$4:$AD$1642,ROWS($AD$4:AD692)),\"\")","v":""},null,{"$f":"IFERROR(INDEX($A$4:$R$1642,$AE692,COLUMNS($A:$B)),\"\")","v":""},{"$f":"IFERROR(INDEX($A$4:$R$1642,$AE692,COLUMNS($A:$C)),\"\")","v":""},{"$f":"IFERROR(INDEX($A$4:$R$1642,$AE692,COLUMNS($A:$R)),\"\")","v":""},null,{"$f":"IFERROR(IF(SEARCH(\"=\",L692),L692,\"\"),\"\")","v":""},{"$f":"IFERROR(IF(SEARCH(\"=\",M692),M692,\"\"),\"\")","v":""},{"$f":"IFERROR(IF(SEARCH(\"=\",N692),N692,\"\"),\"\")","v":""},{"$f":"IFERROR(IF(SEARCH(\"=\",O692),O692,\"\"),\"\")","v":""},null,null,null,86]
[null,null,null,"",null,null,null,null,"","",null,{"$f":"IF(E693>0,\" (p/u) \"&Modulo2.GetFormula(E693),\"\")","v":""},{"$f":"IF(F693>0,\" (lu) \"&Modulo2.GetFormula(F693),\"\")","v":""},{"$f":"IF(G693>0,\" (la) \"&Modulo2.GetFormula(G693),\"\")","v":""},{"$f":"IF(H693>0,\" (H) \"&Modulo2.GetFormula(H693),\"\")","v":""},null,null,null,null,null,null,null,null,null,2,0,null,"",{"$f":"ROWS($AC$4:AC693)","v":690},"",{"$f":"IFERROR(SMALL($AD$4:$AD$1642,ROWS($AD$4:AD693)),\"\")","v":""},null,{"$f":"IFERROR(INDEX($A$4:$R$1642,$AE693,COLUMNS($A:$B)),\"\")","v":""},{"$f":"IFERROR(INDEX($A$4:$R$1642,$AE693,COLUMNS($A:$C)),\"\")","v":""},{"$f":"IFERROR(INDEX($A$4:$R$1642,$AE693,COLUMNS($A:$R)),\"\")","v":""},null,"","","","",null,null,null,86]
[null,null,null,"",null,null,null,null,"","",null,{"$f":"IF(E694>0,\" (p/u) \"&Modulo2.GetFormula(E694),\"\")","v":""},{"$f":"IF(F694>0,\" (lu) \"&Modulo2.GetFormula(F694),\"\")","v":""},{"$f":"IF(G694>0,\" (la) \"&Modulo2.GetFormula(G694),\"\")","v":""},{"$f":"IF(H694>0,\" (H) \"&Modulo2.GetFormula(H694),\"\")","v":""},null,null,null,null,null,null,null,null,null,2,0,null,"",{"$f":"ROWS($AC$4:AC694)","v":691},"",{"$f":"IFERROR(SMALL($AD$4:$AD$1642,ROWS($AD$4:AD694)),\"\")","v":""},null,{"$f":"IFERROR(INDEX($A$4:$R$1642,$AE694,COLUMNS($A:$B)),\"\")","v":""},{"$f":"IFERROR(INDEX($A$4:$R$1642,$AE694,COLUMNS($A:$C)),\"\")","v":""},{"$f":"IFERROR(INDEX($A$4:$R$1642,$AE694,COLUMNS($A:$R)),\"\")","v":""},null,"","","","",null,null,null,86]
[null,null,null,null,null,null,null,{"$f":"CONCATENATE(\"SOMMANO [\",VLOOKUP(B691,'Elenco Prezzi2'!$A$2:$E$201,3,FALSE()),\"]\")","v":{"$error":"#N/A"}},{"$f":"IF(T695=\"s\",V696,SUBTOTAL(9,I691:I695))","v":{"$error":"#REF!"}},null,{"$f":"VLOOKUP(B691,'Elenco Prezzi2'!$A$2:$E$201,5,FALSE)","v":{"$error":"#N/A"}},null,null,null,null,null,null,{"$f":"IFERROR(I695*K695,\"\")","v":""},null,"s",null,null,null,{"$f":"R695","v":""},2,0,null,"",{"$f":"ROWS($AC$4:AC695)","v":692},"",{"$f":"IFERROR(SMALL($AD$4:$AD$1642,ROWS($AD$4:AD695)),\"\")","v":""},null,{"$f":"IFERROR(INDEX($A$4:$R$1642,$AE695,COLUMNS($A:$B)),\"\")","v":""},{"$f":"IFERROR(INDEX($A$4:$R$1642,$AE695,COLUMNS($A:$C)),\"\")","v":""},{"$f":"IFERROR(INDEX($A$4:$R$1642,$AE695,COLUMNS($A:$R)),\"\")","v":""},null,null,null,null,null,null,null,null,86]
[null,null,null,null,null,null,null,{"$f":"IF(I696<0,\"a detrarre\",\"\")","v":""},{"$f":"SUMIF(I691:I694,\"<0\")","v":0},null,null,null,null,null,null,null,null,null,{"$f":"R695","v":""},null,null,{"$f":"VLOOKUP(B691,#REF!,4,FALSE)","v":{"$error":"#REF!"}},null,null,2,0,null,"",{"$f":"ROWS($AC$4:AC696)","v":693},"",{"$f":"IFERROR(SMALL($AD$4:$AD$1642,ROWS($AD$4:AD696)),\"\")","v":""},null,{"$f":"IFERROR(INDEX($A$4:$R$1642,$AE696,COLUMNS($A:$B)),\"\")","v":""},{"$f":"IFERROR(INDEX($A$4:$R$1642,$AE696,COLUMNS($A:$C)),\"\")","v":""},{"$f":"IFERROR(INDEX($A$4:$R$1642,$AE696,COLUMNS($A:$R)),\"\")","v":""},null,null,null,null,null,null,null,null,86]
[null,null,null,null,null,null,null,null,null,null,null,null,null,null,null,null,null,null,null,null,null,null,null,null,2,0,null,"",{"$f":"ROWS($AC$4:AC697)","v":694},"",{"$f":"IFERROR(SMALL($AD$4:$AD$1642,ROWS($AD$4:AD697)),\"\")","v":""},null,{"$f":"IFERROR(INDEX($A$4:$R$1642,$AE697,COLUMNS($A:$B)),\"\")","v":""},{"$f":"IFERROR(INDEX($A$4:$R$1642,$AE697,COLUMNS($A:$C)),\"\")","v":""},{"$f":"IFERROR(INDEX($A$4:$R$1642,$AE697,COLUMNS($A:$R)),\"\")","v":""},null,null,null,null,null,null,null,null,86]
[null,null,null,null,null,null,null,null,null,null,null,null,null,null,null,null,null,null,null,null,null,null,null,null,2,0,null,"",{"$f":"ROWS($AC$4:AC698)","v":695},"",{"$f":"IFERROR(SMALL($AD$4:$AD$1642,ROWS($AD$4:AD698)),\"\")","v":""},null,{"$f":"IFERROR(INDEX($A$4:$R$1642,$AE698,COLUMNS($A:$B)),\"\")","v":""},{"$f":"IFERROR(INDEX($A$4:$R$1642,$AE698,COLUMNS($A:$C)),\"\")","v":""},{"$f":"IFERROR(INDEX($A$4:$R$1642,$AE698,COLUMNS($A:$R)),\"\")","v":""},null,null,null,null,null,null,null,null,86]
[{"$f":"AR699","v":87},null,{"$f":"(VLOOKUP($B699,'Elenco Prezzi2'!$A$2:$E$201,2,FALSE))","v":{"$error":"#N/A"}},null,null,null,null,null,null,null,null,null,null,null,null,null,null,null,null,null,null,null,null,null,2,0,null,"",{"$f":"ROWS($AC$4:AC699)","v":696},"",{"$f":"IFERROR(SMALL($AD$4:$AD$1642,ROWS($AD$4:AD699)),\"\")","v":""},null,{"$f":"IFERROR(INDEX($A$4:$R$1642,$AE699,COLUMNS($A:$B)),\"\")","v":""},{"$f":"IFERROR(INDEX($A$4:$R$1642,$AE699,COLUMNS($A:$C)),\"\")","v":""},{"$f":"IFERROR(INDEX($A$4:$R$1642,$AE699,COLUMNS($A:$R)),\"\")","v":""},null,null,null,null,null,null,null,1,87]
[null,null,null,{"$f":"CONCATENATE(AK700&AL700&AM700&AN700)","v":""},null,null,null,null,{"$f":"IFERROR(IF(PRODUCT(E700:H700)=0,\"\",PRODUCT(E700:H700)),\"\")","v":""},{"$f":"I700","v":""},null,{"$f":"IF(E700>0,\" (p/u) \"&Modulo2.GetFormula(E700),\"\")","v":""},{"$f":"IF(F700>0,\" (lu) \"&Modulo2.GetFormula(F700),\"\")","v":""},{"$f":"IF(G700>0,\" (la) \"&Modulo2.GetFormula(G700),\"\")","v":""},{"$f":"IF(H700>0,\" (H) \"&Modulo2.GetFormula(H700),\"\")","v":""},null,null,null,null,null,null,null,null,null,2,0,null,"",{"$f":"ROWS($AC$4:AC700)","v":697},"",{"$f":"IFERROR(SMALL($AD$4:$AD$1642,ROWS($AD$4:AD700)),\"\")","v":""},null,{"$f":"IFERROR(INDEX($A$4:$R$1642,$AE700,COLUMNS($A:$B)),\"\")","v":""},{"$f":"IFERROR(INDEX($A$4:$R$1642,$AE700,COLUMNS($A:$C)),\"\")","v":""},{"$f":"IFERROR(INDEX($A$4:$R$1642,$AE700,COLUMNS($A:$R)),\"\")","v":""},null,{"$f":"IFERROR(IF(SEARCH(\"=\",L700),L700,\"\"),\"\")","v":""},{"$f":"IFERROR(IF(SEARCH(\"=\",M700),M700,\"\"),\"\")","v":""},{"$f":"IFERROR(IF(SEARCH(\"=\",N700),N700,\"\"),\"\")","v":""},{"$f":"IFERROR(IF(SEARCH(\"=\",O700),O700,\"\"),\"\")","v":""},null,null,null,87]
[null,null,null,"",null,null,null,null,"","",null,{"$f":"IF(E701>0,\" (p/u) \"&Modulo2.GetFormula(E701),\"\")","v":""},{"$f":"IF(F701>0,\" (lu) \"&Modulo2.GetFormula(F701),\"\")","v":""},{"$f":"IF(G701>0,\" (la) \"&Modulo2.GetFormula(G701),\"\")","v":""},{"$f":"IF(H701>0,\" (H) \"&Modulo2.GetFormula(H701),\"\")","v":""},null,null,null,null,null,null,null,null,null,2,0,null,"",{"$f":"ROWS($AC$4:AC701)","v":698},"",{"$f":"IFERROR(SMALL($AD$4:$AD$1642,ROWS($AD$4:AD701)),\"\")","v":""},null,{"$f":"IFERROR(INDEX($A$4:$R$1642,$AE701,COLUMNS($A:$B)),\"\")","v":""},{"$f":"IFERROR(INDEX($A$4:$R$1642,$AE701,COLUMNS($A:$C)),\"\")","v":""},{"$f":"IFERROR(INDEX($A$4:$R$1642,$AE701,COLUMNS($A:$R)),\"\")","v":""},null,"","","","",null,null,null,87]
[null,null,null,"",null,null,null,null,"","",null,{"$f":"IF(E702>0,\" (p/u) \"&Modulo2.GetFormula(E702),\"\")","v":""},{"$f":"IF(F702>0,\" (lu) \"&Modulo2.GetFormula(F702),\"\")","v":""},{"$f":"IF(G702>0,\" (la) \"&Modulo2.GetFormula(G702),\"\")","v":""},{"$f":"IF(H702>0,\" (H) \"&Modulo2.GetFormula(H702),\"\")","v":""},null,null,null,null,null,null,null,null,null,2,0,null,"",{"$f":"ROWS($AC$4:AC702)","v":699},"",{"$f":"IFERROR(SMALL($AD$4:$AD$1642,ROWS($AD$4:AD702)),\"\")","v":""},null,{"$f":"IFERROR(INDEX($A$4:$R$1642,$AE702,COLUMNS($A:$B)),\"\")","v":""},{"$f":"IFERROR(INDEX($A$4:$R$1642,$AE702,COLUMNS($A:$C)),\"\")","v":""},{"$f":"IFERROR(INDEX($A$4:$R$1642,$AE702,COLUMNS($A:$R)),\"\")","v":""},null,"","","","",null,null,null,87]
[null,null,null,null,null,null,null,{"$f":"CONCATENATE(\"SOMMANO [\",VLOOKUP(B699,'Elenco Prezzi2'!$A$2:$E$201,3,FALSE()),\"]\")","v":{"$error":"#N/A"}},{"$f":"IF(T703=\"s\",V704,SUBTOTAL(9,I699:I703))","v":{"$error":"#REF!"}},null,{"$f":"VLOOKUP(B699,'Elenco Prezzi2'!$A$2:$E$201,5,FALSE)","v":{"$error":"#N/A"}},null,null,null,null,null,null,{"$f":"IFERROR(I703*K703,\"\")","v":""},null,"s",null,null,null,{"$f":"R703","v":""},2,0,null,"",{"$f":"ROWS($AC$4:AC703)","v":700},"",{"$f":"IFERROR(SMALL($AD$4:$AD$1642,ROWS($AD$4:AD703)),\"\")","v":""},null,{"$f":"IFERROR(INDEX($A$4:$R$1642,$AE703,COLUMNS($A:$B)),\"\")","v":""},{"$f":"IFERROR(INDEX($A$4:$R$1642,$AE703,COLUMNS($A:$C)),\"\")","v":""},{"$f":"IFERROR(INDEX($A$4:$R$1642,$AE703,COLUMNS($A:$R)),\"\")","v":""},null,null,null,null,null,null,null,null,87]
[null,null,null,null,null,null,null,{"$f":"IF(I704<0,\"a detrarre\",\"\")","v":""},{"$f":"SUMIF(I699:I702,\"<0\")","v":0},null,null,null,null,null,null,null,null,null,{"$f":"R703","v":""},null,null,{"$f":"VLOOKUP(B699,#REF!,4,FALSE)","v":{"$error":"#REF!"}},null,null,2,0,null,"",{"$f":"ROWS($AC$4:AC704)","v":701},"",{"$f":"IFERROR(SMALL($AD$4:$AD$1642,ROWS($AD$4:AD704)),\"\")","v":""},null,{"$f":"IFERROR(INDEX($A$4:$R$1642,$AE704,COLUMNS($A:$B)),\"\")","v":""},{"$f":"IFERROR(INDEX($A$4:$R$1642,$AE704,COLUMNS($A:$C)),\"\")","v":""},{"$f":"IFERROR(INDEX($A$4:$R$1642,$AE704,COLUMNS($A:$R)),\"\")","v":""},null,null,null,null,null,null,null,null,87]
[null,null,null,null,null,null,null,null,null,null,null,null,null,null,null,null,null,null,null,null,null,null,null,null,2,0,null,"",{"$f":"ROWS($AC$4:AC705)","v":702},"",{"$f":"IFERROR(SMALL($AD$4:$AD$1642,ROWS($AD$4:AD705)),\"\")","v":""},null,{"$f":"IFERROR(INDEX($A$4:$R$1642,$AE705,COLUMNS($A:$B)),\"\")","v":""},{"$f":"IFERROR(INDEX($A$4:$R$1642,$AE705,COLUMNS($A:$C)),\"\")","v":""},{"$f":"IFERROR(INDEX($A$4:$R$1642,$AE705,COLUMNS($A:$R)),\"\")","v":""},null,null,null,null,null,null,null,null,87]
[null,null,null,null,null,null,null,null,null,null,null,null,null,null,null,null,null,null,null,null,null,null,null,null,2,0,null,"",{"$f":"ROWS($AC$4:AC706)","v":703},"",{"$f":"IFERROR(SMALL($AD$4:$AD$1642,ROWS($AD$4:AD706)),\"\")","v":""},null,{"$f":"IFERROR(INDEX($A$4:$R$1642,$AE706,COLUMNS($A:$B)),\"\")","v":""},{"$f":"IFERROR(INDEX($A$4:$R$1642,$AE706,COLUMNS($A:$C)),\"\")","v":""},{"$f":"IFERROR(INDEX($A$4:$R$1642,$AE706,COLUMNS($A:$R)),\"\")","v":""},null,null,null,null,null,null,null,null,87]
[{"$f":"AR707","v":88},null,{"$f":"(VLOOKUP($B707,'Elenco Prezzi2'!$A$2:$E$201,2,FALSE))","v":{"$error":"#N/A"}},null,null,null,null,null,null,null,null,null,null,null,null,null,null,null,null,null,null,null,null,null,2,0,null,"",{"$f":"ROWS($AC$4:AC707)","v":704},"",{"$f":"IFERROR(SMALL($AD$4:$AD$1642,ROWS($AD$4:AD707)),\"\")","v":""},null,{"$f":"IFERROR(INDEX($A$4:$R$1642,$AE707,COLUMNS($A:$B)),\"\")","v":""},{"$f":"IFERROR(INDEX($A$4:$R$1642,$AE707,COLUMNS($A:$C)),\"\")","v":""},{"$f":"IFERROR(INDEX($A$4:$R$1642,$AE707,COLUMNS($A:$R)),\"\")","v":""},null,null,null,null,null,null,null,1,88]
[null,null,null,{"$f":"CONCATENATE(AK708&AL708&AM708&AN708)","v":""},null,null,null,null,{"$f":"IFERROR(IF(PRODUCT(E708:H708)=0,\"\",PRODUCT(E708:H708)),\"\")","v":""},{"$f":"I708","v":""},null,{"$f":"IF(E708>0,\" (p/u) \"&Modulo2.GetFormula(E708),\"\")","v":""},{"$f":"IF(F708>0,\" (lu) \"&Modulo2.GetFormula(F708),\"\")","v":""},{"$f":"IF(G708>0,\" (la) \"&Modulo2.GetFormula(G708),\"\")","v":""},{"$f":"IF(H708>0,\" (H) \"&Modulo2.GetFormula(H708),\"\")","v":""},null,null,null,null,null,null,null,null,null,2,0,null,"",{"$f":"ROWS($AC$4:AC708)","v":705},"",{"$f":"IFERROR(SMALL($AD$4:$AD$1642,ROWS($AD$4:AD708)),\"\")","v":""},null,{"$f":"IFERROR(INDEX($A$4:$R$1642,$AE708,COLUMNS($A:$B)),\"\")","v":""},{"$f":"IFERROR(INDEX($A$4:$R$1642,$AE708,COLUMNS($A:$C)),\"\")","v":""},{"$f":"IFERROR(INDEX($A$4:$R$1642,$AE708,COLUMNS($A:$R)),\"\")","v":""},null,{"$f":"IFERROR(IF(SEARCH(\"=\",L708),L708,\"\"),\"\")","v":""},{"$f":"IFERROR(IF(SEARCH(\"=\",M708),M708,\"\"),\"\")","v":""},{"$f":"IFERROR(IF(SEARCH(\"=\",N708),N708,\"\"),\"\")","v":""},{"$f":"IFERROR(IF(SEARCH(\"=\",O708),O708,\"\"),\"\")","v":""},null,null,null,88]
[null,null,null,"",null,null,null,null,"","",null,{"$f":"IF(E709>0,\" (p/u) \"&Modulo2.GetFormula(E709),\"\")","v":""},{"$f":"IF(F709>0,\" (lu) \"&Modulo2.GetFormula(F709),\"\")","v":""},{"$f":"IF(G709>0,\" (la) \"&Modulo2.GetFormula(G709),\"\")","v":""},{"$f":"IF(H709>0,\" (H) \"&Modulo2.GetFormula(H709),\"\")","v":""},null,null,null,null,null,null,null,null,null,2,0,null,"",{"$f":"ROWS($AC$4:AC709)","v":706},"",{"$f":"IFERROR(SMALL($AD$4:$AD$1642,ROWS($AD$4:AD709)),\"\")","v":""},null,{"$f":"IFERROR(INDEX($A$4:$R$1642,$AE709,COLUMNS($A:$B)),\"\")","v":""},{"$f":"IFERROR(INDEX($A$4:$R$1642,$AE709,COLUMNS($A:$C)),\"\")","v":""},{"$f":"IFERROR(INDEX($A$4:$R$1642,$AE709,COLUMNS($A:$R)),\"\")","v":""},null,"","","","",null,null,null,88]
[null,null,null,"",null,null,null,null,"","",null,{"$f":"IF(E710>0,\" (p/u) \"&Modulo2.GetFormula(E710),\"\")","v":""},{"$f":"IF(F710>0,\" (lu) \"&Modulo2.GetFormula(F710),\"\")","v":""},{"$f":"IF(G710>0,\" (la) \"&Modulo2.GetFormula(G710),\"\")","v":""},{"$f":"IF(H710>0,\" (H) \"&Modulo2.GetFormula(H710),\"\")","v":""},null,null,null,null,null,null,null,null,null,2,0,null,"",{"$f":"ROWS($AC$4:AC710)","v":707},"",{"$f":"IFERROR(SMALL($AD$4:$AD$1642,ROWS($AD$4:AD710)),\"\")","v":""},null,{"$f":"IFERROR(INDEX($A$4:$R$1642,$AE710,COLUMNS($A:$B)),\"\")","v":""},{"$f":"IFERROR(INDEX($A$4:$R$1642,$AE710,COLUMNS($A:$C)),\"\")","v":""},{"$f":"IFERROR(INDEX($A$4:$R$1642,$AE710,COLUMNS($A:$R)),\"\")","v":""},null,"","","","",null,null,null,88]
[null,null,null,null,null,null,null,{"$f":"CONCATENATE(\"SOMMANO [\",VLOOKUP(B707,'Elenco Prezzi2'!$A$2:$E$201,3,FALSE()),\"]\")","v":{"$error":"#N/A"}},{"$f":"IF(T711=\"s\",V712,SUBTOTAL(9,I707:I711))","v":{"$error":"#REF!"}},null,{"$f":"VLOOKUP(B707,'Elenco Prezzi2'!$A$2:$E$201,5,FALSE)","v":{"$error":"#N/A"}},null,null,null,null,null,null,{"$f":"IFERROR(I711*K711,\"\")","v":""},null,"s",null,null,null,{"$f":"R711","v":""},2,0,null,"",{"$f":"ROWS($AC$4:AC711)","v":708},"",{"$f":"IFERROR(SMALL($AD$4:$AD$1642,ROWS($AD$4:AD711)),\"\")","v":""},null,{"$f":"IFERROR(INDEX($A$4:$R$1642,$AE711,COLUMNS($A:$B)),\"\")","v":""},{"$f":"IFERROR(INDEX($A$4:$R$1642,$AE711,COLUMNS($A:$C)),\"\")","v":""},{"$f":"IFERROR(INDEX($A$4:$R$1642,$AE711,COLUMNS($A:$R)),\"\")","v":""},null,null,null,null,null,null,null,null,88]
[null,null,null,null,null,null,null,{"$f":"IF(I712<0,\"a detrarre\",\"\")","v":""},{"$f":"SUMIF(I707:I710,\"<0\")","v":0},null,null,null,null,null,null,null,null,null,{"$f":"R711","v":""},null,null,{"$f":"VLOOKUP(B707,#REF!,4,FALSE)","v":{"$error":"#REF!"}},null,null,2,0,null,"",{"$f":"ROWS($AC$4:AC712)","v":709},"",{"$f":"IFERROR(SMALL($AD$4:$AD$1642,ROWS($AD$4:AD712)),\"\")","v":""},null,{"$f":"IFERROR(INDEX($A$4:$R$1642,$AE712,COLUMNS($A:$B)),\"\")","v":""},{"$f":"IFERROR(INDEX($A$4:$R$1642,$AE712,COLUMNS($A:$C)),\"\")","v":""},{"$f":"IFERROR(INDEX($A$4:$R$1642,$AE712,COLUMNS($A:$R)),\"\")","v":""},null,null,null,null,null,null,null,null,88]
[null,null,null,null,null,null,null,null,null,null,null,null,null,null,null,null,null,null,null,null,null,null,null,null,2,0,null,"",{"$f":"ROWS($AC$4:AC713)","v":710},"",{"$f":"IFERROR(SMALL($AD$4:$AD$1642,ROWS($AD$4:AD713)),\"\")","v":""},null,{"$f":"IFERROR(INDEX($A$4:$R$1642,$AE713,COLUMNS($A:$B)),\"\")","v":""},{"$f":"IFERROR(INDEX($A$4:$R$1642,$AE713,COLUMNS($A:$C)),\"\")","v":""},{"$f":"IFERROR(INDEX($A$4:$R$1642,$AE713,COLUMNS($A:$R)),\"\")","v":""},null,null,null,null,null,null,null,null,88]
[null,null,null,null,null,null,null,null,null,null,null,null,null,null,null,null,null,null,null,null,null,null,null,null,2,0,null,"",{"$f":"ROWS($AC$4:AC714)","v":711},"",{"$f":"IFERROR(SMALL($AD$4:$AD$1642,ROWS($AD$4:AD714)),\"\")","v":""},null,{"$f":"IFERROR(INDEX($A$4:$R$1642,$AE714,COLUMNS($A:$B)),\"\")","v":""},{"$f":"IFERROR(INDEX($A$4:$R$1642,$AE714,COLUMNS($A:$C)),\"\")","v":""},{"$f":"IFERROR(INDEX($A$4:$R$1642,$AE714,COLUMNS($A:$R)),\"\")","v":""},null,null,null,null,null,null,null,null,88]
[{"$f":"AR715","v":89},null,{"$f":"(VLOOKUP($B715,'Elenco Prezzi2'!$A$2:$E$201,2,FALSE))","v":{"$error":"#N/A"}},null,null,null,null,null,null,null,null,null,null,null,null,null,null,null,null,null,null,null,null,null,2,0,null,"",{"$f":"ROWS($AC$4:AC715)","v":712},"",{"$f":"IFERROR(SMALL($AD$4:$AD$1642,ROWS($AD$4:AD715)),\"\")","v":""},null,{"$f":"IFERROR(INDEX($A$4:$R$1642,$AE715,COLUMNS($A:$B)),\"\")","v":""},{"$f":"IFERROR(INDEX($A$4:$R$1642,$AE715,COLUMNS($A:$C)),\"\")","v":""},{"$f":"IFERROR(INDEX($A$4:$R$1642,$AE715,COLUMNS($A:$R)),\"\")","v":""},null,null,null,null,null,null,null,1,89]
[null,null,null,{"$f":"CONCATENATE(AK716&AL716&AM716&AN716)","v":""},null,null,null,null,{"$f":"IFERROR(IF(PRODUCT(E716:H716)=0,\"\",PRODUCT(E716:H716)),\"\")","v":""},{"$f":"I716","v":""},null,{"$f":"IF(E716>0,\" (p/u) \"&Modulo2.GetFormula(E716),\"\")","v":""},{"$f":"IF(F716>0,\" (lu) \"&Modulo2.GetFormula(F716),\"\")","v":""},{"$f":"IF(G716>0,\" (la) \"&Modulo2.GetFormula(G716),\"\")","v":""},{"$f":"IF(H716>0,\" (H) \"&Modulo2.GetFormula(H716),\"\")","v":""},null,null,null,null,null,null,null,null,null,2,0,null,"",{"$f":"ROWS($AC$4:AC716)","v":713},"",{"$f":"IFERROR(SMALL($AD$4:$AD$1642,ROWS($AD$4:AD716)),\"\")","v":""},null,{"$f":"IFERROR(INDEX($A$4:$R$1642,$AE716,COLUMNS($A:$B)),\"\")","v":""},{"$f":"IFERROR(INDEX($A$4:$R$1642,$AE716,COLUMNS($A:$C)),\"\")","v":""},{"$f":"IFERROR(INDEX($A$4:$R$1642,$AE716,COLUMNS($A:$R)),\"\")","v":""},null,{"$f":"IFERROR(IF(SEARCH(\"=\",L716),L716,\"\"),\"\")","v":""},{"$f":"IFERROR(IF(SEARCH(\"=\",M716),M716,\"\"),\"\")","v":""},{"$f":"IFERROR(IF(SEARCH(\"=\",N716),N716,\"\"),\"\")","v":""},{"$f":"IFERROR(IF(SEARCH(\"=\",O716),O716,\"\"),\"\")","v":""},null,null,null,89]
[null,null,null,"",null,null,null,null,"","",null,{"$f":"IF(E717>0,\" (p/u) \"&Modulo2.GetFormula(E717),\"\")","v":""},{"$f":"IF(F717>0,\" (lu) \"&Modulo2.GetFormula(F717),\"\")","v":""},{"$f":"IF(G717>0,\" (la) \"&Modulo2.GetFormula(G717),\"\")","v":""},{"$f":"IF(H717>0,\" (H) \"&Modulo2.GetFormula(H717),\"\")","v":""},null,null,null,null,null,null,null,null,null,2,0,null,"",{"$f":"ROWS($AC$4:AC717)","v":714},"",{"$f":"IFERROR(SMALL($AD$4:$AD$1642,ROWS($AD$4:AD717)),\"\")","v":""},null,{"$f":"IFERROR(INDEX($A$4:$R$1642,$AE717,COLUMNS($A:$B)),\"\")","v":""},{"$f":"IFERROR(INDEX($A$4:$R$1642,$AE717,COLUMNS($A:$C)),\"\")","v":""},{"$f":"IFERROR(INDEX($A$4:$R$1642,$AE717,COLUMNS($A:$R)),\"\")","v":""},null,"","","","",null,null,null,89]
[null,null,null,"",null,null,null,null,"","",null,{"$f":"IF(E718>0,\" (p/u) \"&Modulo2.GetFormula(E718),\"\")","v":""},{"$f":"IF(F718>0,\" (lu) \"&Modulo2.GetFormula(F718),\"\")","v":""},{"$f":"IF(G718>0,\" (la) \"&Modulo2.GetFormula(G718),\"\")","v":""},{"$f":"IF(H718>0,\" (H) \"&Modulo2.GetFormula(H718),\"\")","v":""},null,null,null,null,null,null,null,null,null,2,0,null,"",{"$f":"ROWS($AC$4:AC718)","v":715},"",{"$f":"IFERROR(SMALL($AD$4:$AD$1642,ROWS($AD$4:AD718)),\"\")","v":""},null,{"$f":"IFERROR(INDEX($A$4:$R$1642,$AE718,COLUMNS($A:$B)),\"\")","v":""},{"$f":"IFERROR(INDEX($A$4:$R$1642,$AE718,COLUMNS($A:$C)),\"\")","v":""},{"$f":"IFERROR(INDEX($A$4:$R$1642,$AE718,COLUMNS($A:$R)),\"\")","v":""},null,"","","","",null,null,null,89]
[null,null,null,null,null,null,null,{"$f":"CONCATENATE(\"SOMMANO [\",VLOOKUP(B715,'Elenco Prezzi2'!$A$2:$E$201,3,FALSE()),\"]\")","v":{"$error":"#N/A"}},{"$f":"IF(T719=\"s\",V720,SUBTOTAL(9,I715:I719))","v":{"$error":"#REF!"}},null,{"$f":"VLOOKUP(B715,'Elenco Prezzi2'!$A$2:$E$201,5,FALSE)","v":{"$error":"#N/A"}},null,null,null,null,null,null,{"$f":"IFERROR(I719*K719,\"\")","v":""},null,"s",null,null,null,{"$f":"R719","v":""},2,0,null,"",{"$f":"ROWS($AC$4:AC719)","v":716},"",{"$f":"IFERROR(SMALL($AD$4:$AD$1642,ROWS($AD$4:AD719)),\"\")","v":""},null,{"$f":"IFERROR(INDEX($A$4:$R$1642,$AE719,COLUMNS($A:$B)),\"\")","v":""},{"$f":"IFERROR(INDEX($A$4:$R$1642,$AE719,COLUMNS($A:$C)),\"\")","v":""},{"$f":"IFERROR(INDEX($A$4:$R$1642,$AE719,COLUMNS($A:$R)),\"\")","v":""},null,null,null,null,null,null,null,null,89]
[null,null,null,null,null,null,null,{"$f":"IF(I720<0,\"a detrarre\",\"\")","v":""},{"$f":"SUMIF(I715:I718,\"<0\")","v":0},null,null,null,null,null,null,null,null,null,{"$f":"R719","v":""},null,null,{"$f":"VLOOKUP(B715,#REF!,4,FALSE)","v":{"$error":"#REF!"}},null,null,2,0,null,"",{"$f":"ROWS($AC$4:AC720)","v":717},"",{"$f":"IFERROR(SMALL($AD$4:$AD$1642,ROWS($AD$4:AD720)),\"\")","v":""},null,{"$f":"IFERROR(INDEX($A$4:$R$1642,$AE720,COLUMNS($A:$B)),\"\")","v":""},{"$f":"IFERROR(INDEX($A$4:$R$1642,$AE720,COLUMNS($A:$C)),\"\")","v":""},{"$f":"IFERROR(INDEX($A$4:$R$1642,$AE720,COLUMNS($A:$R)),\"\")","v":""},null,null,null,null,null,null,null,null,89]
[null,null,null,null,null,null,null,null,null,null,null,null,null,null,null,null,null,null,null,null,null,null,null,null,2,0,null,"",{"$f":"ROWS($AC$4:AC721)","v":718},"",{"$f":"IFERROR(SMALL($AD$4:$AD$1642,ROWS($AD$4:AD721)),\"\")","v":""},null,{"$f":"IFERROR(INDEX($A$4:$R$1642,$AE721,COLUMNS($A:$B)),\"\")","v":""},{"$f":"IFERROR(INDEX($A$4:$R$1642,$AE721,COLUMNS($A:$C)),\"\")","v":""},{"$f":"IFERROR(INDEX($A$4:$R$1642,$AE721,COLUMNS($A:$R)),\"\")","v":""},null,null,null,null,null,null,null,null,89]
[null,null,null,null,null,null,null,null,null,null,null,null,null,null,null,null,null,null,null,null,null,null,null,null,2,0,null,"",{"$f":"ROWS($AC$4:AC722)","v":719},"",{"$f":"IFERROR(SMALL($AD$4:$AD$1642,ROWS($AD$4:AD722)),\"\")","v":""},null,{"$f":"IFERROR(INDEX($A$4:$R$1642,$AE722,COLUMNS($A:$B)),\"\")","v":""},{"$f":"IFERROR(INDEX($A$4:$R$1642,$AE722,COLUMNS($A:$C)),\"\")","v":""},{"$f":"IFERROR(INDEX($A$4:$R$1642,$AE722,COLUMNS($A:$R)),\"\")","v":""},null,null,null,null,null,null,null,null,89]
[{"$f":"AR723","v":90},null,{"$f":"(VLOOKUP($B723,'Elenco Prezzi2'!$A$2:$E$201,2,FALSE))","v":{"$error":"#N/A"}},null,null,null,null,null,null,null,null,null,null,null,null,null,null,null,null,null,null,null,null,null,2,0,null,"",{"$f":"ROWS($AC$4:AC723)","v":720},"",{"$f":"IFERROR(SMALL($AD$4:$AD$1642,ROWS($AD$4:AD723)),\"\")","v":""},null,{"$f":"IFERROR(INDEX($A$4:$R$1642,$AE723,COLUMNS($A:$B)),\"\")","v":""},{"$f":"IFERROR(INDEX($A$4:$R$1642,$AE723,COLUMNS($A:$C)),\"\")","v":""},{"$f":"IFERROR(INDEX($A$4:$R$1642,$AE723,COLUMNS($A:$R)),\"\")","v":""},null,null,null,null,null,null,null,1,90]
[null,null,null,{"$f":"CONCATENATE(AK724&AL724&AM724&AN724)","v":""},null,null,null,null,{"$f":"IFERROR(IF(PRODUCT(E724:H724)=0,\"\",PRODUCT(E724:H724)),\"\")","v":""},{"$f":"I724","v":""},null,{"$f":"IF(E724>0,\" (p/u) \"&Modulo2.GetFormula(E724),\"\")","v":""},{"$f":"IF(F724>0,\" (lu) \"&Modulo2.GetFormula(F724),\"\")","v":""},{"$f":"IF(G724>0,\" (la) \"&Modulo2.GetFormula(G724),\"\")","v":""},{"$f":"IF(H724>0,\" (H) \"&Modulo2.GetFormula(H724),\"\")","v":""},null,null,null,null,null,null,null,null,null,2,0,null,"",{"$f":"ROWS($AC$4:AC724)","v":721},"",{"$f":"IFERROR(SMALL($AD$4:$AD$1642,ROWS($AD$4:AD724)),\"\")","v":""},null,{"$f":"IFERROR(INDEX($A$4:$R$1642,$AE724,COLUMNS($A:$B)),\"\")","v":""},{"$f":"IFERROR(INDEX($A$4:$R$1642,$AE724,COLUMNS($A:$C)),\"\")","v":""},{"$f":"IFERROR(INDEX($A$4:$R$1642,$AE724,COLUMNS($A:$R)),\"\")","v":""},null,{"$f":"IFERROR(IF(SEARCH(\"=\",L724),L724,\"\"),\"\")","v":""},{"$f":"IFERROR(IF(SEARCH(\"=\",M724),M724,\"\"),\"\")","v":""},{"$f":"IFERROR(IF(SEARCH(\"=\",N724),N724,\"\"),\"\")","v":""},{"$f":"IFERROR(IF(SEARCH(\"=\",O724),O724,\"\"),\"\")","v":""},null,null,null,90]
[null,null,null,"",null,null,null,null,"","",null,{"$f":"IF(E725>0,\" (p/u) \"&Modulo2.GetFormula(E725),\"\")","v":""},{"$f":"IF(F725>0,\" (lu) \"&Modulo2.GetFormula(F725),\"\")","v":""},{"$f":"IF(G725>0,\" (la) \"&Modulo2.GetFormula(G725),\"\")","v":""},{"$f":"IF(H725>0,\" (H) \"&Modulo2.GetFormula(H725),\"\")","v":""},null,null,null,null,null,null,null,null,null,2,0,null,"",{"$f":"ROWS($AC$4:AC725)","v":722},"",{"$f":"IFERROR(SMALL($AD$4:$AD$1642,ROWS($AD$4:AD725)),\"\")","v":""},null,{"$f":"IFERROR(INDEX($A$4:$R$1642,$AE725,COLUMNS($A:$B)),\"\")","v":""},{"$f":"IFERROR(INDEX($A$4:$R$1642,$AE725,COLUMNS($A:$C)),\"\")","v":""},{"$f":"IFERROR(INDEX($A$4:$R$1642,$AE725,COLUMNS($A:$R)),\"\")","v":""},null,"","","","",null,null,null,90]
[null,null,null,"",null,null,null,null,"","",null,{"$f":"IF(E726>0,\" (p/u) \"&Modulo2.GetFormula(E726),\"\")","v":""},{"$f":"IF(F726>0,\" (lu) \"&Modulo2.GetFormula(F726),\"\")","v":""},{"$f":"IF(G726>0,\" (la) \"&Modulo2.GetFormula(G726),\"\")","v":""},{"$f":"IF(H726>0,\" (H) \"&Modulo2.GetFormula(H726),\"\")","v":""},null,null,null,null,null,null,null,null,null,2,0,null,"",{"$f":"ROWS($AC$4:AC726)","v":723},"",{"$f":"IFERROR(SMALL($AD$4:$AD$1642,ROWS($AD$4:AD726)),\"\")","v":""},null,{"$f":"IFERROR(INDEX($A$4:$R$1642,$AE726,COLUMNS($A:$B)),\"\")","v":""},{"$f":"IFERROR(INDEX($A$4:$R$1642,$AE726,COLUMNS($A:$C)),\"\")","v":""},{"$f":"IFERROR(INDEX($A$4:$R$1642,$AE726,COLUMNS($A:$R)),\"\")","v":""},null,"","","","",null,null,null,90]
[null,null,null,null,null,null,null,{"$f":"CONCATENATE(\"SOMMANO [\",VLOOKUP(B723,'Elenco Prezzi2'!$A$2:$E$201,3,FALSE()),\"]\")","v":{"$error":"#N/A"}},{"$f":"IF(T727=\"s\",V728,SUBTOTAL(9,I723:I727))","v":{"$error":"#REF!"}},null,{"$f":"VLOOKUP(B723,'Elenco Prezzi2'!$A$2:$E$201,5,FALSE)","v":{"$error":"#N/A"}},null,null,null,null,null,null,{"$f":"IFERROR(I727*K727,\"\")","v":""},null,"s",null,null,null,{"$f":"R727","v":""},2,0,null,"",{"$f":"ROWS($AC$4:AC727)","v":724},"",{"$f":"IFERROR(SMALL($AD$4:$AD$1642,ROWS($AD$4:AD727)),\"\")","v":""},null,{"$f":"IFERROR(INDEX($A$4:$R$1642,$AE727,COLUMNS($A:$B)),\"\")","v":""},{"$f":"IFERROR(INDEX($A$4:$R$1642,$AE727,COLUMNS($A:$C)),\"\")","v":""},{"$f":"IFERROR(INDEX($A$4:$R$1642,$AE727,COLUMNS($A:$R)),\"\")","v":""},null,null,null,null,null,null,null,null,90]
[null,null,null,null,null,null,null,{"$f":"IF(I728<0,\"a detrarre\",\"\")","v":""},{"$f":"SUMIF(I723:I726,\"<0\")","v":0},null,null,null,null,null,null,null,null,null,{"$f":"R727","v":""},null,null,{"$f":"VLOOKUP(B723,#REF!,4,FALSE)","v":{"$error":"#REF!"}},null,null,2,0,null,"",{"$f":"ROWS($AC$4:AC728)","v":725},"",{"$f":"IFERROR(SMALL($AD$4:$AD$1642,ROWS($AD$4:AD728)),\"\")","v":""},null,{"$f":"IFERROR(INDEX($A$4:$R$1642,$AE728,COLUMNS($A:$B)),\"\")","v":""},{"$f":"IFERROR(INDEX($A$4:$R$1642,$AE728,COLUMNS($A:$C)),\"\")","v":""},{"$f":"IFERROR(INDEX($A$4:$R$1642,$AE728,COLUMNS($A:$R)),\"\")","v":""},null,null,null,null,null,null,null,null,90]
[null,null,null,null,null,null,null,null,null,null,null,null,null,null,null,null,null,null,null,null,null,null,null,null,2,0,null,"",{"$f":"ROWS($AC$4:AC729)","v":726},"",{"$f":"IFERROR(SMALL($AD$4:$AD$1642,ROWS($AD$4:AD729)),\"\")","v":""},null,{"$f":"IFERROR(INDEX($A$4:$R$1642,$AE729,COLUMNS($A:$B)),\"\")","v":""},{"$f":"IFERROR(INDEX($A$4:$R$1642,$AE729,COLUMNS($A:$C)),\"\")","v":""},{"$f":"IFERROR(INDEX($A$4:$R$1642,$AE729,COLUMNS($A:$R)),\"\")","v":""},null,null,null,null,null,null,null,null,90]
[null,null,null,null,null,null,null,null,null,null,null,null,null,null,null,null,null,null,null,null,null,null,null,null,2,0,null,"",{"$f":"ROWS($AC$4:AC730)","v":727},"",{"$f":"IFERROR(SMALL($AD$4:$AD$1642,ROWS($AD$4:AD730)),\"\")","v":""},null,{"$f":"IFERROR(INDEX($A$4:$R$1642,$AE730,COLUMNS($A:$B)),\"\")","v":""},{"$f":"IFERROR(INDEX($A$4:$R$1642,$AE730,COLUMNS($A:$C)),\"\")","v":""},{"$f":"IFERROR(INDEX($A$4:$R$1642,$AE730,COLUMNS($A:$R)),\"\")","v":""},null,null,null,null,null,null,null,null,90]
[{"$f":"AR731","v":91},null,{"$f":"(VLOOKUP($B731,'Elenco Prezzi2'!$A$2:$E$201,2,FALSE))","v":{"$error":"#N/A"}},null,null,null,null,null,null,null,null,null,null,null,null,null,null,null,null,null,null,null,null,null,2,0,null,"",{"$f":"ROWS($AC$4:AC731)","v":728},"",{"$f":"IFERROR(SMALL($AD$4:$AD$1642,ROWS($AD$4:AD731)),\"\")","v":""},null,{"$f":"IFERROR(INDEX($A$4:$R$1642,$AE731,COLUMNS($A:$B)),\"\")","v":""},{"$f":"IFERROR(INDEX($A$4:$R$1642,$AE731,COLUMNS($A:$C)),\"\")","v":""},{"$f":"IFERROR(INDEX($A$4:$R$1642,$AE731,COLUMNS($A:$R)),\"\")","v":""},null,null,null,null,null,null,null,1,91]
[null,null,null,{"$f":"CONCATENATE(AK732&AL732&AM732&AN732)","v":""},null,null,null,null,{"$f":"IFERROR(IF(PRODUCT(E732:H732)=0,\"\",PRODUCT(E732:H732)),\"\")","v":""},{"$f":"I732","v":""},null,{"$f":"IF(E732>0,\" (p/u) \"&Modulo2.GetFormula(E732),\"\")","v":""},{"$f":"IF(F732>0,\" (lu) \"&Modulo2.GetFormula(F732),\"\")","v":""},{"$f":"IF(G732>0,\" (la) \"&Modulo2.GetFormula(G732),\"\")","v":""},{"$f":"IF(H732>0,\" (H) \"&Modulo2.GetFormula(H732),\"\")","v":""},null,null,null,null,null,null,null,null,null,2,0,null,"",{"$f":"ROWS($AC$4:AC732)","v":729},"",{"$f":"IFERROR(SMALL($AD$4:$AD$1642,ROWS($AD$4:AD732)),\"\")","v":""},null,{"$f":"IFERROR(INDEX($A$4:$R$1642,$AE732,COLUMNS($A:$B)),\"\")","v":""},{"$f":"IFERROR(INDEX($A$4:$R$1642,$AE732,COLUMNS($A:$C)),\"\")","v":""},{"$f":"IFERROR(INDEX($A$4:$R$1642,$AE732,COLUMNS($A:$R)),\"\")","v":""},null,{"$f":"IFERROR(IF(SEARCH(\"=\",L732),L732,\"\"),\"\")","v":""},{"$f":"IFERROR(IF(SEARCH(\"=\",M732),M732,\"\"),\"\")","v":""},{"$f":"IFERROR(IF(SEARCH(\"=\",N732),N732,\"\"),\"\")","v":""},{"$f":"IFERROR(IF(SEARCH(\"=\",O732),O732,\"\"),\"\")","v":""},null,null,null,91]
[null,null,null,"",null,null,null,null,"","",null,{"$f":"IF(E733>0,\" (p/u) \"&Modulo2.GetFormula(E733),\"\")","v":""},{"$f":"IF(F733>0,\" (lu) \"&Modulo2.GetFormula(F733),\"\")","v":""},{"$f":"IF(G733>0,\" (la) \"&Modulo2.GetFormula(G733),\"\")","v":""},{"$f":"IF(H733>0,\" (H) \"&Modulo2.GetFormula(H733),\"\")","v":""},null,null,null,null,null,null,null,null,null,2,0,null,"",{"$f":"ROWS($AC$4:AC733)","v":730},"",{"$f":"IFERROR(SMALL($AD$4:$AD$1642,ROWS($AD$4:AD733)),\"\")","v":""},null,{"$f":"IFERROR(INDEX($A$4:$R$1642,$AE733,COLUMNS($A:$B)),\"\")","v":""},{"$f":"IFERROR(INDEX($A$4:$R$1642,$AE733,COLUMNS($A:$C)),\"\")","v":""},{"$f":"IFERROR(INDEX($A$4:$R$1642,$AE733,COLUMNS($A:$R)),\"\")","v":""},null,"","","","",null,null,null,91]
[null,null,null,"",null,null,null,null,"","",null,{"$f":"IF(E734>0,\" (p/u) \"&Modulo2.GetFormula(E734),\"\")","v":""},{"$f":"IF(F734>0,\" (lu) \"&Modulo2.GetFormula(F734),\"\")","v":""},{"$f":"IF(G734>0,\" (la) \"&Modulo2.GetFormula(G734),\"\")","v":""},{"$f":"IF(H734>0,\" (H) \"&Modulo2.GetFormula(H734),\"\")","v":""},null,null,null,null,null,null,null,null,null,2,0,null,"",{"$f":"ROWS($AC$4:AC734)","v":731},"",{"$f":"IFERROR(SMALL($AD$4:$AD$1642,ROWS($AD$4:AD734)),\"\")","v":""},null,{"$f":"IFERROR(INDEX($A$4:$R$1642,$AE734,COLUMNS($A:$B)),\"\")","v":""},{"$f":"IFERROR(INDEX($A$4:$R$1642,$AE734,COLUMNS($A:$C)),\"\")","v":""},{"$f":"IFERROR(INDEX($A$4:$R$1642,$AE734,COLUMNS($A:$R)),\"\")","v":""},null,"","","","",null,null,null,91]
[null,null,null,null,null,null,null,{"$f":"CONCATENATE(\"SOMMANO [\",VLOOKUP(B731,'Elenco Prezzi2'!$A$2:$E$201,3,FALSE()),\"]\")","v":{"$error":"#N/A"}},{"$f":"IF(T735=\"s\",V736,SUBTOTAL(9,I731:I735))","v":{"$error":"#REF!"}},null,{"$f":"VLOOKUP(B731,'Elenco Prezzi2'!$A$2:$E$201,5,FALSE)","v":{"$error":"#N/A"}},null,null,null,null,null,null,{"$f":"IFERROR(I735*K735,\"\")","v":""},null,"s",null,null,null,{"$f":"R735","v":""},2,0,null,"",{"$f":"ROWS($AC$4:AC735)","v":732},"",{"$f":"IFERROR(SMALL($AD$4:$AD$1642,ROWS($AD$4:AD735)),\"\")","v":""},null,{"$f":"IFERROR(INDEX($A$4:$R$1642,$AE735,COLUMNS($A:$B)),\"\")","v":""},{"$f":"IFERROR(INDEX($A$4:$R$1642,$AE735,COLUMNS($A:$C)),\"\")","v":""},{"$f":"IFERROR(INDEX($A$4:$R$1642,$AE735,COLUMNS($A:$R)),\"\")","v":""},null,null,null,null,null,null,null,null,91]
[null,null,null,null,null,null,null,{"$f":"IF(I736<0,\"a detrarre\",\"\")","v":""},{"$f":"SUMIF(I731:I734,\"<0\")","v":0},null,null,null,null,null,null,null,null,null,{"$f":"R735","v":""},null,null,{"$f":"VLOOKUP(B731,#REF!,4,FALSE)","v":{"$error":"#REF!"}},null,null,2,0,null,"",{"$f":"ROWS($AC$4:AC736)","v":733},"",{"$f":"IFERROR(SMALL($AD$4:$AD$1642,ROWS($AD$4:AD736)),\"\")","v":""},null,{"$f":"IFERROR(INDEX($A$4:$R$1642,$AE736,COLUMNS($A:$B)),\"\")","v":""},{"$f":"IFERROR(INDEX($A$4:$R$1642,$AE736,COLUMNS($A:$C)),\"\")","v":""},{"$f":"IFERROR(INDEX($A$4:$R$1642,$AE736,COLUMNS($A:$R)),\"\")","v":""},null,null,null,null,null,null,null,null,91]
[null,null,null,null,null,null,null,null,null,null,null,null,null,null,null,null,null,null,null,null,null,null,null,null,2,0,null,"",{"$f":"ROWS($AC$4:AC737)","v":734},"",{"$f":"IFERROR(SMALL($AD$4:$AD$1642,ROWS($AD$4:AD737)),\"\")","v":""},null,{"$f":"IFERROR(INDEX($A$4:$R$1642,$AE737,COLUMNS($A:$B)),\"\")","v":""},{"$f":"IFERROR(INDEX($A$4:$R$1642,$AE737,COLUMNS($A:$C)),\"\")","v":""},{"$f":"IFERROR(INDEX($A$4:$R$1642,$AE737,COLUMNS($A:$R)),\"\")","v":""},null,null,null,null,null,null,null,null,91]
[null,null,null,null,null,null,null,null,null,null,null,null,null,null,null,null,null,null,null,null,null,null,null,null,2,0,null,"",{"$f":"ROWS($AC$4:AC738)","v":735},"",{"$f":"IFERROR(SMALL($AD$4:$AD$1642,ROWS($AD$4:AD738)),\"\")","v":""},null,{"$f":"IFERROR(INDEX($A$4:$R$1642,$AE738,COLUMNS($A:$B)),\"\")","v":""},{"$f":"IFERROR(INDEX($A$4:$R$1642,$AE738,COLUMNS($A:$C)),\"\")","v":""},{"$f":"IFERROR(INDEX($A$4:$R$1642,$AE738,COLUMNS($A:$R)),\"\")","v":""},null,null,null,null,null,null,null,null,91]
[{"$f":"AR739","v":92},null,{"$f":"(VLOOKUP($B739,'Elenco Prezzi2'!$A$2:$E$201,2,FALSE))","v":{"$error":"#N/A"}},null,null,null,null,null,null,null,null,null,null,null,null,null,null,null,null,null,null,null,null,null,2,0,null,{"$f":"IF(W739>0,\"OK\",\"\")","v":""},{"$f":"ROWS($AC$4:AC739)","v":736},{"$f":"IF(AB739=\"ok\",AC739,\"\")","v":""},{"$f":"IFERROR(SMALL($AD$4:$AD$1642,ROWS($AD$4:AD739)),\"\")","v":""},null,{"$f":"IFERROR(INDEX($A$4:$R$1642,$AE739,COLUMNS($A:$B)),\"\")","v":""},{"$f":"IFERROR(INDEX($A$4:$R$1642,$AE739,COLUMNS($A:$C)),\"\")","v":""},{"$f":"IFERROR(INDEX($A$4:$R$1642,$AE739,COLUMNS($A:$R)),\"\")","v":""},null,null,null,null,null,null,null,1,{"$f":"IF(AQ739=\"\",AR738,AR738+AQ739)","v":92}]
[null,null,null,{"$f":"CONCATENATE(AK740&AL740&AM740&AN740)","v":""},null,null,null,null,{"$f":"IFERROR(IF(PRODUCT(E740:H740)=0,\"\",PRODUCT(E740:H740)),\"\")","v":""},{"$f":"I740","v":""},null,{"$f":"IF(E740>0,\" (p/u) \"&Modulo2.GetFormula(E740),\"\")","v":""},{"$f":"IF(F740>0,\" (lu) \"&Modulo2.GetFormula(F740),\"\")","v":""},{"$f":"IF(G740>0,\" (la) \"&Modulo2.GetFormula(G740),\"\")","v":""},{"$f":"IF(H740>0,\" (H) \"&Modulo2.GetFormula(H740),\"\")","v":""},null,null,null,null,null,null,null,null,null,{"$f":"IF(AO740=\"\",Y739,Y739+AO740)","v":2},{"$f":"IF(AP740=\"\",Z739,Z739+AP740)","v":0},null,"",{"$f":"ROWS($AC$4:AC740)","v":737},"",{"$f":"IFERROR(SMALL($AD$4:$AD$1642,ROWS($AD$4:AD740)),\"\")","v":""},null,{"$f":"IFERROR(INDEX($A$4:$R$1642,$AE740,COLUMNS($A:$B)),\"\")","v":""},{"$f":"IFERROR(INDEX($A$4:$R$1642,$AE740,COLUMNS($A:$C)),\"\")","v":""},{"$f":"IFERROR(INDEX($A$4:$R$1642,$AE740,COLUMNS($A:$R)),\"\")","v":""},null,{"$f":"IFERROR(IF(SEARCH(\"=\",L740),L740,\"\"),\"\")","v":""},{"$f":"IFERROR(IF(SEARCH(\"=\",M740),M740,\"\"),\"\")","v":""},{"$f":"IFERROR(IF(SEARCH(\"=\",N740),N740,\"\"),\"\")","v":""},{"$f":"IFERROR(IF(SEARCH(\"=\",O740),O740,\"\"),\"\")","v":""},null,null,null,92]
[null,null,null,"",null,null,null,null,"","",null,{"$f":"IF(E741>0,\" (p/u) \"&Modulo2.GetFormula(E741),\"\")","v":""},{"$f":"IF(F741>0,\" (lu) \"&Modulo2.GetFormula(F741),\"\")","v":""},{"$f":"IF(G741>0,\" (la) \"&Modulo2.GetFormula(G741),\"\")","v":""},{"$f":"IF(H741>0,\" (H) \"&Modulo2.GetFormula(H741),\"\")","v":""},null,null,null,null,null,null,null,null,null,2,0,null,"",{"$f":"ROWS($AC$4:AC741)","v":738},"",{"$f":"IFERROR(SMALL($AD$4:$AD$1642,ROWS($AD$4:AD741)),\"\")","v":""},null,{"$f":"IFERROR(INDEX($A$4:$R$1642,$AE741,COLUMNS($A:$B)),\"\")","v":""},{"$f":"IFERROR(INDEX($A$4:$R$1642,$AE741,COLUMNS($A:$C)),\"\")","v":""},{"$f":"IFERROR(INDEX($A$4:$R$1642,$AE741,COLUMNS($A:$R)),\"\")","v":""},null,"","","","",null,null,null,92]
[null,null,null,"",null,null,null,null,"","",null,{"$f":"IF(E742>0,\" (p/u) \"&Modulo2.GetFormula(E742),\"\")","v":""},{"$f":"IF(F742>0,\" (lu) \"&Modulo2.GetFormula(F742),\"\")","v":""},{"$f":"IF(G742>0,\" (la) \"&Modulo2.GetFormula(G742),\"\")","v":""},{"$f":"IF(H742>0,\" (H) \"&Modulo2.GetFormula(H742),\"\")","v":""},null,null,null,null,null,null,null,null,null,2,0,null,"",{"$f":"ROWS($AC$4:AC742)","v":739},"",{"$f":"IFERROR(SMALL($AD$4:$AD$1642,ROWS($AD$4:AD742)),\"\")","v":""},null,{"$f":"IFERROR(INDEX($A$4:$R$1642,$AE742,COLUMNS($A:$B)),\"\")","v":""},{"$f":"IFERROR(INDEX($A$4:$R$1642,$AE742,COLUMNS($A:$C)),\"\")","v":""},{"$f":"IFERROR(INDEX($A$4:$R$1642,$AE742,COLUMNS($A:$R)),\"\")","v":""},null,"","","","",null,null,null,92]
[null,null,null,null,null,null,null,{"$f":"CONCATENATE(\"SOMMANO [\",VLOOKUP(B739,'Elenco Prezzi2'!$A$2:$E$201,3,FALSE()),\"]\")","v":{"$error":"#N/A"}},{"$f":"IF(T743=\"s\",V744,SUBTOTAL(9,I739:I743))","v":{"$error":"#REF!"}},null,{"$f":"VLOOKUP(B739,'Elenco Prezzi2'!$A$2:$E$201,5,FALSE)","v":{"$error":"#N/A"}},null,null,null,null,null,null,{"$f":"IFERROR(I743*K743,\"\")","v":""},null,"s",null,null,null,{"$f":"R743","v":""},2,0,null,"",{"$f":"ROWS($AC$4:AC743)","v":740},"",{"$f":"IFERROR(SMALL($AD$4:$AD$1642,ROWS($AD$4:AD743)),\"\")","v":""},null,{"$f":"IFERROR(INDEX($A$4:$R$1642,$AE743,COLUMNS($A:$B)),\"\")","v":""},{"$f":"IFERROR(INDEX($A$4:$R$1642,$AE743,COLUMNS($A:$C)),\"\")","v":""},{"$f":"IFERROR(INDEX($A$4:$R$1642,$AE743,COLUMNS($A:$R)),\"\")","v":""},null,null,null,null,null,null,null,null,92]
[null,null,null,null,null,null,null,{"$f":"IF(I744<0,\"a detrarre\",\"\")","v":""},{"$f":"SUMIF(I739:I742,\"<0\")","v":0},null,null,null,null,null,null,null,null,null,{"$f":"R743","v":""},null,null,{"$f":"VLOOKUP(B739,#REF!,4,FALSE)","v":{"$error":"#REF!"}},null,null,2,0,null,"",{"$f":"ROWS($AC$4:AC744)","v":741},"",{"$f":"IFERROR(SMALL($AD$4:$AD$1642,ROWS($AD$4:AD744)),\"\")","v":""},null,{"$f":"IFERROR(INDEX($A$4:$R$1642,$AE744,COLUMNS($A:$B)),\"\")","v":""},{"$f":"IFERROR(INDEX($A$4:$R$1642,$AE744,COLUMNS($A:$C)),\"\")","v":""},{"$f":"IFERROR(INDEX($A$4:$R$1642,$AE744,COLUMNS($A:$R)),\"\")","v":""},null,null,null,null,null,null,null,null,92]
[null,null,null,null,null,null,null,null,null,null,null,null,null,null,null,null,null,null,null,null,null,null,null,null,2,0,null,"",{"$f":"ROWS($AC$4:AC745)","v":742},"",{"$f":"IFERROR(SMALL($AD$4:$AD$1642,ROWS($AD$4:AD745)),\"\")","v":""},null,{"$f":"IFERROR(INDEX($A$4:$R$1642,$AE745,COLUMNS($A:$B)),\"\")","v":""},{"$f":"IFERROR(INDEX($A$4:$R$1642,$AE745,COLUMNS($A:$C)),\"\")","v":""},{"$f":"IFERROR(INDEX($A$4:$R$1642,$AE745,COLUMNS($A:$R)),\"\")","v":""},null,null,null,null,null,null,null,null,92]
[null,null,null,null,null,null,null,null,null,null,null,null,null,null,null,null,null,null,null,null,null,null,null,null,2,0,null,"",{"$f":"ROWS($AC$4:AC746)","v":743},"",{"$f":"IFERROR(SMALL($AD$4:$AD$1642,ROWS($AD$4:AD746)),\"\")","v":""},null,{"$f":"IFERROR(INDEX($A$4:$R$1642,$AE746,COLUMNS($A:$B)),\"\")","v":""},{"$f":"IFERROR(INDEX($A$4:$R$1642,$AE746,COLUMNS($A:$C)),\"\")","v":""},{"$f":"IFERROR(INDEX($A$4:$R$1642,$AE746,COLUMNS($A:$R)),\"\")","v":""},null,null,null,null,null,null,null,null,92]
[{"$f":"AR747","v":93},null,{"$f":"(VLOOKUP($B747,'Elenco Prezzi2'!$A$2:$E$201,2,FALSE))","v":{"$error":"#N/A"}},null,null,null,null,null,null,null,null,null,null,null,null,null,null,null,null,null,null,null,null,null,2,0,null,"",{"$f":"ROWS($AC$4:AC747)","v":744},"",{"$f":"IFERROR(SMALL($AD$4:$AD$1642,ROWS($AD$4:AD747)),\"\")","v":""},null,{"$f":"IFERROR(INDEX($A$4:$R$1642,$AE747,COLUMNS($A:$B)),\"\")","v":""},{"$f":"IFERROR(INDEX($A$4:$R$1642,$AE747,COLUMNS($A:$C)),\"\")","v":""},{"$f":"IFERROR(INDEX($A$4:$R$1642,$AE747,COLUMNS($A:$R)),\"\")","v":""},null,null,null,null,null,null,null,1,93]
[null,null,null,{"$f":"CONCATENATE(AK748&AL748&AM748&AN748)","v":""},null,null,null,null,{"$f":"IFERROR(IF(PRODUCT(E748:H748)=0,\"\",PRODUCT(E748:H748)),\"\")","v":""},{"$f":"I748","v":""},null,{"$f":"IF(E748>0,\" (p/u) \"&Modulo2.GetFormula(E748),\"\")","v":""},{"$f":"IF(F748>0,\" (lu) \"&Modulo2.GetFormula(F748),\"\")","v":""},{"$f":"IF(G748>0,\" (la) \"&Modulo2.GetFormula(G748),\"\")","v":""},{"$f":"IF(H748>0,\" (H) \"&Modulo2.GetFormula(H748),\"\")","v":""},null,null,null,null,null,null,null,null,null,2,0,null,"",{"$f":"ROWS($AC$4:AC748)","v":745},"",{"$f":"IFERROR(SMALL($AD$4:$AD$1642,ROWS($AD$4:AD748)),\"\")","v":""},null,{"$f":"IFERROR(INDEX($A$4:$R$1642,$AE748,COLUMNS($A:$B)),\"\")","v":""},{"$f":"IFERROR(INDEX($A$4:$R$1642,$AE748,COLUMNS($A:$C)),\"\")","v":""},{"$f":"IFERROR(INDEX($A$4:$R$1642,$AE748,COLUMNS($A:$R)),\"\")","v":""},null,{"$f":"IFERROR(IF(SEARCH(\"=\",L748),L748,\"\"),\"\")","v":""},{"$f":"IFERROR(IF(SEARCH(\"=\",M748),M748,\"\"),\"\")","v":""},{"$f":"IFERROR(IF(SEARCH(\"=\",N748),N748,\"\"),\"\")","v":""},{"$f":"IFERROR(IF(SEARCH(\"=\",O748),O748,\"\"),\"\")","v":""},null,null,null,93]
[null,null,null,"",null,null,null,null,"","",null,{"$f":"IF(E749>0,\" (p/u) \"&Modulo2.GetFormula(E749),\"\")","v":""},{"$f":"IF(F749>0,\" (lu) \"&Modulo2.GetFormula(F749),\"\")","v":""},{"$f":"IF(G749>0,\" (la) \"&Modulo2.GetFormula(G749),\"\")","v":""},{"$f":"IF(H749>0,\" (H) \"&Modulo2.GetFormula(H749),\"\")","v":""},null,null,null,null,null,null,null,null,null,2,0,null,"",{"$f":"ROWS($AC$4:AC749)","v":746},"",{"$f":"IFERROR(SMALL($AD$4:$AD$1642,ROWS($AD$4:AD749)),\"\")","v":""},null,{"$f":"IFERROR(INDEX($A$4:$R$1642,$AE749,COLUMNS($A:$B)),\"\")","v":""},{"$f":"IFERROR(INDEX($A$4:$R$1642,$AE749,COLUMNS($A:$C)),\"\")","v":""},{"$f":"IFERROR(INDEX($A$4:$R$1642,$AE749,COLUMNS($A:$R)),\"\")","v":""},null,"","","","",null,null,null,93]
[null,null,null,"",null,null,null,null,"","",null,{"$f":"IF(E750>0,\" (p/u) \"&Modulo2.GetFormula(E750),\"\")","v":""},{"$f":"IF(F750>0,\" (lu) \"&Modulo2.GetFormula(F750),\"\")","v":""},{"$f":"IF(G750>0,\" (la) \"&Modulo2.GetFormula(G750),\"\")","v":""},{"$f":"IF(H750>0,\" (H) \"&Modulo2.GetFormula(H750),\"\")","v":""},null,null,null,null,null,null,null,null,null,2,0,null,"",{"$f":"ROWS($AC$4:AC750)","v":747},"",{"$f":"IFERROR(SMALL($AD$4:$AD$1642,ROWS($AD$4:AD750)),\"\")","v":""},null,{"$f":"IFERROR(INDEX($A$4:$R$1642,$AE750,COLUMNS($A:$B)),\"\")","v":""},{"$f":"IFERROR(INDEX($A$4:$R$1642,$AE750,COLUMNS($A:$C)),\"\")","v":""},{"$f":"IFERROR(INDEX($A$4:$R$1642,$AE750,COLUMNS($A:$R)),\"\")","v":""},null,"","","","",null,null,null,93]
[null,null,null,null,null,null,null,{"$f":"CONCATENATE(\"SOMMANO [\",VLOOKUP(B747,'Elenco Prezzi2'!$A$2:$E$201,3,FALSE()),\"]\")","v":{"$error":"#N/A"}},{"$f":"IF(T751=\"s\",V752,SUBTOTAL(9,I747:I751))","v":{"$error":"#REF!"}},null,{"$f":"VLOOKUP(B747,'Elenco Prezzi2'!$A$2:$E$201,5,FALSE)","v":{"$error":"#N/A"}},null,null,null,null,null,null,{"$f":"IFERROR(I751*K751,\"\")","v":""},null,"s",null,null,null,{"$f":"R751","v":""},2,0,null,"",{"$f":"ROWS($AC$4:AC751)","v":748},"",{"$f":"IFERROR(SMALL($AD$4:$AD$1642,ROWS($AD$4:AD751)),\"\")","v":""},null,{"$f":"IFERROR(INDEX($A$4:$R$1642,$AE751,COLUMNS($A:$B)),\"\")","v":""},{"$f":"IFERROR(INDEX($A$4:$R$1642,$AE751,COLUMNS($A:$C)),\"\")","v":""},{"$f":"IFERROR(INDEX($A$4:$R$1642,$AE751,COLUMNS($A:$R)),\"\")","v":""},null,null,null,null,null,null,null,null,93]
[null,null,null,null,null,null,null,{"$f":"IF(I752<0,\"a detrarre\",\"\")","v":""},{"$f":"SUMIF(I747:I750,\"<0\")","v":0},null,null,null,null,null,null,null,null,null,{"$f":"R751","v":""},null,null,{"$f":"VLOOKUP(B747,#REF!,4,FALSE)","v":{"$error":"#REF!"}},null,null,2,0,null,"",{"$f":"ROWS($AC$4:AC752)","v":749},"",{"$f":"IFERROR(SMALL($AD$4:$AD$1642,ROWS($AD$4:AD752)),\"\")","v":""},null,{"$f":"IFERROR(INDEX($A$4:$R$1642,$AE752,COLUMNS($A:$B)),\"\")","v":""},{"$f":"IFERROR(INDEX($A$4:$R$1642,$AE752,COLUMNS($A:$C)),\"\")","v":""},{"$f":"IFERROR(INDEX($A$4:$R$1642,$AE752,COLUMNS($A:$R)),\"\")","v":""},null,null,null,null,null,null,null,null,93]
[null,null,null,null,null,null,null,null,null,null,null,null,null,null,null,null,null,null,null,null,null,null,null,null,2,0,null,"",{"$f":"ROWS($AC$4:AC753)","v":750},"",{"$f":"IFERROR(SMALL($AD$4:$AD$1642,ROWS($AD$4:AD753)),\"\")","v":""},null,{"$f":"IFERROR(INDEX($A$4:$R$1642,$AE753,COLUMNS($A:$B)),\"\")","v":""},{"$f":"IFERROR(INDEX($A$4:$R$1642,$AE753,COLUMNS($A:$C)),\"\")","v":""},{"$f":"IFERROR(INDEX($A$4:$R$1642,$AE753,COLUMNS($A:$R)),\"\")","v":""},null,null,null,null,null,null,null,null,93]
[null,null,null,null,null,null,null,null,null,null,null,null,null,null,null,null,null,null,null,null,null,null,null,null,2,0,null,"",{"$f":"ROWS($AC$4:AC754)","v":751},"",{"$f":"IFERROR(SMALL($AD$4:$AD$1642,ROWS($AD$4:AD754)),\"\")","v":""},null,{"$f":"IFERROR(INDEX($A$4:$R$1642,$AE754,COLUMNS($A:$B)),\"\")","v":""},{"$f":"IFERROR(INDEX($A$4:$R$1642,$AE754,COLUMNS($A:$C)),\"\")","v":""},{"$f":"IFERROR(INDEX($A$4:$R$1642,$AE754,COLUMNS($A:$R)),\"\")","v":""},null,null,null,null,null,null,null,null,93]
[{"$f":"AR755","v":94},null,{"$f":"(VLOOKUP($B755,'Elenco Prezzi2'!$A$2:$E$201,2,FALSE))","v":{"$error":"#N/A"}},null,null,null,null,null,null,null,null,null,null,null,null,null,null,null,null,null,null,null,null,null,2,0,null,"",{"$f":"ROWS($AC$4:AC755)","v":752},"",{"$f":"IFERROR(SMALL($AD$4:$AD$1642,ROWS($AD$4:AD755)),\"\")","v":""},null,{"$f":"IFERROR(INDEX($A$4:$R$1642,$AE755,COLUMNS($A:$B)),\"\")","v":""},{"$f":"IFERROR(INDEX($A$4:$R$1642,$AE755,COLUMNS($A:$C)),\"\")","v":""},{"$f":"IFERROR(INDEX($A$4:$R$1642,$AE755,COLUMNS($A:$R)),\"\")","v":""},null,null,null,null,null,null,null,1,94]
[null,null,null,{"$f":"CONCATENATE(AK756&AL756&AM756&AN756)","v":""},null,null,null,null,{"$f":"IFERROR(IF(PRODUCT(E756:H756)=0,\"\",PRODUCT(E756:H756)),\"\")","v":""},{"$f":"I756","v":""},null,{"$f":"IF(E756>0,\" (p/u) \"&Modulo2.GetFormula(E756),\"\")","v":""},{"$f":"IF(F756>0,\" (lu) \"&Modulo2.GetFormula(F756),\"\")","v":""},{"$f":"IF(G756>0,\" (la) \"&Modulo2.GetFormula(G756),\"\")","v":""},{"$f":"IF(H756>0,\" (H) \"&Modulo2.GetFormula(H756),\"\")","v":""},null,null,null,null,null,null,null,null,null,2,0,null,"",{"$f":"ROWS($AC$4:AC756)","v":753},"",{"$f":"IFERROR(SMALL($AD$4:$AD$1642,ROWS($AD$4:AD756)),\"\")","v":""},null,{"$f":"IFERROR(INDEX($A$4:$R$1642,$AE756,COLUMNS($A:$B)),\"\")","v":""},{"$f":"IFERROR(INDEX($A$4:$R$1642,$AE756,COLUMNS($A:$C)),\"\")","v":""},{"$f":"IFERROR(INDEX($A$4:$R$1642,$AE756,COLUMNS($A:$R)),\"\")","v":""},null,{"$f":"IFERROR(IF(SEARCH(\"=\",L756),L756,\"\"),\"\")","v":""},{"$f":"IFERROR(IF(SEARCH(\"=\",M756),M756,\"\"),\"\")","v":""},{"$f":"IFERROR(IF(SEARCH(\"=\",N756),N756,\"\"),\"\")","v":""},{"$f":"IFERROR(IF(SEARCH(\"=\",O756),O756,\"\"),\"\")","v":""},null,null,null,94]
[null,null,null,"",null,null,null,null,"","",null,{"$f":"IF(E757>0,\" (p/u) \"&Modulo2.GetFormula(E757),\"\")","v":""},{"$f":"IF(F757>0,\" (lu) \"&Modulo2.GetFormula(F757),\"\")","v":""},{"$f":"IF(G757>0,\" (la) \"&Modulo2.GetFormula(G757),\"\")","v":""},{"$f":"IF(H757>0,\" (H) \"&Modulo2.GetFormula(H757),\"\")","v":""},null,null,null,null,null,null,null,null,null,2,0,null,"",{"$f":"ROWS($AC$4:AC757)","v":754},"",{"$f":"IFERROR(SMALL($AD$4:$AD$1642,ROWS($AD$4:AD757)),\"\")","v":""},null,{"$f":"IFERROR(INDEX($A$4:$R$1642,$AE757,COLUMNS($A:$B)),\"\")","v":""},{"$f":"IFERROR(INDEX($A$4:$R$1642,$AE757,COLUMNS($A:$C)),\"\")","v":""},{"$f":"IFERROR(INDEX($A$4:$R$1642,$AE757,COLUMNS($A:$R)),\"\")","v":""},null,"","","","",null,null,null,94]
[null,null,null,"",null,null,null,null,"","",null,{"$f":"IF(E758>0,\" (p/u) \"&Modulo2.GetFormula(E758),\"\")","v":""},{"$f":"IF(F758>0,\" (lu) \"&Modulo2.GetFormula(F758),\"\")","v":""},{"$f":"IF(G758>0,\" (la) \"&Modulo2.GetFormula(G758),\"\")","v":""},{"$f":"IF(H758>0,\" (H) \"&Modulo2.GetFormula(H758),\"\")","v":""},null,null,null,null,null,null,null,null,null,2,0,null,"",{"$f":"ROWS($AC$4:AC758)","v":755},"",{"$f":"IFERROR(SMALL($AD$4:$AD$1642,ROWS($AD$4:AD758)),\"\")","v":""},null,{"$f":"IFERROR(INDEX($A$4:$R$1642,$AE758,COLUMNS($A:$B)),\"\")","v":""},{"$f":"IFERROR(INDEX($A$4:$R$1642,$AE758,COLUMNS($A:$C)),\"\")","v":""},{"$f":"IFERROR(INDEX($A$4:$R$1642,$AE758,COLUMNS($A:$R)),\"\")","v":""},null,"","","","",null,null,null,94]
[null,null,null,null,null,null,null,{"$f":"CONCATENATE(\"SOMMANO [\",VLOOKUP(B755,'Elenco Prezzi2'!$A$2:$E$201,3,FALSE()),\"]\")","v":{"$error":"#N/A"}},{"$f":"IF(T759=\"s\",V760,SUBTOTAL(9,I755:I759))","v":{"$error":"#REF!"}},null,{"$f":"VLOOKUP(B755,'Elenco Prezzi2'!$A$2:$E$201,5,FALSE)","v":{"$error":"#N/A"}},null,null,null,null,null,null,{"$f":"IFERROR(I759*K759,\"\")","v":""},null,"s",null,null,null,{"$f":"R759","v":""},2,0,null,"",{"$f":"ROWS($AC$4:AC759)","v":756},"",{"$f":"IFERROR(SMALL($AD$4:$AD$1642,ROWS($AD$4:AD759)),\"\")","v":""},null,{"$f":"IFERROR(INDEX($A$4:$R$1642,$AE759,COLUMNS($A:$B)),\"\")","v":""},{"$f":"IFERROR(INDEX($A$4:$R$1642,$AE759,COLUMNS($A:$C)),\"\")","v":""},{"$f":"IFERROR(INDEX($A$4:$R$1642,$AE759,COLUMNS($A:$R)),\"\")","v":""},null,null,null,null,null,null,null,null,94]
[null,null,null,null,null,null,null,{"$f":"IF(I760<0,\"a detrarre\",\"\")","v":""},{"$f":"SUMIF(I755:I758,\"<0\")","v":0},null,null,null,null,null,null,null,null,null,{"$f":"R759","v":""},null,null,{"$f":"VLOOKUP(B755,#REF!,4,FALSE)","v":{"$error":"#REF!"}},null,null,2,0,null,"",{"$f":"ROWS($AC$4:AC760)","v":757},"",{"$f":"IFERROR(SMALL($AD$4:$AD$1642,ROWS($AD$4:AD760)),\"\")","v":""},null,{"$f":"IFERROR(INDEX($A$4:$R$1642,$AE760,COLUMNS($A:$B)),\"\")","v":""},{"$f":"IFERROR(INDEX($A$4:$R$1642,$AE760,COLUMNS($A:$C)),\"\")","v":""},{"$f":"IFERROR(INDEX($A$4:$R$1642,$AE760,COLUMNS($A:$R)),\"\")","v":""},null,null,null,null,null,null,null,null,94]
[null,null,null,null,null,null,null,null,null,null,null,null,null,null,null,null,null,null,null,null,null,null,null,null,2,0,null,"",{"$f":"ROWS($AC$4:AC761)","v":758},"",{"$f":"IFERROR(SMALL($AD$4:$AD$1642,ROWS($AD$4:AD761)),\"\")","v":""},null,{"$f":"IFERROR(INDEX($A$4:$R$1642,$AE761,COLUMNS($A:$B)),\"\")","v":""},{"$f":"IFERROR(INDEX($A$4:$R$1642,$AE761,COLUMNS($A:$C)),\"\")","v":""},{"$f":"IFERROR(INDEX($A$4:$R$1642,$AE761,COLUMNS($A:$R)),\"\")","v":""},null,null,null,null,null,null,null,null,94]
[null,null,null,null,null,null,null,null,null,null,null,null,null,null,null,null,null,null,null,null,null,null,null,null,2,0,null,"",{"$f":"ROWS($AC$4:AC762)","v":759},"",{"$f":"IFERROR(SMALL($AD$4:$AD$1642,ROWS($AD$4:AD762)),\"\")","v":""},null,{"$f":"IFERROR(INDEX($A$4:$R$1642,$AE762,COLUMNS($A:$B)),\"\")","v":""},{"$f":"IFERROR(INDEX($A$4:$R$1642,$AE762,COLUMNS($A:$C)),\"\")","v":""},{"$f":"IFERROR(INDEX($A$4:$R$1642,$AE762,COLUMNS($A:$R)),\"\")","v":""},null,null,null,null,null,null,null,null,94]
[{"$f":"AR763","v":95},null,{"$f":"(VLOOKUP($B763,'Elenco Prezzi2'!$A$2:$E$201,2,FALSE))","v":{"$error":"#N/A"}},null,null,null,null,null,null,null,null,null,null,null,null,null,null,null,null,null,null,null,null,null,2,0,null,"",{"$f":"ROWS($AC$4:AC763)","v":760},"",{"$f":"IFERROR(SMALL($AD$4:$AD$1642,ROWS($AD$4:AD763)),\"\")","v":""},null,{"$f":"IFERROR(INDEX($A$4:$R$1642,$AE763,COLUMNS($A:$B)),\"\")","v":""},{"$f":"IFERROR(INDEX($A$4:$R$1642,$AE763,COLUMNS($A:$C)),\"\")","v":""},{"$f":"IFERROR(INDEX($A$4:$R$1642,$AE763,COLUMNS($A:$R)),\"\")","v":""},null,null,null,null,null,null,null,1,95]
[null,null,null,{"$f":"CONCATENATE(AK764&AL764&AM764&AN764)","v":""},null,null,null,null,{"$f":"IFERROR(IF(PRODUCT(E764:H764)=0,\"\",PRODUCT(E764:H764)),\"\")","v":""},{"$f":"I764","v":""},null,{"$f":"IF(E764>0,\" (p/u) \"&Modulo2.GetFormula(E764),\"\")","v":""},{"$f":"IF(F764>0,\" (lu) \"&Modulo2.GetFormula(F764),\"\")","v":""},{"$f":"IF(G764>0,\" (la) \"&Modulo2.GetFormula(G764),\"\")","v":""},{"$f":"IF(H764>0,\" (H) \"&Modulo2.GetFormula(H764),\"\")","v":""},null,null,null,null,null,null,null,null,null,2,0,null,"",{"$f":"ROWS($AC$4:AC764)","v":761},"",{"$f":"IFERROR(SMALL($AD$4:$AD$1642,ROWS($AD$4:AD764)),\"\")","v":""},null,{"$f":"IFERROR(INDEX($A$4:$R$1642,$AE764,COLUMNS($A:$B)),\"\")","v":""},{"$f":"IFERROR(INDEX($A$4:$R$1642,$AE764,COLUMNS($A:$C)),\"\")","v":""},{"$f":"IFERROR(INDEX($A$4:$R$1642,$AE764,COLUMNS($A:$R)),\"\")","v":""},null,{"$f":"IFERROR(IF(SEARCH(\"=\",L764),L764,\"\"),\"\")","v":""},{"$f":"IFERROR(IF(SEARCH(\"=\",M764),M764,\"\"),\"\")","v":""},{"$f":"IFERROR(IF(SEARCH(\"=\",N764),N764,\"\"),\"\")","v":""},{"$f":"IFERROR(IF(SEARCH(\"=\",O764),O764,\"\"),\"\")","v":""},null,null,null,95]
[null,null,null,"",null,null,null,null,"","",null,{"$f":"IF(E765>0,\" (p/u) \"&Modulo2.GetFormula(E765),\"\")","v":""},{"$f":"IF(F765>0,\" (lu) \"&Modulo2.GetFormula(F765),\"\")","v":""},{"$f":"IF(G765>0,\" (la) \"&Modulo2.GetFormula(G765),\"\")","v":""},{"$f":"IF(H765>0,\" (H) \"&Modulo2.GetFormula(H765),\"\")","v":""},null,null,null,null,null,null,null,null,null,2,0,null,"",{"$f":"ROWS($AC$4:AC765)","v":762},"",{"$f":"IFERROR(SMALL($AD$4:$AD$1642,ROWS($AD$4:AD765)),\"\")","v":""},null,{"$f":"IFERROR(INDEX($A$4:$R$1642,$AE765,COLUMNS($A:$B)),\"\")","v":""},{"$f":"IFERROR(INDEX($A$4:$R$1642,$AE765,COLUMNS($A:$C)),\"\")","v":""},{"$f":"IFERROR(INDEX($A$4:$R$1642,$AE765,COLUMNS($A:$R)),\"\")","v":""},null,"","","","",null,null,null,95]
[null,null,null,"",null,null,null,null,"","",null,{"$f":"IF(E766>0,\" (p/u) \"&Modulo2.GetFormula(E766),\"\")","v":""},{"$f":"IF(F766>0,\" (lu) \"&Modulo2.GetFormula(F766),\"\")","v":""},{"$f":"IF(G766>0,\" (la) \"&Modulo2.GetFormula(G766),\"\")","v":""},{"$f":"IF(H766>0,\" (H) \"&Modulo2.GetFormula(H766),\"\")","v":""},null,null,null,null,null,null,null,null,null,2,0,null,"",{"$f":"ROWS($AC$4:AC766)","v":763},"",{"$f":"IFERROR(SMALL($AD$4:$AD$1642,ROWS($AD$4:AD766)),\"\")","v":""},null,{"$f":"IFERROR(INDEX($A$4:$R$1642,$AE766,COLUMNS($A:$B)),\"\")","v":""},{"$f":"IFERROR(INDEX($A$4:$R$1642,$AE766,COLUMNS($A:$C)),\"\")","v":""},{"$f":"IFERROR(INDEX($A$4:$R$1642,$AE766,COLUMNS($A:$R)),\"\")","v":""},null,"","","","",null,null,null,95]
[null,null,null,null,null,null,null,{"$f":"CONCATENATE(\"SOMMANO [\",VLOOKUP(B763,'Elenco Prezzi2'!$A$2:$E$201,3,FALSE()),\"]\")","v":{"$error":"#N/A"}},{"$f":"IF(T767=\"s\",V768,SUBTOTAL(9,I763:I767))","v":{"$error":"#REF!"}},null,{"$f":"VLOOKUP(B763,'Elenco Prezzi2'!$A$2:$E$201,5,FALSE)","v":{"$error":"#N/A"}},null,null,null,null,null,null,{"$f":"IFERROR(I767*K767,\"\")","v":""},null,"s",null,null,null,{"$f":"R767","v":""},2,0,null,"",{"$f":"ROWS($AC$4:AC767)","v":764},"",{"$f":"IFERROR(SMALL($AD$4:$AD$1642,ROWS($AD$4:AD767)),\"\")","v":""},null,{"$f":"IFERROR(INDEX($A$4:$R$1642,$AE767,COLUMNS($A:$B)),\"\")","v":""},{"$f":"IFERROR(INDEX($A$4:$R$1642,$AE767,COLUMNS($A:$C)),\"\")","v":""},{"$f":"IFERROR(INDEX($A$4:$R$1642,$AE767,COLUMNS($A:$R)),\"\")","v":""},null,null,null,null,null,null,null,null,95]
[null,null,null,null,null,null,null,{"$f":"IF(I768<0,\"a detrarre\",\"\")","v":""},{"$f":"SUMIF(I763:I766,\"<0\")","v":0},null,null,null,null,null,null,null,null,null,{"$f":"R767","v":""},null,null,{"$f":"VLOOKUP(B763,#REF!,4,FALSE)","v":{"$error":"#REF!"}},null,null,2,0,null,"",{"$f":"ROWS($AC$4:AC768)","v":765},"",{"$f":"IFERROR(SMALL($AD$4:$AD$1642,ROWS($AD$4:AD768)),\"\")","v":""},null,{"$f":"IFERROR(INDEX($A$4:$R$1642,$AE768,COLUMNS($A:$B)),\"\")","v":""},{"$f":"IFERROR(INDEX($A$4:$R$1642,$AE768,COLUMNS($A:$C)),\"\")","v":""},{"$f":"IFERROR(INDEX($A$4:$R$1642,$AE768,COLUMNS($A:$R)),\"\")","v":""},null,null,null,null,null,null,null,null,95]
[null,null,null,null,null,null,null,null,null,null,null,null,null,null,null,null,null,null,null,null,null,null,null,null,2,0,null,"",{"$f":"ROWS($AC$4:AC769)","v":766},"",{"$f":"IFERROR(SMALL($AD$4:$AD$1642,ROWS($AD$4:AD769)),\"\")","v":""},null,{"$f":"IFERROR(INDEX($A$4:$R$1642,$AE769,COLUMNS($A:$B)),\"\")","v":""},{"$f":"IFERROR(INDEX($A$4:$R$1642,$AE769,COLUMNS($A:$C)),\"\")","v":""},{"$f":"IFERROR(INDEX($A$4:$R$1642,$AE769,COLUMNS($A:$R)),\"\")","v":""},null,null,null,null,null,null,null,null,95]
[null,null,null,null,null,null,null,null,null,null,null,null,null,null,null,null,null,null,null,null,null,null,null,null,2,0,null,"",{"$f":"ROWS($AC$4:AC770)","v":767},"",{"$f":"IFERROR(SMALL($AD$4:$AD$1642,ROWS($AD$4:AD770)),\"\")","v":""},null,{"$f":"IFERROR(INDEX($A$4:$R$1642,$AE770,COLUMNS($A:$B)),\"\")","v":""},{"$f":"IFERROR(INDEX($A$4:$R$1642,$AE770,COLUMNS($A:$C)),\"\")","v":""},{"$f":"IFERROR(INDEX($A$4:$R$1642,$AE770,COLUMNS($A:$R)),\"\")","v":""},null,null,null,null,null,null,null,null,95]
[{"$f":"AR771","v":96},null,{"$f":"(VLOOKUP($B771,'Elenco Prezzi2'!$A$2:$E$201,2,FALSE))","v":{"$error":"#N/A"}},null,null,null,null,null,null,null,null,null,null,null,null,null,null,null,null,null,null,null,null,null,2,0,null,"",{"$f":"ROWS($AC$4:AC771)","v":768},"",{"$f":"IFERROR(SMALL($AD$4:$AD$1642,ROWS($AD$4:AD771)),\"\")","v":""},null,{"$f":"IFERROR(INDEX($A$4:$R$1642,$AE771,COLUMNS($A:$B)),\"\")","v":""},{"$f":"IFERROR(INDEX($A$4:$R$1642,$AE771,COLUMNS($A:$C)),\"\")","v":""},{"$f":"IFERROR(INDEX($A$4:$R$1642,$AE771,COLUMNS($A:$R)),\"\")","v":""},null,null,null,null,null,null,null,1,96]
[null,null,null,{"$f":"CONCATENATE(AK772&AL772&AM772&AN772)","v":""},null,null,null,null,{"$f":"IFERROR(IF(PRODUCT(E772:H772)=0,\"\",PRODUCT(E772:H772)),\"\")","v":""},{"$f":"I772","v":""},null,{"$f":"IF(E772>0,\" (p/u) \"&Modulo2.GetFormula(E772),\"\")","v":""},{"$f":"IF(F772>0,\" (lu) \"&Modulo2.GetFormula(F772),\"\")","v":""},{"$f":"IF(G772>0,\" (la) \"&Modulo2.GetFormula(G772),\"\")","v":""},{"$f":"IF(H772>0,\" (H) \"&Modulo2.GetFormula(H772),\"\")","v":""},null,null,null,null,null,null,null,null,null,2,0,null,"",{"$f":"ROWS($AC$4:AC772)","v":769},"",{"$f":"IFERROR(SMALL($AD$4:$AD$1642,ROWS($AD$4:AD772)),\"\")","v":""},null,{"$f":"IFERROR(INDEX($A$4:$R$1642,$AE772,COLUMNS($A:$B)),\"\")","v":""},{"$f":"IFERROR(INDEX($A$4:$R$1642,$AE772,COLUMNS($A:$C)),\"\")","v":""},{"$f":"IFERROR(INDEX($A$4:$R$1642,$AE772,COLUMNS($A:$R)),\"\")","v":""},null,{"$f":"IFERROR(IF(SEARCH(\"=\",L772),L772,\"\"),\"\")","v":""},{"$f":"IFERROR(IF(SEARCH(\"=\",M772),M772,\"\"),\"\")","v":""},{"$f":"IFERROR(IF(SEARCH(\"=\",N772),N772,\"\"),\"\")","v":""},{"$f":"IFERROR(IF(SEARCH(\"=\",O772),O772,\"\"),\"\")","v":""},null,null,null,96]
[null,null,null,"",null,null,null,null,"","",null,{"$f":"IF(E773>0,\" (p/u) \"&Modulo2.GetFormula(E773),\"\")","v":""},{"$f":"IF(F773>0,\" (lu) \"&Modulo2.GetFormula(F773),\"\")","v":""},{"$f":"IF(G773>0,\" (la) \"&Modulo2.GetFormula(G773),\"\")","v":""},{"$f":"IF(H773>0,\" (H) \"&Modulo2.GetFormula(H773),\"\")","v":""},null,null,null,null,null,null,null,null,null,2,0,null,"",{"$f":"ROWS($AC$4:AC773)","v":770},"",{"$f":"IFERROR(SMALL($AD$4:$AD$1642,ROWS($AD$4:AD773)),\"\")","v":""},null,{"$f":"IFERROR(INDEX($A$4:$R$1642,$AE773,COLUMNS($A:$B)),\"\")","v":""},{"$f":"IFERROR(INDEX($A$4:$R$1642,$AE773,COLUMNS($A:$C)),\"\")","v":""},{"$f":"IFERROR(INDEX($A$4:$R$1642,$AE773,COLUMNS($A:$R)),\"\")","v":""},null,"","","","",null,null,null,96]
[null,null,null,"",null,null,null,null,"","",null,{"$f":"IF(E774>0,\" (p/u) \"&Modulo2.GetFormula(E774),\"\")","v":""},{"$f":"IF(F774>0,\" (lu) \"&Modulo2.GetFormula(F774),\"\")","v":""},{"$f":"IF(G774>0,\" (la) \"&Modulo2.GetFormula(G774),\"\")","v":""},{"$f":"IF(H774>0,\" (H) \"&Modulo2.GetFormula(H774),\"\")","v":""},null,null,null,null,null,null,null,null,null,2,0,null,"",{"$f":"ROWS($AC$4:AC774)","v":771},"",{"$f":"IFERROR(SMALL($AD$4:$AD$1642,ROWS($AD$4:AD774)),\"\")","v":""},null,{"$f":"IFERROR(INDEX($A$4:$R$1642,$AE774,COLUMNS($A:$B)),\"\")","v":""},{"$f":"IFERROR(INDEX($A$4:$R$1642,$AE774,COLUMNS($A:$C)),\"\")","v":""},{"$f":"IFERROR(INDEX($A$4:$R$1642,$AE774,COLUMNS($A:$R)),\"\")","v":""},null,"","","","",null,null,null,96]
[null,null,null,null,null,null,null,{"$f":"CONCATENATE(\"SOMMANO [\",VLOOKUP(B771,'Elenco Prezzi2'!$A$2:$E$201,3,FALSE()),\"]\")","v":{"$error":"#N/A"}},{"$f":"IF(T775=\"s\",V776,SUBTOTAL(9,I771:I775))","v":{"$error":"#REF!"}},null,{"$f":"VLOOKUP(B771,'Elenco Prezzi2'!$A$2:$E$201,5,FALSE)","v":{"$error":"#N/A"}},null,null,null,null,null,null,{"$f":"IFERROR(I775*K775,\"\")","v":""},null,"s",null,null,null,{"$f":"R775","v":""},2,0,null,"",{"$f":"ROWS($AC$4:AC775)","v":772},"",{"$f":"IFERROR(SMALL($AD$4:$AD$1642,ROWS($AD$4:AD775)),\"\")","v":""},null,{"$f":"IFERROR(INDEX($A$4:$R$1642,$AE775,COLUMNS($A:$B)),\"\")","v":""},{"$f":"IFERROR(INDEX($A$4:$R$1642,$AE775,COLUMNS($A:$C)),\"\")","v":""},{"$f":"IFERROR(INDEX($A$4:$R$1642,$AE775,COLUMNS($A:$R)),\"\")","v":""},null,null,null,null,null,null,null,null,96]
[null,null,null,null,null,null,null,{"$f":"IF(I776<0,\"a detrarre\",\"\")","v":""},{"$f":"SUMIF(I771:I774,\"<0\")","v":0},null,null,null,null,null,null,null,null,null,{"$f":"R775","v":""},null,null,{"$f":"VLOOKUP(B771,#REF!,4,FALSE)","v":{"$error":"#REF!"}},null,null,2,0,null,"",{"$f":"ROWS($AC$4:AC776)","v":773},"",{"$f":"IFERROR(SMALL($AD$4:$AD$1642,ROWS($AD$4:AD776)),\"\")","v":""},null,{"$f":"IFERROR(INDEX($A$4:$R$1642,$AE776,COLUMNS($A:$B)),\"\")","v":""},{"$f":"IFERROR(INDEX($A$4:$R$1642,$AE776,COLUMNS($A:$C)),\"\")","v":""},{"$f":"IFERROR(INDEX($A$4:$R$1642,$AE776,COLUMNS($A:$R)),\"\")","v":""},null,null,null,null,null,null,null,null,96]
[null,null,null,null,null,null,null,null,null,null,null,null,null,null,null,null,null,null,null,null,null,null,null,null,2,0,null,"",{"$f":"ROWS($AC$4:AC777)","v":774},"",{"$f":"IFERROR(SMALL($AD$4:$AD$1642,ROWS($AD$4:AD777)),\"\")","v":""},null,{"$f":"IFERROR(INDEX($A$4:$R$1642,$AE777,COLUMNS($A:$B)),\"\")","v":""},{"$f":"IFERROR(INDEX($A$4:$R$1642,$AE777,COLUMNS($A:$C)),\"\")","v":""},{"$f":"IFERROR(INDEX($A$4:$R$1642,$AE777,COLUMNS($A:$R)),\"\")","v":""},null,null,null,null,null,null,null,null,96]
[null,null,null,null,null,null,null,null,null,null,null,null,null,null,null,null,null,null,null,null,null,null,null,null,2,0,null,"",{"$f":"ROWS($AC$4:AC778)","v":775},"",{"$f":"IFERROR(SMALL($AD$4:$AD$1642,ROWS($AD$4:AD778)),\"\")","v":""},null,{"$f":"IFERROR(INDEX($A$4:$R$1642,$AE778,COLUMNS($A:$B)),\"\")","v":""},{"$f":"IFERROR(INDEX($A$4:$R$1642,$AE778,COLUMNS($A:$C)),\"\")","v":""},{"$f":"IFERROR(INDEX($A$4:$R$1642,$AE778,COLUMNS($A:$R)),\"\")","v":""},null,null,null,null,null,null,null,null,96]
[{"$f":"AR779","v":97},null,{"$f":"(VLOOKUP($B779,'Elenco Prezzi2'!$A$2:$E$201,2,FALSE))","v":{"$error":"#N/A"}},null,null,null,null,null,null,null,null,null,null,null,null,null,null,null,null,null,null,null,null,null,2,0,null,"",{"$f":"ROWS($AC$4:AC779)","v":776},"",{"$f":"IFERROR(SMALL($AD$4:$AD$1642,ROWS($AD$4:AD779)),\"\")","v":""},null,{"$f":"IFERROR(INDEX($A$4:$R$1642,$AE779,COLUMNS($A:$B)),\"\")","v":""},{"$f":"IFERROR(INDEX($A$4:$R$1642,$AE779,COLUMNS($A:$C)),\"\")","v":""},{"$f":"IFERROR(INDEX($A$4:$R$1642,$AE779,COLUMNS($A:$R)),\"\")","v":""},null,null,null,null,null,null,null,1,97]
[null,null,null,{"$f":"CONCATENATE(AK780&AL780&AM780&AN780)","v":""},null,null,null,null,{"$f":"IFERROR(IF(PRODUCT(E780:H780)=0,\"\",PRODUCT(E780:H780)),\"\")","v":""},{"$f":"I780","v":""},null,{"$f":"IF(E780>0,\" (p/u) \"&Modulo2.GetFormula(E780),\"\")","v":""},{"$f":"IF(F780>0,\" (lu) \"&Modulo2.GetFormula(F780),\"\")","v":""},{"$f":"IF(G780>0,\" (la) \"&Modulo2.GetFormula(G780),\"\")","v":""},{"$f":"IF(H780>0,\" (H) \"&Modulo2.GetFormula(H780),\"\")","v":""},null,null,null,null,null,null,null,null,null,2,0,null,"",{"$f":"ROWS($AC$4:AC780)","v":777},"",{"$f":"IFERROR(SMALL($AD$4:$AD$1642,ROWS($AD$4:AD780)),\"\")","v":""},null,{"$f":"IFERROR(INDEX($A$4:$R$1642,$AE780,COLUMNS($A:$B)),\"\")","v":""},{"$f":"IFERROR(INDEX($A$4:$R$1642,$AE780,COLUMNS($A:$C)),\"\")","v":""},{"$f":"IFERROR(INDEX($A$4:$R$1642,$AE780,COLUMNS($A:$R)),\"\")","v":""},null,{"$f":"IFERROR(IF(SEARCH(\"=\",L780),L780,\"\"),\"\")","v":""},{"$f":"IFERROR(IF(SEARCH(\"=\",M780),M780,\"\"),\"\")","v":""},{"$f":"IFERROR(IF(SEARCH(\"=\",N780),N780,\"\"),\"\")","v":""},{"$f":"IFERROR(IF(SEARCH(\"=\",O780),O780,\"\"),\"\")","v":""},null,null,null,97]
[null,null,null,"",null,null,null,null,"","",null,{"$f":"IF(E781>0,\" (p/u) \"&Modulo2.GetFormula(E781),\"\")","v":""},{"$f":"IF(F781>0,\" (lu) \"&Modulo2.GetFormula(F781),\"\")","v":""},{"$f":"IF(G781>0,\" (la) \"&Modulo2.GetFormula(G781),\"\")","v":""},{"$f":"IF(H781>0,\" (H) \"&Modulo2.GetFormula(H781),\"\")","v":""},null,null,null,null,null,null,null,null,null,2,0,null,"",{"$f":"ROWS($AC$4:AC781)","v":778},"",{"$f":"IFERROR(SMALL($AD$4:$AD$1642,ROWS($AD$4:AD781)),\"\")","v":""},null,{"$f":"IFERROR(INDEX($A$4:$R$1642,$AE781,COLUMNS($A:$B)),\"\")","v":""},{"$f":"IFERROR(INDEX($A$4:$R$1642,$AE781,COLUMNS($A:$C)),\"\")","v":""},{"$f":"IFERROR(INDEX($A$4:$R$1642,$AE781,COLUMNS($A:$R)),\"\")","v":""},null,"","","","",null,null,null,97]
[null,null,null,"",null,null,null,null,"","",null,{"$f":"IF(E782>0,\" (p/u) \"&Modulo2.GetFormula(E782),\"\")","v":""},{"$f":"IF(F782>0,\" (lu) \"&Modulo2.GetFormula(F782),\"\")","v":""},{"$f":"IF(G782>0,\" (la) \"&Modulo2.GetFormula(G782),\"\")","v":""},{"$f":"IF(H782>0,\" (H) \"&Modulo2.GetFormula(H782),\"\")","v":""},null,null,null,null,null,null,null,null,null,2,0,null,"",{"$f":"ROWS($AC$4:AC782)","v":779},"",{"$f":"IFERROR(SMALL($AD$4:$AD$1642,ROWS($AD$4:AD782)),\"\")","v":""},null,{"$f":"IFERROR(INDEX($A$4:$R$1642,$AE782,COLUMNS($A:$B)),\"\")","v":""},{"$f":"IFERROR(INDEX($A$4:$R$1642,$AE782,COLUMNS($A:$C)),\"\")","v":""},{"$f":"IFERROR(INDEX($A$4:$R$1642,$AE782,COLUMNS($A:$R)),\"\")","v":""},null,"","","","",null,null,null,97]
[null,null,null,null,null,null,null,{"$f":"CONCATENATE(\"SOMMANO [\",VLOOKUP(B779,'Elenco Prezzi2'!$A$2:$E$201,3,FALSE()),\"]\")","v":{"$error":"#N/A"}},{"$f":"IF(T783=\"s\",V784,SUBTOTAL(9,I779:I783))","v":{"$error":"#REF!"}},null,{"$f":"VLOOKUP(B779,'Elenco Prezzi2'!$A$2:$E$201,5,FALSE)","v":{"$error":"#N/A"}},null,null,null,null,null,null,{"$f":"IFERROR(I783*K783,\"\")","v":""},null,"s",null,null,null,{"$f":"R783","v":""},2,0,null,"",{"$f":"ROWS($AC$4:AC783)","v":780},"",{"$f":"IFERROR(SMALL($AD$4:$AD$1642,ROWS($AD$4:AD783)),\"\")","v":""},null,{"$f":"IFERROR(INDEX($A$4:$R$1642,$AE783,COLUMNS($A:$B)),\"\")","v":""},{"$f":"IFERROR(INDEX($A$4:$R$1642,$AE783,COLUMNS($A:$C)),\"\")","v":""},{"$f":"IFERROR(INDEX($A$4:$R$1642,$AE783,COLUMNS($A:$R)),\"\")","v":""},null,null,null,null,null,null,null,null,97]
[null,null,null,null,null,null,null,{"$f":"IF(I784<0,\"a detrarre\",\"\")","v":""},{"$f":"SUMIF(I779:I782,\"<0\")","v":0},null,null,null,null,null,null,null,null,null,{"$f":"R783","v":""},null,null,{"$f":"VLOOKUP(B779,#REF!,4,FALSE)","v":{"$error":"#REF!"}},null,null,2,0,null,"",{"$f":"ROWS($AC$4:AC784)","v":781},"",{"$f":"IFERROR(SMALL($AD$4:$AD$1642,ROWS($AD$4:AD784)),\"\")","v":""},null,{"$f":"IFERROR(INDEX($A$4:$R$1642,$AE784,COLUMNS($A:$B)),\"\")","v":""},{"$f":"IFERROR(INDEX($A$4:$R$1642,$AE784,COLUMNS($A:$C)),\"\")","v":""},{"$f":"IFERROR(INDEX($A$4:$R$1642,$AE784,COLUMNS($A:$R)),\"\")","v":""},null,null,null,null,null,null,null,null,97]
[null,null,null,null,null,null,null,null,null,null,null,null,null,null,null,null,null,null,null,null,null,null,null,null,2,0,null,"",{"$f":"ROWS($AC$4:AC785)","v":782},"",{"$f":"IFERROR(SMALL($AD$4:$AD$1642,ROWS($AD$4:AD785)),\"\")","v":""},null,{"$f":"IFERROR(INDEX($A$4:$R$1642,$AE785,COLUMNS($A:$B)),\"\")","v":""},{"$f":"IFERROR(INDEX($A$4:$R$1642,$AE785,COLUMNS($A:$C)),\"\")","v":""},{"$f":"IFERROR(INDEX($A$4:$R$1642,$AE785,COLUMNS($A:$R)),\"\")","v":""},null,null,null,null,null,null,null,null,97]
[null,null,null,null,null,null,null,null,null,null,null,null,null,null,null,null,null,null,null,null,null,null,null,null,2,0,null,"",{"$f":"ROWS($AC$4:AC786)","v":783},"",{"$f":"IFERROR(SMALL($AD$4:$AD$1642,ROWS($AD$4:AD786)),\"\")","v":""},null,{"$f":"IFERROR(INDEX($A$4:$R$1642,$AE786,COLUMNS($A:$B)),\"\")","v":""},{"$f":"IFERROR(INDEX($A$4:$R$1642,$AE786,COLUMNS($A:$C)),\"\")","v":""},{"$f":"IFERROR(INDEX($A$4:$R$1642,$AE786,COLUMNS($A:$R)),\"\")","v":""},null,null,null,null,null,null,null,null,97]
[{"$f":"AR787","v":98},null,{"$f":"(VLOOKUP($B787,'Elenco Prezzi2'!$A$2:$E$201,2,FALSE))","v":{"$error":"#N/A"}},null,null,null,null,null,null,null,null,null,null,null,null,null,null,null,null,null,null,null,null,null,2,0,null,"",{"$f":"ROWS($AC$4:AC787)","v":784},"",{"$f":"IFERROR(SMALL($AD$4:$AD$1642,ROWS($AD$4:AD787)),\"\")","v":""},null,{"$f":"IFERROR(INDEX($A$4:$R$1642,$AE787,COLUMNS($A:$B)),\"\")","v":""},{"$f":"IFERROR(INDEX($A$4:$R$1642,$AE787,COLUMNS($A:$C)),\"\")","v":""},{"$f":"IFERROR(INDEX($A$4:$R$1642,$AE787,COLUMNS($A:$R)),\"\")","v":""},null,null,null,null,null,null,null,1,98]
[null,null,null,{"$f":"CONCATENATE(AK788&AL788&AM788&AN788)","v":""},null,null,null,null,{"$f":"IFERROR(IF(PRODUCT(E788:H788)=0,\"\",PRODUCT(E788:H788)),\"\")","v":""},{"$f":"I788","v":""},null,{"$f":"IF(E788>0,\" (p/u) \"&Modulo2.GetFormula(E788),\"\")","v":""},{"$f":"IF(F788>0,\" (lu) \"&Modulo2.GetFormula(F788),\"\")","v":""},{"$f":"IF(G788>0,\" (la) \"&Modulo2.GetFormula(G788),\"\")","v":""},{"$f":"IF(H788>0,\" (H) \"&Modulo2.GetFormula(H788),\"\")","v":""},null,null,null,null,null,null,null,null,null,2,0,null,"",{"$f":"ROWS($AC$4:AC788)","v":785},"",{"$f":"IFERROR(SMALL($AD$4:$AD$1642,ROWS($AD$4:AD788)),\"\")","v":""},null,{"$f":"IFERROR(INDEX($A$4:$R$1642,$AE788,COLUMNS($A:$B)),\"\")","v":""},{"$f":"IFERROR(INDEX($A$4:$R$1642,$AE788,COLUMNS($A:$C)),\"\")","v":""},{"$f":"IFERROR(INDEX($A$4:$R$1642,$AE788,COLUMNS($A:$R)),\"\")","v":""},null,{"$f":"IFERROR(IF(SEARCH(\"=\",L788),L788,\"\"),\"\")","v":""},{"$f":"IFERROR(IF(SEARCH(\"=\",M788),M788,\"\"),\"\")","v":""},{"$f":"IFERROR(IF(SEARCH(\"=\",N788),N788,\"\"),\"\")","v":""},{"$f":"IFERROR(IF(SEARCH(\"=\",O788),O788,\"\"),\"\")","v":""},null,null,null,98]
[null,null,null,"",null,null,null,null,"","",null,{"$f":"IF(E789>0,\" (p/u) \"&Modulo2.GetFormula(E789),\"\")","v":""},{"$f":"IF(F789>0,\" (lu) \"&Modulo2.GetFormula(F789),\"\")","v":""},{"$f":"IF(G789>0,\" (la) \"&Modulo2.GetFormula(G789),\"\")","v":""},{"$f":"IF(H789>0,\" (H) \"&Modulo2.GetFormula(H789),\"\")","v":""},null,null,null,null,null,null,null,null,null,2,0,null,"",{"$f":"ROWS($AC$4:AC789)","v":786},"",{"$f":"IFERROR(SMALL($AD$4:$AD$1642,ROWS($AD$4:AD789)),\"\")","v":""},null,{"$f":"IFERROR(INDEX($A$4:$R$1642,$AE789,COLUMNS($A:$B)),\"\")","v":""},{"$f":"IFERROR(INDEX($A$4:$R$1642,$AE789,COLUMNS($A:$C)),\"\")","v":""},{"$f":"IFERROR(INDEX($A$4:$R$1642,$AE789,COLUMNS($A:$R)),\"\")","v":""},null,"","","","",null,null,null,98]
[null,null,null,"",null,null,null,null,"","",null,{"$f":"IF(E790>0,\" (p/u) \"&Modulo2.GetFormula(E790),\"\")","v":""},{"$f":"IF(F790>0,\" (lu) \"&Modulo2.GetFormula(F790),\"\")","v":""},{"$f":"IF(G790>0,\" (la) \"&Modulo2.GetFormula(G790),\"\")","v":""},{"$f":"IF(H790>0,\" (H) \"&Modulo2.GetFormula(H790),\"\")","v":""},null,null,null,null,null,null,null,null,null,2,0,null,"",{"$f":"ROWS($AC$4:AC790)","v":787},"",{"$f":"IFERROR(SMALL($AD$4:$AD$1642,ROWS($AD$4:AD790)),\"\")","v":""},null,{"$f":"IFERROR(INDEX($A$4:$R$1642,$AE790,COLUMNS($A:$B)),\"\")","v":""},{"$f":"IFERROR(INDEX($A$4:$R$1642,$AE790,COLUMNS($A:$C)),\"\")","v":""},{"$f":"IFERROR(INDEX($A$4:$R$1642,$AE790,COLUMNS($A:$R)),\"\")","v":""},null,"","","","",null,null,null,98]
[null,null,null,null,null,null,null,{"$f":"CONCATENATE(\"SOMMANO [\",VLOOKUP(B787,'Elenco Prezzi2'!$A$2:$E$201,3,FALSE()),\"]\")","v":{"$error":"#N/A"}},{"$f":"IF(T791=\"s\",V792,SUBTOTAL(9,I787:I791))","v":{"$error":"#REF!"}},null,{"$f":"VLOOKUP(B787,'Elenco Prezzi2'!$A$2:$E$201,5,FALSE)","v":{"$error":"#N/A"}},null,null,null,null,null,null,{"$f":"IFERROR(I791*K791,\"\")","v":""},null,"s",null,null,null,{"$f":"R791","v":""},2,0,null,"",{"$f":"ROWS($AC$4:AC791)","v":788},"",{"$f":"IFERROR(SMALL($AD$4:$AD$1642,ROWS($AD$4:AD791)),\"\")","v":""},null,{"$f":"IFERROR(INDEX($A$4:$R$1642,$AE791,COLUMNS($A:$B)),\"\")","v":""},{"$f":"IFERROR(INDEX($A$4:$R$1642,$AE791,COLUMNS($A:$C)),\"\")","v":""},{"$f":"IFERROR(INDEX($A$4:$R$1642,$AE791,COLUMNS($A:$R)),\"\")","v":""},null,null,null,null,null,null,null,null,98]
[null,null,null,null,null,null,null,{"$f":"IF(I792<0,\"a detrarre\",\"\")","v":""},{"$f":"SUMIF(I787:I790,\"<0\")","v":0},null,null,null,null,null,null,null,null,null,{"$f":"R791","v":""},null,null,{"$f":"VLOOKUP(B787,#REF!,4,FALSE)","v":{"$error":"#REF!"}},null,null,2,0,null,"",{"$f":"ROWS($AC$4:AC792)","v":789},"",{"$f":"IFERROR(SMALL($AD$4:$AD$1642,ROWS($AD$4:AD792)),\"\")","v":""},null,{"$f":"IFERROR(INDEX($A$4:$R$1642,$AE792,COLUMNS($A:$B)),\"\")","v":""},{"$f":"IFERROR(INDEX($A$4:$R$1642,$AE792,COLUMNS($A:$C)),\"\")","v":""},{"$f":"IFERROR(INDEX($A$4:$R$1642,$AE792,COLUMNS($A:$R)),\"\")","v":""},null,null,null,null,null,null,null,null,98]
[null,null,null,null,null,null,null,null,null,null,null,null,null,null,null,null,null,null,null,null,null,null,null,null,2,0,null,"",{"$f":"ROWS($AC$4:AC793)","v":790},"",{"$f":"IFERROR(SMALL($AD$4:$AD$1642,ROWS($AD$4:AD793)),\"\")","v":""},null,{"$f":"IFERROR(INDEX($A$4:$R$1642,$AE793,COLUMNS($A:$B)),\"\")","v":""},{"$f":"IFERROR(INDEX($A$4:$R$1642,$AE793,COLUMNS($A:$C)),\"\")","v":""},{"$f":"IFERROR(INDEX($A$4:$R$1642,$AE793,COLUMNS($A:$R)),\"\")","v":""},null,null,null,null,null,null,null,null,98]
[null,null,null,null,null,null,null,null,null,null,null,null,null,null,null,null,null,null,null,null,null,null,null,null,2,0,null,"",{"$f":"ROWS($AC$4:AC794)","v":791},"",{"$f":"IFERROR(SMALL($AD$4:$AD$1642,ROWS($AD$4:AD794)),\"\")","v":""},null,{"$f":"IFERROR(INDEX($A$4:$R$1642,$AE794,COLUMNS($A:$B)),\"\")","v":""},{"$f":"IFERROR(INDEX($A$4:$R$1642,$AE794,COLUMNS($A:$C)),\"\")","v":""},{"$f":"IFERROR(INDEX($A$4:$R$1642,$AE794,COLUMNS($A:$R)),\"\")","v":""},null,null,null,null,null,null,null,null,98]
[{"$f":"AR795","v":99},null,{"$f":"(VLOOKUP($B795,'Elenco Prezzi2'!$A$2:$E$201,2,FALSE))","v":{"$error":"#N/A"}},null,null,null,null,null,null,null,null,null,null,null,null,null,null,null,null,null,null,null,null,null,2,0,null,"",{"$f":"ROWS($AC$4:AC795)","v":792},"",{"$f":"IFERROR(SMALL($AD$4:$AD$1642,ROWS($AD$4:AD795)),\"\")","v":""},null,{"$f":"IFERROR(INDEX($A$4:$R$1642,$AE795,COLUMNS($A:$B)),\"\")","v":""},{"$f":"IFERROR(INDEX($A$4:$R$1642,$AE795,COLUMNS($A:$C)),\"\")","v":""},{"$f":"IFERROR(INDEX($A$4:$R$1642,$AE795,COLUMNS($A:$R)),\"\")","v":""},null,null,null,null,null,null,null,1,99]
[null,null,null,{"$f":"CONCATENATE(AK796&AL796&AM796&AN796)","v":""},null,null,null,null,{"$f":"IFERROR(IF(PRODUCT(E796:H796)=0,\"\",PRODUCT(E796:H796)),\"\")","v":""},{"$f":"I796","v":""},null,{"$f":"IF(E796>0,\" (p/u) \"&Modulo2.GetFormula(E796),\"\")","v":""},{"$f":"IF(F796>0,\" (lu) \"&Modulo2.GetFormula(F796),\"\")","v":""},{"$f":"IF(G796>0,\" (la) \"&Modulo2.GetFormula(G796),\"\")","v":""},{"$f":"IF(H796>0,\" (H) \"&Modulo2.GetFormula(H796),\"\")","v":""},null,null,null,null,null,null,null,null,null,2,0,null,"",{"$f":"ROWS($AC$4:AC796)","v":793},"",{"$f":"IFERROR(SMALL($AD$4:$AD$1642,ROWS($AD$4:AD796)),\"\")","v":""},null,{"$f":"IFERROR(INDEX($A$4:$R$1642,$AE796,COLUMNS($A:$B)),\"\")","v":""},{"$f":"IFERROR(INDEX($A$4:$R$1642,$AE796,COLUMNS($A:$C)),\"\")","v":""},{"$f":"IFERROR(INDEX($A$4:$R$1642,$AE796,COLUMNS($A:$R)),\"\")","v":""},null,{"$f":"IFERROR(IF(SEARCH(\"=\",L796),L796,\"\"),\"\")","v":""},{"$f":"IFERROR(IF(SEARCH(\"=\",M796),M796,\"\"),\"\")","v":""},{"$f":"IFERROR(IF(SEARCH(\"=\",N796),N796,\"\"),\"\")","v":""},{"$f":"IFERROR(IF(SEARCH(\"=\",O796),O796,\"\"),\"\")","v":""},null,null,null,99]
[null,null,null,"",null,null,null,null,"","",null,{"$f":"IF(E797>0,\" (p/u) \"&Modulo2.GetFormula(E797),\"\")","v":""},{"$f":"IF(F797>0,\" (lu) \"&Modulo2.GetFormula(F797),\"\")","v":""},{"$f":"IF(G797>0,\" (la) \"&Modulo2.GetFormula(G797),\"\")","v":""},{"$f":"IF(H797>0,\" (H) \"&Modulo2.GetFormula(H797),\"\")","v":""},null,null,null,null,null,null,null,null,null,2,0,null,"",{"$f":"ROWS($AC$4:AC797)","v":794},"",{"$f":"IFERROR(SMALL($AD$4:$AD$1642,ROWS($AD$4:AD797)),\"\")","v":""},null,{"$f":"IFERROR(INDEX($A$4:$R$1642,$AE797,COLUMNS($A:$B)),\"\")","v":""},{"$f":"IFERROR(INDEX($A$4:$R$1642,$AE797,COLUMNS($A:$C)),\"\")","v":""},{"$f":"IFERROR(INDEX($A$4:$R$1642,$AE797,COLUMNS($A:$R)),\"\")","v":""},null,"","","","",null,null,null,99]
[null,null,null,"",null,null,null,null,"","",null,{"$f":"IF(E798>0,\" (p/u) \"&Modulo2.GetFormula(E798),\"\")","v":""},{"$f":"IF(F798>0,\" (lu) \"&Modulo2.GetFormula(F798),\"\")","v":""},{"$f":"IF(G798>0,\" (la) \"&Modulo2.GetFormula(G798),\"\")","v":""},{"$f":"IF(H798>0,\" (H) \"&Modulo2.GetFormula(H798),\"\")","v":""},null,null,null,null,null,null,null,null,null,2,0,null,"",{"$f":"ROWS($AC$4:AC798)","v":795},"",{"$f":"IFERROR(SMALL($AD$4:$AD$1642,ROWS($AD$4:AD798)),\"\")","v":""},null,{"$f":"IFERROR(INDEX($A$4:$R$1642,$AE798,COLUMNS($A:$B)),\"\")","v":""},{"$f":"IFERROR(INDEX($A$4:$R$1642,$AE798,COLUMNS($A:$C)),\"\")","v":""},{"$f":"IFERROR(INDEX($A$4:$R$1642,$AE798,COLUMNS($A:$R)),\"\")","v":""},null,"","","","",null,null,null,99]
[null,null,null,null,null,null,null,{"$f":"CONCATENATE(\"SOMMANO [\",VLOOKUP(B795,'Elenco Prezzi2'!$A$2:$E$201,3,FALSE()),\"]\")","v":{"$error":"#N/A"}},{"$f":"IF(T799=\"s\",V800,SUBTOTAL(9,I795:I799))","v":{"$error":"#REF!"}},null,{"$f":"VLOOKUP(B795,'Elenco Prezzi2'!$A$2:$E$201,5,FALSE)","v":{"$error":"#N/A"}},null,null,null,null,null,null,{"$f":"IFERROR(I799*K799,\"\")","v":""},null,"s",null,null,null,{"$f":"R799","v":""},2,0,null,"",{"$f":"ROWS($AC$4:AC799)","v":796},"",{"$f":"IFERROR(SMALL($AD$4:$AD$1642,ROWS($AD$4:AD799)),\"\")","v":""},null,{"$f":"IFERROR(INDEX($A$4:$R$1642,$AE799,COLUMNS($A:$B)),\"\")","v":""},{"$f":"IFERROR(INDEX($A$4:$R$1642,$AE799,COLUMNS($A:$C)),\"\")","v":""},{"$f":"IFERROR(INDEX($A$4:$R$1642,$AE799,COLUMNS($A:$R)),\"\")","v":""},null,null,null,null,null,null,null,null,99]
[null,null,null,null,null,null,null,{"$f":"IF(I800<0,\"a detrarre\",\"\")","v":""},{"$f":"SUMIF(I795:I798,\"<0\")","v":0},null,null,null,null,null,null,null,null,null,{"$f":"R799","v":""},null,null,{"$f":"VLOOKUP(B795,#REF!,4,FALSE)","v":{"$error":"#REF!"}},null,null,2,0,null,"",{"$f":"ROWS($AC$4:AC800)","v":797},"",{"$f":"IFERROR(SMALL($AD$4:$AD$1642,ROWS($AD$4:AD800)),\"\")","v":""},null,{"$f":"IFERROR(INDEX($A$4:$R$1642,$AE800,COLUMNS($A:$B)),\"\")","v":""},{"$f":"IFERROR(INDEX($A$4:$R$1642,$AE800,COLUMNS($A:$C)),\"\")","v":""},{"$f":"IFERROR(INDEX($A$4:$R$1642,$AE800,COLUMNS($A:$R)),\"\")","v":""},null,null,null,null,null,null,null,null,99]
[null,null,null,null,null,null,null,null,null,null,null,null,null,null,null,null,null,null,null,null,null,null,null,null,2,0,null,"",{"$f":"ROWS($AC$4:AC801)","v":798},"",{"$f":"IFERROR(SMALL($AD$4:$AD$1642,ROWS($AD$4:AD801)),\"\")","v":""},null,{"$f":"IFERROR(INDEX($A$4:$R$1642,$AE801,COLUMNS($A:$B)),\"\")","v":""},{"$f":"IFERROR(INDEX($A$4:$R$1642,$AE801,COLUMNS($A:$C)),\"\")","v":""},{"$f":"IFERROR(INDEX($A$4:$R$1642,$AE801,COLUMNS($A:$R)),\"\")","v":""},null,null,null,null,null,null,null,null,99]
[null,null,null,null,null,null,null,null,null,null,null,null,null,null,null,null,null,null,null,null,null,null,null,null,2,0,null,"",{"$f":"ROWS($AC$4:AC802)","v":799},"",{"$f":"IFERROR(SMALL($AD$4:$AD$1642,ROWS($AD$4:AD802)),\"\")","v":""},null,{"$f":"IFERROR(INDEX($A$4:$R$1642,$AE802,COLUMNS($A:$B)),\"\")","v":""},{"$f":"IFERROR(INDEX($A$4:$R$1642,$AE802,COLUMNS($A:$C)),\"\")","v":""},{"$f":"IFERROR(INDEX($A$4:$R$1642,$AE802,COLUMNS($A:$R)),\"\")","v":""},null,null,null,null,null,null,null,null,99]
[{"$f":"AR803","v":100},null,{"$f":"(VLOOKUP($B803,'Elenco Prezzi2'!$A$2:$E$201,2,FALSE))","v":{"$error":"#N/A"}},null,null,null,null,null,null,null,null,null,null,null,null,null,null,null,null,null,null,null,null,null,2,0,null,{"$f":"IF(W803>0,\"OK\",\"\")","v":""},{"$f":"ROWS($AC$4:AC803)","v":800},{"$f":"IF(AB803=\"ok\",AC803,\"\")","v":""},{"$f":"IFERROR(SMALL($AD$4:$AD$1642,ROWS($AD$4:AD803)),\"\")","v":""},null,{"$f":"IFERROR(INDEX($A$4:$R$1642,$AE803,COLUMNS($A:$B)),\"\")","v":""},{"$f":"IFERROR(INDEX($A$4:$R$1642,$AE803,COLUMNS($A:$C)),\"\")","v":""},{"$f":"IFERROR(INDEX($A$4:$R$1642,$AE803,COLUMNS($A:$R)),\"\")","v":""},null,null,null,null,null,null,null,1,{"$f":"IF(AQ803=\"\",AR802,AR802+AQ803)","v":100}]
[null,null,null,{"$f":"CONCATENATE(AK804&AL804&AM804&AN804)","v":""},null,null,null,null,{"$f":"IFERROR(IF(PRODUCT(E804:H804)=0,\"\",PRODUCT(E804:H804)),\"\")","v":""},{"$f":"I804","v":""},null,{"$f":"IF(E804>0,\" (p/u) \"&Modulo2.GetFormula(E804),\"\")","v":""},{"$f":"IF(F804>0,\" (lu) \"&Modulo2.GetFormula(F804),\"\")","v":""},{"$f":"IF(G804>0,\" (la) \"&Modulo2.GetFormula(G804),\"\")","v":""},{"$f":"IF(H804>0,\" (H) \"&Modulo2.GetFormula(H804),\"\")","v":""},null,null,null,null,null,null,null,null,null,{"$f":"IF(AO804=\"\",Y803,Y803+AO804)","v":2},{"$f":"IF(AP804=\"\",Z803,Z803+AP804)","v":0},null,"",{"$f":"ROWS($AC$4:AC804)","v":801},"",{"$f":"IFERROR(SMALL($AD$4:$AD$1642,ROWS($AD$4:AD804)),\"\")","v":""},null,{"$f":"IFERROR(INDEX($A$4:$R$1642,$AE804,COLUMNS($A:$B)),\"\")","v":""},{"$f":"IFERROR(INDEX($A$4:$R$1642,$AE804,COLUMNS($A:$C)),\"\")","v":""},{"$f":"IFERROR(INDEX($A$4:$R$1642,$AE804,COLUMNS($A:$R)),\"\")","v":""},null,{"$f":"IFERROR(IF(SEARCH(\"=\",L804),L804,\"\"),\"\")","v":""},{"$f":"IFERROR(IF(SEARCH(\"=\",M804),M804,\"\"),\"\")","v":""},{"$f":"IFERROR(IF(SEARCH(\"=\",N804),N804,\"\"),\"\")","v":""},{"$f":"IFERROR(IF(SEARCH(\"=\",O804),O804,\"\"),\"\")","v":""},null,null,null,100]
[null,null,null,"",null,null,null,null,"","",null,{"$f":"IF(E805>0,\" (p/u) \"&Modulo2.GetFormula(E805),\"\")","v":""},{"$f":"IF(F805>0,\" (lu) \"&Modulo2.GetFormula(F805),\"\")","v":""},{"$f":"IF(G805>0,\" (la) \"&Modulo2.GetFormula(G805),\"\")","v":""},{"$f":"IF(H805>0,\" (H) \"&Modulo2.GetFormula(H805),\"\")","v":""},null,null,null,null,null,null,null,null,null,2,0,null,"",{"$f":"ROWS($AC$4:AC805)","v":802},"",{"$f":"IFERROR(SMALL($AD$4:$AD$1642,ROWS($AD$4:AD805)),\"\")","v":""},null,{"$f":"IFERROR(INDEX($A$4:$R$1642,$AE805,COLUMNS($A:$B)),\"\")","v":""},{"$f":"IFERROR(INDEX($A$4:$R$1642,$AE805,COLUMNS($A:$C)),\"\")","v":""},{"$f":"IFERROR(INDEX($A$4:$R$1642,$AE805,COLUMNS($A:$R)),\"\")","v":""},null,"","","","",null,null,null,100]
[null,null,null,"",null,null,null,null,"","",null,{"$f":"IF(E806>0,\" (p/u) \"&Modulo2.GetFormula(E806),\"\")","v":""},{"$f":"IF(F806>0,\" (lu) \"&Modulo2.GetFormula(F806),\"\")","v":""},{"$f":"IF(G806>0,\" (la) \"&Modulo2.GetFormula(G806),\"\")","v":""},{"$f":"IF(H806>0,\" (H) \"&Modulo2.GetFormula(H806),\"\")","v":""},null,null,null,null,null,null,null,null,null,2,0,null,"",{"$f":"ROWS($AC$4:AC806)","v":803},"",{"$f":"IFERROR(SMALL($AD$4:$AD$1642,ROWS($AD$4:AD806)),\"\")","v":""},null,{"$f":"IFERROR(INDEX($A$4:$R$1642,$AE806,COLUMNS($A:$B)),\"\")","v":""},{"$f":"IFERROR(INDEX($A$4:$R$1642,$AE806,COLUMNS($A:$C)),\"\")","v":""},{"$f":"IFERROR(INDEX($A$4:$R$1642,$AE806,COLUMNS($A:$R)),\"\")","v":""},null,"","","","",null,null,null,100]
[null,null,null,null,null,null,null,{"$f":"CONCATENATE(\"SOMMANO [\",VLOOKUP(B803,'Elenco Prezzi2'!$A$2:$E$201,3,FALSE()),\"]\")","v":{"$error":"#N/A"}},{"$f":"IF(T807=\"s\",V808,SUBTOTAL(9,I803:I807))","v":{"$error":"#REF!"}},null,{"$f":"VLOOKUP(B803,'Elenco Prezzi2'!$A$2:$E$201,5,FALSE)","v":{"$error":"#N/A"}},null,null,null,null,null,null,{"$f":"IFERROR(I807*K807,\"\")","v":""},null,"s",null,null,null,{"$f":"R807","v":""},2,0,null,"",{"$f":"ROWS($AC$4:AC807)","v":804},"",{"$f":"IFERROR(SMALL($AD$4:$AD$1642,ROWS($AD$4:AD807)),\"\")","v":""},null,{"$f":"IFERROR(INDEX($A$4:$R$1642,$AE807,COLUMNS($A:$B)),\"\")","v":""},{"$f":"IFERROR(INDEX($A$4:$R$1642,$AE807,COLUMNS($A:$C)),\"\")","v":""},{"$f":"IFERROR(INDEX($A$4:$R$1642,$AE807,COLUMNS($A:$R)),\"\")","v":""},null,null,null,null,null,null,null,null,100]
[null,null,null,null,null,null,null,{"$f":"IF(I808<0,\"a detrarre\",\"\")","v":""},{"$f":"SUMIF(I803:I806,\"<0\")","v":0},null,null,null,null,null,null,null,null,null,{"$f":"R807","v":""},null,null,{"$f":"VLOOKUP(B803,#REF!,4,FALSE)","v":{"$error":"#REF!"}},null,null,2,0,null,"",{"$f":"ROWS($AC$4:AC808)","v":805},"",{"$f":"IFERROR(SMALL($AD$4:$AD$1642,ROWS($AD$4:AD808)),\"\")","v":""},null,{"$f":"IFERROR(INDEX($A$4:$R$1642,$AE808,COLUMNS($A:$B)),\"\")","v":""},{"$f":"IFERROR(INDEX($A$4:$R$1642,$AE808,COLUMNS($A:$C)),\"\")","v":""},{"$f":"IFERROR(INDEX($A$4:$R$1642,$AE808,COLUMNS($A:$R)),\"\")","v":""},null,null,null,null,null,null,null,null,100]
[null,null,null,null,null,null,null,null,null,null,null,null,null,null,null,null,null,null,null,null,null,null,null,null,2,0,null,"",{"$f":"ROWS($AC$4:AC809)","v":806},"",{"$f":"IFERROR(SMALL($AD$4:$AD$1642,ROWS($AD$4:AD809)),\"\")","v":""},null,{"$f":"IFERROR(INDEX($A$4:$R$1642,$AE809,COLUMNS($A:$B)),\"\")","v":""},{"$f":"IFERROR(INDEX($A$4:$R$1642,$AE809,COLUMNS($A:$C)),\"\")","v":""},{"$f":"IFERROR(INDEX($A$4:$R$1642,$AE809,COLUMNS($A:$R)),\"\")","v":""},null,null,null,null,null,null,null,null,100]
[null,null,null,null,null,null,null,null,null,null,null,null,null,null,null,null,null,null,null,null,null,null,null,null,2,0,null,"",{"$f":"ROWS($AC$4:AC810)","v":807},"",{"$f":"IFERROR(SMALL($AD$4:$AD$1642,ROWS($AD$4:AD810)),\"\")","v":""},null,{"$f":"IFERROR(INDEX($A$4:$R$1642,$AE810,COLUMNS($A:$B)),\"\")","v":""},{"$f":"IFERROR(INDEX($A$4:$R$1642,$AE810,COLUMNS($A:$C)),\"\")","v":""},{"$f":"IFERROR(INDEX($A$4:$R$1642,$AE810,COLUMNS($A:$R)),\"\")","v":""},null,null,null,null,null,null,null,null,100]
[{"$f":"AR811","v":101},null,{"$f":"(VLOOKUP($B811,'Elenco Prezzi2'!$A$2:$E$201,2,FALSE))","v":{"$error":"#N/A"}},null,null,null,null,null,null,null,null,null,null,null,null,null,null,null,null,null,null,null,null,null,2,0,null,"",{"$f":"ROWS($AC$4:AC811)","v":808},"",{"$f":"IFERROR(SMALL($AD$4:$AD$1642,ROWS($AD$4:AD811)),\"\")","v":""},null,{"$f":"IFERROR(INDEX($A$4:$R$1642,$AE811,COLUMNS($A:$B)),\"\")","v":""},{"$f":"IFERROR(INDEX($A$4:$R$1642,$AE811,COLUMNS($A:$C)),\"\")","v":""},{"$f":"IFERROR(INDEX($A$4:$R$1642,$AE811,COLUMNS($A:$R)),\"\")","v":""},null,null,null,null,null,null,null,1,101]
[null,null,null,{"$f":"CONCATENATE(AK812&AL812&AM812&AN812)","v":""},null,null,null,null,{"$f":"IFERROR(IF(PRODUCT(E812:H812)=0,\"\",PRODUCT(E812:H812)),\"\")","v":""},{"$f":"I812","v":""},null,{"$f":"IF(E812>0,\" (p/u) \"&Modulo2.GetFormula(E812),\"\")","v":""},{"$f":"IF(F812>0,\" (lu) \"&Modulo2.GetFormula(F812),\"\")","v":""},{"$f":"IF(G812>0,\" (la) \"&Modulo2.GetFormula(G812),\"\")","v":""},{"$f":"IF(H812>0,\" (H) \"&Modulo2.GetFormula(H812),\"\")","v":""},null,null,null,null,null,null,null,null,null,2,0,null,"",{"$f":"ROWS($AC$4:AC812)","v":809},"",{"$f":"IFERROR(SMALL($AD$4:$AD$1642,ROWS($AD$4:AD812)),\"\")","v":""},null,{"$f":"IFERROR(INDEX($A$4:$R$1642,$AE812,COLUMNS($A:$B)),\"\")","v":""},{"$f":"IFERROR(INDEX($A$4:$R$1642,$AE812,COLUMNS($A:$C)),\"\")","v":""},{"$f":"IFERROR(INDEX($A$4:$R$1642,$AE812,COLUMNS($A:$R)),\"\")","v":""},null,{"$f":"IFERROR(IF(SEARCH(\"=\",L812),L812,\"\"),\"\")","v":""},{"$f":"IFERROR(IF(SEARCH(\"=\",M812),M812,\"\"),\"\")","v":""},{"$f":"IFERROR(IF(SEARCH(\"=\",N812),N812,\"\"),\"\")","v":""},{"$f":"IFERROR(IF(SEARCH(\"=\",O812),O812,\"\"),\"\")","v":""},null,null,null,101]
[null,null,null,"",null,null,null,null,"","",null,{"$f":"IF(E813>0,\" (p/u) \"&Modulo2.GetFormula(E813),\"\")","v":""},{"$f":"IF(F813>0,\" (lu) \"&Modulo2.GetFormula(F813),\"\")","v":""},{"$f":"IF(G813>0,\" (la) \"&Modulo2.GetFormula(G813),\"\")","v":""},{"$f":"IF(H813>0,\" (H) \"&Modulo2.GetFormula(H813),\"\")","v":""},null,null,null,null,null,null,null,null,null,2,0,null,"",{"$f":"ROWS($AC$4:AC813)","v":810},"",{"$f":"IFERROR(SMALL($AD$4:$AD$1642,ROWS($AD$4:AD813)),\"\")","v":""},null,{"$f":"IFERROR(INDEX($A$4:$R$1642,$AE813,COLUMNS($A:$B)),\"\")","v":""},{"$f":"IFERROR(INDEX($A$4:$R$1642,$AE813,COLUMNS($A:$C)),\"\")","v":""},{"$f":"IFERROR(INDEX($A$4:$R$1642,$AE813,COLUMNS($A:$R)),\"\")","v":""},null,"","","","",null,null,null,101]
[null,null,null,"",null,null,null,null,"","",null,{"$f":"IF(E814>0,\" (p/u) \"&Modulo2.GetFormula(E814),\"\")","v":""},{"$f":"IF(F814>0,\" (lu) \"&Modulo2.GetFormula(F814),\"\")","v":""},{"$f":"IF(G814>0,\" (la) \"&Modulo2.GetFormula(G814),\"\")","v":""},{"$f":"IF(H814>0,\" (H) \"&Modulo2.GetFormula(H814),\"\")","v":""},null,null,null,null,null,null,null,null,null,2,0,null,"",{"$f":"ROWS($AC$4:AC814)","v":811},"",{"$f":"IFERROR(SMALL($AD$4:$AD$1642,ROWS($AD$4:AD814)),\"\")","v":""},null,{"$f":"IFERROR(INDEX($A$4:$R$1642,$AE814,COLUMNS($A:$B)),\"\")","v":""},{"$f":"IFERROR(INDEX($A$4:$R$1642,$AE814,COLUMNS($A:$C)),\"\")","v":""},{"$f":"IFERROR(INDEX($A$4:$R$1642,$AE814,COLUMNS($A:$R)),\"\")","v":""},null,"","","","",null,null,null,101]
[null,null,null,null,null,null,null,{"$f":"CONCATENATE(\"SOMMANO [\",VLOOKUP(B811,'Elenco Prezzi2'!$A$2:$E$201,3,FALSE()),\"]\")","v":{"$error":"#N/A"}},{"$f":"IF(T815=\"s\",V816,SUBTOTAL(9,I811:I815))","v":{"$error":"#REF!"}},null,{"$f":"VLOOKUP(B811,'Elenco Prezzi2'!$A$2:$E$201,5,FALSE)","v":{"$error":"#N/A"}},null,null,null,null,null,null,{"$f":"IFERROR(I815*K815,\"\")","v":""},null,"s",null,null,null,{"$f":"R815","v":""},2,0,null,"",{"$f":"ROWS($AC$4:AC815)","v":812},"",{"$f":"IFERROR(SMALL($AD$4:$AD$1642,ROWS($AD$4:AD815)),\"\")","v":""},null,{"$f":"IFERROR(INDEX($A$4:$R$1642,$AE815,COLUMNS($A:$B)),\"\")","v":""},{"$f":"IFERROR(INDEX($A$4:$R$1642,$AE815,COLUMNS($A:$C)),\"\")","v":""},{"$f":"IFERROR(INDEX($A$4:$R$1642,$AE815,COLUMNS($A:$R)),\"\")","v":""},null,null,null,null,null,null,null,null,101]
[null,null,null,null,null,null,null,{"$f":"IF(I816<0,\"a detrarre\",\"\")","v":""},{"$f":"SUMIF(I811:I814,\"<0\")","v":0},null,null,null,null,null,null,null,null,null,{"$f":"R815","v":""},null,null,{"$f":"VLOOKUP(B811,#REF!,4,FALSE)","v":{"$error":"#REF!"}},null,null,2,0,null,"",{"$f":"ROWS($AC$4:AC816)","v":813},"",{"$f":"IFERROR(SMALL($AD$4:$AD$1642,ROWS($AD$4:AD816)),\"\")","v":""},null,{"$f":"IFERROR(INDEX($A$4:$R$1642,$AE816,COLUMNS($A:$B)),\"\")","v":""},{"$f":"IFERROR(INDEX($A$4:$R$1642,$AE816,COLUMNS($A:$C)),\"\")","v":""},{"$f":"IFERROR(INDEX($A$4:$R$1642,$AE816,COLUMNS($A:$R)),\"\")","v":""},null,null,null,null,null,null,null,null,101]
[null,null,null,null,null,null,null,null,null,null,null,null,null,null,null,null,null,null,null,null,null,null,null,null,2,0,null,"",{"$f":"ROWS($AC$4:AC817)","v":814},"",{"$f":"IFERROR(SMALL($AD$4:$AD$1642,ROWS($AD$4:AD817)),\"\")","v":""},null,{"$f":"IFERROR(INDEX($A$4:$R$1642,$AE817,COLUMNS($A:$B)),\"\")","v":""},{"$f":"IFERROR(INDEX($A$4:$R$1642,$AE817,COLUMNS($A:$C)),\"\")","v":""},{"$f":"IFERROR(INDEX($A$4:$R$1642,$AE817,COLUMNS($A:$R)),\"\")","v":""},null,null,null,null,null,null,null,null,101]
[null,null,null,null,null,null,null,null,null,null,null,null,null,null,null,null,null,null,null,null,null,null,null,null,2,0,null,"",{"$f":"ROWS($AC$4:AC818)","v":815},"",{"$f":"IFERROR(SMALL($AD$4:$AD$1642,ROWS($AD$4:AD818)),\"\")","v":""},null,{"$f":"IFERROR(INDEX($A$4:$R$1642,$AE818,COLUMNS($A:$B)),\"\")","v":""},{"$f":"IFERROR(INDEX($A$4:$R$1642,$AE818,COLUMNS($A:$C)),\"\")","v":""},{"$f":"IFERROR(INDEX($A$4:$R$1642,$AE818,COLUMNS($A:$R)),\"\")","v":""},null,null,null,null,null,null,null,null,101]
[{"$f":"AR819","v":102},null,{"$f":"(VLOOKUP($B819,'Elenco Prezzi2'!$A$2:$E$201,2,FALSE))","v":{"$error":"#N/A"}},null,null,null,null,null,null,null,null,null,null,null,null,null,null,null,null,null,null,null,null,null,2,0,null,"",{"$f":"ROWS($AC$4:AC819)","v":816},"",{"$f":"IFERROR(SMALL($AD$4:$AD$1642,ROWS($AD$4:AD819)),\"\")","v":""},null,{"$f":"IFERROR(INDEX($A$4:$R$1642,$AE819,COLUMNS($A:$B)),\"\")","v":""},{"$f":"IFERROR(INDEX($A$4:$R$1642,$AE819,COLUMNS($A:$C)),\"\")","v":""},{"$f":"IFERROR(INDEX($A$4:$R$1642,$AE819,COLUMNS($A:$R)),\"\")","v":""},null,null,null,null,null,null,null,1,102]
[null,null,null,{"$f":"CONCATENATE(AK820&AL820&AM820&AN820)","v":""},null,null,null,null,{"$f":"IFERROR(IF(PRODUCT(E820:H820)=0,\"\",PRODUCT(E820:H820)),\"\")","v":""},{"$f":"I820","v":""},null,{"$f":"IF(E820>0,\" (p/u) \"&Modulo2.GetFormula(E820),\"\")","v":""},{"$f":"IF(F820>0,\" (lu) \"&Modulo2.GetFormula(F820),\"\")","v":""},{"$f":"IF(G820>0,\" (la) \"&Modulo2.GetFormula(G820),\"\")","v":""},{"$f":"IF(H820>0,\" (H) \"&Modulo2.GetFormula(H820),\"\")","v":""},null,null,null,null,null,null,null,null,null,2,0,null,"",{"$f":"ROWS($AC$4:AC820)","v":817},"",{"$f":"IFERROR(SMALL($AD$4:$AD$1642,ROWS($AD$4:AD820)),\"\")","v":""},null,{"$f":"IFERROR(INDEX($A$4:$R$1642,$AE820,COLUMNS($A:$B)),\"\")","v":""},{"$f":"IFERROR(INDEX($A$4:$R$1642,$AE820,COLUMNS($A:$C)),\"\")","v":""},{"$f":"IFERROR(INDEX($A$4:$R$1642,$AE820,COLUMNS($A:$R)),\"\")","v":""},null,{"$f":"IFERROR(IF(SEARCH(\"=\",L820),L820,\"\"),\"\")","v":""},{"$f":"IFERROR(IF(SEARCH(\"=\",M820),M820,\"\"),\"\")","v":""},{"$f":"IFERROR(IF(SEARCH(\"=\",N820),N820,\"\"),\"\")","v":""},{"$f":"IFERROR(IF(SEARCH(\"=\",O820),O820,\"\"),\"\")","v":""},null,null,null,102]
[null,null,null,"",null,null,null,null,"","",null,{"$f":"IF(E821>0,\" (p/u) \"&Modulo2.GetFormula(E821),\"\")","v":""},{"$f":"IF(F821>0,\" (lu) \"&Modulo2.GetFormula(F821),\"\")","v":""},{"$f":"IF(G821>0,\" (la) \"&Modulo2.GetFormula(G821),\"\")","v":""},{"$f":"IF(H821>0,\" (H) \"&Modulo2.GetFormula(H821),\"\")","v":""},null,null,null,null,null,null,null,null,null,2,0,null,"",{"$f":"ROWS($AC$4:AC821)","v":818},"",{"$f":"IFERROR(SMALL($AD$4:$AD$1642,ROWS($AD$4:AD821)),\"\")","v":""},null,{"$f":"IFERROR(INDEX($A$4:$R$1642,$AE821,COLUMNS($A:$B)),\"\")","v":""},{"$f":"IFERROR(INDEX($A$4:$R$1642,$AE821,COLUMNS($A:$C)),\"\")","v":""},{"$f":"IFERROR(INDEX($A$4:$R$1642,$AE821,COLUMNS($A:$R)),\"\")","v":""},null,"","","","",null,null,null,102]
[null,null,null,"",null,null,null,null,"","",null,{"$f":"IF(E822>0,\" (p/u) \"&Modulo2.GetFormula(E822),\"\")","v":""},{"$f":"IF(F822>0,\" (lu) \"&Modulo2.GetFormula(F822),\"\")","v":""},{"$f":"IF(G822>0,\" (la) \"&Modulo2.GetFormula(G822),\"\")","v":""},{"$f":"IF(H822>0,\" (H) \"&Modulo2.GetFormula(H822),\"\")","v":""},null,null,null,null,null,null,null,null,null,2,0,null,"",{"$f":"ROWS($AC$4:AC822)","v":819},"",{"$f":"IFERROR(SMALL($AD$4:$AD$1642,ROWS($AD$4:AD822)),\"\")","v":""},null,{"$f":"IFERROR(INDEX($A$4:$R$1642,$AE822,COLUMNS($A:$B)),\"\")","v":""},{"$f":"IFERROR(INDEX($A$4:$R$1642,$AE822,COLUMNS($A:$C)),\"\")","v":""},{"$f":"IFERROR(INDEX($A$4:$R$1642,$AE822,COLUMNS($A:$R)),\"\")","v":""},null,"","","","",null,null,null,102]
[null,null,null,null,null,null,null,{"$f":"CONCATENATE(\"SOMMANO [\",VLOOKUP(B819,'Elenco Prezzi2'!$A$2:$E$201,3,FALSE()),\"]\")","v":{"$error":"#N/A"}},{"$f":"IF(T823=\"s\",V824,SUBTOTAL(9,I819:I823))","v":{"$error":"#REF!"}},null,{"$f":"VLOOKUP(B819,'Elenco Prezzi2'!$A$2:$E$201,5,FALSE)","v":{"$error":"#N/A"}},null,null,null,null,null,null,{"$f":"IFERROR(I823*K823,\"\")","v":""},null,"s",null,null,null,{"$f":"R823","v":""},2,0,null,"",{"$f":"ROWS($AC$4:AC823)","v":820},"",{"$f":"IFERROR(SMALL($AD$4:$AD$1642,ROWS($AD$4:AD823)),\"\")","v":""},null,{"$f":"IFERROR(INDEX($A$4:$R$1642,$AE823,COLUMNS($A:$B)),\"\")","v":""},{"$f":"IFERROR(INDEX($A$4:$R$1642,$AE823,COLUMNS($A:$C)),\"\")","v":""},{"$f":"IFERROR(INDEX($A$4:$R$1642,$AE823,COLUMNS($A:$R)),\"\")","v":""},null,null,null,null,null,null,null,null,102]
[null,null,null,null,null,null,null,{"$f":"IF(I824<0,\"a detrarre\",\"\")","v":""},{"$f":"SUMIF(I819:I822,\"<0\")","v":0},null,null,null,null,null,null,null,null,null,{"$f":"R823","v":""},null,null,{"$f":"VLOOKUP(B819,#REF!,4,FALSE)","v":{"$error":"#REF!"}},null,null,2,0,null,"",{"$f":"ROWS($AC$4:AC824)","v":821},"",{"$f":"IFERROR(SMALL($AD$4:$AD$1642,ROWS($AD$4:AD824)),\"\")","v":""},null,{"$f":"IFERROR(INDEX($A$4:$R$1642,$AE824,COLUMNS($A:$B)),\"\")","v":""},{"$f":"IFERROR(INDEX($A$4:$R$1642,$AE824,COLUMNS($A:$C)),\"\")","v":""},{"$f":"IFERROR(INDEX($A$4:$R$1642,$AE824,COLUMNS($A:$R)),\"\")","v":""},null,null,null,null,null,null,null,null,102]
[null,null,null,null,null,null,null,null,null,null,null,null,null,null,null,null,null,null,null,null,null,null,null,null,2,0,null,"",{"$f":"ROWS($AC$4:AC825)","v":822},"",{"$f":"IFERROR(SMALL($AD$4:$AD$1642,ROWS($AD$4:AD825)),\"\")","v":""},null,{"$f":"IFERROR(INDEX($A$4:$R$1642,$AE825,COLUMNS($A:$B)),\"\")","v":""},{"$f":"IFERROR(INDEX($A$4:$R$1642,$AE825,COLUMNS($A:$C)),\"\")","v":""},{"$f":"IFERROR(INDEX($A$4:$R$1642,$AE825,COLUMNS($A:$R)),\"\")","v":""},null,null,null,null,null,null,null,null,102]
[null,null,null,null,null,null,null,null,null,null,null,null,null,null,null,null,null,null,null,null,null,null,null,null,2,0,null,"",{"$f":"ROWS($AC$4:AC826)","v":823},"",{"$f":"IFERROR(SMALL($AD$4:$AD$1642,ROWS($AD$4:AD826)),\"\")","v":""},null,{"$f":"IFERROR(INDEX($A$4:$R$1642,$AE826,COLUMNS($A:$B)),\"\")","v":""},{"$f":"IFERROR(INDEX($A$4:$R$1642,$AE826,COLUMNS($A:$C)),\"\")","v":""},{"$f":"IFERROR(INDEX($A$4:$R$1642,$AE826,COLUMNS($A:$R)),\"\")","v":""},null,null,null,null,null,null,null,null,102]
[{"$f":"AR827","v":103},null,{"$f":"(VLOOKUP($B827,'Elenco Prezzi2'!$A$2:$E$201,2,FALSE))","v":{"$error":"#N/A"}},null,null,null,null,null,null,null,null,null,null,null,null,null,null,null,null,null,null,null,null,null,2,0,null,"",{"$f":"ROWS($AC$4:AC827)","v":824},"",{"$f":"IFERROR(SMALL($AD$4:$AD$1642,ROWS($AD$4:AD827)),\"\")","v":""},null,{"$f":"IFERROR(INDEX($A$4:$R$1642,$AE827,COLUMNS($A:$B)),\"\")","v":""},{"$f":"IFERROR(INDEX($A$4:$R$1642,$AE827,COLUMNS($A:$C)),\"\")","v":""},{"$f":"IFERROR(INDEX($A$4:$R$1642,$AE827,COLUMNS($A:$R)),\"\")","v":""},null,null,null,null,null,null,null,1,103]
[null,null,null,{"$f":"CONCATENATE(AK828&AL828&AM828&AN828)","v":""},null,null,null,null,{"$f":"IFERROR(IF(PRODUCT(E828:H828)=0,\"\",PRODUCT(E828:H828)),\"\")","v":""},{"$f":"I828","v":""},null,{"$f":"IF(E828>0,\" (p/u) \"&Modulo2.GetFormula(E828),\"\")","v":""},{"$f":"IF(F828>0,\" (lu) \"&Modulo2.GetFormula(F828),\"\")","v":""},{"$f":"IF(G828>0,\" (la) \"&Modulo2.GetFormula(G828),\"\")","v":""},{"$f":"IF(H828>0,\" (H) \"&Modulo2.GetFormula(H828),\"\")","v":""},null,null,null,null,null,null,null,null,null,2,0,null,"",{"$f":"ROWS($AC$4:AC828)","v":825},"",{"$f":"IFERROR(SMALL($AD$4:$AD$1642,ROWS($AD$4:AD828)),\"\")","v":""},null,{"$f":"IFERROR(INDEX($A$4:$R$1642,$AE828,COLUMNS($A:$B)),\"\")","v":""},{"$f":"IFERROR(INDEX($A$4:$R$1642,$AE828,COLUMNS($A:$C)),\"\")","v":""},{"$f":"IFERROR(INDEX($A$4:$R$1642,$AE828,COLUMNS($A:$R)),\"\")","v":""},null,{"$f":"IFERROR(IF(SEARCH(\"=\",L828),L828,\"\"),\"\")","v":""},{"$f":"IFERROR(IF(SEARCH(\"=\",M828),M828,\"\"),\"\")","v":""},{"$f":"IFERROR(IF(SEARCH(\"=\",N828),N828,\"\"),\"\")","v":""},{"$f":"IFERROR(IF(SEARCH(\"=\",O828),O828,\"\"),\"\")","v":""},null,null,null,103]
[null,null,null,"",null,null,null,null,"","",null,{"$f":"IF(E829>0,\" (p/u) \"&Modulo2.GetFormula(E829),\"\")","v":""},{"$f":"IF(F829>0,\" (lu) \"&Modulo2.GetFormula(F829),\"\")","v":""},{"$f":"IF(G829>0,\" (la) \"&Modulo2.GetFormula(G829),\"\")","v":""},{"$f":"IF(H829>0,\" (H) \"&Modulo2.GetFormula(H829),\"\")","v":""},null,null,null,null,null,null,null,null,null,2,0,null,"",{"$f":"ROWS($AC$4:AC829)","v":826},"",{"$f":"IFERROR(SMALL($AD$4:$AD$1642,ROWS($AD$4:AD829)),\"\")","v":""},null,{"$f":"IFERROR(INDEX($A$4:$R$1642,$AE829,COLUMNS($A:$B)),\"\")","v":""},{"$f":"IFERROR(INDEX($A$4:$R$1642,$AE829,COLUMNS($A:$C)),\"\")","v":""},{"$f":"IFERROR(INDEX($A$4:$R$1642,$AE829,COLUMNS($A:$R)),\"\")","v":""},null,"","","","",null,null,null,103]
[null,null,null,"",null,null,null,null,"","",null,{"$f":"IF(E830>0,\" (p/u) \"&Modulo2.GetFormula(E830),\"\")","v":""},{"$f":"IF(F830>0,\" (lu) \"&Modulo2.GetFormula(F830),\"\")","v":""},{"$f":"IF(G830>0,\" (la) \"&Modulo2.GetFormula(G830),\"\")","v":""},{"$f":"IF(H830>0,\" (H) \"&Modulo2.GetFormula(H830),\"\")","v":""},null,null,null,null,null,null,null,null,null,2,0,null,"",{"$f":"ROWS($AC$4:AC830)","v":827},"",{"$f":"IFERROR(SMALL($AD$4:$AD$1642,ROWS($AD$4:AD830)),\"\")","v":""},null,{"$f":"IFERROR(INDEX($A$4:$R$1642,$AE830,COLUMNS($A:$B)),\"\")","v":""},{"$f":"IFERROR(INDEX($A$4:$R$1642,$AE830,COLUMNS($A:$C)),\"\")","v":""},{"$f":"IFERROR(INDEX($A$4:$R$1642,$AE830,COLUMNS($A:$R)),\"\")","v":""},null,"","","","",null,null,null,103]
[null,null,null,null,null,null,null,{"$f":"CONCATENATE(\"SOMMANO [\",VLOOKUP(B827,'Elenco Prezzi2'!$A$2:$E$201,3,FALSE()),\"]\")","v":{"$error":"#N/A"}},{"$f":"IF(T831=\"s\",V832,SUBTOTAL(9,I827:I831))","v":{"$error":"#REF!"}},null,{"$f":"VLOOKUP(B827,'Elenco Prezzi2'!$A$2:$E$201,5,FALSE)","v":{"$error":"#N/A"}},null,null,null,null,null,null,{"$f":"IFERROR(I831*K831,\"\")","v":""},null,"s",null,null,null,{"$f":"R831","v":""},2,0,null,"",{"$f":"ROWS($AC$4:AC831)","v":828},"",{"$f":"IFERROR(SMALL($AD$4:$AD$1642,ROWS($AD$4:AD831)),\"\")","v":""},null,{"$f":"IFERROR(INDEX($A$4:$R$1642,$AE831,COLUMNS($A:$B)),\"\")","v":""},{"$f":"IFERROR(INDEX($A$4:$R$1642,$AE831,COLUMNS($A:$C)),\"\")","v":""},{"$f":"IFERROR(INDEX($A$4:$R$1642,$AE831,COLUMNS($A:$R)),\"\")","v":""},null,null,null,null,null,null,null,null,103]
[null,null,null,null,null,null,null,{"$f":"IF(I832<0,\"a detrarre\",\"\")","v":""},{"$f":"SUMIF(I827:I830,\"<0\")","v":0},null,null,null,null,null,null,null,null,null,{"$f":"R831","v":""},null,null,{"$f":"VLOOKUP(B827,#REF!,4,FALSE)","v":{"$error":"#REF!"}},null,null,2,0,null,"",{"$f":"ROWS($AC$4:AC832)","v":829},"",{"$f":"IFERROR(SMALL($AD$4:$AD$1642,ROWS($AD$4:AD832)),\"\")","v":""},null,{"$f":"IFERROR(INDEX($A$4:$R$1642,$AE832,COLUMNS($A:$B)),\"\")","v":""},{"$f":"IFERROR(INDEX($A$4:$R$1642,$AE832,COLUMNS($A:$C)),\"\")","v":""},{"$f":"IFERROR(INDEX($A$4:$R$1642,$AE832,COLUMNS($A:$R)),\"\")","v":""},null,null,null,null,null,null,null,null,103]
[null,null,null,null,null,null,null,null,null,null,null,null,null,null,null,null,null,null,null,null,null,null,null,null,2,0,null,"",{"$f":"ROWS($AC$4:AC833)","v":830},"",{"$f":"IFERROR(SMALL($AD$4:$AD$1642,ROWS($AD$4:AD833)),\"\")","v":""},null,{"$f":"IFERROR(INDEX($A$4:$R$1642,$AE833,COLUMNS($A:$B)),\"\")","v":""},{"$f":"IFERROR(INDEX($A$4:$R$1642,$AE833,COLUMNS($A:$C)),\"\")","v":""},{"$f":"IFERROR(INDEX($A$4:$R$1642,$AE833,COLUMNS($A:$R)),\"\")","v":""},null,null,null,null,null,null,null,null,103]
[null,null,null,null,null,null,null,null,null,null,null,null,null,null,null,null,null,null,null,null,null,null,null,null,2,0,null,"",{"$f":"ROWS($AC$4:AC834)","v":831},"",{"$f":"IFERROR(SMALL($AD$4:$AD$1642,ROWS($AD$4:AD834)),\"\")","v":""},null,{"$f":"IFERROR(INDEX($A$4:$R$1642,$AE834,COLUMNS($A:$B)),\"\")","v":""},{"$f":"IFERROR(INDEX($A$4:$R$1642,$AE834,COLUMNS($A:$C)),\"\")","v":""},{"$f":"IFERROR(INDEX($A$4:$R$1642,$AE834,COLUMNS($A:$R)),\"\")","v":""},null,null,null,null,null,null,null,null,103]
[{"$f":"AR835","v":104},null,{"$f":"(VLOOKUP($B835,'Elenco Prezzi2'!$A$2:$E$201,2,FALSE))","v":{"$error":"#N/A"}},null,null,null,null,null,null,null,null,null,null,null,null,null,null,null,null,null,null,null,null,null,2,0,null,"",{"$f":"ROWS($AC$4:AC835)","v":832},"",{"$f":"IFERROR(SMALL($AD$4:$AD$1642,ROWS($AD$4:AD835)),\"\")","v":""},null,{"$f":"IFERROR(INDEX($A$4:$R$1642,$AE835,COLUMNS($A:$B)),\"\")","v":""},{"$f":"IFERROR(INDEX($A$4:$R$1642,$AE835,COLUMNS($A:$C)),\"\")","v":""},{"$f":"IFERROR(INDEX($A$4:$R$1642,$AE835,COLUMNS($A:$R)),\"\")","v":""},null,null,null,null,null,null,null,1,104]
[null,null,null,{"$f":"CONCATENATE(AK836&AL836&AM836&AN836)","v":""},null,null,null,null,{"$f":"IFERROR(IF(PRODUCT(E836:H836)=0,\"\",PRODUCT(E836:H836)),\"\")","v":""},{"$f":"I836","v":""},null,{"$f":"IF(E836>0,\" (p/u) \"&Modulo2.GetFormula(E836),\"\")","v":""},{"$f":"IF(F836>0,\" (lu) \"&Modulo2.GetFormula(F836),\"\")","v":""},{"$f":"IF(G836>0,\" (la) \"&Modulo2.GetFormula(G836),\"\")","v":""},{"$f":"IF(H836>0,\" (H) \"&Modulo2.GetFormula(H836),\"\")","v":""},null,null,null,null,null,null,null,null,null,2,0,null,"",{"$f":"ROWS($AC$4:AC836)","v":833},"",{"$f":"IFERROR(SMALL($AD$4:$AD$1642,ROWS($AD$4:AD836)),\"\")","v":""},null,{"$f":"IFERROR(INDEX($A$4:$R$1642,$AE836,COLUMNS($A:$B)),\"\")","v":""},{"$f":"IFERROR(INDEX($A$4:$R$1642,$AE836,COLUMNS($A:$C)),\"\")","v":""},{"$f":"IFERROR(INDEX($A$4:$R$1642,$AE836,COLUMNS($A:$R)),\"\")","v":""},null,{"$f":"IFERROR(IF(SEARCH(\"=\",L836),L836,\"\"),\"\")","v":""},{"$f":"IFERROR(IF(SEARCH(\"=\",M836),M836,\"\"),\"\")","v":""},{"$f":"IFERROR(IF(SEARCH(\"=\",N836),N836,\"\"),\"\")","v":""},{"$f":"IFERROR(IF(SEARCH(\"=\",O836),O836,\"\"),\"\")","v":""},null,null,null,104]
[null,null,null,"",null,null,null,null,"","",null,{"$f":"IF(E837>0,\" (p/u) \"&Modulo2.GetFormula(E837),\"\")","v":""},{"$f":"IF(F837>0,\" (lu) \"&Modulo2.GetFormula(F837),\"\")","v":""},{"$f":"IF(G837>0,\" (la) \"&Modulo2.GetFormula(G837),\"\")","v":""},{"$f":"IF(H837>0,\" (H) \"&Modulo2.GetFormula(H837),\"\")","v":""},null,null,null,null,null,null,null,null,null,2,0,null,"",{"$f":"ROWS($AC$4:AC837)","v":834},"",{"$f":"IFERROR(SMALL($AD$4:$AD$1642,ROWS($AD$4:AD837)),\"\")","v":""},null,{"$f":"IFERROR(INDEX($A$4:$R$1642,$AE837,COLUMNS($A:$B)),\"\")","v":""},{"$f":"IFERROR(INDEX($A$4:$R$1642,$AE837,COLUMNS($A:$C)),\"\")","v":""},{"$f":"IFERROR(INDEX($A$4:$R$1642,$AE837,COLUMNS($A:$R)),\"\")","v":""},null,"","","","",null,null,null,104]
[null,null,null,"",null,null,null,null,"","",null,{"$f":"IF(E838>0,\" (p/u) \"&Modulo2.GetFormula(E838),\"\")","v":""},{"$f":"IF(F838>0,\" (lu) \"&Modulo2.GetFormula(F838),\"\")","v":""},{"$f":"IF(G838>0,\" (la) \"&Modulo2.GetFormula(G838),\"\")","v":""},{"$f":"IF(H838>0,\" (H) \"&Modulo2.GetFormula(H838),\"\")","v":""},null,null,null,null,null,null,null,null,null,2,0,null,"",{"$f":"ROWS($AC$4:AC838)","v":835},"",{"$f":"IFERROR(SMALL($AD$4:$AD$1642,ROWS($AD$4:AD838)),\"\")","v":""},null,{"$f":"IFERROR(INDEX($A$4:$R$1642,$AE838,COLUMNS($A:$B)),\"\")","v":""},{"$f":"IFERROR(INDEX($A$4:$R$1642,$AE838,COLUMNS($A:$C)),\"\")","v":""},{"$f":"IFERROR(INDEX($A$4:$R$1642,$AE838,COLUMNS($A:$R)),\"\")","v":""},null,"","","","",null,null,null,104]
[null,null,null,null,null,null,null,{"$f":"CONCATENATE(\"SOMMANO [\",VLOOKUP(B835,'Elenco Prezzi2'!$A$2:$E$201,3,FALSE()),\"]\")","v":{"$error":"#N/A"}},{"$f":"IF(T839=\"s\",V840,SUBTOTAL(9,I835:I839))","v":{"$error":"#REF!"}},null,{"$f":"VLOOKUP(B835,'Elenco Prezzi2'!$A$2:$E$201,5,FALSE)","v":{"$error":"#N/A"}},null,null,null,null,null,null,{"$f":"IFERROR(I839*K839,\"\")","v":""},null,"s",null,null,null,{"$f":"R839","v":""},2,0,null,"",{"$f":"ROWS($AC$4:AC839)","v":836},"",{"$f":"IFERROR(SMALL($AD$4:$AD$1642,ROWS($AD$4:AD839)),\"\")","v":""},null,{"$f":"IFERROR(INDEX($A$4:$R$1642,$AE839,COLUMNS($A:$B)),\"\")","v":""},{"$f":"IFERROR(INDEX($A$4:$R$1642,$AE839,COLUMNS($A:$C)),\"\")","v":""},{"$f":"IFERROR(INDEX($A$4:$R$1642,$AE839,COLUMNS($A:$R)),\"\")","v":""},null,null,null,null,null,null,null,null,104]
[null,null,null,null,null,null,null,{"$f":"IF(I840<0,\"a detrarre\",\"\")","v":""},{"$f":"SUMIF(I835:I838,\"<0\")","v":0},null,null,null,null,null,null,null,null,null,{"$f":"R839","v":""},null,null,{"$f":"VLOOKUP(B835,#REF!,4,FALSE)","v":{"$error":"#REF!"}},null,null,2,0,null,"",{"$f":"ROWS($AC$4:AC840)","v":837},"",{"$f":"IFERROR(SMALL($AD$4:$AD$1642,ROWS($AD$4:AD840)),\"\")","v":""},null,{"$f":"IFERROR(INDEX($A$4:$R$1642,$AE840,COLUMNS($A:$B)),\"\")","v":""},{"$f":"IFERROR(INDEX($A$4:$R$1642,$AE840,COLUMNS($A:$C)),\"\")","v":""},{"$f":"IFERROR(INDEX($A$4:$R$1642,$AE840,COLUMNS($A:$R)),\"\")","v":""},null,null,null,null,null,null,null,null,104]
[null,null,null,null,null,null,null,null,null,null,null,null,null,null,null,null,null,null,null,null,null,null,null,null,2,0,null,"",{"$f":"ROWS($AC$4:AC841)","v":838},"",{"$f":"IFERROR(SMALL($AD$4:$AD$1642,ROWS($AD$4:AD841)),\"\")","v":""},null,{"$f":"IFERROR(INDEX($A$4:$R$1642,$AE841,COLUMNS($A:$B)),\"\")","v":""},{"$f":"IFERROR(INDEX($A$4:$R$1642,$AE841,COLUMNS($A:$C)),\"\")","v":""},{"$f":"IFERROR(INDEX($A$4:$R$1642,$AE841,COLUMNS($A:$R)),\"\")","v":""},null,null,null,null,null,null,null,null,104]
[null,null,null,null,null,null,null,null,null,null,null,null,null,null,null,null,null,null,null,null,null,null,null,null,2,0,null,"",{"$f":"ROWS($AC$4:AC842)","v":839},"",{"$f":"IFERROR(SMALL($AD$4:$AD$1642,ROWS($AD$4:AD842)),\"\")","v":""},null,{"$f":"IFERROR(INDEX($A$4:$R$1642,$AE842,COLUMNS($A:$B)),\"\")","v":""},{"$f":"IFERROR(INDEX($A$4:$R$1642,$AE842,COLUMNS($A:$C)),\"\")","v":""},{"$f":"IFERROR(INDEX($A$4:$R$1642,$AE842,COLUMNS($A:$R)),\"\")","v":""},null,null,null,null,null,null,null,null,104]
[{"$f":"AR843","v":105},null,{"$f":"(VLOOKUP($B843,'Elenco Prezzi2'!$A$2:$E$201,2,FALSE))","v":{"$error":"#N/A"}},null,null,null,null,null,null,null,null,null,null,null,null,null,null,null,null,null,null,null,null,null,2,0,null,"",{"$f":"ROWS($AC$4:AC843)","v":840},"",{"$f":"IFERROR(SMALL($AD$4:$AD$1642,ROWS($AD$4:AD843)),\"\")","v":""},null,{"$f":"IFERROR(INDEX($A$4:$R$1642,$AE843,COLUMNS($A:$B)),\"\")","v":""},{"$f":"IFERROR(INDEX($A$4:$R$1642,$AE843,COLUMNS($A:$C)),\"\")","v":""},{"$f":"IFERROR(INDEX($A$4:$R$1642,$AE843,COLUMNS($A:$R)),\"\")","v":""},null,null,null,null,null,null,null,1,105]
[null,null,null,{"$f":"CONCATENATE(AK844&AL844&AM844&AN844)","v":""},null,null,null,null,{"$f":"IFERROR(IF(PRODUCT(E844:H844)=0,\"\",PRODUCT(E844:H844)),\"\")","v":""},{"$f":"I844","v":""},null,{"$f":"IF(E844>0,\" (p/u) \"&Modulo2.GetFormula(E844),\"\")","v":""},{"$f":"IF(F844>0,\" (lu) \"&Modulo2.GetFormula(F844),\"\")","v":""},{"$f":"IF(G844>0,\" (la) \"&Modulo2.GetFormula(G844),\"\")","v":""},{"$f":"IF(H844>0,\" (H) \"&Modulo2.GetFormula(H844),\"\")","v":""},null,null,null,null,null,null,null,null,null,2,0,null,"",{"$f":"ROWS($AC$4:AC844)","v":841},"",{"$f":"IFERROR(SMALL($AD$4:$AD$1642,ROWS($AD$4:AD844)),\"\")","v":""},null,{"$f":"IFERROR(INDEX($A$4:$R$1642,$AE844,COLUMNS($A:$B)),\"\")","v":""},{"$f":"IFERROR(INDEX($A$4:$R$1642,$AE844,COLUMNS($A:$C)),\"\")","v":""},{"$f":"IFERROR(INDEX($A$4:$R$1642,$AE844,COLUMNS($A:$R)),\"\")","v":""},null,{"$f":"IFERROR(IF(SEARCH(\"=\",L844),L844,\"\"),\"\")","v":""},{"$f":"IFERROR(IF(SEARCH(\"=\",M844),M844,\"\"),\"\")","v":""},{"$f":"IFERROR(IF(SEARCH(\"=\",N844),N844,\"\"),\"\")","v":""},{"$f":"IFERROR(IF(SEARCH(\"=\",O844),O844,\"\"),\"\")","v":""},null,null,null,105]
[null,null,null,"",null,null,null,null,"","",null,{"$f":"IF(E845>0,\" (p/u) \"&Modulo2.GetFormula(E845),\"\")","v":""},{"$f":"IF(F845>0,\" (lu) \"&Modulo2.GetFormula(F845),\"\")","v":""},{"$f":"IF(G845>0,\" (la) \"&Modulo2.GetFormula(G845),\"\")","v":""},{"$f":"IF(H845>0,\" (H) \"&Modulo2.GetFormula(H845),\"\")","v":""},null,null,null,null,null,null,null,null,null,2,0,null,"",{"$f":"ROWS($AC$4:AC845)","v":842},"",{"$f":"IFERROR(SMALL($AD$4:$AD$1642,ROWS($AD$4:AD845)),\"\")","v":""},null,{"$f":"IFERROR(INDEX($A$4:$R$1642,$AE845,COLUMNS($A:$B)),\"\")","v":""},{"$f":"IFERROR(INDEX($A$4:$R$1642,$AE845,COLUMNS($A:$C)),\"\")","v":""},{"$f":"IFERROR(INDEX($A$4:$R$1642,$AE845,COLUMNS($A:$R)),\"\")","v":""},null,"","","","",null,null,null,105]
[null,null,null,"",null,null,null,null,"","",null,{"$f":"IF(E846>0,\" (p/u) \"&Modulo2.GetFormula(E846),\"\")","v":""},{"$f":"IF(F846>0,\" (lu) \"&Modulo2.GetFormula(F846),\"\")","v":""},{"$f":"IF(G846>0,\" (la) \"&Modulo2.GetFormula(G846),\"\")","v":""},{"$f":"IF(H846>0,\" (H) \"&Modulo2.GetFormula(H846),\"\")","v":""},null,null,null,null,null,null,null,null,null,2,0,null,"",{"$f":"ROWS($AC$4:AC846)","v":843},"",{"$f":"IFERROR(SMALL($AD$4:$AD$1642,ROWS($AD$4:AD846)),\"\")","v":""},null,{"$f":"IFERROR(INDEX($A$4:$R$1642,$AE846,COLUMNS($A:$B)),\"\")","v":""},{"$f":"IFERROR(INDEX($A$4:$R$1642,$AE846,COLUMNS($A:$C)),\"\")","v":""},{"$f":"IFERROR(INDEX($A$4:$R$1642,$AE846,COLUMNS($A:$R)),\"\")","v":""},null,"","","","",null,null,null,105]
[null,null,null,null,null,null,null,{"$f":"CONCATENATE(\"SOMMANO [\",VLOOKUP(B843,'Elenco Prezzi2'!$A$2:$E$201,3,FALSE()),\"]\")","v":{"$error":"#N/A"}},{"$f":"IF(T847=\"s\",V848,SUBTOTAL(9,I843:I847))","v":{"$error":"#REF!"}},null,{"$f":"VLOOKUP(B843,'Elenco Prezzi2'!$A$2:$E$201,5,FALSE)","v":{"$error":"#N/A"}},null,null,null,null,null,null,{"$f":"IFERROR(I847*K847,\"\")","v":""},null,"s",null,null,null,{"$f":"R847","v":""},2,0,null,"",{"$f":"ROWS($AC$4:AC847)","v":844},"",{"$f":"IFERROR(SMALL($AD$4:$AD$1642,ROWS($AD$4:AD847)),\"\")","v":""},null,{"$f":"IFERROR(INDEX($A$4:$R$1642,$AE847,COLUMNS($A:$B)),\"\")","v":""},{"$f":"IFERROR(INDEX($A$4:$R$1642,$AE847,COLUMNS($A:$C)),\"\")","v":""},{"$f":"IFERROR(INDEX($A$4:$R$1642,$AE847,COLUMNS($A:$R)),\"\")","v":""},null,null,null,null,null,null,null,null,105]
[null,null,null,null,null,null,null,{"$f":"IF(I848<0,\"a detrarre\",\"\")","v":""},{"$f":"SUMIF(I843:I846,\"<0\")","v":0},null,null,null,null,null,null,null,null,null,{"$f":"R847","v":""},null,null,{"$f":"VLOOKUP(B843,#REF!,4,FALSE)","v":{"$error":"#REF!"}},null,null,2,0,null,"",{"$f":"ROWS($AC$4:AC848)","v":845},"",{"$f":"IFERROR(SMALL($AD$4:$AD$1642,ROWS($AD$4:AD848)),\"\")","v":""},null,{"$f":"IFERROR(INDEX($A$4:$R$1642,$AE848,COLUMNS($A:$B)),\"\")","v":""},{"$f":"IFERROR(INDEX($A$4:$R$1642,$AE848,COLUMNS($A:$C)),\"\")","v":""},{"$f":"IFERROR(INDEX($A$4:$R$1642,$AE848,COLUMNS($A:$R)),\"\")","v":""},null,null,null,null,null,null,null,null,105]
[null,null,null,null,null,null,null,null,null,null,null,null,null,null,null,null,null,null,null,null,null,null,null,null,2,0,null,"",{"$f":"ROWS($AC$4:AC849)","v":846},"",{"$f":"IFERROR(SMALL($AD$4:$AD$1642,ROWS($AD$4:AD849)),\"\")","v":""},null,{"$f":"IFERROR(INDEX($A$4:$R$1642,$AE849,COLUMNS($A:$B)),\"\")","v":""},{"$f":"IFERROR(INDEX($A$4:$R$1642,$AE849,COLUMNS($A:$C)),\"\")","v":""},{"$f":"IFERROR(INDEX($A$4:$R$1642,$AE849,COLUMNS($A:$R)),\"\")","v":""},null,null,null,null,null,null,null,null,105]
[null,null,null,null,null,null,null,null,null,null,null,null,null,null,null,null,null,null,null,null,null,null,null,null,2,0,null,"",{"$f":"ROWS($AC$4:AC850)","v":847},"",{"$f":"IFERROR(SMALL($AD$4:$AD$1642,ROWS($AD$4:AD850)),\"\")","v":""},null,{"$f":"IFERROR(INDEX($A$4:$R$1642,$AE850,COLUMNS($A:$B)),\"\")","v":""},{"$f":"IFERROR(INDEX($A$4:$R$1642,$AE850,COLUMNS($A:$C)),\"\")","v":""},{"$f":"IFERROR(INDEX($A$4:$R$1642,$AE850,COLUMNS($A:$R)),\"\")","v":""},null,null,null,null,null,null,null,null,105]
[{"$f":"AR851","v":106},null,{"$f":"(VLOOKUP($B851,'Elenco Prezzi2'!$A$2:$E$201,2,FALSE))","v":{"$error":"#N/A"}},null,null,null,null,null,null,null,null,null,null,null,null,null,null,null,null,null,null,null,null,null,2,0,null,"",{"$f":"ROWS($AC$4:AC851)","v":848},"",{"$f":"IFERROR(SMALL($AD$4:$AD$1642,ROWS($AD$4:AD851)),\"\")","v":""},null,{"$f":"IFERROR(INDEX($A$4:$R$1642,$AE851,COLUMNS($A:$B)),\"\")","v":""},{"$f":"IFERROR(INDEX($A$4:$R$1642,$AE851,COLUMNS($A:$C)),\"\")","v":""},{"$f":"IFERROR(INDEX($A$4:$R$1642,$AE851,COLUMNS($A:$R)),\"\")","v":""},null,null,null,null,null,null,null,1,106]
[null,null,null,{"$f":"CONCATENATE(AK852&AL852&AM852&AN852)","v":""},null,null,null,null,{"$f":"IFERROR(IF(PRODUCT(E852:H852)=0,\"\",PRODUCT(E852:H852)),\"\")","v":""},{"$f":"I852","v":""},null,{"$f":"IF(E852>0,\" (p/u) \"&Modulo2.GetFormula(E852),\"\")","v":""},{"$f":"IF(F852>0,\" (lu) \"&Modulo2.GetFormula(F852),\"\")","v":""},{"$f":"IF(G852>0,\" (la) \"&Modulo2.GetFormula(G852),\"\")","v":""},{"$f":"IF(H852>0,\" (H) \"&Modulo2.GetFormula(H852),\"\")","v":""},null,null,null,null,null,null,null,null,null,2,0,null,"",{"$f":"ROWS($AC$4:AC852)","v":849},"",{"$f":"IFERROR(SMALL($AD$4:$AD$1642,ROWS($AD$4:AD852)),\"\")","v":""},null,{"$f":"IFERROR(INDEX($A$4:$R$1642,$AE852,COLUMNS($A:$B)),\"\")","v":""},{"$f":"IFERROR(INDEX($A$4:$R$1642,$AE852,COLUMNS($A:$C)),\"\")","v":""},{"$f":"IFERROR(INDEX($A$4:$R$1642,$AE852,COLUMNS($A:$R)),\"\")","v":""},null,{"$f":"IFERROR(IF(SEARCH(\"=\",L852),L852,\"\"),\"\")","v":""},{"$f":"IFERROR(IF(SEARCH(\"=\",M852),M852,\"\"),\"\")","v":""},{"$f":"IFERROR(IF(SEARCH(\"=\",N852),N852,\"\"),\"\")","v":""},{"$f":"IFERROR(IF(SEARCH(\"=\",O852),O852,\"\"),\"\")","v":""},null,null,null,106]
[null,null,null,"",null,null,null,null,"","",null,{"$f":"IF(E853>0,\" (p/u) \"&Modulo2.GetFormula(E853),\"\")","v":""},{"$f":"IF(F853>0,\" (lu) \"&Modulo2.GetFormula(F853),\"\")","v":""},{"$f":"IF(G853>0,\" (la) \"&Modulo2.GetFormula(G853),\"\")","v":""},{"$f":"IF(H853>0,\" (H) \"&Modulo2.GetFormula(H853),\"\")","v":""},null,null,null,null,null,null,null,null,null,2,0,null,"",{"$f":"ROWS($AC$4:AC853)","v":850},"",{"$f":"IFERROR(SMALL($AD$4:$AD$1642,ROWS($AD$4:AD853)),\"\")","v":""},null,{"$f":"IFERROR(INDEX($A$4:$R$1642,$AE853,COLUMNS($A:$B)),\"\")","v":""},{"$f":"IFERROR(INDEX($A$4:$R$1642,$AE853,COLUMNS($A:$C)),\"\")","v":""},{"$f":"IFERROR(INDEX($A$4:$R$1642,$AE853,COLUMNS($A:$R)),\"\")","v":""},null,"","","","",null,null,null,106]
[null,null,null,"",null,null,null,null,"","",null,{"$f":"IF(E854>0,\" (p/u) \"&Modulo2.GetFormula(E854),\"\")","v":""},{"$f":"IF(F854>0,\" (lu) \"&Modulo2.GetFormula(F854),\"\")","v":""},{"$f":"IF(G854>0,\" (la) \"&Modulo2.GetFormula(G854),\"\")","v":""},{"$f":"IF(H854>0,\" (H) \"&Modulo2.GetFormula(H854),\"\")","v":""},null,null,null,null,null,null,null,null,null,2,0,null,"",{"$f":"ROWS($AC$4:AC854)","v":851},"",{"$f":"IFERROR(SMALL($AD$4:$AD$1642,ROWS($AD$4:AD854)),\"\")","v":""},null,{"$f":"IFERROR(INDEX($A$4:$R$1642,$AE854,COLUMNS($A:$B)),\"\")","v":""},{"$f":"IFERROR(INDEX($A$4:$R$1642,$AE854,COLUMNS($A:$C)),\"\")","v":""},{"$f":"IFERROR(INDEX($A$4:$R$1642,$AE854,COLUMNS($A:$R)),\"\")","v":""},null,"","","","",null,null,null,106]
[null,null,null,null,null,null,null,{"$f":"CONCATENATE(\"SOMMANO [\",VLOOKUP(B851,'Elenco Prezzi2'!$A$2:$E$201,3,FALSE()),\"]\")","v":{"$error":"#N/A"}},{"$f":"IF(T855=\"s\",V856,SUBTOTAL(9,I851:I855))","v":{"$error":"#REF!"}},null,{"$f":"VLOOKUP(B851,'Elenco Prezzi2'!$A$2:$E$201,5,FALSE)","v":{"$error":"#N/A"}},null,null,null,null,null,null,{"$f":"IFERROR(I855*K855,\"\")","v":""},null,"s",null,null,null,{"$f":"R855","v":""},2,0,null,"",{"$f":"ROWS($AC$4:AC855)","v":852},"",{"$f":"IFERROR(SMALL($AD$4:$AD$1642,ROWS($AD$4:AD855)),\"\")","v":""},null,{"$f":"IFERROR(INDEX($A$4:$R$1642,$AE855,COLUMNS($A:$B)),\"\")","v":""},{"$f":"IFERROR(INDEX($A$4:$R$1642,$AE855,COLUMNS($A:$C)),\"\")","v":""},{"$f":"IFERROR(INDEX($A$4:$R$1642,$AE855,COLUMNS($A:$R)),\"\")","v":""},null,null,null,null,null,null,null,null,106]
[null,null,null,null,null,null,null,{"$f":"IF(I856<0,\"a detrarre\",\"\")","v":""},{"$f":"SUMIF(I851:I854,\"<0\")","v":0},null,null,null,null,null,null,null,null,null,{"$f":"R855","v":""},null,null,{"$f":"VLOOKUP(B851,#REF!,4,FALSE)","v":{"$error":"#REF!"}},null,null,2,0,null,"",{"$f":"ROWS($AC$4:AC856)","v":853},"",{"$f":"IFERROR(SMALL($AD$4:$AD$1642,ROWS($AD$4:AD856)),\"\")","v":""},null,{"$f":"IFERROR(INDEX($A$4:$R$1642,$AE856,COLUMNS($A:$B)),\"\")","v":""},{"$f":"IFERROR(INDEX($A$4:$R$1642,$AE856,COLUMNS($A:$C)),\"\")","v":""},{"$f":"IFERROR(INDEX($A$4:$R$1642,$AE856,COLUMNS($A:$R)),\"\")","v":""},null,null,null,null,null,null,null,null,106]
[null,null,null,null,null,null,null,null,null,null,null,null,null,null,null,null,null,null,null,null,null,null,null,null,2,0,null,"",{"$f":"ROWS($AC$4:AC857)","v":854},"",{"$f":"IFERROR(SMALL($AD$4:$AD$1642,ROWS($AD$4:AD857)),\"\")","v":""},null,{"$f":"IFERROR(INDEX($A$4:$R$1642,$AE857,COLUMNS($A:$B)),\"\")","v":""},{"$f":"IFERROR(INDEX($A$4:$R$1642,$AE857,COLUMNS($A:$C)),\"\")","v":""},{"$f":"IFERROR(INDEX($A$4:$R$1642,$AE857,COLUMNS($A:$R)),\"\")","v":""},null,null,null,null,null,null,null,null,106]
[null,null,null,null,null,null,null,null,null,null,null,null,null,null,null,null,null,null,null,null,null,null,null,null,2,0,null,"",{"$f":"ROWS($AC$4:AC858)","v":855},"",{"$f":"IFERROR(SMALL($AD$4:$AD$1642,ROWS($AD$4:AD858)),\"\")","v":""},null,{"$f":"IFERROR(INDEX($A$4:$R$1642,$AE858,COLUMNS($A:$B)),\"\")","v":""},{"$f":"IFERROR(INDEX($A$4:$R$1642,$AE858,COLUMNS($A:$C)),\"\")","v":""},{"$f":"IFERROR(INDEX($A$4:$R$1642,$AE858,COLUMNS($A:$R)),\"\")","v":""},null,null,null,null,null,null,null,null,106]
[{"$f":"AR859","v":107},null,{"$f":"(VLOOKUP($B859,'Elenco Prezzi2'!$A$2:$E$201,2,FALSE))","v":{"$error":"#N/A"}},null,null,null,null,null,null,null,null,null,null,null,null,null,null,null,null,null,null,null,null,null,2,0,null,"",{"$f":"ROWS($AC$4:AC859)","v":856},"",{"$f":"IFERROR(SMALL($AD$4:$AD$1642,ROWS($AD$4:AD859)),\"\")","v":""},null,{"$f":"IFERROR(INDEX($A$4:$R$1642,$AE859,COLUMNS($A:$B)),\"\")","v":""},{"$f":"IFERROR(INDEX($A$4:$R$1642,$AE859,COLUMNS($A:$C)),\"\")","v":""},{"$f":"IFERROR(INDEX($A$4:$R$1642,$AE859,COLUMNS($A:$R)),\"\")","v":""},null,null,null,null,null,null,null,1,107]
[null,null,null,{"$f":"CONCATENATE(AK860&AL860&AM860&AN860)","v":""},null,null,null,null,{"$f":"IFERROR(IF(PRODUCT(E860:H860)=0,\"\",PRODUCT(E860:H860)),\"\")","v":""},{"$f":"I860","v":""},null,{"$f":"IF(E860>0,\" (p/u) \"&Modulo2.GetFormula(E860),\"\")","v":""},{"$f":"IF(F860>0,\" (lu) \"&Modulo2.GetFormula(F860),\"\")","v":""},{"$f":"IF(G860>0,\" (la) \"&Modulo2.GetFormula(G860),\"\")","v":""},{"$f":"IF(H860>0,\" (H) \"&Modulo2.GetFormula(H860),\"\")","v":""},null,null,null,null,null,null,null,null,null,2,0,null,"",{"$f":"ROWS($AC$4:AC860)","v":857},"",{"$f":"IFERROR(SMALL($AD$4:$AD$1642,ROWS($AD$4:AD860)),\"\")","v":""},null,{"$f":"IFERROR(INDEX($A$4:$R$1642,$AE860,COLUMNS($A:$B)),\"\")","v":""},{"$f":"IFERROR(INDEX($A$4:$R$1642,$AE860,COLUMNS($A:$C)),\"\")","v":""},{"$f":"IFERROR(INDEX($A$4:$R$1642,$AE860,COLUMNS($A:$R)),\"\")","v":""},null,{"$f":"IFERROR(IF(SEARCH(\"=\",L860),L860,\"\"),\"\")","v":""},{"$f":"IFERROR(IF(SEARCH(\"=\",M860),M860,\"\"),\"\")","v":""},{"$f":"IFERROR(IF(SEARCH(\"=\",N860),N860,\"\"),\"\")","v":""},{"$f":"IFERROR(IF(SEARCH(\"=\",O860),O860,\"\"),\"\")","v":""},null,null,null,107]
[null,null,null,"",null,null,null,null,"","",null,{"$f":"IF(E861>0,\" (p/u) \"&Modulo2.GetFormula(E861),\"\")","v":""},{"$f":"IF(F861>0,\" (lu) \"&Modulo2.GetFormula(F861),\"\")","v":""},{"$f":"IF(G861>0,\" (la) \"&Modulo2.GetFormula(G861),\"\")","v":""},{"$f":"IF(H861>0,\" (H) \"&Modulo2.GetFormula(H861),\"\")","v":""},null,null,null,null,null,null,null,null,null,2,0,null,"",{"$f":"ROWS($AC$4:AC861)","v":858},"",{"$f":"IFERROR(SMALL($AD$4:$AD$1642,ROWS($AD$4:AD861)),\"\")","v":""},null,{"$f":"IFERROR(INDEX($A$4:$R$1642,$AE861,COLUMNS($A:$B)),\"\")","v":""},{"$f":"IFERROR(INDEX($A$4:$R$1642,$AE861,COLUMNS($A:$C)),\"\")","v":""},{"$f":"IFERROR(INDEX($A$4:$R$1642,$AE861,COLUMNS($A:$R)),\"\")","v":""},null,"","","","",null,null,null,107]
[null,null,null,"",null,null,null,null,"","",null,{"$f":"IF(E862>0,\" (p/u) \"&Modulo2.GetFormula(E862),\"\")","v":""},{"$f":"IF(F862>0,\" (lu) \"&Modulo2.GetFormula(F862),\"\")","v":""},{"$f":"IF(G862>0,\" (la) \"&Modulo2.GetFormula(G862),\"\")","v":""},{"$f":"IF(H862>0,\" (H) \"&Modulo2.GetFormula(H862),\"\")","v":""},null,null,null,null,null,null,null,null,null,2,0,null,"",{"$f":"ROWS($AC$4:AC862)","v":859},"",{"$f":"IFERROR(SMALL($AD$4:$AD$1642,ROWS($AD$4:AD862)),\"\")","v":""},null,{"$f":"IFERROR(INDEX($A$4:$R$1642,$AE862,COLUMNS($A:$B)),\"\")","v":""},{"$f":"IFERROR(INDEX($A$4:$R$1642,$AE862,COLUMNS($A:$C)),\"\")","v":""},{"$f":"IFERROR(INDEX($A$4:$R$1642,$AE862,COLUMNS($A:$R)),\"\")","v":""},null,"","","","",null,null,null,107]
[null,null,null,null,null,null,null,{"$f":"CONCATENATE(\"SOMMANO [\",VLOOKUP(B859,'Elenco Prezzi2'!$A$2:$E$201,3,FALSE()),\"]\")","v":{"$error":"#N/A"}},{"$f":"IF(T863=\"s\",V864,SUBTOTAL(9,I859:I863))","v":{"$error":"#REF!"}},null,{"$f":"VLOOKUP(B859,'Elenco Prezzi2'!$A$2:$E$201,5,FALSE)","v":{"$error":"#N/A"}},null,null,null,null,null,null,{"$f":"IFERROR(I863*K863,\"\")","v":""},null,"s",null,null,null,{"$f":"R863","v":""},2,0,null,"",{"$f":"ROWS($AC$4:AC863)","v":860},"",{"$f":"IFERROR(SMALL($AD$4:$AD$1642,ROWS($AD$4:AD863)),\"\")","v":""},null,{"$f":"IFERROR(INDEX($A$4:$R$1642,$AE863,COLUMNS($A:$B)),\"\")","v":""},{"$f":"IFERROR(INDEX($A$4:$R$1642,$AE863,COLUMNS($A:$C)),\"\")","v":""},{"$f":"IFERROR(INDEX($A$4:$R$1642,$AE863,COLUMNS($A:$R)),\"\")","v":""},null,null,null,null,null,null,null,null,107]
[null,null,null,null,null,null,null,{"$f":"IF(I864<0,\"a detrarre\",\"\")","v":""},{"$f":"SUMIF(I859:I862,\"<0\")","v":0},null,null,null,null,null,null,null,null,null,{"$f":"R863","v":""},null,null,{"$f":"VLOOKUP(B859,#REF!,4,FALSE)","v":{"$error":"#REF!"}},null,null,2,0,null,"",{"$f":"ROWS($AC$4:AC864)","v":861},"",{"$f":"IFERROR(SMALL($AD$4:$AD$1642,ROWS($AD$4:AD864)),\"\")","v":""},null,{"$f":"IFERROR(INDEX($A$4:$R$1642,$AE864,COLUMNS($A:$B)),\"\")","v":""},{"$f":"IFERROR(INDEX($A$4:$R$1642,$AE864,COLUMNS($A:$C)),\"\")","v":""},{"$f":"IFERROR(INDEX($A$4:$R$1642,$AE864,COLUMNS($A:$R)),\"\")","v":""},null,null,null,null,null,null,null,null,107]
[null,null,null,null,null,null,null,null,null,null,null,null,null,null,null,null,null,null,null,null,null,null,null,null,2,0,null,"",{"$f":"ROWS($AC$4:AC865)","v":862},"",{"$f":"IFERROR(SMALL($AD$4:$AD$1642,ROWS($AD$4:AD865)),\"\")","v":""},null,{"$f":"IFERROR(INDEX($A$4:$R$1642,$AE865,COLUMNS($A:$B)),\"\")","v":""},{"$f":"IFERROR(INDEX($A$4:$R$1642,$AE865,COLUMNS($A:$C)),\"\")","v":""},{"$f":"IFERROR(INDEX($A$4:$R$1642,$AE865,COLUMNS($A:$R)),\"\")","v":""},null,null,null,null,null,null,null,null,107]
[null,null,null,null,null,null,null,null,null,null,null,null,null,null,null,null,null,null,null,null,null,null,null,null,2,0,null,"",{"$f":"ROWS($AC$4:AC866)","v":863},"",{"$f":"IFERROR(SMALL($AD$4:$AD$1642,ROWS($AD$4:AD866)),\"\")","v":""},null,{"$f":"IFERROR(INDEX($A$4:$R$1642,$AE866,COLUMNS($A:$B)),\"\")","v":""},{"$f":"IFERROR(INDEX($A$4:$R$1642,$AE866,COLUMNS($A:$C)),\"\")","v":""},{"$f":"IFERROR(INDEX($A$4:$R$1642,$AE866,COLUMNS($A:$R)),\"\")","v":""},null,null,null,null,null,null,null,null,107]
[{"$f":"AR867","v":108},null,{"$f":"(VLOOKUP($B867,'Elenco Prezzi2'!$A$2:$E$201,2,FALSE))","v":{"$error":"#N/A"}},null,null,null,null,null,null,null,null,null,null,null,null,null,null,null,null,null,null,null,null,null,2,0,null,{"$f":"IF(W867>0,\"OK\",\"\")","v":""},{"$f":"ROWS($AC$4:AC867)","v":864},{"$f":"IF(AB867=\"ok\",AC867,\"\")","v":""},{"$f":"IFERROR(SMALL($AD$4:$AD$1642,ROWS($AD$4:AD867)),\"\")","v":""},null,{"$f":"IFERROR(INDEX($A$4:$R$1642,$AE867,COLUMNS($A:$B)),\"\")","v":""},{"$f":"IFERROR(INDEX($A$4:$R$1642,$AE867,COLUMNS($A:$C)),\"\")","v":""},{"$f":"IFERROR(INDEX($A$4:$R$1642,$AE867,COLUMNS($A:$R)),\"\")","v":""},null,null,null,null,null,null,null,1,{"$f":"IF(AQ867=\"\",AR866,AR866+AQ867)","v":108}]
[null,null,null,{"$f":"CONCATENATE(AK868&AL868&AM868&AN868)","v":""},null,null,null,null,{"$f":"IFERROR(IF(PRODUCT(E868:H868)=0,\"\",PRODUCT(E868:H868)),\"\")","v":""},{"$f":"I868","v":""},null,{"$f":"IF(E868>0,\" (p/u) \"&Modulo2.GetFormula(E868),\"\")","v":""},{"$f":"IF(F868>0,\" (lu) \"&Modulo2.GetFormula(F868),\"\")","v":""},{"$f":"IF(G868>0,\" (la) \"&Modulo2.GetFormula(G868),\"\")","v":""},{"$f":"IF(H868>0,\" (H) \"&Modulo2.GetFormula(H868),\"\")","v":""},null,null,null,null,null,null,null,null,null,{"$f":"IF(AO868=\"\",Y867,Y867+AO868)","v":2},{"$f":"IF(AP868=\"\",Z867,Z867+AP868)","v":0},null,"",{"$f":"ROWS($AC$4:AC868)","v":865},"",{"$f":"IFERROR(SMALL($AD$4:$AD$1642,ROWS($AD$4:AD868)),\"\")","v":""},null,{"$f":"IFERROR(INDEX($A$4:$R$1642,$AE868,COLUMNS($A:$B)),\"\")","v":""},{"$f":"IFERROR(INDEX($A$4:$R$1642,$AE868,COLUMNS($A:$C)),\"\")","v":""},{"$f":"IFERROR(INDEX($A$4:$R$1642,$AE868,COLUMNS($A:$R)),\"\")","v":""},null,{"$f":"IFERROR(IF(SEARCH(\"=\",L868),L868,\"\"),\"\")","v":""},{"$f":"IFERROR(IF(SEARCH(\"=\",M868),M868,\"\"),\"\")","v":""},{"$f":"IFERROR(IF(SEARCH(\"=\",N868),N868,\"\"),\"\")","v":""},{"$f":"IFERROR(IF(SEARCH(\"=\",O868),O868,\"\"),\"\")","v":""},null,null,null,108]
[null,null,null,"",null,null,null,null,"","",null,{"$f":"IF(E869>0,\" (p/u) \"&Modulo2.GetFormula(E869),\"\")","v":""},{"$f":"IF(F869>0,\" (lu) \"&Modulo2.GetFormula(F869),\"\")","v":""},{"$f":"IF(G869>0,\" (la) \"&Modulo2.GetFormula(G869),\"\")","v":""},{"$f":"IF(H869>0,\" (H) \"&Modulo2.GetFormula(H869),\"\")","v":""},null,null,null,null,null,null,null,null,null,2,0,null,"",{"$f":"ROWS($AC$4:AC869)","v":866},"",{"$f":"IFERROR(SMALL($AD$4:$AD$1642,ROWS($AD$4:AD869)),\"\")","v":""},null,{"$f":"IFERROR(INDEX($A$4:$R$1642,$AE869,COLUMNS($A:$B)),\"\")","v":""},{"$f":"IFERROR(INDEX($A$4:$R$1642,$AE869,COLUMNS($A:$C)),\"\")","v":""},{"$f":"IFERROR(INDEX($A$4:$R$1642,$AE869,COLUMNS($A:$R)),\"\")","v":""},null,"","","","",null,null,null,108]
[null,null,null,"",null,null,null,null,"","",null,{"$f":"IF(E870>0,\" (p/u) \"&Modulo2.GetFormula(E870),\"\")","v":""},{"$f":"IF(F870>0,\" (lu) \"&Modulo2.GetFormula(F870),\"\")","v":""},{"$f":"IF(G870>0,\" (la) \"&Modulo2.GetFormula(G870),\"\")","v":""},{"$f":"IF(H870>0,\" (H) \"&Modulo2.GetFormula(H870),\"\")","v":""},null,null,null,null,null,null,null,null,null,2,0,null,"",{"$f":"ROWS($AC$4:AC870)","v":867},"",{"$f":"IFERROR(SMALL($AD$4:$AD$1642,ROWS($AD$4:AD870)),\"\")","v":""},null,{"$f":"IFERROR(INDEX($A$4:$R$1642,$AE870,COLUMNS($A:$B)),\"\")","v":""},{"$f":"IFERROR(INDEX($A$4:$R$1642,$AE870,COLUMNS($A:$C)),\"\")","v":""},{"$f":"IFERROR(INDEX($A$4:$R$1642,$AE870,COLUMNS($A:$R)),\"\")","v":""},null,"","","","",null,null,null,108]
[null,null,null,null,null,null,null,{"$f":"CONCATENATE(\"SOMMANO [\",VLOOKUP(B867,'Elenco Prezzi2'!$A$2:$E$201,3,FALSE()),\"]\")","v":{"$error":"#N/A"}},{"$f":"IF(T871=\"s\",V872,SUBTOTAL(9,I867:I871))","v":{"$error":"#REF!"}},null,{"$f":"VLOOKUP(B867,'Elenco Prezzi2'!$A$2:$E$201,5,FALSE)","v":{"$error":"#N/A"}},null,null,null,null,null,null,{"$f":"IFERROR(I871*K871,\"\")","v":""},null,"s",null,null,null,{"$f":"R871","v":""},2,0,null,"",{"$f":"ROWS($AC$4:AC871)","v":868},"",{"$f":"IFERROR(SMALL($AD$4:$AD$1642,ROWS($AD$4:AD871)),\"\")","v":""},null,{"$f":"IFERROR(INDEX($A$4:$R$1642,$AE871,COLUMNS($A:$B)),\"\")","v":""},{"$f":"IFERROR(INDEX($A$4:$R$1642,$AE871,COLUMNS($A:$C)),\"\")","v":""},{"$f":"IFERROR(INDEX($A$4:$R$1642,$AE871,COLUMNS($A:$R)),\"\")","v":""},null,null,null,null,null,null,null,null,108]
[null,null,null,null,null,null,null,{"$f":"IF(I872<0,\"a detrarre\",\"\")","v":""},{"$f":"SUMIF(I867:I870,\"<0\")","v":0},null,null,null,null,null,null,null,null,null,{"$f":"R871","v":""},null,null,{"$f":"VLOOKUP(B867,#REF!,4,FALSE)","v":{"$error":"#REF!"}},null,null,2,0,null,"",{"$f":"ROWS($AC$4:AC872)","v":869},"",{"$f":"IFERROR(SMALL($AD$4:$AD$1642,ROWS($AD$4:AD872)),\"\")","v":""},null,{"$f":"IFERROR(INDEX($A$4:$R$1642,$AE872,COLUMNS($A:$B)),\"\")","v":""},{"$f":"IFERROR(INDEX($A$4:$R$1642,$AE872,COLUMNS($A:$C)),\"\")","v":""},{"$f":"IFERROR(INDEX($A$4:$R$1642,$AE872,COLUMNS($A:$R)),\"\")","v":""},null,null,null,null,null,null,null,null,108]
[null,null,null,null,null,null,null,null,null,null,null,null,null,null,null,null,null,null,null,null,null,null,null,null,2,0,null,"",{"$f":"ROWS($AC$4:AC873)","v":870},"",{"$f":"IFERROR(SMALL($AD$4:$AD$1642,ROWS($AD$4:AD873)),\"\")","v":""},null,{"$f":"IFERROR(INDEX($A$4:$R$1642,$AE873,COLUMNS($A:$B)),\"\")","v":""},{"$f":"IFERROR(INDEX($A$4:$R$1642,$AE873,COLUMNS($A:$C)),\"\")","v":""},{"$f":"IFERROR(INDEX($A$4:$R$1642,$AE873,COLUMNS($A:$R)),\"\")","v":""},null,null,null,null,null,null,null,null,108]
[null,null,null,null,null,null,null,null,null,null,null,null,null,null,null,null,null,null,null,null,null,null,null,null,2,0,null,"",{"$f":"ROWS($AC$4:AC874)","v":871},"",{"$f":"IFERROR(SMALL($AD$4:$AD$1642,ROWS($AD$4:AD874)),\"\")","v":""},null,{"$f":"IFERROR(INDEX($A$4:$R$1642,$AE874,COLUMNS($A:$B)),\"\")","v":""},{"$f":"IFERROR(INDEX($A$4:$R$1642,$AE874,COLUMNS($A:$C)),\"\")","v":""},{"$f":"IFERROR(INDEX($A$4:$R$1642,$AE874,COLUMNS($A:$R)),\"\")","v":""},null,null,null,null,null,null,null,null,108]
[{"$f":"AR875","v":109},null,{"$f":"(VLOOKUP($B875,'Elenco Prezzi2'!$A$2:$E$201,2,FALSE))","v":{"$error":"#N/A"}},null,null,null,null,null,null,null,null,null,null,null,null,null,null,null,null,null,null,null,null,null,2,0,null,"",{"$f":"ROWS($AC$4:AC875)","v":872},"",{"$f":"IFERROR(SMALL($AD$4:$AD$1642,ROWS($AD$4:AD875)),\"\")","v":""},null,{"$f":"IFERROR(INDEX($A$4:$R$1642,$AE875,COLUMNS($A:$B)),\"\")","v":""},{"$f":"IFERROR(INDEX($A$4:$R$1642,$AE875,COLUMNS($A:$C)),\"\")","v":""},{"$f":"IFERROR(INDEX($A$4:$R$1642,$AE875,COLUMNS($A:$R)),\"\")","v":""},null,null,null,null,null,null,null,1,109]
[null,null,null,{"$f":"CONCATENATE(AK876&AL876&AM876&AN876)","v":""},null,null,null,null,{"$f":"IFERROR(IF(PRODUCT(E876:H876)=0,\"\",PRODUCT(E876:H876)),\"\")","v":""},{"$f":"I876","v":""},null,{"$f":"IF(E876>0,\" (p/u) \"&Modulo2.GetFormula(E876),\"\")","v":""},{"$f":"IF(F876>0,\" (lu) \"&Modulo2.GetFormula(F876),\"\")","v":""},{"$f":"IF(G876>0,\" (la) \"&Modulo2.GetFormula(G876),\"\")","v":""},{"$f":"IF(H876>0,\" (H) \"&Modulo2.GetFormula(H876),\"\")","v":""},null,null,null,null,null,null,null,null,null,2,0,null,"",{"$f":"ROWS($AC$4:AC876)","v":873},"",{"$f":"IFERROR(SMALL($AD$4:$AD$1642,ROWS($AD$4:AD876)),\"\")","v":""},null,{"$f":"IFERROR(INDEX($A$4:$R$1642,$AE876,COLUMNS($A:$B)),\"\")","v":""},{"$f":"IFERROR(INDEX($A$4:$R$1642,$AE876,COLUMNS($A:$C)),\"\")","v":""},{"$f":"IFERROR(INDEX($A$4:$R$1642,$AE876,COLUMNS($A:$R)),\"\")","v":""},null,{"$f":"IFERROR(IF(SEARCH(\"=\",L876),L876,\"\"),\"\")","v":""},{"$f":"IFERROR(IF(SEARCH(\"=\",M876),M876,\"\"),\"\")","v":""},{"$f":"IFERROR(IF(SEARCH(\"=\",N876),N876,\"\"),\"\")","v":""},{"$f":"IFERROR(IF(SEARCH(\"=\",O876),O876,\"\"),\"\")","v":""},null,null,null,109]
[null,null,null,"",null,null,null,null,"","",null,{"$f":"IF(E877>0,\" (p/u) \"&Modulo2.GetFormula(E877),\"\")","v":""},{"$f":"IF(F877>0,\" (lu) \"&Modulo2.GetFormula(F877),\"\")","v":""},{"$f":"IF(G877>0,\" (la) \"&Modulo2.GetFormula(G877),\"\")","v":""},{"$f":"IF(H877>0,\" (H) \"&Modulo2.GetFormula(H877),\"\")","v":""},null,null,null,null,null,null,null,null,null,2,0,null,"",{"$f":"ROWS($AC$4:AC877)","v":874},"",{"$f":"IFERROR(SMALL($AD$4:$AD$1642,ROWS($AD$4:AD877)),\"\")","v":""},null,{"$f":"IFERROR(INDEX($A$4:$R$1642,$AE877,COLUMNS($A:$B)),\"\")","v":""},{"$f":"IFERROR(INDEX($A$4:$R$1642,$AE877,COLUMNS($A:$C)),\"\")","v":""},{"$f":"IFERROR(INDEX($A$4:$R$1642,$AE877,COLUMNS($A:$R)),\"\")","v":""},null,"","","","",null,null,null,109]
[null,null,null,"",null,null,null,null,"","",null,{"$f":"IF(E878>0,\" (p/u) \"&Modulo2.GetFormula(E878),\"\")","v":""},{"$f":"IF(F878>0,\" (lu) \"&Modulo2.GetFormula(F878),\"\")","v":""},{"$f":"IF(G878>0,\" (la) \"&Modulo2.GetFormula(G878),\"\")","v":""},{"$f":"IF(H878>0,\" (H) \"&Modulo2.GetFormula(H878),\"\")","v":""},null,null,null,null,null,null,null,null,null,2,0,null,"",{"$f":"ROWS($AC$4:AC878)","v":875},"",{"$f":"IFERROR(SMALL($AD$4:$AD$1642,ROWS($AD$4:AD878)),\"\")","v":""},null,{"$f":"IFERROR(INDEX($A$4:$R$1642,$AE878,COLUMNS($A:$B)),\"\")","v":""},{"$f":"IFERROR(INDEX($A$4:$R$1642,$AE878,COLUMNS($A:$C)),\"\")","v":""},{"$f":"IFERROR(INDEX($A$4:$R$1642,$AE878,COLUMNS($A:$R)),\"\")","v":""},null,"","","","",null,null,null,109]
[null,null,null,null,null,null,null,{"$f":"CONCATENATE(\"SOMMANO [\",VLOOKUP(B875,'Elenco Prezzi2'!$A$2:$E$201,3,FALSE()),\"]\")","v":{"$error":"#N/A"}},{"$f":"IF(T879=\"s\",V880,SUBTOTAL(9,I875:I879))","v":{"$error":"#REF!"}},null,{"$f":"VLOOKUP(B875,'Elenco Prezzi2'!$A$2:$E$201,5,FALSE)","v":{"$error":"#N/A"}},null,null,null,null,null,null,{"$f":"IFERROR(I879*K879,\"\")","v":""},null,"s",null,null,null,{"$f":"R879","v":""},2,0,null,"",{"$f":"ROWS($AC$4:AC879)","v":876},"",{"$f":"IFERROR(SMALL($AD$4:$AD$1642,ROWS($AD$4:AD879)),\"\")","v":""},null,{"$f":"IFERROR(INDEX($A$4:$R$1642,$AE879,COLUMNS($A:$B)),\"\")","v":""},{"$f":"IFERROR(INDEX($A$4:$R$1642,$AE879,COLUMNS($A:$C)),\"\")","v":""},{"$f":"IFERROR(INDEX($A$4:$R$1642,$AE879,COLUMNS($A:$R)),\"\")","v":""},null,null,null,null,null,null,null,null,109]
[null,null,null,null,null,null,null,{"$f":"IF(I880<0,\"a detrarre\",\"\")","v":""},{"$f":"SUMIF(I875:I878,\"<0\")","v":0},null,null,null,null,null,null,null,null,null,{"$f":"R879","v":""},null,null,{"$f":"VLOOKUP(B875,#REF!,4,FALSE)","v":{"$error":"#REF!"}},null,null,2,0,null,"",{"$f":"ROWS($AC$4:AC880)","v":877},"",{"$f":"IFERROR(SMALL($AD$4:$AD$1642,ROWS($AD$4:AD880)),\"\")","v":""},null,{"$f":"IFERROR(INDEX($A$4:$R$1642,$AE880,COLUMNS($A:$B)),\"\")","v":""},{"$f":"IFERROR(INDEX($A$4:$R$1642,$AE880,COLUMNS($A:$C)),\"\")","v":""},{"$f":"IFERROR(INDEX($A$4:$R$1642,$AE880,COLUMNS($A:$R)),\"\")","v":""},null,null,null,null,null,null,null,null,109]
[null,null,null,null,null,null,null,null,null,null,null,null,null,null,null,null,null,null,null,null,null,null,null,null,2,0,null,"",{"$f":"ROWS($AC$4:AC881)","v":878},"",{"$f":"IFERROR(SMALL($AD$4:$AD$1642,ROWS($AD$4:AD881)),\"\")","v":""},null,{"$f":"IFERROR(INDEX($A$4:$R$1642,$AE881,COLUMNS($A:$B)),\"\")","v":""},{"$f":"IFERROR(INDEX($A$4:$R$1642,$AE881,COLUMNS($A:$C)),\"\")","v":""},{"$f":"IFERROR(INDEX($A$4:$R$1642,$AE881,COLUMNS($A:$R)),\"\")","v":""},null,null,null,null,null,null,null,null,109]
[null,null,null,null,null,null,null,null,null,null,null,null,null,null,null,null,null,null,null,null,null,null,null,null,2,0,null,"",{"$f":"ROWS($AC$4:AC882)","v":879},"",{"$f":"IFERROR(SMALL($AD$4:$AD$1642,ROWS($AD$4:AD882)),\"\")","v":""},null,{"$f":"IFERROR(INDEX($A$4:$R$1642,$AE882,COLUMNS($A:$B)),\"\")","v":""},{"$f":"IFERROR(INDEX($A$4:$R$1642,$AE882,COLUMNS($A:$C)),\"\")","v":""},{"$f":"IFERROR(INDEX($A$4:$R$1642,$AE882,COLUMNS($A:$R)),\"\")","v":""},null,null,null,null,null,null,null,null,109]
[{"$f":"AR883","v":110},null,{"$f":"(VLOOKUP($B883,'Elenco Prezzi2'!$A$2:$E$201,2,FALSE))","v":{"$error":"#N/A"}},null,null,null,null,null,null,null,null,null,null,null,null,null,null,null,null,null,null,null,null,null,2,0,null,"",{"$f":"ROWS($AC$4:AC883)","v":880},"",{"$f":"IFERROR(SMALL($AD$4:$AD$1642,ROWS($AD$4:AD883)),\"\")","v":""},null,{"$f":"IFERROR(INDEX($A$4:$R$1642,$AE883,COLUMNS($A:$B)),\"\")","v":""},{"$f":"IFERROR(INDEX($A$4:$R$1642,$AE883,COLUMNS($A:$C)),\"\")","v":""},{"$f":"IFERROR(INDEX($A$4:$R$1642,$AE883,COLUMNS($A:$R)),\"\")","v":""},null,null,null,null,null,null,null,1,110]
[null,null,null,{"$f":"CONCATENATE(AK884&AL884&AM884&AN884)","v":""},null,null,null,null,{"$f":"IFERROR(IF(PRODUCT(E884:H884)=0,\"\",PRODUCT(E884:H884)),\"\")","v":""},{"$f":"I884","v":""},null,{"$f":"IF(E884>0,\" (p/u) \"&Modulo2.GetFormula(E884),\"\")","v":""},{"$f":"IF(F884>0,\" (lu) \"&Modulo2.GetFormula(F884),\"\")","v":""},{"$f":"IF(G884>0,\" (la) \"&Modulo2.GetFormula(G884),\"\")","v":""},{"$f":"IF(H884>0,\" (H) \"&Modulo2.GetFormula(H884),\"\")","v":""},null,null,null,null,null,null,null,null,null,2,0,null,"",{"$f":"ROWS($AC$4:AC884)","v":881},"",{"$f":"IFERROR(SMALL($AD$4:$AD$1642,ROWS($AD$4:AD884)),\"\")","v":""},null,{"$f":"IFERROR(INDEX($A$4:$R$1642,$AE884,COLUMNS($A:$B)),\"\")","v":""},{"$f":"IFERROR(INDEX($A$4:$R$1642,$AE884,COLUMNS($A:$C)),\"\")","v":""},{"$f":"IFERROR(INDEX($A$4:$R$1642,$AE884,COLUMNS($A:$R)),\"\")","v":""},null,{"$f":"IFERROR(IF(SEARCH(\"=\",L884),L884,\"\"),\"\")","v":""},{"$f":"IFERROR(IF(SEARCH(\"=\",M884),M884,\"\"),\"\")","v":""},{"$f":"IFERROR(IF(SEARCH(\"=\",N884),N884,\"\"),\"\")","v":""},{"$f":"IFERROR(IF(SEARCH(\"=\",O884),O884,\"\"),\"\")","v":""},null,null,null,110]
[null,null,null,"",null,null,null,null,"","",null,{"$f":"IF(E885>0,\" (p/u) \"&Modulo2.GetFormula(E885),\"\")","v":""},{"$f":"IF(F885>0,\" (lu) \"&Modulo2.GetFormula(F885),\"\")","v":""},{"$f":"IF(G885>0,\" (la) \"&Modulo2.GetFormula(G885),\"\")","v":""},{"$f":"IF(H885>0,\" (H) \"&Modulo2.GetFormula(H885),\"\")","v":""},null,null,null,null,null,null,null,null,null,2,0,null,"",{"$f":"ROWS($AC$4:AC885)","v":882},"",{"$f":"IFERROR(SMALL($AD$4:$AD$1642,ROWS($AD$4:AD885)),\"\")","v":""},null,{"$f":"IFERROR(INDEX($A$4:$R$1642,$AE885,COLUMNS($A:$B)),\"\")","v":""},{"$f":"IFERROR(INDEX($A$4:$R$1642,$AE885,COLUMNS($A:$C)),\"\")","v":""},{"$f":"IFERROR(INDEX($A$4:$R$1642,$AE885,COLUMNS($A:$R)),\"\")","v":""},null,"","","","",null,null,null,110]
[null,null,null,"",null,null,null,null,"","",null,{"$f":"IF(E886>0,\" (p/u) \"&Modulo2.GetFormula(E886),\"\")","v":""},{"$f":"IF(F886>0,\" (lu) \"&Modulo2.GetFormula(F886),\"\")","v":""},{"$f":"IF(G886>0,\" (la) \"&Modulo2.GetFormula(G886),\"\")","v":""},{"$f":"IF(H886>0,\" (H) \"&Modulo2.GetFormula(H886),\"\")","v":""},null,null,null,null,null,null,null,null,null,2,0,null,"",{"$f":"ROWS($AC$4:AC886)","v":883},"",{"$f":"IFERROR(SMALL($AD$4:$AD$1642,ROWS($AD$4:AD886)),\"\")","v":""},null,{"$f":"IFERROR(INDEX($A$4:$R$1642,$AE886,COLUMNS($A:$B)),\"\")","v":""},{"$f":"IFERROR(INDEX($A$4:$R$1642,$AE886,COLUMNS($A:$C)),\"\")","v":""},{"$f":"IFERROR(INDEX($A$4:$R$1642,$AE886,COLUMNS($A:$R)),\"\")","v":""},null,"","","","",null,null,null,110]
[null,null,null,null,null,null,null,{"$f":"CONCATENATE(\"SOMMANO [\",VLOOKUP(B883,'Elenco Prezzi2'!$A$2:$E$201,3,FALSE()),\"]\")","v":{"$error":"#N/A"}},{"$f":"IF(T887=\"s\",V888,SUBTOTAL(9,I883:I887))","v":{"$error":"#REF!"}},null,{"$f":"VLOOKUP(B883,'Elenco Prezzi2'!$A$2:$E$201,5,FALSE)","v":{"$error":"#N/A"}},null,null,null,null,null,null,{"$f":"IFERROR(I887*K887,\"\")","v":""},null,"s",null,null,null,{"$f":"R887","v":""},2,0,null,"",{"$f":"ROWS($AC$4:AC887)","v":884},"",{"$f":"IFERROR(SMALL($AD$4:$AD$1642,ROWS($AD$4:AD887)),\"\")","v":""},null,{"$f":"IFERROR(INDEX($A$4:$R$1642,$AE887,COLUMNS($A:$B)),\"\")","v":""},{"$f":"IFERROR(INDEX($A$4:$R$1642,$AE887,COLUMNS($A:$C)),\"\")","v":""},{"$f":"IFERROR(INDEX($A$4:$R$1642,$AE887,COLUMNS($A:$R)),\"\")","v":""},null,null,null,null,null,null,null,null,110]
[null,null,null,null,null,null,null,{"$f":"IF(I888<0,\"a detrarre\",\"\")","v":""},{"$f":"SUMIF(I883:I886,\"<0\")","v":0},null,null,null,null,null,null,null,null,null,{"$f":"R887","v":""},null,null,{"$f":"VLOOKUP(B883,#REF!,4,FALSE)","v":{"$error":"#REF!"}},null,null,2,0,null,"",{"$f":"ROWS($AC$4:AC888)","v":885},"",{"$f":"IFERROR(SMALL($AD$4:$AD$1642,ROWS($AD$4:AD888)),\"\")","v":""},null,{"$f":"IFERROR(INDEX($A$4:$R$1642,$AE888,COLUMNS($A:$B)),\"\")","v":""},{"$f":"IFERROR(INDEX($A$4:$R$1642,$AE888,COLUMNS($A:$C)),\"\")","v":""},{"$f":"IFERROR(INDEX($A$4:$R$1642,$AE888,COLUMNS($A:$R)),\"\")","v":""},null,null,null,null,null,null,null,null,110]
[null,null,null,null,null,null,null,null,null,null,null,null,null,null,null,null,null,null,null,null,null,null,null,null,2,0,null,"",{"$f":"ROWS($AC$4:AC889)","v":886},"",{"$f":"IFERROR(SMALL($AD$4:$AD$1642,ROWS($AD$4:AD889)),\"\")","v":""},null,{"$f":"IFERROR(INDEX($A$4:$R$1642,$AE889,COLUMNS($A:$B)),\"\")","v":""},{"$f":"IFERROR(INDEX($A$4:$R$1642,$AE889,COLUMNS($A:$C)),\"\")","v":""},{"$f":"IFERROR(INDEX($A$4:$R$1642,$AE889,COLUMNS($A:$R)),\"\")","v":""},null,null,null,null,null,null,null,null,110]
[null,null,null,null,null,null,null,null,null,null,null,null,null,null,null,null,null,null,null,null,null,null,null,null,2,0,null,"",{"$f":"ROWS($AC$4:AC890)","v":887},"",{"$f":"IFERROR(SMALL($AD$4:$AD$1642,ROWS($AD$4:AD890)),\"\")","v":""},null,{"$f":"IFERROR(INDEX($A$4:$R$1642,$AE890,COLUMNS($A:$B)),\"\")","v":""},{"$f":"IFERROR(INDEX($A$4:$R$1642,$AE890,COLUMNS($A:$C)),\"\")","v":""},{"$f":"IFERROR(INDEX($A$4:$R$1642,$AE890,COLUMNS($A:$R)),\"\")","v":""},null,null,null,null,null,null,null,null,110]
[{"$f":"AR891","v":111},null,{"$f":"(VLOOKUP($B891,'Elenco Prezzi2'!$A$2:$E$201,2,FALSE))","v":{"$error":"#N/A"}},null,null,null,null,null,null,null,null,null,null,null,null,null,null,null,null,null,null,null,null,null,2,0,null,"",{"$f":"ROWS($AC$4:AC891)","v":888},"",{"$f":"IFERROR(SMALL($AD$4:$AD$1642,ROWS($AD$4:AD891)),\"\")","v":""},null,{"$f":"IFERROR(INDEX($A$4:$R$1642,$AE891,COLUMNS($A:$B)),\"\")","v":""},{"$f":"IFERROR(INDEX($A$4:$R$1642,$AE891,COLUMNS($A:$C)),\"\")","v":""},{"$f":"IFERROR(INDEX($A$4:$R$1642,$AE891,COLUMNS($A:$R)),\"\")","v":""},null,null,null,null,null,null,null,1,111]
[null,null,null,{"$f":"CONCATENATE(AK892&AL892&AM892&AN892)","v":""},null,null,null,null,{"$f":"IFERROR(IF(PRODUCT(E892:H892)=0,\"\",PRODUCT(E892:H892)),\"\")","v":""},{"$f":"I892","v":""},null,{"$f":"IF(E892>0,\" (p/u) \"&Modulo2.GetFormula(E892),\"\")","v":""},{"$f":"IF(F892>0,\" (lu) \"&Modulo2.GetFormula(F892),\"\")","v":""},{"$f":"IF(G892>0,\" (la) \"&Modulo2.GetFormula(G892),\"\")","v":""},{"$f":"IF(H892>0,\" (H) \"&Modulo2.GetFormula(H892),\"\")","v":""},null,null,null,null,null,null,null,null,null,2,0,null,"",{"$f":"ROWS($AC$4:AC892)","v":889},"",{"$f":"IFERROR(SMALL($AD$4:$AD$1642,ROWS($AD$4:AD892)),\"\")","v":""},null,{"$f":"IFERROR(INDEX($A$4:$R$1642,$AE892,COLUMNS($A:$B)),\"\")","v":""},{"$f":"IFERROR(INDEX($A$4:$R$1642,$AE892,COLUMNS($A:$C)),\"\")","v":""},{"$f":"IFERROR(INDEX($A$4:$R$1642,$AE892,COLUMNS($A:$R)),\"\")","v":""},null,{"$f":"IFERROR(IF(SEARCH(\"=\",L892),L892,\"\"),\"\")","v":""},{"$f":"IFERROR(IF(SEARCH(\"=\",M892),M892,\"\"),\"\")","v":""},{"$f":"IFERROR(IF(SEARCH(\"=\",N892),N892,\"\"),\"\")","v":""},{"$f":"IFERROR(IF(SEARCH(\"=\",O892),O892,\"\"),\"\")","v":""},null,null,null,111]
[null,null,null,"",null,null,null,null,"","",null,{"$f":"IF(E893>0,\" (p/u) \"&Modulo2.GetFormula(E893),\"\")","v":""},{"$f":"IF(F893>0,\" (lu) \"&Modulo2.GetFormula(F893),\"\")","v":""},{"$f":"IF(G893>0,\" (la) \"&Modulo2.GetFormula(G893),\"\")","v":""},{"$f":"IF(H893>0,\" (H) \"&Modulo2.GetFormula(H893),\"\")","v":""},null,null,null,null,null,null,null,null,null,2,0,null,"",{"$f":"ROWS($AC$4:AC893)","v":890},"",{"$f":"IFERROR(SMALL($AD$4:$AD$1642,ROWS($AD$4:AD893)),\"\")","v":""},null,{"$f":"IFERROR(INDEX($A$4:$R$1642,$AE893,COLUMNS($A:$B)),\"\")","v":""},{"$f":"IFERROR(INDEX($A$4:$R$1642,$AE893,COLUMNS($A:$C)),\"\")","v":""},{"$f":"IFERROR(INDEX($A$4:$R$1642,$AE893,COLUMNS($A:$R)),\"\")","v":""},null,"","","","",null,null,null,111]
[null,null,null,"",null,null,null,null,"","",null,{"$f":"IF(E894>0,\" (p/u) \"&Modulo2.GetFormula(E894),\"\")","v":""},{"$f":"IF(F894>0,\" (lu) \"&Modulo2.GetFormula(F894),\"\")","v":""},{"$f":"IF(G894>0,\" (la) \"&Modulo2.GetFormula(G894),\"\")","v":""},{"$f":"IF(H894>0,\" (H) \"&Modulo2.GetFormula(H894),\"\")","v":""},null,null,null,null,null,null,null,null,null,2,0,null,"",{"$f":"ROWS($AC$4:AC894)","v":891},"",{"$f":"IFERROR(SMALL($AD$4:$AD$1642,ROWS($AD$4:AD894)),\"\")","v":""},null,{"$f":"IFERROR(INDEX($A$4:$R$1642,$AE894,COLUMNS($A:$B)),\"\")","v":""},{"$f":"IFERROR(INDEX($A$4:$R$1642,$AE894,COLUMNS($A:$C)),\"\")","v":""},{"$f":"IFERROR(INDEX($A$4:$R$1642,$AE894,COLUMNS($A:$R)),\"\")","v":""},null,"","","","",null,null,null,111]
[null,null,null,null,null,null,null,{"$f":"CONCATENATE(\"SOMMANO [\",VLOOKUP(B891,'Elenco Prezzi2'!$A$2:$E$201,3,FALSE()),\"]\")","v":{"$error":"#N/A"}},{"$f":"IF(T895=\"s\",V896,SUBTOTAL(9,I891:I895))","v":{"$error":"#REF!"}},null,{"$f":"VLOOKUP(B891,'Elenco Prezzi2'!$A$2:$E$201,5,FALSE)","v":{"$error":"#N/A"}},null,null,null,null,null,null,{"$f":"IFERROR(I895*K895,\"\")","v":""},null,"s",null,null,null,{"$f":"R895","v":""},2,0,null,"",{"$f":"ROWS($AC$4:AC895)","v":892},"",{"$f":"IFERROR(SMALL($AD$4:$AD$1642,ROWS($AD$4:AD895)),\"\")","v":""},null,{"$f":"IFERROR(INDEX($A$4:$R$1642,$AE895,COLUMNS($A:$B)),\"\")","v":""},{"$f":"IFERROR(INDEX($A$4:$R$1642,$AE895,COLUMNS($A:$C)),\"\")","v":""},{"$f":"IFERROR(INDEX($A$4:$R$1642,$AE895,COLUMNS($A:$R)),\"\")","v":""},null,null,null,null,null,null,null,null,111]
[null,null,null,null,null,null,null,{"$f":"IF(I896<0,\"a detrarre\",\"\")","v":""},{"$f":"SUMIF(I891:I894,\"<0\")","v":0},null,null,null,null,null,null,null,null,null,{"$f":"R895","v":""},null,null,{"$f":"VLOOKUP(B891,#REF!,4,FALSE)","v":{"$error":"#REF!"}},null,null,2,0,null,"",{"$f":"ROWS($AC$4:AC896)","v":893},"",{"$f":"IFERROR(SMALL($AD$4:$AD$1642,ROWS($AD$4:AD896)),\"\")","v":""},null,{"$f":"IFERROR(INDEX($A$4:$R$1642,$AE896,COLUMNS($A:$B)),\"\")","v":""},{"$f":"IFERROR(INDEX($A$4:$R$1642,$AE896,COLUMNS($A:$C)),\"\")","v":""},{"$f":"IFERROR(INDEX($A$4:$R$1642,$AE896,COLUMNS($A:$R)),\"\")","v":""},null,null,null,null,null,null,null,null,111]
[null,null,null,null,null,null,null,null,null,null,null,null,null,null,null,null,null,null,null,null,null,null,null,null,2,0,null,"",{"$f":"ROWS($AC$4:AC897)","v":894},"",{"$f":"IFERROR(SMALL($AD$4:$AD$1642,ROWS($AD$4:AD897)),\"\")","v":""},null,{"$f":"IFERROR(INDEX($A$4:$R$1642,$AE897,COLUMNS($A:$B)),\"\")","v":""},{"$f":"IFERROR(INDEX($A$4:$R$1642,$AE897,COLUMNS($A:$C)),\"\")","v":""},{"$f":"IFERROR(INDEX($A$4:$R$1642,$AE897,COLUMNS($A:$R)),\"\")","v":""},null,null,null,null,null,null,null,null,111]
[null,null,null,null,null,null,null,null,null,null,null,null,null,null,null,null,null,null,null,null,null,null,null,null,2,0,null,"",{"$f":"ROWS($AC$4:AC898)","v":895},"",{"$f":"IFERROR(SMALL($AD$4:$AD$1642,ROWS($AD$4:AD898)),\"\")","v":""},null,{"$f":"IFERROR(INDEX($A$4:$R$1642,$AE898,COLUMNS($A:$B)),\"\")","v":""},{"$f":"IFERROR(INDEX($A$4:$R$1642,$AE898,COLUMNS($A:$C)),\"\")","v":""},{"$f":"IFERROR(INDEX($A$4:$R$1642,$AE898,COLUMNS($A:$R)),\"\")","v":""},null,null,null,null,null,null,null,null,111]
[{"$f":"AR899","v":112},null,{"$f":"(VLOOKUP($B899,'Elenco Prezzi2'!$A$2:$E$201,2,FALSE))","v":{"$error":"#N/A"}},null,null,null,null,null,null,null,null,null,null,null,null,null,null,null,null,null,null,null,null,null,2,0,null,"",{"$f":"ROWS($AC$4:AC899)","v":896},"",{"$f":"IFERROR(SMALL($AD$4:$AD$1642,ROWS($AD$4:AD899)),\"\")","v":""},null,{"$f":"IFERROR(INDEX($A$4:$R$1642,$AE899,COLUMNS($A:$B)),\"\")","v":""},{"$f":"IFERROR(INDEX($A$4:$R$1642,$AE899,COLUMNS($A:$C)),\"\")","v":""},{"$f":"IFERROR(INDEX($A$4:$R$1642,$AE899,COLUMNS($A:$R)),\"\")","v":""},null,null,null,null,null,null,null,1,112]
[null,null,null,{"$f":"CONCATENATE(AK900&AL900&AM900&AN900)","v":""},null,null,null,null,{"$f":"IFERROR(IF(PRODUCT(E900:H900)=0,\"\",PRODUCT(E900:H900)),\"\")","v":""},{"$f":"I900","v":""},null,{"$f":"IF(E900>0,\" (p/u) \"&Modulo2.GetFormula(E900),\"\")","v":""},{"$f":"IF(F900>0,\" (lu) \"&Modulo2.GetFormula(F900),\"\")","v":""},{"$f":"IF(G900>0,\" (la) \"&Modulo2.GetFormula(G900),\"\")","v":""},{"$f":"IF(H900>0,\" (H) \"&Modulo2.GetFormula(H900),\"\")","v":""},null,null,null,null,null,null,null,null,null,2,0,null,"",{"$f":"ROWS($AC$4:AC900)","v":897},"",{"$f":"IFERROR(SMALL($AD$4:$AD$1642,ROWS($AD$4:AD900)),\"\")","v":""},null,{"$f":"IFERROR(INDEX($A$4:$R$1642,$AE900,COLUMNS($A:$B)),\"\")","v":""},{"$f":"IFERROR(INDEX($A$4:$R$1642,$AE900,COLUMNS($A:$C)),\"\")","v":""},{"$f":"IFERROR(INDEX($A$4:$R$1642,$AE900,COLUMNS($A:$R)),\"\")","v":""},null,{"$f":"IFERROR(IF(SEARCH(\"=\",L900),L900,\"\"),\"\")","v":""},{"$f":"IFERROR(IF(SEARCH(\"=\",M900),M900,\"\"),\"\")","v":""},{"$f":"IFERROR(IF(SEARCH(\"=\",N900),N900,\"\"),\"\")","v":""},{"$f":"IFERROR(IF(SEARCH(\"=\",O900),O900,\"\"),\"\")","v":""},null,null,null,112]
[null,null,null,"",null,null,null,null,"","",null,{"$f":"IF(E901>0,\" (p/u) \"&Modulo2.GetFormula(E901),\"\")","v":""},{"$f":"IF(F901>0,\" (lu) \"&Modulo2.GetFormula(F901),\"\")","v":""},{"$f":"IF(G901>0,\" (la) \"&Modulo2.GetFormula(G901),\"\")","v":""},{"$f":"IF(H901>0,\" (H) \"&Modulo2.GetFormula(H901),\"\")","v":""},null,null,null,null,null,null,null,null,null,2,0,null,"",{"$f":"ROWS($AC$4:AC901)","v":898},"",{"$f":"IFERROR(SMALL($AD$4:$AD$1642,ROWS($AD$4:AD901)),\"\")","v":""},null,{"$f":"IFERROR(INDEX($A$4:$R$1642,$AE901,COLUMNS($A:$B)),\"\")","v":""},{"$f":"IFERROR(INDEX($A$4:$R$1642,$AE901,COLUMNS($A:$C)),\"\")","v":""},{"$f":"IFERROR(INDEX($A$4:$R$1642,$AE901,COLUMNS($A:$R)),\"\")","v":""},null,"","","","",null,null,null,112]
[null,null,null,"",null,null,null,null,"","",null,{"$f":"IF(E902>0,\" (p/u) \"&Modulo2.GetFormula(E902),\"\")","v":""},{"$f":"IF(F902>0,\" (lu) \"&Modulo2.GetFormula(F902),\"\")","v":""},{"$f":"IF(G902>0,\" (la) \"&Modulo2.GetFormula(G902),\"\")","v":""},{"$f":"IF(H902>0,\" (H) \"&Modulo2.GetFormula(H902),\"\")","v":""},null,null,null,null,null,null,null,null,null,2,0,null,"",{"$f":"ROWS($AC$4:AC902)","v":899},"",{"$f":"IFERROR(SMALL($AD$4:$AD$1642,ROWS($AD$4:AD902)),\"\")","v":""},null,{"$f":"IFERROR(INDEX($A$4:$R$1642,$AE902,COLUMNS($A:$B)),\"\")","v":""},{"$f":"IFERROR(INDEX($A$4:$R$1642,$AE902,COLUMNS($A:$C)),\"\")","v":""},{"$f":"IFERROR(INDEX($A$4:$R$1642,$AE902,COLUMNS($A:$R)),\"\")","v":""},null,"","","","",null,null,null,112]
[null,null,null,null,null,null,null,{"$f":"CONCATENATE(\"SOMMANO [\",VLOOKUP(B899,'Elenco Prezzi2'!$A$2:$E$201,3,FALSE()),\"]\")","v":{"$error":"#N/A"}},{"$f":"IF(T903=\"s\",V904,SUBTOTAL(9,I899:I903))","v":{"$error":"#REF!"}},null,{"$f":"VLOOKUP(B899,'Elenco Prezzi2'!$A$2:$E$201,5,FALSE)","v":{"$error":"#N/A"}},null,null,null,null,null,null,{"$f":"IFERROR(I903*K903,\"\")","v":""},null,"s",null,null,null,{"$f":"R903","v":""},2,0,null,"",{"$f":"ROWS($AC$4:AC903)","v":900},"",{"$f":"IFERROR(SMALL($AD$4:$AD$1642,ROWS($AD$4:AD903)),\"\")","v":""},null,{"$f":"IFERROR(INDEX($A$4:$R$1642,$AE903,COLUMNS($A:$B)),\"\")","v":""},{"$f":"IFERROR(INDEX($A$4:$R$1642,$AE903,COLUMNS($A:$C)),\"\")","v":""},{"$f":"IFERROR(INDEX($A$4:$R$1642,$AE903,COLUMNS($A:$R)),\"\")","v":""},null,null,null,null,null,null,null,null,112]
[null,null,null,null,null,null,null,{"$f":"IF(I904<0,\"a detrarre\",\"\")","v":""},{"$f":"SUMIF(I899:I902,\"<0\")","v":0},null,null,null,null,null,null,null,null,null,{"$f":"R903","v":""},null,null,{"$f":"VLOOKUP(B899,#REF!,4,FALSE)","v":{"$error":"#REF!"}},null,null,2,0,null,"",{"$f":"ROWS($AC$4:AC904)","v":901},"",{"$f":"IFERROR(SMALL($AD$4:$AD$1642,ROWS($AD$4:AD904)),\"\")","v":""},null,{"$f":"IFERROR(INDEX($A$4:$R$1642,$AE904,COLUMNS($A:$B)),\"\")","v":""},{"$f":"IFERROR(INDEX($A$4:$R$1642,$AE904,COLUMNS($A:$C)),\"\")","v":""},{"$f":"IFERROR(INDEX($A$4:$R$1642,$AE904,COLUMNS($A:$R)),\"\")","v":""},null,null,null,null,null,null,null,null,112]
[null,null,null,null,null,null,null,null,null,null,null,null,null,null,null,null,null,null,null,null,null,null,null,null,2,0,null,"",{"$f":"ROWS($AC$4:AC905)","v":902},"",{"$f":"IFERROR(SMALL($AD$4:$AD$1642,ROWS($AD$4:AD905)),\"\")","v":""},null,{"$f":"IFERROR(INDEX($A$4:$R$1642,$AE905,COLUMNS($A:$B)),\"\")","v":""},{"$f":"IFERROR(INDEX($A$4:$R$1642,$AE905,COLUMNS($A:$C)),\"\")","v":""},{"$f":"IFERROR(INDEX($A$4:$R$1642,$AE905,COLUMNS($A:$R)),\"\")","v":""},null,null,null,null,null,null,null,null,112]
[null,null,null,null,null,null,null,null,null,null,null,null,null,null,null,null,null,null,null,null,null,null,null,null,2,0,null,"",{"$f":"ROWS($AC$4:AC906)","v":903},"",{"$f":"IFERROR(SMALL($AD$4:$AD$1642,ROWS($AD$4:AD906)),\"\")","v":""},null,{"$f":"IFERROR(INDEX($A$4:$R$1642,$AE906,COLUMNS($A:$B)),\"\")","v":""},{"$f":"IFERROR(INDEX($A$4:$R$1642,$AE906,COLUMNS($A:$C)),\"\")","v":""},{"$f":"IFERROR(INDEX($A$4:$R$1642,$AE906,COLUMNS($A:$R)),\"\")","v":""},null,null,null,null,null,null,null,null,112]
[{"$f":"AR907","v":113},null,{"$f":"(VLOOKUP($B907,'Elenco Prezzi2'!$A$2:$E$201,2,FALSE))","v":{"$error":"#N/A"}},null,null,null,null,null,null,null,null,null,null,null,null,null,null,null,null,null,null,null,null,null,2,0,null,"",{"$f":"ROWS($AC$4:AC907)","v":904},"",{"$f":"IFERROR(SMALL($AD$4:$AD$1642,ROWS($AD$4:AD907)),\"\")","v":""},null,{"$f":"IFERROR(INDEX($A$4:$R$1642,$AE907,COLUMNS($A:$B)),\"\")","v":""},{"$f":"IFERROR(INDEX($A$4:$R$1642,$AE907,COLUMNS($A:$C)),\"\")","v":""},{"$f":"IFERROR(INDEX($A$4:$R$1642,$AE907,COLUMNS($A:$R)),\"\")","v":""},null,null,null,null,null,null,null,1,113]
[null,null,null,{"$f":"CONCATENATE(AK908&AL908&AM908&AN908)","v":""},null,null,null,null,{"$f":"IFERROR(IF(PRODUCT(E908:H908)=0,\"\",PRODUCT(E908:H908)),\"\")","v":""},{"$f":"I908","v":""},null,{"$f":"IF(E908>0,\" (p/u) \"&Modulo2.GetFormula(E908),\"\")","v":""},{"$f":"IF(F908>0,\" (lu) \"&Modulo2.GetFormula(F908),\"\")","v":""},{"$f":"IF(G908>0,\" (la) \"&Modulo2.GetFormula(G908),\"\")","v":""},{"$f":"IF(H908>0,\" (H) \"&Modulo2.GetFormula(H908),\"\")","v":""},null,null,null,null,null,null,null,null,null,2,0,null,"",{"$f":"ROWS($AC$4:AC908)","v":905},"",{"$f":"IFERROR(SMALL($AD$4:$AD$1642,ROWS($AD$4:AD908)),\"\")","v":""},null,{"$f":"IFERROR(INDEX($A$4:$R$1642,$AE908,COLUMNS($A:$B)),\"\")","v":""},{"$f":"IFERROR(INDEX($A$4:$R$1642,$AE908,COLUMNS($A:$C)),\"\")","v":""},{"$f":"IFERROR(INDEX($A$4:$R$1642,$AE908,COLUMNS($A:$R)),\"\")","v":""},null,{"$f":"IFERROR(IF(SEARCH(\"=\",L908),L908,\"\"),\"\")","v":""},{"$f":"IFERROR(IF(SEARCH(\"=\",M908),M908,\"\"),\"\")","v":""},{"$f":"IFERROR(IF(SEARCH(\"=\",N908),N908,\"\"),\"\")","v":""},{"$f":"IFERROR(IF(SEARCH(\"=\",O908),O908,\"\"),\"\")","v":""},null,null,null,113]
[null,null,null,"",null,null,null,null,"","",null,{"$f":"IF(E909>0,\" (p/u) \"&Modulo2.GetFormula(E909),\"\")","v":""},{"$f":"IF(F909>0,\" (lu) \"&Modulo2.GetFormula(F909),\"\")","v":""},{"$f":"IF(G909>0,\" (la) \"&Modulo2.GetFormula(G909),\"\")","v":""},{"$f":"IF(H909>0,\" (H) \"&Modulo2.GetFormula(H909),\"\")","v":""},null,null,null,null,null,null,null,null,null,2,0,null,"",{"$f":"ROWS($AC$4:AC909)","v":906},"",{"$f":"IFERROR(SMALL($AD$4:$AD$1642,ROWS($AD$4:AD909)),\"\")","v":""},null,{"$f":"IFERROR(INDEX($A$4:$R$1642,$AE909,COLUMNS($A:$B)),\"\")","v":""},{"$f":"IFERROR(INDEX($A$4:$R$1642,$AE909,COLUMNS($A:$C)),\"\")","v":""},{"$f":"IFERROR(INDEX($A$4:$R$1642,$AE909,COLUMNS($A:$R)),\"\")","v":""},null,"","","","",null,null,null,113]
[null,null,null,"",null,null,null,null,"","",null,{"$f":"IF(E910>0,\" (p/u) \"&Modulo2.GetFormula(E910),\"\")","v":""},{"$f":"IF(F910>0,\" (lu) \"&Modulo2.GetFormula(F910),\"\")","v":""},{"$f":"IF(G910>0,\" (la) \"&Modulo2.GetFormula(G910),\"\")","v":""},{"$f":"IF(H910>0,\" (H) \"&Modulo2.GetFormula(H910),\"\")","v":""},null,null,null,null,null,null,null,null,null,2,0,null,"",{"$f":"ROWS($AC$4:AC910)","v":907},"",{"$f":"IFERROR(SMALL($AD$4:$AD$1642,ROWS($AD$4:AD910)),\"\")","v":""},null,{"$f":"IFERROR(INDEX($A$4:$R$1642,$AE910,COLUMNS($A:$B)),\"\")","v":""},{"$f":"IFERROR(INDEX($A$4:$R$1642,$AE910,COLUMNS($A:$C)),\"\")","v":""},{"$f":"IFERROR(INDEX($A$4:$R$1642,$AE910,COLUMNS($A:$R)),\"\")","v":""},null,"","","","",null,null,null,113]
[null,null,null,null,null,null,null,{"$f":"CONCATENATE(\"SOMMANO [\",VLOOKUP(B907,'Elenco Prezzi2'!$A$2:$E$201,3,FALSE()),\"]\")","v":{"$error":"#N/A"}},{"$f":"IF(T911=\"s\",V912,SUBTOTAL(9,I907:I911))","v":{"$error":"#REF!"}},null,{"$f":"VLOOKUP(B907,'Elenco Prezzi2'!$A$2:$E$201,5,FALSE)","v":{"$error":"#N/A"}},null,null,null,null,null,null,{"$f":"IFERROR(I911*K911,\"\")","v":""},null,"s",null,null,null,{"$f":"R911","v":""},2,0,null,"",{"$f":"ROWS($AC$4:AC911)","v":908},"",{"$f":"IFERROR(SMALL($AD$4:$AD$1642,ROWS($AD$4:AD911)),\"\")","v":""},null,{"$f":"IFERROR(INDEX($A$4:$R$1642,$AE911,COLUMNS($A:$B)),\"\")","v":""},{"$f":"IFERROR(INDEX($A$4:$R$1642,$AE911,COLUMNS($A:$C)),\"\")","v":""},{"$f":"IFERROR(INDEX($A$4:$R$1642,$AE911,COLUMNS($A:$R)),\"\")","v":""},null,null,null,null,null,null,null,null,113]
[null,null,null,null,null,null,null,{"$f":"IF(I912<0,\"a detrarre\",\"\")","v":""},{"$f":"SUMIF(I907:I910,\"<0\")","v":0},null,null,null,null,null,null,null,null,null,{"$f":"R911","v":""},null,null,{"$f":"VLOOKUP(B907,#REF!,4,FALSE)","v":{"$error":"#REF!"}},null,null,2,0,null,"",{"$f":"ROWS($AC$4:AC912)","v":909},"",{"$f":"IFERROR(SMALL($AD$4:$AD$1642,ROWS($AD$4:AD912)),\"\")","v":""},null,{"$f":"IFERROR(INDEX($A$4:$R$1642,$AE912,COLUMNS($A:$B)),\"\")","v":""},{"$f":"IFERROR(INDEX($A$4:$R$1642,$AE912,COLUMNS($A:$C)),\"\")","v":""},{"$f":"IFERROR(INDEX($A$4:$R$1642,$AE912,COLUMNS($A:$R)),\"\")","v":""},null,null,null,null,null,null,null,null,113]
[null,null,null,null,null,null,null,null,null,null,null,null,null,null,null,null,null,null,null,null,null,null,null,null,2,0,null,"",{"$f":"ROWS($AC$4:AC913)","v":910},"",{"$f":"IFERROR(SMALL($AD$4:$AD$1642,ROWS($AD$4:AD913)),\"\")","v":""},null,{"$f":"IFERROR(INDEX($A$4:$R$1642,$AE913,COLUMNS($A:$B)),\"\")","v":""},{"$f":"IFERROR(INDEX($A$4:$R$1642,$AE913,COLUMNS($A:$C)),\"\")","v":""},{"$f":"IFERROR(INDEX($A$4:$R$1642,$AE913,COLUMNS($A:$R)),\"\")","v":""},null,null,null,null,null,null,null,null,113]
[null,null,null,null,null,null,null,null,null,null,null,null,null,null,null,null,null,null,null,null,null,null,null,null,2,0,null,"",{"$f":"ROWS($AC$4:AC914)","v":911},"",{"$f":"IFERROR(SMALL($AD$4:$AD$1642,ROWS($AD$4:AD914)),\"\")","v":""},null,{"$f":"IFERROR(INDEX($A$4:$R$1642,$AE914,COLUMNS($A:$B)),\"\")","v":""},{"$f":"IFERROR(INDEX($A$4:$R$1642,$AE914,COLUMNS($A:$C)),\"\")","v":""},{"$f":"IFERROR(INDEX($A$4:$R$1642,$AE914,COLUMNS($A:$R)),\"\")","v":""},null,null,null,null,null,null,null,null,113]
[{"$f":"AR915","v":114},null,{"$f":"(VLOOKUP($B915,'Elenco Prezzi2'!$A$2:$E$201,2,FALSE))","v":{"$error":"#N/A"}},null,null,null,null,null,null,null,null,null,null,null,null,null,null,null,null,null,null,null,null,null,2,0,null,"",{"$f":"ROWS($AC$4:AC915)","v":912},"",{"$f":"IFERROR(SMALL($AD$4:$AD$1642,ROWS($AD$4:AD915)),\"\")","v":""},null,{"$f":"IFERROR(INDEX($A$4:$R$1642,$AE915,COLUMNS($A:$B)),\"\")","v":""},{"$f":"IFERROR(INDEX($A$4:$R$1642,$AE915,COLUMNS($A:$C)),\"\")","v":""},{"$f":"IFERROR(INDEX($A$4:$R$1642,$AE915,COLUMNS($A:$R)),\"\")","v":""},null,null,null,null,null,null,null,1,114]
[null,null,null,{"$f":"CONCATENATE(AK916&AL916&AM916&AN916)","v":""},null,null,null,null,{"$f":"IFERROR(IF(PRODUCT(E916:H916)=0,\"\",PRODUCT(E916:H916)),\"\")","v":""},{"$f":"I916","v":""},null,{"$f":"IF(E916>0,\" (p/u) \"&Modulo2.GetFormula(E916),\"\")","v":""},{"$f":"IF(F916>0,\" (lu) \"&Modulo2.GetFormula(F916),\"\")","v":""},{"$f":"IF(G916>0,\" (la) \"&Modulo2.GetFormula(G916),\"\")","v":""},{"$f":"IF(H916>0,\" (H) \"&Modulo2.GetFormula(H916),\"\")","v":""},null,null,null,null,null,null,null,null,null,2,0,null,"",{"$f":"ROWS($AC$4:AC916)","v":913},"",{"$f":"IFERROR(SMALL($AD$4:$AD$1642,ROWS($AD$4:AD916)),\"\")","v":""},null,{"$f":"IFERROR(INDEX($A$4:$R$1642,$AE916,COLUMNS($A:$B)),\"\")","v":""},{"$f":"IFERROR(INDEX($A$4:$R$1642,$AE916,COLUMNS($A:$C)),\"\")","v":""},{"$f":"IFERROR(INDEX($A$4:$R$1642,$AE916,COLUMNS($A:$R)),\"\")","v":""},null,{"$f":"IFERROR(IF(SEARCH(\"=\",L916),L916,\"\"),\"\")","v":""},{"$f":"IFERROR(IF(SEARCH(\"=\",M916),M916,\"\"),\"\")","v":""},{"$f":"IFERROR(IF(SEARCH(\"=\",N916),N916,\"\"),\"\")","v":""},{"$f":"IFERROR(IF(SEARCH(\"=\",O916),O916,\"\"),\"\")","v":""},null,null,null,114]
[null,null,null,"",null,null,null,null,"","",null,{"$f":"IF(E917>0,\" (p/u) \"&Modulo2.GetFormula(E917),\"\")","v":""},{"$f":"IF(F917>0,\" (lu) \"&Modulo2.GetFormula(F917),\"\")","v":""},{"$f":"IF(G917>0,\" (la) \"&Modulo2.GetFormula(G917),\"\")","v":""},{"$f":"IF(H917>0,\" (H) \"&Modulo2.GetFormula(H917),\"\")","v":""},null,null,null,null,null,null,null,null,null,2,0,null,"",{"$f":"ROWS($AC$4:AC917)","v":914},"",{"$f":"IFERROR(SMALL($AD$4:$AD$1642,ROWS($AD$4:AD917)),\"\")","v":""},null,{"$f":"IFERROR(INDEX($A$4:$R$1642,$AE917,COLUMNS($A:$B)),\"\")","v":""},{"$f":"IFERROR(INDEX($A$4:$R$1642,$AE917,COLUMNS($A:$C)),\"\")","v":""},{"$f":"IFERROR(INDEX($A$4:$R$1642,$AE917,COLUMNS($A:$R)),\"\")","v":""},null,"","","","",null,null,null,114]
[null,null,null,"",null,null,null,null,"","",null,{"$f":"IF(E918>0,\" (p/u) \"&Modulo2.GetFormula(E918),\"\")","v":""},{"$f":"IF(F918>0,\" (lu) \"&Modulo2.GetFormula(F918),\"\")","v":""},{"$f":"IF(G918>0,\" (la) \"&Modulo2.GetFormula(G918),\"\")","v":""},{"$f":"IF(H918>0,\" (H) \"&Modulo2.GetFormula(H918),\"\")","v":""},null,null,null,null,null,null,null,null,null,2,0,null,"",{"$f":"ROWS($AC$4:AC918)","v":915},"",{"$f":"IFERROR(SMALL($AD$4:$AD$1642,ROWS($AD$4:AD918)),\"\")","v":""},null,{"$f":"IFERROR(INDEX($A$4:$R$1642,$AE918,COLUMNS($A:$B)),\"\")","v":""},{"$f":"IFERROR(INDEX($A$4:$R$1642,$AE918,COLUMNS($A:$C)),\"\")","v":""},{"$f":"IFERROR(INDEX($A$4:$R$1642,$AE918,COLUMNS($A:$R)),\"\")","v":""},null,"","","","",null,null,null,114]
[null,null,null,null,null,null,null,{"$f":"CONCATENATE(\"SOMMANO [\",VLOOKUP(B915,'Elenco Prezzi2'!$A$2:$E$201,3,FALSE()),\"]\")","v":{"$error":"#N/A"}},{"$f":"IF(T919=\"s\",V920,SUBTOTAL(9,I915:I919))","v":{"$error":"#REF!"}},null,{"$f":"VLOOKUP(B915,'Elenco Prezzi2'!$A$2:$E$201,5,FALSE)","v":{"$error":"#N/A"}},null,null,null,null,null,null,{"$f":"IFERROR(I919*K919,\"\")","v":""},null,"s",null,null,null,{"$f":"R919","v":""},2,0,null,"",{"$f":"ROWS($AC$4:AC919)","v":916},"",{"$f":"IFERROR(SMALL($AD$4:$AD$1642,ROWS($AD$4:AD919)),\"\")","v":""},null,{"$f":"IFERROR(INDEX($A$4:$R$1642,$AE919,COLUMNS($A:$B)),\"\")","v":""},{"$f":"IFERROR(INDEX($A$4:$R$1642,$AE919,COLUMNS($A:$C)),\"\")","v":""},{"$f":"IFERROR(INDEX($A$4:$R$1642,$AE919,COLUMNS($A:$R)),\"\")","v":""},null,null,null,null,null,null,null,null,114]
[null,null,null,null,null,null,null,{"$f":"IF(I920<0,\"a detrarre\",\"\")","v":""},{"$f":"SUMIF(I915:I918,\"<0\")","v":0},null,null,null,null,null,null,null,null,null,{"$f":"R919","v":""},null,null,{"$f":"VLOOKUP(B915,#REF!,4,FALSE)","v":{"$error":"#REF!"}},null,null,2,0,null,"",{"$f":"ROWS($AC$4:AC920)","v":917},"",{"$f":"IFERROR(SMALL($AD$4:$AD$1642,ROWS($AD$4:AD920)),\"\")","v":""},null,{"$f":"IFERROR(INDEX($A$4:$R$1642,$AE920,COLUMNS($A:$B)),\"\")","v":""},{"$f":"IFERROR(INDEX($A$4:$R$1642,$AE920,COLUMNS($A:$C)),\"\")","v":""},{"$f":"IFERROR(INDEX($A$4:$R$1642,$AE920,COLUMNS($A:$R)),\"\")","v":""},null,null,null,null,null,null,null,null,114]
[null,null,null,null,null,null,null,null,null,null,null,null,null,null,null,null,null,null,null,null,null,null,null,null,2,0,null,"",{"$f":"ROWS($AC$4:AC921)","v":918},"",{"$f":"IFERROR(SMALL($AD$4:$AD$1642,ROWS($AD$4:AD921)),\"\")","v":""},null,{"$f":"IFERROR(INDEX($A$4:$R$1642,$AE921,COLUMNS($A:$B)),\"\")","v":""},{"$f":"IFERROR(INDEX($A$4:$R$1642,$AE921,COLUMNS($A:$C)),\"\")","v":""},{"$f":"IFERROR(INDEX($A$4:$R$1642,$AE921,COLUMNS($A:$R)),\"\")","v":""},null,null,null,null,null,null,null,null,114]
[null,null,null,null,null,null,null,null,null,null,null,null,null,null,null,null,null,null,null,null,null,null,null,null,2,0,null,"",{"$f":"ROWS($AC$4:AC922)","v":919},"",{"$f":"IFERROR(SMALL($AD$4:$AD$1642,ROWS($AD$4:AD922)),\"\")","v":""},null,{"$f":"IFERROR(INDEX($A$4:$R$1642,$AE922,COLUMNS($A:$B)),\"\")","v":""},{"$f":"IFERROR(INDEX($A$4:$R$1642,$AE922,COLUMNS($A:$C)),\"\")","v":""},{"$f":"IFERROR(INDEX($A$4:$R$1642,$AE922,COLUMNS($A:$R)),\"\")","v":""},null,null,null,null,null,null,null,null,114]
[{"$f":"AR923","v":115},null,{"$f":"(VLOOKUP($B923,'Elenco Prezzi2'!$A$2:$E$201,2,FALSE))","v":{"$error":"#N/A"}},null,null,null,null,null,null,null,null,null,null,null,null,null,null,null,null,null,null,null,null,null,2,0,null,"",{"$f":"ROWS($AC$4:AC923)","v":920},"",{"$f":"IFERROR(SMALL($AD$4:$AD$1642,ROWS($AD$4:AD923)),\"\")","v":""},null,{"$f":"IFERROR(INDEX($A$4:$R$1642,$AE923,COLUMNS($A:$B)),\"\")","v":""},{"$f":"IFERROR(INDEX($A$4:$R$1642,$AE923,COLUMNS($A:$C)),\"\")","v":""},{"$f":"IFERROR(INDEX($A$4:$R$1642,$AE923,COLUMNS($A:$R)),\"\")","v":""},null,null,null,null,null,null,null,1,115]
[null,null,null,{"$f":"CONCATENATE(AK924&AL924&AM924&AN924)","v":""},null,null,null,null,{"$f":"IFERROR(IF(PRODUCT(E924:H924)=0,\"\",PRODUCT(E924:H924)),\"\")","v":""},{"$f":"I924","v":""},null,{"$f":"IF(E924>0,\" (p/u) \"&Modulo2.GetFormula(E924),\"\")","v":""},{"$f":"IF(F924>0,\" (lu) \"&Modulo2.GetFormula(F924),\"\")","v":""},{"$f":"IF(G924>0,\" (la) \"&Modulo2.GetFormula(G924),\"\")","v":""},{"$f":"IF(H924>0,\" (H) \"&Modulo2.GetFormula(H924),\"\")","v":""},null,null,null,null,null,null,null,null,null,2,0,null,"",{"$f":"ROWS($AC$4:AC924)","v":921},"",{"$f":"IFERROR(SMALL($AD$4:$AD$1642,ROWS($AD$4:AD924)),\"\")","v":""},null,{"$f":"IFERROR(INDEX($A$4:$R$1642,$AE924,COLUMNS($A:$B)),\"\")","v":""},{"$f":"IFERROR(INDEX($A$4:$R$1642,$AE924,COLUMNS($A:$C)),\"\")","v":""},{"$f":"IFERROR(INDEX($A$4:$R$1642,$AE924,COLUMNS($A:$R)),\"\")","v":""},null,{"$f":"IFERROR(IF(SEARCH(\"=\",L924),L924,\"\"),\"\")","v":""},{"$f":"IFERROR(IF(SEARCH(\"=\",M924),M924,\"\"),\"\")","v":""},{"$f":"IFERROR(IF(SEARCH(\"=\",N924),N924,\"\"),\"\")","v":""},{"$f":"IFERROR(IF(SEARCH(\"=\",O924),O924,\"\"),\"\")","v":""},null,null,null,115]
[null,null,null,"",null,null,null,null,"","",null,{"$f":"IF(E925>0,\" (p/u) \"&Modulo2.GetFormula(E925),\"\")","v":""},{"$f":"IF(F925>0,\" (lu) \"&Modulo2.GetFormula(F925),\"\")","v":""},{"$f":"IF(G925>0,\" (la) \"&Modulo2.GetFormula(G925),\"\")","v":""},{"$f":"IF(H925>0,\" (H) \"&Modulo2.GetFormula(H925),\"\")","v":""},null,null,null,null,null,null,null,null,null,2,0,null,"",{"$f":"ROWS($AC$4:AC925)","v":922},"",{"$f":"IFERROR(SMALL($AD$4:$AD$1642,ROWS($AD$4:AD925)),\"\")","v":""},null,{"$f":"IFERROR(INDEX($A$4:$R$1642,$AE925,COLUMNS($A:$B)),\"\")","v":""},{"$f":"IFERROR(INDEX($A$4:$R$1642,$AE925,COLUMNS($A:$C)),\"\")","v":""},{"$f":"IFERROR(INDEX($A$4:$R$1642,$AE925,COLUMNS($A:$R)),\"\")","v":""},null,"","","","",null,null,null,115]
[null,null,null,"",null,null,null,null,"","",null,{"$f":"IF(E926>0,\" (p/u) \"&Modulo2.GetFormula(E926),\"\")","v":""},{"$f":"IF(F926>0,\" (lu) \"&Modulo2.GetFormula(F926),\"\")","v":""},{"$f":"IF(G926>0,\" (la) \"&Modulo2.GetFormula(G926),\"\")","v":""},{"$f":"IF(H926>0,\" (H) \"&Modulo2.GetFormula(H926),\"\")","v":""},null,null,null,null,null,null,null,null,null,2,0,null,"",{"$f":"ROWS($AC$4:AC926)","v":923},"",{"$f":"IFERROR(SMALL($AD$4:$AD$1642,ROWS($AD$4:AD926)),\"\")","v":""},null,{"$f":"IFERROR(INDEX($A$4:$R$1642,$AE926,COLUMNS($A:$B)),\"\")","v":""},{"$f":"IFERROR(INDEX($A$4:$R$1642,$AE926,COLUMNS($A:$C)),\"\")","v":""},{"$f":"IFERROR(INDEX($A$4:$R$1642,$AE926,COLUMNS($A:$R)),\"\")","v":""},null,"","","","",null,null,null,115]
[null,null,null,null,null,null,null,{"$f":"CONCATENATE(\"SOMMANO [\",VLOOKUP(B923,'Elenco Prezzi2'!$A$2:$E$201,3,FALSE()),\"]\")","v":{"$error":"#N/A"}},{"$f":"IF(T927=\"s\",V928,SUBTOTAL(9,I923:I927))","v":{"$error":"#REF!"}},null,{"$f":"VLOOKUP(B923,'Elenco Prezzi2'!$A$2:$E$201,5,FALSE)","v":{"$error":"#N/A"}},null,null,null,null,null,null,{"$f":"IFERROR(I927*K927,\"\")","v":""},null,"s",null,null,null,{"$f":"R927","v":""},2,0,null,"",{"$f":"ROWS($AC$4:AC927)","v":924},"",{"$f":"IFERROR(SMALL($AD$4:$AD$1642,ROWS($AD$4:AD927)),\"\")","v":""},null,{"$f":"IFERROR(INDEX($A$4:$R$1642,$AE927,COLUMNS($A:$B)),\"\")","v":""},{"$f":"IFERROR(INDEX($A$4:$R$1642,$AE927,COLUMNS($A:$C)),\"\")","v":""},{"$f":"IFERROR(INDEX($A$4:$R$1642,$AE927,COLUMNS($A:$R)),\"\")","v":""},null,null,null,null,null,null,null,null,115]
[null,null,null,null,null,null,null,{"$f":"IF(I928<0,\"a detrarre\",\"\")","v":""},{"$f":"SUMIF(I923:I926,\"<0\")","v":0},null,null,null,null,null,null,null,null,null,{"$f":"R927","v":""},null,null,{"$f":"VLOOKUP(B923,#REF!,4,FALSE)","v":{"$error":"#REF!"}},null,null,2,0,null,"",{"$f":"ROWS($AC$4:AC928)","v":925},"",{"$f":"IFERROR(SMALL($AD$4:$AD$1642,ROWS($AD$4:AD928)),\"\")","v":""},null,{"$f":"IFERROR(INDEX($A$4:$R$1642,$AE928,COLUMNS($A:$B)),\"\")","v":""},{"$f":"IFERROR(INDEX($A$4:$R$1642,$AE928,COLUMNS($A:$C)),\"\")","v":""},{"$f":"IFERROR(INDEX($A$4:$R$1642,$AE928,COLUMNS($A:$R)),\"\")","v":""},null,null,null,null,null,null,null,null,115]
[null,null,null,null,null,null,null,null,null,null,null,null,null,null,null,null,null,null,null,null,null,null,null,null,2,0,null,"",{"$f":"ROWS($AC$4:AC929)","v":926},"",{"$f":"IFERROR(SMALL($AD$4:$AD$1642,ROWS($AD$4:AD929)),\"\")","v":""},null,{"$f":"IFERROR(INDEX($A$4:$R$1642,$AE929,COLUMNS($A:$B)),\"\")","v":""},{"$f":"IFERROR(INDEX($A$4:$R$1642,$AE929,COLUMNS($A:$C)),\"\")","v":""},{"$f":"IFERROR(INDEX($A$4:$R$1642,$AE929,COLUMNS($A:$R)),\"\")","v":""},null,null,null,null,null,null,null,null,115]
[null,null,null,null,null,null,null,null,null,null,null,null,null,null,null,null,null,null,null,null,null,null,null,null,2,0,null,"",{"$f":"ROWS($AC$4:AC930)","v":927},"",{"$f":"IFERROR(SMALL($AD$4:$AD$1642,ROWS($AD$4:AD930)),\"\")","v":""},null,{"$f":"IFERROR(INDEX($A$4:$R$1642,$AE930,COLUMNS($A:$B)),\"\")","v":""},{"$f":"IFERROR(INDEX($A$4:$R$1642,$AE930,COLUMNS($A:$C)),\"\")","v":""},{"$f":"IFERROR(INDEX($A$4:$R$1642,$AE930,COLUMNS($A:$R)),\"\")","v":""},null,null,null,null,null,null,null,null,115]
[{"$f":"AR931","v":116},null,{"$f":"(VLOOKUP($B931,'Elenco Prezzi2'!$A$2:$E$201,2,FALSE))","v":{"$error":"#N/A"}},null,null,null,null,null,null,null,null,null,null,null,null,null,null,null,null,null,null,null,null,null,2,0,null,{"$f":"IF(W931>0,\"OK\",\"\")","v":""},{"$f":"ROWS($AC$4:AC931)","v":928},{"$f":"IF(AB931=\"ok\",AC931,\"\")","v":""},{"$f":"IFERROR(SMALL($AD$4:$AD$1642,ROWS($AD$4:AD931)),\"\")","v":""},null,{"$f":"IFERROR(INDEX($A$4:$R$1642,$AE931,COLUMNS($A:$B)),\"\")","v":""},{"$f":"IFERROR(INDEX($A$4:$R$1642,$AE931,COLUMNS($A:$C)),\"\")","v":""},{"$f":"IFERROR(INDEX($A$4:$R$1642,$AE931,COLUMNS($A:$R)),\"\")","v":""},null,null,null,null,null,null,null,1,{"$f":"IF(AQ931=\"\",AR930,AR930+AQ931)","v":116}]
[null,null,null,{"$f":"CONCATENATE(AK932&AL932&AM932&AN932)","v":""},null,null,null,null,{"$f":"IFERROR(IF(PRODUCT(E932:H932)=0,\"\",PRODUCT(E932:H932)),\"\")","v":""},{"$f":"I932","v":""},null,{"$f":"IF(E932>0,\" (p/u) \"&Modulo2.GetFormula(E932),\"\")","v":""},{"$f":"IF(F932>0,\" (lu) \"&Modulo2.GetFormula(F932),\"\")","v":""},{"$f":"IF(G932>0,\" (la) \"&Modulo2.GetFormula(G932),\"\")","v":""},{"$f":"IF(H932>0,\" (H) \"&Modulo2.GetFormula(H932),\"\")","v":""},null,null,null,null,null,null,null,null,null,{"$f":"IF(AO932=\"\",Y931,Y931+AO932)","v":2},{"$f":"IF(AP932=\"\",Z931,Z931+AP932)","v":0},null,"",{"$f":"ROWS($AC$4:AC932)","v":929},"",{"$f":"IFERROR(SMALL($AD$4:$AD$1642,ROWS($AD$4:AD932)),\"\")","v":""},null,{"$f":"IFERROR(INDEX($A$4:$R$1642,$AE932,COLUMNS($A:$B)),\"\")","v":""},{"$f":"IFERROR(INDEX($A$4:$R$1642,$AE932,COLUMNS($A:$C)),\"\")","v":""},{"$f":"IFERROR(INDEX($A$4:$R$1642,$AE932,COLUMNS($A:$R)),\"\")","v":""},null,{"$f":"IFERROR(IF(SEARCH(\"=\",L932),L932,\"\"),\"\")","v":""},{"$f":"IFERROR(IF(SEARCH(\"=\",M932),M932,\"\"),\"\")","v":""},{"$f":"IFERROR(IF(SEARCH(\"=\",N932),N932,\"\"),\"\")","v":""},{"$f":"IFERROR(IF(SEARCH(\"=\",O932),O932,\"\"),\"\")","v":""},null,null,null,116]
[null,null,null,"",null,null,null,null,"","",null,{"$f":"IF(E933>0,\" (p/u) \"&Modulo2.GetFormula(E933),\"\")","v":""},{"$f":"IF(F933>0,\" (lu) \"&Modulo2.GetFormula(F933),\"\")","v":""},{"$f":"IF(G933>0,\" (la) \"&Modulo2.GetFormula(G933),\"\")","v":""},{"$f":"IF(H933>0,\" (H) \"&Modulo2.GetFormula(H933),\"\")","v":""},null,null,null,null,null,null,null,null,null,2,0,null,"",{"$f":"ROWS($AC$4:AC933)","v":930},"",{"$f":"IFERROR(SMALL($AD$4:$AD$1642,ROWS($AD$4:AD933)),\"\")","v":""},null,{"$f":"IFERROR(INDEX($A$4:$R$1642,$AE933,COLUMNS($A:$B)),\"\")","v":""},{"$f":"IFERROR(INDEX($A$4:$R$1642,$AE933,COLUMNS($A:$C)),\"\")","v":""},{"$f":"IFERROR(INDEX($A$4:$R$1642,$AE933,COLUMNS($A:$R)),\"\")","v":""},null,"","","","",null,null,null,116]
[null,null,null,"",null,null,null,null,"","",null,{"$f":"IF(E934>0,\" (p/u) \"&Modulo2.GetFormula(E934),\"\")","v":""},{"$f":"IF(F934>0,\" (lu) \"&Modulo2.GetFormula(F934),\"\")","v":""},{"$f":"IF(G934>0,\" (la) \"&Modulo2.GetFormula(G934),\"\")","v":""},{"$f":"IF(H934>0,\" (H) \"&Modulo2.GetFormula(H934),\"\")","v":""},null,null,null,null,null,null,null,null,null,2,0,null,"",{"$f":"ROWS($AC$4:AC934)","v":931},"",{"$f":"IFERROR(SMALL($AD$4:$AD$1642,ROWS($AD$4:AD934)),\"\")","v":""},null,{"$f":"IFERROR(INDEX($A$4:$R$1642,$AE934,COLUMNS($A:$B)),\"\")","v":""},{"$f":"IFERROR(INDEX($A$4:$R$1642,$AE934,COLUMNS($A:$C)),\"\")","v":""},{"$f":"IFERROR(INDEX($A$4:$R$1642,$AE934,COLUMNS($A:$R)),\"\")","v":""},null,"","","","",null,null,null,116]
[null,null,null,null,null,null,null,{"$f":"CONCATENATE(\"SOMMANO [\",VLOOKUP(B931,'Elenco Prezzi2'!$A$2:$E$201,3,FALSE()),\"]\")","v":{"$error":"#N/A"}},{"$f":"IF(T935=\"s\",V936,SUBTOTAL(9,I931:I935))","v":{"$error":"#REF!"}},null,{"$f":"VLOOKUP(B931,'Elenco Prezzi2'!$A$2:$E$201,5,FALSE)","v":{"$error":"#N/A"}},null,null,null,null,null,null,{"$f":"IFERROR(I935*K935,\"\")","v":""},null,"s",null,null,null,{"$f":"R935","v":""},2,0,null,"",{"$f":"ROWS($AC$4:AC935)","v":932},"",{"$f":"IFERROR(SMALL($AD$4:$AD$1642,ROWS($AD$4:AD935)),\"\")","v":""},null,{"$f":"IFERROR(INDEX($A$4:$R$1642,$AE935,COLUMNS($A:$B)),\"\")","v":""},{"$f":"IFERROR(INDEX($A$4:$R$1642,$AE935,COLUMNS($A:$C)),\"\")","v":""},{"$f":"IFERROR(INDEX($A$4:$R$1642,$AE935,COLUMNS($A:$R)),\"\")","v":""},null,null,null,null,null,null,null,null,116]
[null,null,null,null,null,null,null,{"$f":"IF(I936<0,\"a detrarre\",\"\")","v":""},{"$f":"SUMIF(I931:I934,\"<0\")","v":0},null,null,null,null,null,null,null,null,null,{"$f":"R935","v":""},null,null,{"$f":"VLOOKUP(B931,#REF!,4,FALSE)","v":{"$error":"#REF!"}},null,null,2,0,null,"",{"$f":"ROWS($AC$4:AC936)","v":933},"",{"$f":"IFERROR(SMALL($AD$4:$AD$1642,ROWS($AD$4:AD936)),\"\")","v":""},null,{"$f":"IFERROR(INDEX($A$4:$R$1642,$AE936,COLUMNS($A:$B)),\"\")","v":""},{"$f":"IFERROR(INDEX($A$4:$R$1642,$AE936,COLUMNS($A:$C)),\"\")","v":""},{"$f":"IFERROR(INDEX($A$4:$R$1642,$AE936,COLUMNS($A:$R)),\"\")","v":""},null,null,null,null,null,null,null,null,116]
[null,null,null,null,null,null,null,null,null,null,null,null,null,null,null,null,null,null,null,null,null,null,null,null,2,0,null,"",{"$f":"ROWS($AC$4:AC937)","v":934},"",{"$f":"IFERROR(SMALL($AD$4:$AD$1642,ROWS($AD$4:AD937)),\"\")","v":""},null,{"$f":"IFERROR(INDEX($A$4:$R$1642,$AE937,COLUMNS($A:$B)),\"\")","v":""},{"$f":"IFERROR(INDEX($A$4:$R$1642,$AE937,COLUMNS($A:$C)),\"\")","v":""},{"$f":"IFERROR(INDEX($A$4:$R$1642,$AE937,COLUMNS($A:$R)),\"\")","v":""},null,null,null,null,null,null,null,null,116]
[null,null,null,null,null,null,null,null,null,null,null,null,null,null,null,null,null,null,null,null,null,null,null,null,2,0,null,"",{"$f":"ROWS($AC$4:AC938)","v":935},"",{"$f":"IFERROR(SMALL($AD$4:$AD$1642,ROWS($AD$4:AD938)),\"\")","v":""},null,{"$f":"IFERROR(INDEX($A$4:$R$1642,$AE938,COLUMNS($A:$B)),\"\")","v":""},{"$f":"IFERROR(INDEX($A$4:$R$1642,$AE938,COLUMNS($A:$C)),\"\")","v":""},{"$f":"IFERROR(INDEX($A$4:$R$1642,$AE938,COLUMNS($A:$R)),\"\")","v":""},null,null,null,null,null,null,null,null,116]
[{"$f":"AR939","v":117},null,{"$f":"(VLOOKUP($B939,'Elenco Prezzi2'!$A$2:$E$201,2,FALSE))","v":{"$error":"#N/A"}},null,null,null,null,null,null,null,null,null,null,null,null,null,null,null,null,null,null,null,null,null,2,0,null,"",{"$f":"ROWS($AC$4:AC939)","v":936},"",{"$f":"IFERROR(SMALL($AD$4:$AD$1642,ROWS($AD$4:AD939)),\"\")","v":""},null,{"$f":"IFERROR(INDEX($A$4:$R$1642,$AE939,COLUMNS($A:$B)),\"\")","v":""},{"$f":"IFERROR(INDEX($A$4:$R$1642,$AE939,COLUMNS($A:$C)),\"\")","v":""},{"$f":"IFERROR(INDEX($A$4:$R$1642,$AE939,COLUMNS($A:$R)),\"\")","v":""},null,null,null,null,null,null,null,1,117]
[null,null,null,{"$f":"CONCATENATE(AK940&AL940&AM940&AN940)","v":""},null,null,null,null,{"$f":"IFERROR(IF(PRODUCT(E940:H940)=0,\"\",PRODUCT(E940:H940)),\"\")","v":""},{"$f":"I940","v":""},null,{"$f":"IF(E940>0,\" (p/u) \"&Modulo2.GetFormula(E940),\"\")","v":""},{"$f":"IF(F940>0,\" (lu) \"&Modulo2.GetFormula(F940),\"\")","v":""},{"$f":"IF(G940>0,\" (la) \"&Modulo2.GetFormula(G940),\"\")","v":""},{"$f":"IF(H940>0,\" (H) \"&Modulo2.GetFormula(H940),\"\")","v":""},null,null,null,null,null,null,null,null,null,2,0,null,"",{"$f":"ROWS($AC$4:AC940)","v":937},"",{"$f":"IFERROR(SMALL($AD$4:$AD$1642,ROWS($AD$4:AD940)),\"\")","v":""},null,{"$f":"IFERROR(INDEX($A$4:$R$1642,$AE940,COLUMNS($A:$B)),\"\")","v":""},{"$f":"IFERROR(INDEX($A$4:$R$1642,$AE940,COLUMNS($A:$C)),\"\")","v":""},{"$f":"IFERROR(INDEX($A$4:$R$1642,$AE940,COLUMNS($A:$R)),\"\")","v":""},null,{"$f":"IFERROR(IF(SEARCH(\"=\",L940),L940,\"\"),\"\")","v":""},{"$f":"IFERROR(IF(SEARCH(\"=\",M940),M940,\"\"),\"\")","v":""},{"$f":"IFERROR(IF(SEARCH(\"=\",N940),N940,\"\"),\"\")","v":""},{"$f":"IFERROR(IF(SEARCH(\"=\",O940),O940,\"\"),\"\")","v":""},null,null,null,117]
[null,null,null,"",null,null,null,null,"","",null,{"$f":"IF(E941>0,\" (p/u) \"&Modulo2.GetFormula(E941),\"\")","v":""},{"$f":"IF(F941>0,\" (lu) \"&Modulo2.GetFormula(F941),\"\")","v":""},{"$f":"IF(G941>0,\" (la) \"&Modulo2.GetFormula(G941),\"\")","v":""},{"$f":"IF(H941>0,\" (H) \"&Modulo2.GetFormula(H941),\"\")","v":""},null,null,null,null,null,null,null,null,null,2,0,null,"",{"$f":"ROWS($AC$4:AC941)","v":938},"",{"$f":"IFERROR(SMALL($AD$4:$AD$1642,ROWS($AD$4:AD941)),\"\")","v":""},null,{"$f":"IFERROR(INDEX($A$4:$R$1642,$AE941,COLUMNS($A:$B)),\"\")","v":""},{"$f":"IFERROR(INDEX($A$4:$R$1642,$AE941,COLUMNS($A:$C)),\"\")","v":""},{"$f":"IFERROR(INDEX($A$4:$R$1642,$AE941,COLUMNS($A:$R)),\"\")","v":""},null,"","","","",null,null,null,117]
[null,null,null,"",null,null,null,null,"","",null,{"$f":"IF(E942>0,\" (p/u) \"&Modulo2.GetFormula(E942),\"\")","v":""},{"$f":"IF(F942>0,\" (lu) \"&Modulo2.GetFormula(F942),\"\")","v":""},{"$f":"IF(G942>0,\" (la) \"&Modulo2.GetFormula(G942),\"\")","v":""},{"$f":"IF(H942>0,\" (H) \"&Modulo2.GetFormula(H942),\"\")","v":""},null,null,null,null,null,null,null,null,null,2,0,null,"",{"$f":"ROWS($AC$4:AC942)","v":939},"",{"$f":"IFERROR(SMALL($AD$4:$AD$1642,ROWS($AD$4:AD942)),\"\")","v":""},null,{"$f":"IFERROR(INDEX($A$4:$R$1642,$AE942,COLUMNS($A:$B)),\"\")","v":""},{"$f":"IFERROR(INDEX($A$4:$R$1642,$AE942,COLUMNS($A:$C)),\"\")","v":""},{"$f":"IFERROR(INDEX($A$4:$R$1642,$AE942,COLUMNS($A:$R)),\"\")","v":""},null,"","","","",null,null,null,117]
[null,null,null,null,null,null,null,{"$f":"CONCATENATE(\"SOMMANO [\",VLOOKUP(B939,'Elenco Prezzi2'!$A$2:$E$201,3,FALSE()),\"]\")","v":{"$error":"#N/A"}},{"$f":"IF(T943=\"s\",V944,SUBTOTAL(9,I939:I943))","v":{"$error":"#REF!"}},null,{"$f":"VLOOKUP(B939,'Elenco Prezzi2'!$A$2:$E$201,5,FALSE)","v":{"$error":"#N/A"}},null,null,null,null,null,null,{"$f":"IFERROR(I943*K943,\"\")","v":""},null,"s",null,null,null,{"$f":"R943","v":""},2,0,null,"",{"$f":"ROWS($AC$4:AC943)","v":940},"",{"$f":"IFERROR(SMALL($AD$4:$AD$1642,ROWS($AD$4:AD943)),\"\")","v":""},null,{"$f":"IFERROR(INDEX($A$4:$R$1642,$AE943,COLUMNS($A:$B)),\"\")","v":""},{"$f":"IFERROR(INDEX($A$4:$R$1642,$AE943,COLUMNS($A:$C)),\"\")","v":""},{"$f":"IFERROR(INDEX($A$4:$R$1642,$AE943,COLUMNS($A:$R)),\"\")","v":""},null,null,null,null,null,null,null,null,117]
[null,null,null,null,null,null,null,{"$f":"IF(I944<0,\"a detrarre\",\"\")","v":""},{"$f":"SUMIF(I939:I942,\"<0\")","v":0},null,null,null,null,null,null,null,null,null,{"$f":"R943","v":""},null,null,{"$f":"VLOOKUP(B939,#REF!,4,FALSE)","v":{"$error":"#REF!"}},null,null,2,0,null,"",{"$f":"ROWS($AC$4:AC944)","v":941},"",{"$f":"IFERROR(SMALL($AD$4:$AD$1642,ROWS($AD$4:AD944)),\"\")","v":""},null,{"$f":"IFERROR(INDEX($A$4:$R$1642,$AE944,COLUMNS($A:$B)),\"\")","v":""},{"$f":"IFERROR(INDEX($A$4:$R$1642,$AE944,COLUMNS($A:$C)),\"\")","v":""},{"$f":"IFERROR(INDEX($A$4:$R$1642,$AE944,COLUMNS($A:$R)),\"\")","v":""},null,null,null,null,null,null,null,null,117]
[null,null,null,null,null,null,null,null,null,null,null,null,null,null,null,null,null,null,null,null,null,null,null,null,2,0,null,"",{"$f":"ROWS($AC$4:AC945)","v":942},"",{"$f":"IFERROR(SMALL($AD$4:$AD$1642,ROWS($AD$4:AD945)),\"\")","v":""},null,{"$f":"IFERROR(INDEX($A$4:$R$1642,$AE945,COLUMNS($A:$B)),\"\")","v":""},{"$f":"IFERROR(INDEX($A$4:$R$1642,$AE945,COLUMNS($A:$C)),\"\")","v":""},{"$f":"IFERROR(INDEX($A$4:$R$1642,$AE945,COLUMNS($A:$R)),\"\")","v":""},null,null,null,null,null,null,null,null,117]
[null,null,null,null,null,null,null,null,null,null,null,null,null,null,null,null,null,null,null,null,null,null,null,null,2,0,null,"",{"$f":"ROWS($AC$4:AC946)","v":943},"",{"$f":"IFERROR(SMALL($AD$4:$AD$1642,ROWS($AD$4:AD946)),\"\")","v":""},null,{"$f":"IFERROR(INDEX($A$4:$R$1642,$AE946,COLUMNS($A:$B)),\"\")","v":""},{"$f":"IFERROR(INDEX($A$4:$R$1642,$AE946,COLUMNS($A:$C)),\"\")","v":""},{"$f":"IFERROR(INDEX($A$4:$R$1642,$AE946,COLUMNS($A:$R)),\"\")","v":""},null,null,null,null,null,null,null,null,117]
[{"$f":"AR947","v":118},null,{"$f":"(VLOOKUP($B947,'Elenco Prezzi2'!$A$2:$E$201,2,FALSE))","v":{"$error":"#N/A"}},null,null,null,null,null,null,null,null,null,null,null,null,null,null,null,null,null,null,null,null,null,2,0,null,"",{"$f":"ROWS($AC$4:AC947)","v":944},"",{"$f":"IFERROR(SMALL($AD$4:$AD$1642,ROWS($AD$4:AD947)),\"\")","v":""},null,{"$f":"IFERROR(INDEX($A$4:$R$1642,$AE947,COLUMNS($A:$B)),\"\")","v":""},{"$f":"IFERROR(INDEX($A$4:$R$1642,$AE947,COLUMNS($A:$C)),\"\")","v":""},{"$f":"IFERROR(INDEX($A$4:$R$1642,$AE947,COLUMNS($A:$R)),\"\")","v":""},null,null,null,null,null,null,null,1,118]
[null,null,null,{"$f":"CONCATENATE(AK948&AL948&AM948&AN948)","v":""},null,null,null,null,{"$f":"IFERROR(IF(PRODUCT(E948:H948)=0,\"\",PRODUCT(E948:H948)),\"\")","v":""},{"$f":"I948","v":""},null,{"$f":"IF(E948>0,\" (p/u) \"&Modulo2.GetFormula(E948),\"\")","v":""},{"$f":"IF(F948>0,\" (lu) \"&Modulo2.GetFormula(F948),\"\")","v":""},{"$f":"IF(G948>0,\" (la) \"&Modulo2.GetFormula(G948),\"\")","v":""},{"$f":"IF(H948>0,\" (H) \"&Modulo2.GetFormula(H948),\"\")","v":""},null,null,null,null,null,null,null,null,null,2,0,null,"",{"$f":"ROWS($AC$4:AC948)","v":945},"",{"$f":"IFERROR(SMALL($AD$4:$AD$1642,ROWS($AD$4:AD948)),\"\")","v":""},null,{"$f":"IFERROR(INDEX($A$4:$R$1642,$AE948,COLUMNS($A:$B)),\"\")","v":""},{"$f":"IFERROR(INDEX($A$4:$R$1642,$AE948,COLUMNS($A:$C)),\"\")","v":""},{"$f":"IFERROR(INDEX($A$4:$R$1642,$AE948,COLUMNS($A:$R)),\"\")","v":""},null,{"$f":"IFERROR(IF(SEARCH(\"=\",L948),L948,\"\"),\"\")","v":""},{"$f":"IFERROR(IF(SEARCH(\"=\",M948),M948,\"\"),\"\")","v":""},{"$f":"IFERROR(IF(SEARCH(\"=\",N948),N948,\"\"),\"\")","v":""},{"$f":"IFERROR(IF(SEARCH(\"=\",O948),O948,\"\"),\"\")","v":""},null,null,null,118]
[null,null,null,"",null,null,null,null,"","",null,{"$f":"IF(E949>0,\" (p/u) \"&Modulo2.GetFormula(E949),\"\")","v":""},{"$f":"IF(F949>0,\" (lu) \"&Modulo2.GetFormula(F949),\"\")","v":""},{"$f":"IF(G949>0,\" (la) \"&Modulo2.GetFormula(G949),\"\")","v":""},{"$f":"IF(H949>0,\" (H) \"&Modulo2.GetFormula(H949),\"\")","v":""},null,null,null,null,null,null,null,null,null,2,0,null,"",{"$f":"ROWS($AC$4:AC949)","v":946},"",{"$f":"IFERROR(SMALL($AD$4:$AD$1642,ROWS($AD$4:AD949)),\"\")","v":""},null,{"$f":"IFERROR(INDEX($A$4:$R$1642,$AE949,COLUMNS($A:$B)),\"\")","v":""},{"$f":"IFERROR(INDEX($A$4:$R$1642,$AE949,COLUMNS($A:$C)),\"\")","v":""},{"$f":"IFERROR(INDEX($A$4:$R$1642,$AE949,COLUMNS($A:$R)),\"\")","v":""},null,"","","","",null,null,null,118]
[null,null,null,"",null,null,null,null,"","",null,{"$f":"IF(E950>0,\" (p/u) \"&Modulo2.GetFormula(E950),\"\")","v":""},{"$f":"IF(F950>0,\" (lu) \"&Modulo2.GetFormula(F950),\"\")","v":""},{"$f":"IF(G950>0,\" (la) \"&Modulo2.GetFormula(G950),\"\")","v":""},{"$f":"IF(H950>0,\" (H) \"&Modulo2.GetFormula(H950),\"\")","v":""},null,null,null,null,null,null,null,null,null,2,0,null,"",{"$f":"ROWS($AC$4:AC950)","v":947},"",{"$f":"IFERROR(SMALL($AD$4:$AD$1642,ROWS($AD$4:AD950)),\"\")","v":""},null,{"$f":"IFERROR(INDEX($A$4:$R$1642,$AE950,COLUMNS($A:$B)),\"\")","v":""},{"$f":"IFERROR(INDEX($A$4:$R$1642,$AE950,COLUMNS($A:$C)),\"\")","v":""},{"$f":"IFERROR(INDEX($A$4:$R$1642,$AE950,COLUMNS($A:$R)),\"\")","v":""},null,"","","","",null,null,null,118]
[null,null,null,null,null,null,null,{"$f":"CONCATENATE(\"SOMMANO [\",VLOOKUP(B947,'Elenco Prezzi2'!$A$2:$E$201,3,FALSE()),\"]\")","v":{"$error":"#N/A"}},{"$f":"IF(T951=\"s\",V952,SUBTOTAL(9,I947:I951))","v":{"$error":"#REF!"}},null,{"$f":"VLOOKUP(B947,'Elenco Prezzi2'!$A$2:$E$201,5,FALSE)","v":{"$error":"#N/A"}},null,null,null,null,null,null,{"$f":"IFERROR(I951*K951,\"\")","v":""},null,"s",null,null,null,{"$f":"R951","v":""},2,0,null,"",{"$f":"ROWS($AC$4:AC951)","v":948},"",{"$f":"IFERROR(SMALL($AD$4:$AD$1642,ROWS($AD$4:AD951)),\"\")","v":""},null,{"$f":"IFERROR(INDEX($A$4:$R$1642,$AE951,COLUMNS($A:$B)),\"\")","v":""},{"$f":"IFERROR(INDEX($A$4:$R$1642,$AE951,COLUMNS($A:$C)),\"\")","v":""},{"$f":"IFERROR(INDEX($A$4:$R$1642,$AE951,COLUMNS($A:$R)),\"\")","v":""},null,null,null,null,null,null,null,null,118]
[null,null,null,null,null,null,null,{"$f":"IF(I952<0,\"a detrarre\",\"\")","v":""},{"$f":"SUMIF(I947:I950,\"<0\")","v":0},null,null,null,null,null,null,null,null,null,{"$f":"R951","v":""},null,null,{"$f":"VLOOKUP(B947,#REF!,4,FALSE)","v":{"$error":"#REF!"}},null,null,2,0,null,"",{"$f":"ROWS($AC$4:AC952)","v":949},"",{"$f":"IFERROR(SMALL($AD$4:$AD$1642,ROWS($AD$4:AD952)),\"\")","v":""},null,{"$f":"IFERROR(INDEX($A$4:$R$1642,$AE952,COLUMNS($A:$B)),\"\")","v":""},{"$f":"IFERROR(INDEX($A$4:$R$1642,$AE952,COLUMNS($A:$C)),\"\")","v":""},{"$f":"IFERROR(INDEX($A$4:$R$1642,$AE952,COLUMNS($A:$R)),\"\")","v":""},null,null,null,null,null,null,null,null,118]
[null,null,null,null,null,null,null,null,null,null,null,null,null,null,null,null,null,null,null,null,null,null,null,null,2,0,null,"",{"$f":"ROWS($AC$4:AC953)","v":950},"",{"$f":"IFERROR(SMALL($AD$4:$AD$1642,ROWS($AD$4:AD953)),\"\")","v":""},null,{"$f":"IFERROR(INDEX($A$4:$R$1642,$AE953,COLUMNS($A:$B)),\"\")","v":""},{"$f":"IFERROR(INDEX($A$4:$R$1642,$AE953,COLUMNS($A:$C)),\"\")","v":""},{"$f":"IFERROR(INDEX($A$4:$R$1642,$AE953,COLUMNS($A:$R)),\"\")","v":""},null,null,null,null,null,null,null,null,118]
[null,null,null,null,null,null,null,null,null,null,null,null,null,null,null,null,null,null,null,null,null,null,null,null,2,0,null,"",{"$f":"ROWS($AC$4:AC954)","v":951},"",{"$f":"IFERROR(SMALL($AD$4:$AD$1642,ROWS($AD$4:AD954)),\"\")","v":""},null,{"$f":"IFERROR(INDEX($A$4:$R$1642,$AE954,COLUMNS($A:$B)),\"\")","v":""},{"$f":"IFERROR(INDEX($A$4:$R$1642,$AE954,COLUMNS($A:$C)),\"\")","v":""},{"$f":"IFERROR(INDEX($A$4:$R$1642,$AE954,COLUMNS($A:$R)),\"\")","v":""},null,null,null,null,null,null,null,null,118]
[{"$f":"AR955","v":119},null,{"$f":"(VLOOKUP($B955,'Elenco Prezzi2'!$A$2:$E$201,2,FALSE))","v":{"$error":"#N/A"}},null,null,null,null,null,null,null,null,null,null,null,null,null,null,null,null,null,null,null,null,null,2,0,null,"",{"$f":"ROWS($AC$4:AC955)","v":952},"",{"$f":"IFERROR(SMALL($AD$4:$AD$1642,ROWS($AD$4:AD955)),\"\")","v":""},null,{"$f":"IFERROR(INDEX($A$4:$R$1642,$AE955,COLUMNS($A:$B)),\"\")","v":""},{"$f":"IFERROR(INDEX($A$4:$R$1642,$AE955,COLUMNS($A:$C)),\"\")","v":""},{"$f":"IFERROR(INDEX($A$4:$R$1642,$AE955,COLUMNS($A:$R)),\"\")","v":""},null,null,null,null,null,null,null,1,119]
[null,null,null,{"$f":"CONCATENATE(AK956&AL956&AM956&AN956)","v":""},null,null,null,null,{"$f":"IFERROR(IF(PRODUCT(E956:H956)=0,\"\",PRODUCT(E956:H956)),\"\")","v":""},{"$f":"I956","v":""},null,{"$f":"IF(E956>0,\" (p/u) \"&Modulo2.GetFormula(E956),\"\")","v":""},{"$f":"IF(F956>0,\" (lu) \"&Modulo2.GetFormula(F956),\"\")","v":""},{"$f":"IF(G956>0,\" (la) \"&Modulo2.GetFormula(G956),\"\")","v":""},{"$f":"IF(H956>0,\" (H) \"&Modulo2.GetFormula(H956),\"\")","v":""},null,null,null,null,null,null,null,null,null,2,0,null,"",{"$f":"ROWS($AC$4:AC956)","v":953},"",{"$f":"IFERROR(SMALL($AD$4:$AD$1642,ROWS($AD$4:AD956)),\"\")","v":""},null,{"$f":"IFERROR(INDEX($A$4:$R$1642,$AE956,COLUMNS($A:$B)),\"\")","v":""},{"$f":"IFERROR(INDEX($A$4:$R$1642,$AE956,COLUMNS($A:$C)),\"\")","v":""},{"$f":"IFERROR(INDEX($A$4:$R$1642,$AE956,COLUMNS($A:$R)),\"\")","v":""},null,{"$f":"IFERROR(IF(SEARCH(\"=\",L956),L956,\"\"),\"\")","v":""},{"$f":"IFERROR(IF(SEARCH(\"=\",M956),M956,\"\"),\"\")","v":""},{"$f":"IFERROR(IF(SEARCH(\"=\",N956),N956,\"\"),\"\")","v":""},{"$f":"IFERROR(IF(SEARCH(\"=\",O956),O956,\"\"),\"\")","v":""},null,null,null,119]
[null,null,null,"",null,null,null,null,"","",null,{"$f":"IF(E957>0,\" (p/u) \"&Modulo2.GetFormula(E957),\"\")","v":""},{"$f":"IF(F957>0,\" (lu) \"&Modulo2.GetFormula(F957),\"\")","v":""},{"$f":"IF(G957>0,\" (la) \"&Modulo2.GetFormula(G957),\"\")","v":""},{"$f":"IF(H957>0,\" (H) \"&Modulo2.GetFormula(H957),\"\")","v":""},null,null,null,null,null,null,null,null,null,2,0,null,"",{"$f":"ROWS($AC$4:AC957)","v":954},"",{"$f":"IFERROR(SMALL($AD$4:$AD$1642,ROWS($AD$4:AD957)),\"\")","v":""},null,{"$f":"IFERROR(INDEX($A$4:$R$1642,$AE957,COLUMNS($A:$B)),\"\")","v":""},{"$f":"IFERROR(INDEX($A$4:$R$1642,$AE957,COLUMNS($A:$C)),\"\")","v":""},{"$f":"IFERROR(INDEX($A$4:$R$1642,$AE957,COLUMNS($A:$R)),\"\")","v":""},null,"","","","",null,null,null,119]
[null,null,null,"",null,null,null,null,"","",null,{"$f":"IF(E958>0,\" (p/u) \"&Modulo2.GetFormula(E958),\"\")","v":""},{"$f":"IF(F958>0,\" (lu) \"&Modulo2.GetFormula(F958),\"\")","v":""},{"$f":"IF(G958>0,\" (la) \"&Modulo2.GetFormula(G958),\"\")","v":""},{"$f":"IF(H958>0,\" (H) \"&Modulo2.GetFormula(H958),\"\")","v":""},null,null,null,null,null,null,null,null,null,2,0,null,"",{"$f":"ROWS($AC$4:AC958)","v":955},"",{"$f":"IFERROR(SMALL($AD$4:$AD$1642,ROWS($AD$4:AD958)),\"\")","v":""},null,{"$f":"IFERROR(INDEX($A$4:$R$1642,$AE958,COLUMNS($A:$B)),\"\")","v":""},{"$f":"IFERROR(INDEX($A$4:$R$1642,$AE958,COLUMNS($A:$C)),\"\")","v":""},{"$f":"IFERROR(INDEX($A$4:$R$1642,$AE958,COLUMNS($A:$R)),\"\")","v":""},null,"","","","",null,null,null,119]
[null,null,null,null,null,null,null,{"$f":"CONCATENATE(\"SOMMANO [\",VLOOKUP(B955,'Elenco Prezzi2'!$A$2:$E$201,3,FALSE()),\"]\")","v":{"$error":"#N/A"}},{"$f":"IF(T959=\"s\",V960,SUBTOTAL(9,I955:I959))","v":{"$error":"#REF!"}},null,{"$f":"VLOOKUP(B955,'Elenco Prezzi2'!$A$2:$E$201,5,FALSE)","v":{"$error":"#N/A"}},null,null,null,null,null,null,{"$f":"IFERROR(I959*K959,\"\")","v":""},null,"s",null,null,null,{"$f":"R959","v":""},2,0,null,"",{"$f":"ROWS($AC$4:AC959)","v":956},"",{"$f":"IFERROR(SMALL($AD$4:$AD$1642,ROWS($AD$4:AD959)),\"\")","v":""},null,{"$f":"IFERROR(INDEX($A$4:$R$1642,$AE959,COLUMNS($A:$B)),\"\")","v":""},{"$f":"IFERROR(INDEX($A$4:$R$1642,$AE959,COLUMNS($A:$C)),\"\")","v":""},{"$f":"IFERROR(INDEX($A$4:$R$1642,$AE959,COLUMNS($A:$R)),\"\")","v":""},null,null,null,null,null,null,null,null,119]
[null,null,null,null,null,null,null,{"$f":"IF(I960<0,\"a detrarre\",\"\")","v":""},{"$f":"SUMIF(I955:I958,\"<0\")","v":0},null,null,null,null,null,null,null,null,null,{"$f":"R959","v":""},null,null,{"$f":"VLOOKUP(B955,#REF!,4,FALSE)","v":{"$error":"#REF!"}},null,null,2,0,null,"",{"$f":"ROWS($AC$4:AC960)","v":957},"",{"$f":"IFERROR(SMALL($AD$4:$AD$1642,ROWS($AD$4:AD960)),\"\")","v":""},null,{"$f":"IFERROR(INDEX($A$4:$R$1642,$AE960,COLUMNS($A:$B)),\"\")","v":""},{"$f":"IFERROR(INDEX($A$4:$R$1642,$AE960,COLUMNS($A:$C)),\"\")","v":""},{"$f":"IFERROR(INDEX($A$4:$R$1642,$AE960,COLUMNS($A:$R)),\"\")","v":""},null,null,null,null,null,null,null,null,119]
[null,null,null,null,null,null,null,null,null,null,null,null,null,null,null,null,null,null,null,null,null,null,null,null,2,0,null,"",{"$f":"ROWS($AC$4:AC961)","v":958},"",{"$f":"IFERROR(SMALL($AD$4:$AD$1642,ROWS($AD$4:AD961)),\"\")","v":""},null,{"$f":"IFERROR(INDEX($A$4:$R$1642,$AE961,COLUMNS($A:$B)),\"\")","v":""},{"$f":"IFERROR(INDEX($A$4:$R$1642,$AE961,COLUMNS($A:$C)),\"\")","v":""},{"$f":"IFERROR(INDEX($A$4:$R$1642,$AE961,COLUMNS($A:$R)),\"\")","v":""},null,null,null,null,null,null,null,null,119]
[null,null,null,null,null,null,null,null,null,null,null,null,null,null,null,null,null,null,null,null,null,null,null,null,2,0,null,"",{"$f":"ROWS($AC$4:AC962)","v":959},"",{"$f":"IFERROR(SMALL($AD$4:$AD$1642,ROWS($AD$4:AD962)),\"\")","v":""},null,{"$f":"IFERROR(INDEX($A$4:$R$1642,$AE962,COLUMNS($A:$B)),\"\")","v":""},{"$f":"IFERROR(INDEX($A$4:$R$1642,$AE962,COLUMNS($A:$C)),\"\")","v":""},{"$f":"IFERROR(INDEX($A$4:$R$1642,$AE962,COLUMNS($A:$R)),\"\")","v":""},null,null,null,null,null,null,null,null,119]
[{"$f":"AR963","v":120},null,{"$f":"(VLOOKUP($B963,'Elenco Prezzi2'!$A$2:$E$201,2,FALSE))","v":{"$error":"#N/A"}},null,null,null,null,null,null,null,null,null,null,null,null,null,null,null,null,null,null,null,null,null,2,0,null,"",{"$f":"ROWS($AC$4:AC963)","v":960},"",{"$f":"IFERROR(SMALL($AD$4:$AD$1642,ROWS($AD$4:AD963)),\"\")","v":""},null,{"$f":"IFERROR(INDEX($A$4:$R$1642,$AE963,COLUMNS($A:$B)),\"\")","v":""},{"$f":"IFERROR(INDEX($A$4:$R$1642,$AE963,COLUMNS($A:$C)),\"\")","v":""},{"$f":"IFERROR(INDEX($A$4:$R$1642,$AE963,COLUMNS($A:$R)),\"\")","v":""},null,null,null,null,null,null,null,1,120]
[null,null,null,{"$f":"CONCATENATE(AK964&AL964&AM964&AN964)","v":""},null,null,null,null,{"$f":"IFERROR(IF(PRODUCT(E964:H964)=0,\"\",PRODUCT(E964:H964)),\"\")","v":""},{"$f":"I964","v":""},null,{"$f":"IF(E964>0,\" (p/u) \"&Modulo2.GetFormula(E964),\"\")","v":""},{"$f":"IF(F964>0,\" (lu) \"&Modulo2.GetFormula(F964),\"\")","v":""},{"$f":"IF(G964>0,\" (la) \"&Modulo2.GetFormula(G964),\"\")","v":""},{"$f":"IF(H964>0,\" (H) \"&Modulo2.GetFormula(H964),\"\")","v":""},null,null,null,null,null,null,null,null,null,2,0,null,"",{"$f":"ROWS($AC$4:AC964)","v":961},"",{"$f":"IFERROR(SMALL($AD$4:$AD$1642,ROWS($AD$4:AD964)),\"\")","v":""},null,{"$f":"IFERROR(INDEX($A$4:$R$1642,$AE964,COLUMNS($A:$B)),\"\")","v":""},{"$f":"IFERROR(INDEX($A$4:$R$1642,$AE964,COLUMNS($A:$C)),\"\")","v":""},{"$f":"IFERROR(INDEX($A$4:$R$1642,$AE964,COLUMNS($A:$R)),\"\")","v":""},null,{"$f":"IFERROR(IF(SEARCH(\"=\",L964),L964,\"\"),\"\")","v":""},{"$f":"IFERROR(IF(SEARCH(\"=\",M964),M964,\"\"),\"\")","v":""},{"$f":"IFERROR(IF(SEARCH(\"=\",N964),N964,\"\"),\"\")","v":""},{"$f":"IFERROR(IF(SEARCH(\"=\",O964),O964,\"\"),\"\")","v":""},null,null,null,120]
[null,null,null,"",null,null,null,null,"","",null,{"$f":"IF(E965>0,\" (p/u) \"&Modulo2.GetFormula(E965),\"\")","v":""},{"$f":"IF(F965>0,\" (lu) \"&Modulo2.GetFormula(F965),\"\")","v":""},{"$f":"IF(G965>0,\" (la) \"&Modulo2.GetFormula(G965),\"\")","v":""},{"$f":"IF(H965>0,\" (H) \"&Modulo2.GetFormula(H965),\"\")","v":""},null,null,null,null,null,null,null,null,null,2,0,null,"",{"$f":"ROWS($AC$4:AC965)","v":962},"",{"$f":"IFERROR(SMALL($AD$4:$AD$1642,ROWS($AD$4:AD965)),\"\")","v":""},null,{"$f":"IFERROR(INDEX($A$4:$R$1642,$AE965,COLUMNS($A:$B)),\"\")","v":""},{"$f":"IFERROR(INDEX($A$4:$R$1642,$AE965,COLUMNS($A:$C)),\"\")","v":""},{"$f":"IFERROR(INDEX($A$4:$R$1642,$AE965,COLUMNS($A:$R)),\"\")","v":""},null,"","","","",null,null,null,120]
[null,null,null,"",null,null,null,null,"","",null,{"$f":"IF(E966>0,\" (p/u) \"&Modulo2.GetFormula(E966),\"\")","v":""},{"$f":"IF(F966>0,\" (lu) \"&Modulo2.GetFormula(F966),\"\")","v":""},{"$f":"IF(G966>0,\" (la) \"&Modulo2.GetFormula(G966),\"\")","v":""},{"$f":"IF(H966>0,\" (H) \"&Modulo2.GetFormula(H966),\"\")","v":""},null,null,null,null,null,null,null,null,null,2,0,null,"",{"$f":"ROWS($AC$4:AC966)","v":963},"",{"$f":"IFERROR(SMALL($AD$4:$AD$1642,ROWS($AD$4:AD966)),\"\")","v":""},null,{"$f":"IFERROR(INDEX($A$4:$R$1642,$AE966,COLUMNS($A:$B)),\"\")","v":""},{"$f":"IFERROR(INDEX($A$4:$R$1642,$AE966,COLUMNS($A:$C)),\"\")","v":""},{"$f":"IFERROR(INDEX($A$4:$R$1642,$AE966,COLUMNS($A:$R)),\"\")","v":""},null,"","","","",null,null,null,120]
[null,null,null,null,null,null,null,{"$f":"CONCATENATE(\"SOMMANO [\",VLOOKUP(B963,'Elenco Prezzi2'!$A$2:$E$201,3,FALSE()),\"]\")","v":{"$error":"#N/A"}},{"$f":"IF(T967=\"s\",V968,SUBTOTAL(9,I963:I967))","v":{"$error":"#REF!"}},null,{"$f":"VLOOKUP(B963,'Elenco Prezzi2'!$A$2:$E$201,5,FALSE)","v":{"$error":"#N/A"}},null,null,null,null,null,null,{"$f":"IFERROR(I967*K967,\"\")","v":""},null,"s",null,null,null,{"$f":"R967","v":""},2,0,null,"",{"$f":"ROWS($AC$4:AC967)","v":964},"",{"$f":"IFERROR(SMALL($AD$4:$AD$1642,ROWS($AD$4:AD967)),\"\")","v":""},null,{"$f":"IFERROR(INDEX($A$4:$R$1642,$AE967,COLUMNS($A:$B)),\"\")","v":""},{"$f":"IFERROR(INDEX($A$4:$R$1642,$AE967,COLUMNS($A:$C)),\"\")","v":""},{"$f":"IFERROR(INDEX($A$4:$R$1642,$AE967,COLUMNS($A:$R)),\"\")","v":""},null,null,null,null,null,null,null,null,120]
[null,null,null,null,null,null,null,{"$f":"IF(I968<0,\"a detrarre\",\"\")","v":""},{"$f":"SUMIF(I963:I966,\"<0\")","v":0},null,null,null,null,null,null,null,null,null,{"$f":"R967","v":""},null,null,{"$f":"VLOOKUP(B963,#REF!,4,FALSE)","v":{"$error":"#REF!"}},null,null,2,0,null,"",{"$f":"ROWS($AC$4:AC968)","v":965},"",{"$f":"IFERROR(SMALL($AD$4:$AD$1642,ROWS($AD$4:AD968)),\"\")","v":""},null,{"$f":"IFERROR(INDEX($A$4:$R$1642,$AE968,COLUMNS($A:$B)),\"\")","v":""},{"$f":"IFERROR(INDEX($A$4:$R$1642,$AE968,COLUMNS($A:$C)),\"\")","v":""},{"$f":"IFERROR(INDEX($A$4:$R$1642,$AE968,COLUMNS($A:$R)),\"\")","v":""},null,null,null,null,null,null,null,null,120]
[null,null,null,null,null,null,null,null,null,null,null,null,null,null,null,null,null,null,null,null,null,null,null,null,2,0,null,"",{"$f":"ROWS($AC$4:AC969)","v":966},"",{"$f":"IFERROR(SMALL($AD$4:$AD$1642,ROWS($AD$4:AD969)),\"\")","v":""},null,{"$f":"IFERROR(INDEX($A$4:$R$1642,$AE969,COLUMNS($A:$B)),\"\")","v":""},{"$f":"IFERROR(INDEX($A$4:$R$1642,$AE969,COLUMNS($A:$C)),\"\")","v":""},{"$f":"IFERROR(INDEX($A$4:$R$1642,$AE969,COLUMNS($A:$R)),\"\")","v":""},null,null,null,null,null,null,null,null,120]
[null,null,null,null,null,null,null,null,null,null,null,null,null,null,null,null,null,null,null,null,null,null,null,null,2,0,null,"",{"$f":"ROWS($AC$4:AC970)","v":967},"",{"$f":"IFERROR(SMALL($AD$4:$AD$1642,ROWS($AD$4:AD970)),\"\")","v":""},null,{"$f":"IFERROR(INDEX($A$4:$R$1642,$AE970,COLUMNS($A:$B)),\"\")","v":""},{"$f":"IFERROR(INDEX($A$4:$R$1642,$AE970,COLUMNS($A:$C)),\"\")","v":""},{"$f":"IFERROR(INDEX($A$4:$R$1642,$AE970,COLUMNS($A:$R)),\"\")","v":""},null,null,null,null,null,null,null,null,120]
[{"$f":"AR971","v":121},null,{"$f":"(VLOOKUP($B971,'Elenco Prezzi2'!$A$2:$E$201,2,FALSE))","v":{"$error":"#N/A"}},null,null,null,null,null,null,null,null,null,null,null,null,null,null,null,null,null,null,null,null,null,2,0,null,"",{"$f":"ROWS($AC$4:AC971)","v":968},"",{"$f":"IFERROR(SMALL($AD$4:$AD$1642,ROWS($AD$4:AD971)),\"\")","v":""},null,{"$f":"IFERROR(INDEX($A$4:$R$1642,$AE971,COLUMNS($A:$B)),\"\")","v":""},{"$f":"IFERROR(INDEX($A$4:$R$1642,$AE971,COLUMNS($A:$C)),\"\")","v":""},{"$f":"IFERROR(INDEX($A$4:$R$1642,$AE971,COLUMNS($A:$R)),\"\")","v":""},null,null,null,null,null,null,null,1,121]
[null,null,null,{"$f":"CONCATENATE(AK972&AL972&AM972&AN972)","v":""},null,null,null,null,{"$f":"IFERROR(IF(PRODUCT(E972:H972)=0,\"\",PRODUCT(E972:H972)),\"\")","v":""},{"$f":"I972","v":""},null,{"$f":"IF(E972>0,\" (p/u) \"&Modulo2.GetFormula(E972),\"\")","v":""},{"$f":"IF(F972>0,\" (lu) \"&Modulo2.GetFormula(F972),\"\")","v":""},{"$f":"IF(G972>0,\" (la) \"&Modulo2.GetFormula(G972),\"\")","v":""},{"$f":"IF(H972>0,\" (H) \"&Modulo2.GetFormula(H972),\"\")","v":""},null,null,null,null,null,null,null,null,null,2,0,null,"",{"$f":"ROWS($AC$4:AC972)","v":969},"",{"$f":"IFERROR(SMALL($AD$4:$AD$1642,ROWS($AD$4:AD972)),\"\")","v":""},null,{"$f":"IFERROR(INDEX($A$4:$R$1642,$AE972,COLUMNS($A:$B)),\"\")","v":""},{"$f":"IFERROR(INDEX($A$4:$R$1642,$AE972,COLUMNS($A:$C)),\"\")","v":""},{"$f":"IFERROR(INDEX($A$4:$R$1642,$AE972,COLUMNS($A:$R)),\"\")","v":""},null,{"$f":"IFERROR(IF(SEARCH(\"=\",L972),L972,\"\"),\"\")","v":""},{"$f":"IFERROR(IF(SEARCH(\"=\",M972),M972,\"\"),\"\")","v":""},{"$f":"IFERROR(IF(SEARCH(\"=\",N972),N972,\"\"),\"\")","v":""},{"$f":"IFERROR(IF(SEARCH(\"=\",O972),O972,\"\"),\"\")","v":""},null,null,null,121]
[null,null,null,"",null,null,null,null,"","",null,{"$f":"IF(E973>0,\" (p/u) \"&Modulo2.GetFormula(E973),\"\")","v":""},{"$f":"IF(F973>0,\" (lu) \"&Modulo2.GetFormula(F973),\"\")","v":""},{"$f":"IF(G973>0,\" (la) \"&Modulo2.GetFormula(G973),\"\")","v":""},{"$f":"IF(H973>0,\" (H) \"&Modulo2.GetFormula(H973),\"\")","v":""},null,null,null,null,null,null,null,null,null,2,0,null,"",{"$f":"ROWS($AC$4:AC973)","v":970},"",{"$f":"IFERROR(SMALL($AD$4:$AD$1642,ROWS($AD$4:AD973)),\"\")","v":""},null,{"$f":"IFERROR(INDEX($A$4:$R$1642,$AE973,COLUMNS($A:$B)),\"\")","v":""},{"$f":"IFERROR(INDEX($A$4:$R$1642,$AE973,COLUMNS($A:$C)),\"\")","v":""},{"$f":"IFERROR(INDEX($A$4:$R$1642,$AE973,COLUMNS($A:$R)),\"\")","v":""},null,"","","","",null,null,null,121]
[null,null,null,"",null,null,null,null,"","",null,{"$f":"IF(E974>0,\" (p/u) \"&Modulo2.GetFormula(E974),\"\")","v":""},{"$f":"IF(F974>0,\" (lu) \"&Modulo2.GetFormula(F974),\"\")","v":""},{"$f":"IF(G974>0,\" (la) \"&Modulo2.GetFormula(G974),\"\")","v":""},{"$f":"IF(H974>0,\" (H) \"&Modulo2.GetFormula(H974),\"\")","v":""},null,null,null,null,null,null,null,null,null,2,0,null,"",{"$f":"ROWS($AC$4:AC974)","v":971},"",{"$f":"IFERROR(SMALL($AD$4:$AD$1642,ROWS($AD$4:AD974)),\"\")","v":""},null,{"$f":"IFERROR(INDEX($A$4:$R$1642,$AE974,COLUMNS($A:$B)),\"\")","v":""},{"$f":"IFERROR(INDEX($A$4:$R$1642,$AE974,COLUMNS($A:$C)),\"\")","v":""},{"$f":"IFERROR(INDEX($A$4:$R$1642,$AE974,COLUMNS($A:$R)),\"\")","v":""},null,"","","","",null,null,null,121]
[null,null,null,null,null,null,null,{"$f":"CONCATENATE(\"SOMMANO [\",VLOOKUP(B971,'Elenco Prezzi2'!$A$2:$E$201,3,FALSE()),\"]\")","v":{"$error":"#N/A"}},{"$f":"IF(T975=\"s\",V976,SUBTOTAL(9,I971:I975))","v":{"$error":"#REF!"}},null,{"$f":"VLOOKUP(B971,'Elenco Prezzi2'!$A$2:$E$201,5,FALSE)","v":{"$error":"#N/A"}},null,null,null,null,null,null,{"$f":"IFERROR(I975*K975,\"\")","v":""},null,"s",null,null,null,{"$f":"R975","v":""},2,0,null,"",{"$f":"ROWS($AC$4:AC975)","v":972},"",{"$f":"IFERROR(SMALL($AD$4:$AD$1642,ROWS($AD$4:AD975)),\"\")","v":""},null,{"$f":"IFERROR(INDEX($A$4:$R$1642,$AE975,COLUMNS($A:$B)),\"\")","v":""},{"$f":"IFERROR(INDEX($A$4:$R$1642,$AE975,COLUMNS($A:$C)),\"\")","v":""},{"$f":"IFERROR(INDEX($A$4:$R$1642,$AE975,COLUMNS($A:$R)),\"\")","v":""},null,null,null,null,null,null,null,null,121]
[null,null,null,null,null,null,null,{"$f":"IF(I976<0,\"a detrarre\",\"\")","v":""},{"$f":"SUMIF(I971:I974,\"<0\")","v":0},null,null,null,null,null,null,null,null,null,{"$f":"R975","v":""},null,null,{"$f":"VLOOKUP(B971,#REF!,4,FALSE)","v":{"$error":"#REF!"}},null,null,2,0,null,"",{"$f":"ROWS($AC$4:AC976)","v":973},"",{"$f":"IFERROR(SMALL($AD$4:$AD$1642,ROWS($AD$4:AD976)),\"\")","v":""},null,{"$f":"IFERROR(INDEX($A$4:$R$1642,$AE976,COLUMNS($A:$B)),\"\")","v":""},{"$f":"IFERROR(INDEX($A$4:$R$1642,$AE976,COLUMNS($A:$C)),\"\")","v":""},{"$f":"IFERROR(INDEX($A$4:$R$1642,$AE976,COLUMNS($A:$R)),\"\")","v":""},null,null,null,null,null,null,null,null,121]
[null,null,null,null,null,null,null,null,null,null,null,null,null,null,null,null,null,null,null,null,null,null,null,null,2,0,null,"",{"$f":"ROWS($AC$4:AC977)","v":974},"",{"$f":"IFERROR(SMALL($AD$4:$AD$1642,ROWS($AD$4:AD977)),\"\")","v":""},null,{"$f":"IFERROR(INDEX($A$4:$R$1642,$AE977,COLUMNS($A:$B)),\"\")","v":""},{"$f":"IFERROR(INDEX($A$4:$R$1642,$AE977,COLUMNS($A:$C)),\"\")","v":""},{"$f":"IFERROR(INDEX($A$4:$R$1642,$AE977,COLUMNS($A:$R)),\"\")","v":""},null,null,null,null,null,null,null,null,121]
[null,null,null,null,null,null,null,null,null,null,null,null,null,null,null,null,null,null,null,null,null,null,null,null,2,0,null,"",{"$f":"ROWS($AC$4:AC978)","v":975},"",{"$f":"IFERROR(SMALL($AD$4:$AD$1642,ROWS($AD$4:AD978)),\"\")","v":""},null,{"$f":"IFERROR(INDEX($A$4:$R$1642,$AE978,COLUMNS($A:$B)),\"\")","v":""},{"$f":"IFERROR(INDEX($A$4:$R$1642,$AE978,COLUMNS($A:$C)),\"\")","v":""},{"$f":"IFERROR(INDEX($A$4:$R$1642,$AE978,COLUMNS($A:$R)),\"\")","v":""},null,null,null,null,null,null,null,null,121]
[{"$f":"AR979","v":122},null,{"$f":"(VLOOKUP($B979,'Elenco Prezzi2'!$A$2:$E$201,2,FALSE))","v":{"$error":"#N/A"}},null,null,null,null,null,null,null,null,null,null,null,null,null,null,null,null,null,null,null,null,null,2,0,null,"",{"$f":"ROWS($AC$4:AC979)","v":976},"",{"$f":"IFERROR(SMALL($AD$4:$AD$1642,ROWS($AD$4:AD979)),\"\")","v":""},null,{"$f":"IFERROR(INDEX($A$4:$R$1642,$AE979,COLUMNS($A:$B)),\"\")","v":""},{"$f":"IFERROR(INDEX($A$4:$R$1642,$AE979,COLUMNS($A:$C)),\"\")","v":""},{"$f":"IFERROR(INDEX($A$4:$R$1642,$AE979,COLUMNS($A:$R)),\"\")","v":""},null,null,null,null,null,null,null,1,122]
[null,null,null,{"$f":"CONCATENATE(AK980&AL980&AM980&AN980)","v":""},null,null,null,null,{"$f":"IFERROR(IF(PRODUCT(E980:H980)=0,\"\",PRODUCT(E980:H980)),\"\")","v":""},{"$f":"I980","v":""},null,{"$f":"IF(E980>0,\" (p/u) \"&Modulo2.GetFormula(E980),\"\")","v":""},{"$f":"IF(F980>0,\" (lu) \"&Modulo2.GetFormula(F980),\"\")","v":""},{"$f":"IF(G980>0,\" (la) \"&Modulo2.GetFormula(G980),\"\")","v":""},{"$f":"IF(H980>0,\" (H) \"&Modulo2.GetFormula(H980),\"\")","v":""},null,null,null,null,null,null,null,null,null,2,0,null,"",{"$f":"ROWS($AC$4:AC980)","v":977},"",{"$f":"IFERROR(SMALL($AD$4:$AD$1642,ROWS($AD$4:AD980)),\"\")","v":""},null,{"$f":"IFERROR(INDEX($A$4:$R$1642,$AE980,COLUMNS($A:$B)),\"\")","v":""},{"$f":"IFERROR(INDEX($A$4:$R$1642,$AE980,COLUMNS($A:$C)),\"\")","v":""},{"$f":"IFERROR(INDEX($A$4:$R$1642,$AE980,COLUMNS($A:$R)),\"\")","v":""},null,{"$f":"IFERROR(IF(SEARCH(\"=\",L980),L980,\"\"),\"\")","v":""},{"$f":"IFERROR(IF(SEARCH(\"=\",M980),M980,\"\"),\"\")","v":""},{"$f":"IFERROR(IF(SEARCH(\"=\",N980),N980,\"\"),\"\")","v":""},{"$f":"IFERROR(IF(SEARCH(\"=\",O980),O980,\"\"),\"\")","v":""},null,null,null,122]
[null,null,null,"",null,null,null,null,"","",null,{"$f":"IF(E981>0,\" (p/u) \"&Modulo2.GetFormula(E981),\"\")","v":""},{"$f":"IF(F981>0,\" (lu) \"&Modulo2.GetFormula(F981),\"\")","v":""},{"$f":"IF(G981>0,\" (la) \"&Modulo2.GetFormula(G981),\"\")","v":""},{"$f":"IF(H981>0,\" (H) \"&Modulo2.GetFormula(H981),\"\")","v":""},null,null,null,null,null,null,null,null,null,2,0,null,"",{"$f":"ROWS($AC$4:AC981)","v":978},"",{"$f":"IFERROR(SMALL($AD$4:$AD$1642,ROWS($AD$4:AD981)),\"\")","v":""},null,{"$f":"IFERROR(INDEX($A$4:$R$1642,$AE981,COLUMNS($A:$B)),\"\")","v":""},{"$f":"IFERROR(INDEX($A$4:$R$1642,$AE981,COLUMNS($A:$C)),\"\")","v":""},{"$f":"IFERROR(INDEX($A$4:$R$1642,$AE981,COLUMNS($A:$R)),\"\")","v":""},null,"","","","",null,null,null,122]
[null,null,null,"",null,null,null,null,"","",null,{"$f":"IF(E982>0,\" (p/u) \"&Modulo2.GetFormula(E982),\"\")","v":""},{"$f":"IF(F982>0,\" (lu) \"&Modulo2.GetFormula(F982),\"\")","v":""},{"$f":"IF(G982>0,\" (la) \"&Modulo2.GetFormula(G982),\"\")","v":""},{"$f":"IF(H982>0,\" (H) \"&Modulo2.GetFormula(H982),\"\")","v":""},null,null,null,null,null,null,null,null,null,2,0,null,"",{"$f":"ROWS($AC$4:AC982)","v":979},"",{"$f":"IFERROR(SMALL($AD$4:$AD$1642,ROWS($AD$4:AD982)),\"\")","v":""},null,{"$f":"IFERROR(INDEX($A$4:$R$1642,$AE982,COLUMNS($A:$B)),\"\")","v":""},{"$f":"IFERROR(INDEX($A$4:$R$1642,$AE982,COLUMNS($A:$C)),\"\")","v":""},{"$f":"IFERROR(INDEX($A$4:$R$1642,$AE982,COLUMNS($A:$R)),\"\")","v":""},null,"","","","",null,null,null,122]
[null,null,null,null,null,null,null,{"$f":"CONCATENATE(\"SOMMANO [\",VLOOKUP(B979,'Elenco Prezzi2'!$A$2:$E$201,3,FALSE()),\"]\")","v":{"$error":"#N/A"}},{"$f":"IF(T983=\"s\",V984,SUBTOTAL(9,I979:I983))","v":{"$error":"#REF!"}},null,{"$f":"VLOOKUP(B979,'Elenco Prezzi2'!$A$2:$E$201,5,FALSE)","v":{"$error":"#N/A"}},null,null,null,null,null,null,{"$f":"IFERROR(I983*K983,\"\")","v":""},null,"s",null,null,null,{"$f":"R983","v":""},2,0,null,"",{"$f":"ROWS($AC$4:AC983)","v":980},"",{"$f":"IFERROR(SMALL($AD$4:$AD$1642,ROWS($AD$4:AD983)),\"\")","v":""},null,{"$f":"IFERROR(INDEX($A$4:$R$1642,$AE983,COLUMNS($A:$B)),\"\")","v":""},{"$f":"IFERROR(INDEX($A$4:$R$1642,$AE983,COLUMNS($A:$C)),\"\")","v":""},{"$f":"IFERROR(INDEX($A$4:$R$1642,$AE983,COLUMNS($A:$R)),\"\")","v":""},null,null,null,null,null,null,null,null,122]
[null,null,null,null,null,null,null,{"$f":"IF(I984<0,\"a detrarre\",\"\")","v":""},{"$f":"SUMIF(I979:I982,\"<0\")","v":0},null,null,null,null,null,null,null,null,null,{"$f":"R983","v":""},null,null,{"$f":"VLOOKUP(B979,#REF!,4,FALSE)","v":{"$error":"#REF!"}},null,null,2,0,null,"",{"$f":"ROWS($AC$4:AC984)","v":981},"",{"$f":"IFERROR(SMALL($AD$4:$AD$1642,ROWS($AD$4:AD984)),\"\")","v":""},null,{"$f":"IFERROR(INDEX($A$4:$R$1642,$AE984,COLUMNS($A:$B)),\"\")","v":""},{"$f":"IFERROR(INDEX($A$4:$R$1642,$AE984,COLUMNS($A:$C)),\"\")","v":""},{"$f":"IFERROR(INDEX($A$4:$R$1642,$AE984,COLUMNS($A:$R)),\"\")","v":""},null,null,null,null,null,null,null,null,122]
[null,null,null,null,null,null,null,null,null,null,null,null,null,null,null,null,null,null,null,null,null,null,null,null,2,0,null,"",{"$f":"ROWS($AC$4:AC985)","v":982},"",{"$f":"IFERROR(SMALL($AD$4:$AD$1642,ROWS($AD$4:AD985)),\"\")","v":""},null,{"$f":"IFERROR(INDEX($A$4:$R$1642,$AE985,COLUMNS($A:$B)),\"\")","v":""},{"$f":"IFERROR(INDEX($A$4:$R$1642,$AE985,COLUMNS($A:$C)),\"\")","v":""},{"$f":"IFERROR(INDEX($A$4:$R$1642,$AE985,COLUMNS($A:$R)),\"\")","v":""},null,null,null,null,null,null,null,null,122]
[null,null,null,null,null,null,null,null,null,null,null,null,null,null,null,null,null,null,null,null,null,null,null,null,2,0,null,"",{"$f":"ROWS($AC$4:AC986)","v":983},"",{"$f":"IFERROR(SMALL($AD$4:$AD$1642,ROWS($AD$4:AD986)),\"\")","v":""},null,{"$f":"IFERROR(INDEX($A$4:$R$1642,$AE986,COLUMNS($A:$B)),\"\")","v":""},{"$f":"IFERROR(INDEX($A$4:$R$1642,$AE986,COLUMNS($A:$C)),\"\")","v":""},{"$f":"IFERROR(INDEX($A$4:$R$1642,$AE986,COLUMNS($A:$R)),\"\")","v":""},null,null,null,null,null,null,null,null,122]
[{"$f":"AR987","v":123},null,{"$f":"(VLOOKUP($B987,'Elenco Prezzi2'!$A$2:$E$201,2,FALSE))","v":{"$error":"#N/A"}},null,null,null,null,null,null,null,null,null,null,null,null,null,null,null,null,null,null,null,null,null,2,0,null,"",{"$f":"ROWS($AC$4:AC987)","v":984},"",{"$f":"IFERROR(SMALL($AD$4:$AD$1642,ROWS($AD$4:AD987)),\"\")","v":""},null,{"$f":"IFERROR(INDEX($A$4:$R$1642,$AE987,COLUMNS($A:$B)),\"\")","v":""},{"$f":"IFERROR(INDEX($A$4:$R$1642,$AE987,COLUMNS($A:$C)),\"\")","v":""},{"$f":"IFERROR(INDEX($A$4:$R$1642,$AE987,COLUMNS($A:$R)),\"\")","v":""},null,null,null,null,null,null,null,1,123]
[null,null,null,{"$f":"CONCATENATE(AK988&AL988&AM988&AN988)","v":""},null,null,null,null,{"$f":"IFERROR(IF(PRODUCT(E988:H988)=0,\"\",PRODUCT(E988:H988)),\"\")","v":""},{"$f":"I988","v":""},null,{"$f":"IF(E988>0,\" (p/u) \"&Modulo2.GetFormula(E988),\"\")","v":""},{"$f":"IF(F988>0,\" (lu) \"&Modulo2.GetFormula(F988),\"\")","v":""},{"$f":"IF(G988>0,\" (la) \"&Modulo2.GetFormula(G988),\"\")","v":""},{"$f":"IF(H988>0,\" (H) \"&Modulo2.GetFormula(H988),\"\")","v":""},null,null,null,null,null,null,null,null,null,2,0,null,"",{"$f":"ROWS($AC$4:AC988)","v":985},"",{"$f":"IFERROR(SMALL($AD$4:$AD$1642,ROWS($AD$4:AD988)),\"\")","v":""},null,{"$f":"IFERROR(INDEX($A$4:$R$1642,$AE988,COLUMNS($A:$B)),\"\")","v":""},{"$f":"IFERROR(INDEX($A$4:$R$1642,$AE988,COLUMNS($A:$C)),\"\")","v":""},{"$f":"IFERROR(INDEX($A$4:$R$1642,$AE988,COLUMNS($A:$R)),\"\")","v":""},null,{"$f":"IFERROR(IF(SEARCH(\"=\",L988),L988,\"\"),\"\")","v":""},{"$f":"IFERROR(IF(SEARCH(\"=\",M988),M988,\"\"),\"\")","v":""},{"$f":"IFERROR(IF(SEARCH(\"=\",N988),N988,\"\"),\"\")","v":""},{"$f":"IFERROR(IF(SEARCH(\"=\",O988),O988,\"\"),\"\")","v":""},null,null,null,123]
[null,null,null,"",null,null,null,null,"","",null,{"$f":"IF(E989>0,\" (p/u) \"&Modulo2.GetFormula(E989),\"\")","v":""},{"$f":"IF(F989>0,\" (lu) \"&Modulo2.GetFormula(F989),\"\")","v":""},{"$f":"IF(G989>0,\" (la) \"&Modulo2.GetFormula(G989),\"\")","v":""},{"$f":"IF(H989>0,\" (H) \"&Modulo2.GetFormula(H989),\"\")","v":""},null,null,null,null,null,null,null,null,null,2,0,null,"",{"$f":"ROWS($AC$4:AC989)","v":986},"",{"$f":"IFERROR(SMALL($AD$4:$AD$1642,ROWS($AD$4:AD989)),\"\")","v":""},null,{"$f":"IFERROR(INDEX($A$4:$R$1642,$AE989,COLUMNS($A:$B)),\"\")","v":""},{"$f":"IFERROR(INDEX($A$4:$R$1642,$AE989,COLUMNS($A:$C)),\"\")","v":""},{"$f":"IFERROR(INDEX($A$4:$R$1642,$AE989,COLUMNS($A:$R)),\"\")","v":""},null,"","","","",null,null,null,123]
[null,null,null,"",null,null,null,null,"","",null,{"$f":"IF(E990>0,\" (p/u) \"&Modulo2.GetFormula(E990),\"\")","v":""},{"$f":"IF(F990>0,\" (lu) \"&Modulo2.GetFormula(F990),\"\")","v":""},{"$f":"IF(G990>0,\" (la) \"&Modulo2.GetFormula(G990),\"\")","v":""},{"$f":"IF(H990>0,\" (H) \"&Modulo2.GetFormula(H990),\"\")","v":""},null,null,null,null,null,null,null,null,null,2,0,null,"",{"$f":"ROWS($AC$4:AC990)","v":987},"",{"$f":"IFERROR(SMALL($AD$4:$AD$1642,ROWS($AD$4:AD990)),\"\")","v":""},null,{"$f":"IFERROR(INDEX($A$4:$R$1642,$AE990,COLUMNS($A:$B)),\"\")","v":""},{"$f":"IFERROR(INDEX($A$4:$R$1642,$AE990,COLUMNS($A:$C)),\"\")","v":""},{"$f":"IFERROR(INDEX($A$4:$R$1642,$AE990,COLUMNS($A:$R)),\"\")","v":""},null,"","","","",null,null,null,123]
[null,null,null,null,null,null,null,{"$f":"CONCATENATE(\"SOMMANO [\",VLOOKUP(B987,'Elenco Prezzi2'!$A$2:$E$201,3,FALSE()),\"]\")","v":{"$error":"#N/A"}},{"$f":"IF(T991=\"s\",V992,SUBTOTAL(9,I987:I991))","v":{"$error":"#REF!"}},null,{"$f":"VLOOKUP(B987,'Elenco Prezzi2'!$A$2:$E$201,5,FALSE)","v":{"$error":"#N/A"}},null,null,null,null,null,null,{"$f":"IFERROR(I991*K991,\"\")","v":""},null,"s",null,null,null,{"$f":"R991","v":""},2,0,null,"",{"$f":"ROWS($AC$4:AC991)","v":988},"",{"$f":"IFERROR(SMALL($AD$4:$AD$1642,ROWS($AD$4:AD991)),\"\")","v":""},null,{"$f":"IFERROR(INDEX($A$4:$R$1642,$AE991,COLUMNS($A:$B)),\"\")","v":""},{"$f":"IFERROR(INDEX($A$4:$R$1642,$AE991,COLUMNS($A:$C)),\"\")","v":""},{"$f":"IFERROR(INDEX($A$4:$R$1642,$AE991,COLUMNS($A:$R)),\"\")","v":""},null,null,null,null,null,null,null,null,123]
[null,null,null,null,null,null,null,{"$f":"IF(I992<0,\"a detrarre\",\"\")","v":""},{"$f":"SUMIF(I987:I990,\"<0\")","v":0},null,null,null,null,null,null,null,null,null,{"$f":"R991","v":""},null,null,{"$f":"VLOOKUP(B987,#REF!,4,FALSE)","v":{"$error":"#REF!"}},null,null,2,0,null,"",{"$f":"ROWS($AC$4:AC992)","v":989},"",{"$f":"IFERROR(SMALL($AD$4:$AD$1642,ROWS($AD$4:AD992)),\"\")","v":""},null,{"$f":"IFERROR(INDEX($A$4:$R$1642,$AE992,COLUMNS($A:$B)),\"\")","v":""},{"$f":"IFERROR(INDEX($A$4:$R$1642,$AE992,COLUMNS($A:$C)),\"\")","v":""},{"$f":"IFERROR(INDEX($A$4:$R$1642,$AE992,COLUMNS($A:$R)),\"\")","v":""},null,null,null,null,null,null,null,null,123]
[null,null,null,null,null,null,null,null,null,null,null,null,null,null,null,null,null,null,null,null,null,null,null,null,2,0,null,"",{"$f":"ROWS($AC$4:AC993)","v":990},"",{"$f":"IFERROR(SMALL($AD$4:$AD$1642,ROWS($AD$4:AD993)),\"\")","v":""},null,{"$f":"IFERROR(INDEX($A$4:$R$1642,$AE993,COLUMNS($A:$B)),\"\")","v":""},{"$f":"IFERROR(INDEX($A$4:$R$1642,$AE993,COLUMNS($A:$C)),\"\")","v":""},{"$f":"IFERROR(INDEX($A$4:$R$1642,$AE993,COLUMNS($A:$R)),\"\")","v":""},null,null,null,null,null,null,null,null,123]
[null,null,null,null,null,null,null,null,null,null,null,null,null,null,null,null,null,null,null,null,null,null,null,null,2,0,null,"",{"$f":"ROWS($AC$4:AC994)","v":991},"",{"$f":"IFERROR(SMALL($AD$4:$AD$1642,ROWS($AD$4:AD994)),\"\")","v":""},null,{"$f":"IFERROR(INDEX($A$4:$R$1642,$AE994,COLUMNS($A:$B)),\"\")","v":""},{"$f":"IFERROR(INDEX($A$4:$R$1642,$AE994,COLUMNS($A:$C)),\"\")","v":""},{"$f":"IFERROR(INDEX($A$4:$R$1642,$AE994,COLUMNS($A:$R)),\"\")","v":""},null,null,null,null,null,null,null,null,123]
[{"$f":"AR995","v":124},null,{"$f":"(VLOOKUP($B995,'Elenco Prezzi2'!$A$2:$E$201,2,FALSE))","v":{"$error":"#N/A"}},null,null,null,null,null,null,null,null,null,null,null,null,null,null,null,null,null,null,null,null,null,2,0,null,{"$f":"IF(W995>0,\"OK\",\"\")","v":""},{"$f":"ROWS($AC$4:AC995)","v":992},{"$f":"IF(AB995=\"ok\",AC995,\"\")","v":""},{"$f":"IFERROR(SMALL($AD$4:$AD$1642,ROWS($AD$4:AD995)),\"\")","v":""},null,{"$f":"IFERROR(INDEX($A$4:$R$1642,$AE995,COLUMNS($A:$B)),\"\")","v":""},{"$f":"IFERROR(INDEX($A$4:$R$1642,$AE995,COLUMNS($A:$C)),\"\")","v":""},{"$f":"IFERROR(INDEX($A$4:$R$1642,$AE995,COLUMNS($A:$R)),\"\")","v":""},null,null,null,null,null,null,null,1,{"$f":"IF(AQ995=\"\",AR994,AR994+AQ995)","v":124}]
[null,null,null,{"$f":"CONCATENATE(AK996&AL996&AM996&AN996)","v":""},null,null,null,null,{"$f":"IFERROR(IF(PRODUCT(E996:H996)=0,\"\",PRODUCT(E996:H996)),\"\")","v":""},{"$f":"I996","v":""},null,{"$f":"IF(E996>0,\" (p/u) \"&Modulo2.GetFormula(E996),\"\")","v":""},{"$f":"IF(F996>0,\" (lu) \"&Modulo2.GetFormula(F996),\"\")","v":""},{"$f":"IF(G996>0,\" (la) \"&Modulo2.GetFormula(G996),\"\")","v":""},{"$f":"IF(H996>0,\" (H) \"&Modulo2.GetFormula(H996),\"\")","v":""},null,null,null,null,null,null,null,null,null,{"$f":"IF(AO996=\"\",Y995,Y995+AO996)","v":2},{"$f":"IF(AP996=\"\",Z995,Z995+AP996)","v":0},null,"",{"$f":"ROWS($AC$4:AC996)","v":993},"",{"$f":"IFERROR(SMALL($AD$4:$AD$1642,ROWS($AD$4:AD996)),\"\")","v":""},null,{"$f":"IFERROR(INDEX($A$4:$R$1642,$AE996,COLUMNS($A:$B)),\"\")","v":""},{"$f":"IFERROR(INDEX($A$4:$R$1642,$AE996,COLUMNS($A:$C)),\"\")","v":""},{"$f":"IFERROR(INDEX($A$4:$R$1642,$AE996,COLUMNS($A:$R)),\"\")","v":""},null,{"$f":"IFERROR(IF(SEARCH(\"=\",L996),L996,\"\"),\"\")","v":""},{"$f":"IFERROR(IF(SEARCH(\"=\",M996),M996,\"\"),\"\")","v":""},{"$f":"IFERROR(IF(SEARCH(\"=\",N996),N996,\"\"),\"\")","v":""},{"$f":"IFERROR(IF(SEARCH(\"=\",O996),O996,\"\"),\"\")","v":""},null,null,null,124]
[null,null,null,"",null,null,null,null,"","",null,{"$f":"IF(E997>0,\" (p/u) \"&Modulo2.GetFormula(E997),\"\")","v":""},{"$f":"IF(F997>0,\" (lu) \"&Modulo2.GetFormula(F997),\"\")","v":""},{"$f":"IF(G997>0,\" (la) \"&Modulo2.GetFormula(G997),\"\")","v":""},{"$f":"IF(H997>0,\" (H) \"&Modulo2.GetFormula(H997),\"\")","v":""},null,null,null,null,null,null,null,null,null,2,0,null,"",{"$f":"ROWS($AC$4:AC997)","v":994},"",{"$f":"IFERROR(SMALL($AD$4:$AD$1642,ROWS($AD$4:AD997)),\"\")","v":""},null,{"$f":"IFERROR(INDEX($A$4:$R$1642,$AE997,COLUMNS($A:$B)),\"\")","v":""},{"$f":"IFERROR(INDEX($A$4:$R$1642,$AE997,COLUMNS($A:$C)),\"\")","v":""},{"$f":"IFERROR(INDEX($A$4:$R$1642,$AE997,COLUMNS($A:$R)),\"\")","v":""},null,"","","","",null,null,null,124]
[null,null,null,"",null,null,null,null,"","",null,{"$f":"IF(E998>0,\" (p/u) \"&Modulo2.GetFormula(E998),\"\")","v":""},{"$f":"IF(F998>0,\" (lu) \"&Modulo2.GetFormula(F998),\"\")","v":""},{"$f":"IF(G998>0,\" (la) \"&Modulo2.GetFormula(G998),\"\")","v":""},{"$f":"IF(H998>0,\" (H) \"&Modulo2.GetFormula(H998),\"\")","v":""},null,null,null,null,null,null,null,null,null,2,0,null,"",{"$f":"ROWS($AC$4:AC998)","v":995},"",{"$f":"IFERROR(SMALL($AD$4:$AD$1642,ROWS($AD$4:AD998)),\"\")","v":""},null,{"$f":"IFERROR(INDEX($A$4:$R$1642,$AE998,COLUMNS($A:$B)),\"\")","v":""},{"$f":"IFERROR(INDEX($A$4:$R$1642,$AE998,COLUMNS($A:$C)),\"\")","v":""},{"$f":"IFERROR(INDEX($A$4:$R$1642,$AE998,COLUMNS($A:$R)),\"\")","v":""},null,"","","","",null,null,null,124]
[null,null,null,null,null,null,null,{"$f":"CONCATENATE(\"SOMMANO [\",VLOOKUP(B995,'Elenco Prezzi2'!$A$2:$E$201,3,FALSE()),\"]\")","v":{"$error":"#N/A"}},{"$f":"IF(T999=\"s\",V1000,SUBTOTAL(9,I995:I999))","v":{"$error":"#REF!"}},null,{"$f":"VLOOKUP(B995,'Elenco Prezzi2'!$A$2:$E$201,5,FALSE)","v":{"$error":"#N/A"}},null,null,null,null,null,null,{"$f":"IFERROR(I999*K999,\"\")","v":""},null,"s",null,null,null,{"$f":"R999","v":""},2,0,null,"",{"$f":"ROWS($AC$4:AC999)","v":996},"",{"$f":"IFERROR(SMALL($AD$4:$AD$1642,ROWS($AD$4:AD999)),\"\")","v":""},null,{"$f":"IFERROR(INDEX($A$4:$R$1642,$AE999,COLUMNS($A:$B)),\"\")","v":""},{"$f":"IFERROR(INDEX($A$4:$R$1642,$AE999,COLUMNS($A:$C)),\"\")","v":""},{"$f":"IFERROR(INDEX($A$4:$R$1642,$AE999,COLUMNS($A:$R)),\"\")","v":""},null,null,null,null,null,null,null,null,124]
[null,null,null,null,null,null,null,{"$f":"IF(I1000<0,\"a detrarre\",\"\")","v":""},{"$f":"SUMIF(I995:I998,\"<0\")","v":0},null,null,null,null,null,null,null,null,null,{"$f":"R999","v":""},null,null,{"$f":"VLOOKUP(B995,#REF!,4,FALSE)","v":{"$error":"#REF!"}},null,null,2,0,null,"",{"$f":"ROWS($AC$4:AC1000)","v":997},"",{"$f":"IFERROR(SMALL($AD$4:$AD$1642,ROWS($AD$4:AD1000)),\"\")","v":""},null,{"$f":"IFERROR(INDEX($A$4:$R$1642,$AE1000,COLUMNS($A:$B)),\"\")","v":""},{"$f":"IFERROR(INDEX($A$4:$R$1642,$AE1000,COLUMNS($A:$C)),\"\")","v":""},{"$f":"IFERROR(INDEX($A$4:$R$1642,$AE1000,COLUMNS($A:$R)),\"\")","v":""},null,null,null,null,null,null,null,null,124]
[null,null,null,null,null,null,null,null,null,null,null,null,null,null,null,null,null,null,null,null,null,null,null,null,2,0,null,"",{"$f":"ROWS($AC$4:AC1001)","v":998},"",{"$f":"IFERROR(SMALL($AD$4:$AD$1642,ROWS($AD$4:AD1001)),\"\")","v":""},null,{"$f":"IFERROR(INDEX($A$4:$R$1642,$AE1001,COLUMNS($A:$B)),\"\")","v":""},{"$f":"IFERROR(INDEX($A$4:$R$1642,$AE1001,COLUMNS($A:$C)),\"\")","v":""},{"$f":"IFERROR(INDEX($A$4:$R$1642,$AE1001,COLUMNS($A:$R)),\"\")","v":""},null,null,null,null,null,null,null,null,124]
[null,null,null,null,null,null,null,null,null,null,null,null,null,null,null,null,null,null,null,null,null,null,null,null,2,0,null,"",{"$f":"ROWS($AC$4:AC1002)","v":999},"",{"$f":"IFERROR(SMALL($AD$4:$AD$1642,ROWS($AD$4:AD1002)),\"\")","v":""},null,{"$f":"IFERROR(INDEX($A$4:$R$1642,$AE1002,COLUMNS($A:$B)),\"\")","v":""},{"$f":"IFERROR(INDEX($A$4:$R$1642,$AE1002,COLUMNS($A:$C)),\"\")","v":""},{"$f":"IFERROR(INDEX($A$4:$R$1642,$AE1002,COLUMNS($A:$R)),\"\")","v":""},null,null,null,null,null,null,null,null,124]
[{"$f":"AR1003","v":125},null,{"$f":"(VLOOKUP($B1003,'Elenco Prezzi2'!$A$2:$E$201,2,FALSE))","v":{"$error":"#N/A"}},null,null,null,null,null,null,null,null,null,null,null,null,null,null,null,null,null,null,null,null,null,2,0,null,"",{"$f":"ROWS($AC$4:AC1003)","v":1000},"",{"$f":"IFERROR(SMALL($AD$4:$AD$1642,ROWS($AD$4:AD1003)),\"\")","v":""},null,{"$f":"IFERROR(INDEX($A$4:$R$1642,$AE1003,COLUMNS($A:$B)),\"\")","v":""},{"$f":"IFERROR(INDEX($A$4:$R$1642,$AE1003,COLUMNS($A:$C)),\"\")","v":""},{"$f":"IFERROR(INDEX($A$4:$R$1642,$AE1003,COLUMNS($A:$R)),\"\")","v":""},null,null,null,null,null,null,null,1,125]
[null,null,null,{"$f":"CONCATENATE(AK1004&AL1004&AM1004&AN1004)","v":""},null,null,null,null,{"$f":"IFERROR(IF(PRODUCT(E1004:H1004)=0,\"\",PRODUCT(E1004:H1004)),\"\")","v":""},{"$f":"I1004","v":""},null,{"$f":"IF(E1004>0,\" (p/u) \"&Modulo2.GetFormula(E1004),\"\")","v":""},{"$f":"IF(F1004>0,\" (lu) \"&Modulo2.GetFormula(F1004),\"\")","v":""},{"$f":"IF(G1004>0,\" (la) \"&Modulo2.GetFormula(G1004),\"\")","v":""},{"$f":"IF(H1004>0,\" (H) \"&Modulo2.GetFormula(H1004),\"\")","v":""},null,null,null,null,null,null,null,null,null,2,0,null,"",{"$f":"ROWS($AC$4:AC1004)","v":1001},"",{"$f":"IFERROR(SMALL($AD$4:$AD$1642,ROWS($AD$4:AD1004)),\"\")","v":""},null,{"$f":"IFERROR(INDEX($A$4:$R$1642,$AE1004,COLUMNS($A:$B)),\"\")","v":""},{"$f":"IFERROR(INDEX($A$4:$R$1642,$AE1004,COLUMNS($A:$C)),\"\")","v":""},{"$f":"IFERROR(INDEX($A$4:$R$1642,$AE1004,COLUMNS($A:$R)),\"\")","v":""},null,{"$f":"IFERROR(IF(SEARCH(\"=\",L1004),L1004,\"\"),\"\")","v":""},{"$f":"IFERROR(IF(SEARCH(\"=\",M1004),M1004,\"\"),\"\")","v":""},{"$f":"IFERROR(IF(SEARCH(\"=\",N1004),N1004,\"\"),\"\")","v":""},{"$f":"IFERROR(IF(SEARCH(\"=\",O1004),O1004,\"\"),\"\")","v":""},null,null,null,125]
[null,null,null,"",null,null,null,null,"","",null,{"$f":"IF(E1005>0,\" (p/u) \"&Modulo2.GetFormula(E1005),\"\")","v":""},{"$f":"IF(F1005>0,\" (lu) \"&Modulo2.GetFormula(F1005),\"\")","v":""},{"$f":"IF(G1005>0,\" (la) \"&Modulo2.GetFormula(G1005),\"\")","v":""},{"$f":"IF(H1005>0,\" (H) \"&Modulo2.GetFormula(H1005),\"\")","v":""},null,null,null,null,null,null,null,null,null,2,0,null,"",{"$f":"ROWS($AC$4:AC1005)","v":1002},"",{"$f":"IFERROR(SMALL($AD$4:$AD$1642,ROWS($AD$4:AD1005)),\"\")","v":""},null,{"$f":"IFERROR(INDEX($A$4:$R$1642,$AE1005,COLUMNS($A:$B)),\"\")","v":""},{"$f":"IFERROR(INDEX($A$4:$R$1642,$AE1005,COLUMNS($A:$C)),\"\")","v":""},{"$f":"IFERROR(INDEX($A$4:$R$1642,$AE1005,COLUMNS($A:$R)),\"\")","v":""},null,"","","","",null,null,null,125]
[null,null,null,"",null,null,null,null,"","",null,{"$f":"IF(E1006>0,\" (p/u) \"&Modulo2.GetFormula(E1006),\"\")","v":""},{"$f":"IF(F1006>0,\" (lu) \"&Modulo2.GetFormula(F1006),\"\")","v":""},{"$f":"IF(G1006>0,\" (la) \"&Modulo2.GetFormula(G1006),\"\")","v":""},{"$f":"IF(H1006>0,\" (H) \"&Modulo2.GetFormula(H1006),\"\")","v":""},null,null,null,null,null,null,null,null,null,2,0,null,"",{"$f":"ROWS($AC$4:AC1006)","v":1003},"",{"$f":"IFERROR(SMALL($AD$4:$AD$1642,ROWS($AD$4:AD1006)),\"\")","v":""},null,{"$f":"IFERROR(INDEX($A$4:$R$1642,$AE1006,COLUMNS($A:$B)),\"\")","v":""},{"$f":"IFERROR(INDEX($A$4:$R$1642,$AE1006,COLUMNS($A:$C)),\"\")","v":""},{"$f":"IFERROR(INDEX($A$4:$R$1642,$AE1006,COLUMNS($A:$R)),\"\")","v":""},null,"","","","",null,null,null,125]
[null,null,null,null,null,null,null,{"$f":"CONCATENATE(\"SOMMANO [\",VLOOKUP(B1003,'Elenco Prezzi2'!$A$2:$E$201,3,FALSE()),\"]\")","v":{"$error":"#N/A"}},{"$f":"IF(T1007=\"s\",V1008,SUBTOTAL(9,I1003:I1007))","v":{"$error":"#REF!"}},null,{"$f":"VLOOKUP(B1003,'Elenco Prezzi2'!$A$2:$E$201,5,FALSE)","v":{"$error":"#N/A"}},null,null,null,null,null,null,{"$f":"IFERROR(I1007*K1007,\"\")","v":""},null,"s",null,null,null,{"$f":"R1007","v":""},2,0,null,"",{"$f":"ROWS($AC$4:AC1007)","v":1004},"",{"$f":"IFERROR(SMALL($AD$4:$AD$1642,ROWS($AD$4:AD1007)),\"\")","v":""},null,{"$f":"IFERROR(INDEX($A$4:$R$1642,$AE1007,COLUMNS($A:$B)),\"\")","v":""},{"$f":"IFERROR(INDEX($A$4:$R$1642,$AE1007,COLUMNS($A:$C)),\"\")","v":""},{"$f":"IFERROR(INDEX($A$4:$R$1642,$AE1007,COLUMNS($A:$R)),\"\")","v":""},null,null,null,null,null,null,null,null,125]
[null,null,null,null,null,null,null,{"$f":"IF(I1008<0,\"a detrarre\",\"\")","v":""},{"$f":"SUMIF(I1003:I1006,\"<0\")","v":0},null,null,null,null,null,null,null,null,null,{"$f":"R1007","v":""},null,null,{"$f":"VLOOKUP(B1003,#REF!,4,FALSE)","v":{"$error":"#REF!"}},null,null,2,0,null,"",{"$f":"ROWS($AC$4:AC1008)","v":1005},"",{"$f":"IFERROR(SMALL($AD$4:$AD$1642,ROWS($AD$4:AD1008)),\"\")","v":""},null,{"$f":"IFERROR(INDEX($A$4:$R$1642,$AE1008,COLUMNS($A:$B)),\"\")","v":""},{"$f":"IFERROR(INDEX($A$4:$R$1642,$AE1008,COLUMNS($A:$C)),\"\")","v":""},{"$f":"IFERROR(INDEX($A$4:$R$1642,$AE1008,COLUMNS($A:$R)),\"\")","v":""},null,null,null,null,null,null,null,null,125]
[null,null,null,null,null,null,null,null,null,null,null,null,null,null,null,null,null,null,null,null,null,null,null,null,2,0,null,"",{"$f":"ROWS($AC$4:AC1009)","v":1006},"",{"$f":"IFERROR(SMALL($AD$4:$AD$1642,ROWS($AD$4:AD1009)),\"\")","v":""},null,{"$f":"IFERROR(INDEX($A$4:$R$1642,$AE1009,COLUMNS($A:$B)),\"\")","v":""},{"$f":"IFERROR(INDEX($A$4:$R$1642,$AE1009,COLUMNS($A:$C)),\"\")","v":""},{"$f":"IFERROR(INDEX($A$4:$R$1642,$AE1009,COLUMNS($A:$R)),\"\")","v":""},null,null,null,null,null,null,null,null,125]
[null,null,null,null,null,null,null,null,null,null,null,null,null,null,null,null,null,null,null,null,null,null,null,null,2,0,null,"",{"$f":"ROWS($AC$4:AC1010)","v":1007},"",{"$f":"IFERROR(SMALL($AD$4:$AD$1642,ROWS($AD$4:AD1010)),\"\")","v":""},null,{"$f":"IFERROR(INDEX($A$4:$R$1642,$AE1010,COLUMNS($A:$B)),\"\")","v":""},{"$f":"IFERROR(INDEX($A$4:$R$1642,$AE1010,COLUMNS($A:$C)),\"\")","v":""},{"$f":"IFERROR(INDEX($A$4:$R$1642,$AE1010,COLUMNS($A:$R)),\"\")","v":""},null,null,null,null,null,null,null,null,125]
[{"$f":"AR1011","v":126},null,{"$f":"(VLOOKUP($B1011,'Elenco Prezzi2'!$A$2:$E$201,2,FALSE))","v":{"$error":"#N/A"}},null,null,null,null,null,null,null,null,null,null,null,null,null,null,null,null,null,null,null,null,null,2,0,null,"",{"$f":"ROWS($AC$4:AC1011)","v":1008},"",{"$f":"IFERROR(SMALL($AD$4:$AD$1642,ROWS($AD$4:AD1011)),\"\")","v":""},null,{"$f":"IFERROR(INDEX($A$4:$R$1642,$AE1011,COLUMNS($A:$B)),\"\")","v":""},{"$f":"IFERROR(INDEX($A$4:$R$1642,$AE1011,COLUMNS($A:$C)),\"\")","v":""},{"$f":"IFERROR(INDEX($A$4:$R$1642,$AE1011,COLUMNS($A:$R)),\"\")","v":""},null,null,null,null,null,null,null,1,126]
[null,null,null,{"$f":"CONCATENATE(AK1012&AL1012&AM1012&AN1012)","v":""},null,null,null,null,{"$f":"IFERROR(IF(PRODUCT(E1012:H1012)=0,\"\",PRODUCT(E1012:H1012)),\"\")","v":""},{"$f":"I1012","v":""},null,{"$f":"IF(E1012>0,\" (p/u) \"&Modulo2.GetFormula(E1012),\"\")","v":""},{"$f":"IF(F1012>0,\" (lu) \"&Modulo2.GetFormula(F1012),\"\")","v":""},{"$f":"IF(G1012>0,\" (la) \"&Modulo2.GetFormula(G1012),\"\")","v":""},{"$f":"IF(H1012>0,\" (H) \"&Modulo2.GetFormula(H1012),\"\")","v":""},null,null,null,null,null,null,null,null,null,2,0,null,"",{"$f":"ROWS($AC$4:AC1012)","v":1009},"",{"$f":"IFERROR(SMALL($AD$4:$AD$1642,ROWS($AD$4:AD1012)),\"\")","v":""},null,{"$f":"IFERROR(INDEX($A$4:$R$1642,$AE1012,COLUMNS($A:$B)),\"\")","v":""},{"$f":"IFERROR(INDEX($A$4:$R$1642,$AE1012,COLUMNS($A:$C)),\"\")","v":""},{"$f":"IFERROR(INDEX($A$4:$R$1642,$AE1012,COLUMNS($A:$R)),\"\")","v":""},null,{"$f":"IFERROR(IF(SEARCH(\"=\",L1012),L1012,\"\"),\"\")","v":""},{"$f":"IFERROR(IF(SEARCH(\"=\",M1012),M1012,\"\"),\"\")","v":""},{"$f":"IFERROR(IF(SEARCH(\"=\",N1012),N1012,\"\"),\"\")","v":""},{"$f":"IFERROR(IF(SEARCH(\"=\",O1012),O1012,\"\"),\"\")","v":""},null,null,null,126]
[null,null,null,"",null,null,null,null,"","",null,{"$f":"IF(E1013>0,\" (p/u) \"&Modulo2.GetFormula(E1013),\"\")","v":""},{"$f":"IF(F1013>0,\" (lu) \"&Modulo2.GetFormula(F1013),\"\")","v":""},{"$f":"IF(G1013>0,\" (la) \"&Modulo2.GetFormula(G1013),\"\")","v":""},{"$f":"IF(H1013>0,\" (H) \"&Modulo2.GetFormula(H1013),\"\")","v":""},null,null,null,null,null,null,null,null,null,2,0,null,"",{"$f":"ROWS($AC$4:AC1013)","v":1010},"",{"$f":"IFERROR(SMALL($AD$4:$AD$1642,ROWS($AD$4:AD1013)),\"\")","v":""},null,{"$f":"IFERROR(INDEX($A$4:$R$1642,$AE1013,COLUMNS($A:$B)),\"\")","v":""},{"$f":"IFERROR(INDEX($A$4:$R$1642,$AE1013,COLUMNS($A:$C)),\"\")","v":""},{"$f":"IFERROR(INDEX($A$4:$R$1642,$AE1013,COLUMNS($A:$R)),\"\")","v":""},null,"","","","",null,null,null,126]
[null,null,null,"",null,null,null,null,"","",null,{"$f":"IF(E1014>0,\" (p/u) \"&Modulo2.GetFormula(E1014),\"\")","v":""},{"$f":"IF(F1014>0,\" (lu) \"&Modulo2.GetFormula(F1014),\"\")","v":""},{"$f":"IF(G1014>0,\" (la) \"&Modulo2.GetFormula(G1014),\"\")","v":""},{"$f":"IF(H1014>0,\" (H) \"&Modulo2.GetFormula(H1014),\"\")","v":""},null,null,null,null,null,null,null,null,null,2,0,null,"",{"$f":"ROWS($AC$4:AC1014)","v":1011},"",{"$f":"IFERROR(SMALL($AD$4:$AD$1642,ROWS($AD$4:AD1014)),\"\")","v":""},null,{"$f":"IFERROR(INDEX($A$4:$R$1642,$AE1014,COLUMNS($A:$B)),\"\")","v":""},{"$f":"IFERROR(INDEX($A$4:$R$1642,$AE1014,COLUMNS($A:$C)),\"\")","v":""},{"$f":"IFERROR(INDEX($A$4:$R$1642,$AE1014,COLUMNS($A:$R)),\"\")","v":""},null,"","","","",null,null,null,126]
[null,null,null,null,null,null,null,{"$f":"CONCATENATE(\"SOMMANO [\",VLOOKUP(B1011,'Elenco Prezzi2'!$A$2:$E$201,3,FALSE()),\"]\")","v":{"$error":"#N/A"}},{"$f":"IF(T1015=\"s\",V1016,SUBTOTAL(9,I1011:I1015))","v":{"$error":"#REF!"}},null,{"$f":"VLOOKUP(B1011,'Elenco Prezzi2'!$A$2:$E$201,5,FALSE)","v":{"$error":"#N/A"}},null,null,null,null,null,null,{"$f":"IFERROR(I1015*K1015,\"\")","v":""},null,"s",null,null,null,{"$f":"R1015","v":""},2,0,null,"",{"$f":"ROWS($AC$4:AC1015)","v":1012},"",{"$f":"IFERROR(SMALL($AD$4:$AD$1642,ROWS($AD$4:AD1015)),\"\")","v":""},null,{"$f":"IFERROR(INDEX($A$4:$R$1642,$AE1015,COLUMNS($A:$B)),\"\")","v":""},{"$f":"IFERROR(INDEX($A$4:$R$1642,$AE1015,COLUMNS($A:$C)),\"\")","v":""},{"$f":"IFERROR(INDEX($A$4:$R$1642,$AE1015,COLUMNS($A:$R)),\"\")","v":""},null,null,null,null,null,null,null,null,126]
[null,null,null,null,null,null,null,{"$f":"IF(I1016<0,\"a detrarre\",\"\")","v":""},{"$f":"SUMIF(I1011:I1014,\"<0\")","v":0},null,null,null,null,null,null,null,null,null,{"$f":"R1015","v":""},null,null,{"$f":"VLOOKUP(B1011,#REF!,4,FALSE)","v":{"$error":"#REF!"}},null,null,2,0,null,"",{"$f":"ROWS($AC$4:AC1016)","v":1013},"",{"$f":"IFERROR(SMALL($AD$4:$AD$1642,ROWS($AD$4:AD1016)),\"\")","v":""},null,{"$f":"IFERROR(INDEX($A$4:$R$1642,$AE1016,COLUMNS($A:$B)),\"\")","v":""},{"$f":"IFERROR(INDEX($A$4:$R$1642,$AE1016,COLUMNS($A:$C)),\"\")","v":""},{"$f":"IFERROR(INDEX($A$4:$R$1642,$AE1016,COLUMNS($A:$R)),\"\")","v":""},null,null,null,null,null,null,null,null,126]
[null,null,null,null,null,null,null,null,null,null,null,null,null,null,null,null,null,null,null,null,null,null,null,null,2,0,null,"",{"$f":"ROWS($AC$4:AC1017)","v":1014},"",{"$f":"IFERROR(SMALL($AD$4:$AD$1642,ROWS($AD$4:AD1017)),\"\")","v":""},null,{"$f":"IFERROR(INDEX($A$4:$R$1642,$AE1017,COLUMNS($A:$B)),\"\")","v":""},{"$f":"IFERROR(INDEX($A$4:$R$1642,$AE1017,COLUMNS($A:$C)),\"\")","v":""},{"$f":"IFERROR(INDEX($A$4:$R$1642,$AE1017,COLUMNS($A:$R)),\"\")","v":""},null,null,null,null,null,null,null,null,126]
[null,null,null,null,null,null,null,null,null,null,null,null,null,null,null,null,null,null,null,null,null,null,null,null,2,0,null,"",{"$f":"ROWS($AC$4:AC1018)","v":1015},"",{"$f":"IFERROR(SMALL($AD$4:$AD$1642,ROWS($AD$4:AD1018)),\"\")","v":""},null,{"$f":"IFERROR(INDEX($A$4:$R$1642,$AE1018,COLUMNS($A:$B)),\"\")","v":""},{"$f":"IFERROR(INDEX($A$4:$R$1642,$AE1018,COLUMNS($A:$C)),\"\")","v":""},{"$f":"IFERROR(INDEX($A$4:$R$1642,$AE1018,COLUMNS($A:$R)),\"\")","v":""},null,null,null,null,null,null,null,null,126]
[{"$f":"AR1019","v":127},null,{"$f":"(VLOOKUP($B1019,'Elenco Prezzi2'!$A$2:$E$201,2,FALSE))","v":{"$error":"#N/A"}},null,null,null,null,null,null,null,null,null,null,null,null,null,null,null,null,null,null,null,null,null,2,0,null,"",{"$f":"ROWS($AC$4:AC1019)","v":1016},"",{"$f":"IFERROR(SMALL($AD$4:$AD$1642,ROWS($AD$4:AD1019)),\"\")","v":""},null,{"$f":"IFERROR(INDEX($A$4:$R$1642,$AE1019,COLUMNS($A:$B)),\"\")","v":""},{"$f":"IFERROR(INDEX($A$4:$R$1642,$AE1019,COLUMNS($A:$C)),\"\")","v":""},{"$f":"IFERROR(INDEX($A$4:$R$1642,$AE1019,COLUMNS($A:$R)),\"\")","v":""},null,null,null,null,null,null,null,1,127]
[null,null,null,{"$f":"CONCATENATE(AK1020&AL1020&AM1020&AN1020)","v":""},null,null,null,null,{"$f":"IFERROR(IF(PRODUCT(E1020:H1020)=0,\"\",PRODUCT(E1020:H1020)),\"\")","v":""},{"$f":"I1020","v":""},null,{"$f":"IF(E1020>0,\" (p/u) \"&Modulo2.GetFormula(E1020),\"\")","v":""},{"$f":"IF(F1020>0,\" (lu) \"&Modulo2.GetFormula(F1020),\"\")","v":""},{"$f":"IF(G1020>0,\" (la) \"&Modulo2.GetFormula(G1020),\"\")","v":""},{"$f":"IF(H1020>0,\" (H) \"&Modulo2.GetFormula(H1020),\"\")","v":""},null,null,null,null,null,null,null,null,null,2,0,null,"",{"$f":"ROWS($AC$4:AC1020)","v":1017},"",{"$f":"IFERROR(SMALL($AD$4:$AD$1642,ROWS($AD$4:AD1020)),\"\")","v":""},null,{"$f":"IFERROR(INDEX($A$4:$R$1642,$AE1020,COLUMNS($A:$B)),\"\")","v":""},{"$f":"IFERROR(INDEX($A$4:$R$1642,$AE1020,COLUMNS($A:$C)),\"\")","v":""},{"$f":"IFERROR(INDEX($A$4:$R$1642,$AE1020,COLUMNS($A:$R)),\"\")","v":""},null,{"$f":"IFERROR(IF(SEARCH(\"=\",L1020),L1020,\"\"),\"\")","v":""},{"$f":"IFERROR(IF(SEARCH(\"=\",M1020),M1020,\"\"),\"\")","v":""},{"$f":"IFERROR(IF(SEARCH(\"=\",N1020),N1020,\"\"),\"\")","v":""},{"$f":"IFERROR(IF(SEARCH(\"=\",O1020),O1020,\"\"),\"\")","v":""},null,null,null,127]
[null,null,null,"",null,null,null,null,"","",null,{"$f":"IF(E1021>0,\" (p/u) \"&Modulo2.GetFormula(E1021),\"\")","v":""},{"$f":"IF(F1021>0,\" (lu) \"&Modulo2.GetFormula(F1021),\"\")","v":""},{"$f":"IF(G1021>0,\" (la) \"&Modulo2.GetFormula(G1021),\"\")","v":""},{"$f":"IF(H1021>0,\" (H) \"&Modulo2.GetFormula(H1021),\"\")","v":""},null,null,null,null,null,null,null,null,null,2,0,null,"",{"$f":"ROWS($AC$4:AC1021)","v":1018},"",{"$f":"IFERROR(SMALL($AD$4:$AD$1642,ROWS($AD$4:AD1021)),\"\")","v":""},null,{"$f":"IFERROR(INDEX($A$4:$R$1642,$AE1021,COLUMNS($A:$B)),\"\")","v":""},{"$f":"IFERROR(INDEX($A$4:$R$1642,$AE1021,COLUMNS($A:$C)),\"\")","v":""},{"$f":"IFERROR(INDEX($A$4:$R$1642,$AE1021,COLUMNS($A:$R)),\"\")","v":""},null,"","","","",null,null,null,127]
[null,null,null,"",null,null,null,null,"","",null,{"$f":"IF(E1022>0,\" (p/u) \"&Modulo2.GetFormula(E1022),\"\")","v":""},{"$f":"IF(F1022>0,\" (lu) \"&Modulo2.GetFormula(F1022),\"\")","v":""},{"$f":"IF(G1022>0,\" (la) \"&Modulo2.GetFormula(G1022),\"\")","v":""},{"$f":"IF(H1022>0,\" (H) \"&Modulo2.GetFormula(H1022),\"\")","v":""},null,null,null,null,null,null,null,null,null,2,0,null,"",{"$f":"ROWS($AC$4:AC1022)","v":1019},"",{"$f":"IFERROR(SMALL($AD$4:$AD$1642,ROWS($AD$4:AD1022)),\"\")","v":""},null,{"$f":"IFERROR(INDEX($A$4:$R$1642,$AE1022,COLUMNS($A:$B)),\"\")","v":""},{"$f":"IFERROR(INDEX($A$4:$R$1642,$AE1022,COLUMNS($A:$C)),\"\")","v":""},{"$f":"IFERROR(INDEX($A$4:$R$1642,$AE1022,COLUMNS($A:$R)),\"\")","v":""},null,"","","","",null,null,null,127]
[null,null,null,null,null,null,null,{"$f":"CONCATENATE(\"SOMMANO [\",VLOOKUP(B1019,'Elenco Prezzi2'!$A$2:$E$201,3,FALSE()),\"]\")","v":{"$error":"#N/A"}},{"$f":"IF(T1023=\"s\",V1024,SUBTOTAL(9,I1019:I1023))","v":{"$error":"#REF!"}},null,{"$f":"VLOOKUP(B1019,'Elenco Prezzi2'!$A$2:$E$201,5,FALSE)","v":{"$error":"#N/A"}},null,null,null,null,null,null,{"$f":"IFERROR(I1023*K1023,\"\")","v":""},null,"s",null,null,null,{"$f":"R1023","v":""},2,0,null,"",{"$f":"ROWS($AC$4:AC1023)","v":1020},"",{"$f":"IFERROR(SMALL($AD$4:$AD$1642,ROWS($AD$4:AD1023)),\"\")","v":""},null,{"$f":"IFERROR(INDEX($A$4:$R$1642,$AE1023,COLUMNS($A:$B)),\"\")","v":""},{"$f":"IFERROR(INDEX($A$4:$R$1642,$AE1023,COLUMNS($A:$C)),\"\")","v":""},{"$f":"IFERROR(INDEX($A$4:$R$1642,$AE1023,COLUMNS($A:$R)),\"\")","v":""},null,null,null,null,null,null,null,null,127]
[null,null,null,null,null,null,null,{"$f":"IF(I1024<0,\"a detrarre\",\"\")","v":""},{"$f":"SUMIF(I1019:I1022,\"<0\")","v":0},null,null,null,null,null,null,null,null,null,{"$f":"R1023","v":""},null,null,{"$f":"VLOOKUP(B1019,#REF!,4,FALSE)","v":{"$error":"#REF!"}},null,null,2,0,null,"",{"$f":"ROWS($AC$4:AC1024)","v":1021},"",{"$f":"IFERROR(SMALL($AD$4:$AD$1642,ROWS($AD$4:AD1024)),\"\")","v":""},null,{"$f":"IFERROR(INDEX($A$4:$R$1642,$AE1024,COLUMNS($A:$B)),\"\")","v":""},{"$f":"IFERROR(INDEX($A$4:$R$1642,$AE1024,COLUMNS($A:$C)),\"\")","v":""},{"$f":"IFERROR(INDEX($A$4:$R$1642,$AE1024,COLUMNS($A:$R)),\"\")","v":""},null,null,null,null,null,null,null,null,127]
[null,null,null,null,null,null,null,null,null,null,null,null,null,null,null,null,null,null,null,null,null,null,null,null,2,0,null,"",{"$f":"ROWS($AC$4:AC1025)","v":1022},"",{"$f":"IFERROR(SMALL($AD$4:$AD$1642,ROWS($AD$4:AD1025)),\"\")","v":""},null,{"$f":"IFERROR(INDEX($A$4:$R$1642,$AE1025,COLUMNS($A:$B)),\"\")","v":""},{"$f":"IFERROR(INDEX($A$4:$R$1642,$AE1025,COLUMNS($A:$C)),\"\")","v":""},{"$f":"IFERROR(INDEX($A$4:$R$1642,$AE1025,COLUMNS($A:$R)),\"\")","v":""},null,null,null,null,null,null,null,null,127]
[null,null,null,null,null,null,null,null,null,null,null,null,null,null,null,null,null,null,null,null,null,null,null,null,2,0,null,"",{"$f":"ROWS($AC$4:AC1026)","v":1023},"",{"$f":"IFERROR(SMALL($AD$4:$AD$1642,ROWS($AD$4:AD1026)),\"\")","v":""},null,{"$f":"IFERROR(INDEX($A$4:$R$1642,$AE1026,COLUMNS($A:$B)),\"\")","v":""},{"$f":"IFERROR(INDEX($A$4:$R$1642,$AE1026,COLUMNS($A:$C)),\"\")","v":""},{"$f":"IFERROR(INDEX($A$4:$R$1642,$AE1026,COLUMNS($A:$R)),\"\")","v":""},null,null,null,null,null,null,null,null,127]
[{"$f":"AR1027","v":128},null,{"$f":"(VLOOKUP($B1027,'Elenco Prezzi2'!$A$2:$E$201,2,FALSE))","v":{"$error":"#N/A"}},null,null,null,null,null,null,null,null,null,null,null,null,null,null,null,null,null,null,null,null,null,2,0,null,"",{"$f":"ROWS($AC$4:AC1027)","v":1024},"",{"$f":"IFERROR(SMALL($AD$4:$AD$1642,ROWS($AD$4:AD1027)),\"\")","v":""},null,{"$f":"IFERROR(INDEX($A$4:$R$1642,$AE1027,COLUMNS($A:$B)),\"\")","v":""},{"$f":"IFERROR(INDEX($A$4:$R$1642,$AE1027,COLUMNS($A:$C)),\"\")","v":""},{"$f":"IFERROR(INDEX($A$4:$R$1642,$AE1027,COLUMNS($A:$R)),\"\")","v":""},null,null,null,null,null,null,null,1,128]
[null,null,null,{"$f":"CONCATENATE(AK1028&AL1028&AM1028&AN1028)","v":""},null,null,null,null,{"$f":"IFERROR(IF(PRODUCT(E1028:H1028)=0,\"\",PRODUCT(E1028:H1028)),\"\")","v":""},{"$f":"I1028","v":""},null,{"$f":"IF(E1028>0,\" (p/u) \"&Modulo2.GetFormula(E1028),\"\")","v":""},{"$f":"IF(F1028>0,\" (lu) \"&Modulo2.GetFormula(F1028),\"\")","v":""},{"$f":"IF(G1028>0,\" (la) \"&Modulo2.GetFormula(G1028),\"\")","v":""},{"$f":"IF(H1028>0,\" (H) \"&Modulo2.GetFormula(H1028),\"\")","v":""},null,null,null,null,null,null,null,null,null,2,0,null,"",{"$f":"ROWS($AC$4:AC1028)","v":1025},"",{"$f":"IFERROR(SMALL($AD$4:$AD$1642,ROWS($AD$4:AD1028)),\"\")","v":""},null,{"$f":"IFERROR(INDEX($A$4:$R$1642,$AE1028,COLUMNS($A:$B)),\"\")","v":""},{"$f":"IFERROR(INDEX($A$4:$R$1642,$AE1028,COLUMNS($A:$C)),\"\")","v":""},{"$f":"IFERROR(INDEX($A$4:$R$1642,$AE1028,COLUMNS($A:$R)),\"\")","v":""},null,{"$f":"IFERROR(IF(SEARCH(\"=\",L1028),L1028,\"\"),\"\")","v":""},{"$f":"IFERROR(IF(SEARCH(\"=\",M1028),M1028,\"\"),\"\")","v":""},{"$f":"IFERROR(IF(SEARCH(\"=\",N1028),N1028,\"\"),\"\")","v":""},{"$f":"IFERROR(IF(SEARCH(\"=\",O1028),O1028,\"\"),\"\")","v":""},null,null,null,128]
[null,null,null,"",null,null,null,null,"","",null,{"$f":"IF(E1029>0,\" (p/u) \"&Modulo2.GetFormula(E1029),\"\")","v":""},{"$f":"IF(F1029>0,\" (lu) \"&Modulo2.GetFormula(F1029),\"\")","v":""},{"$f":"IF(G1029>0,\" (la) \"&Modulo2.GetFormula(G1029),\"\")","v":""},{"$f":"IF(H1029>0,\" (H) \"&Modulo2.GetFormula(H1029),\"\")","v":""},null,null,null,null,null,null,null,null,null,2,0,null,"",{"$f":"ROWS($AC$4:AC1029)","v":1026},"",{"$f":"IFERROR(SMALL($AD$4:$AD$1642,ROWS($AD$4:AD1029)),\"\")","v":""},null,{"$f":"IFERROR(INDEX($A$4:$R$1642,$AE1029,COLUMNS($A:$B)),\"\")","v":""},{"$f":"IFERROR(INDEX($A$4:$R$1642,$AE1029,COLUMNS($A:$C)),\"\")","v":""},{"$f":"IFERROR(INDEX($A$4:$R$1642,$AE1029,COLUMNS($A:$R)),\"\")","v":""},null,"","","","",null,null,null,128]
[null,null,null,"",null,null,null,null,"","",null,{"$f":"IF(E1030>0,\" (p/u) \"&Modulo2.GetFormula(E1030),\"\")","v":""},{"$f":"IF(F1030>0,\" (lu) \"&Modulo2.GetFormula(F1030),\"\")","v":""},{"$f":"IF(G1030>0,\" (la) \"&Modulo2.GetFormula(G1030),\"\")","v":""},{"$f":"IF(H1030>0,\" (H) \"&Modulo2.GetFormula(H1030),\"\")","v":""},null,null,null,null,null,null,null,null,null,2,0,null,"",{"$f":"ROWS($AC$4:AC1030)","v":1027},"",{"$f":"IFERROR(SMALL($AD$4:$AD$1642,ROWS($AD$4:AD1030)),\"\")","v":""},null,{"$f":"IFERROR(INDEX($A$4:$R$1642,$AE1030,COLUMNS($A:$B)),\"\")","v":""},{"$f":"IFERROR(INDEX($A$4:$R$1642,$AE1030,COLUMNS($A:$C)),\"\")","v":""},{"$f":"IFERROR(INDEX($A$4:$R$1642,$AE1030,COLUMNS($A:$R)),\"\")","v":""},null,"","","","",null,null,null,128]
[null,null,null,null,null,null,null,{"$f":"CONCATENATE(\"SOMMANO [\",VLOOKUP(B1027,'Elenco Prezzi2'!$A$2:$E$201,3,FALSE()),\"]\")","v":{"$error":"#N/A"}},{"$f":"IF(T1031=\"s\",V1032,SUBTOTAL(9,I1027:I1031))","v":{"$error":"#REF!"}},null,{"$f":"VLOOKUP(B1027,'Elenco Prezzi2'!$A$2:$E$201,5,FALSE)","v":{"$error":"#N/A"}},null,null,null,null,null,null,{"$f":"IFERROR(I1031*K1031,\"\")","v":""},null,"s",null,null,null,{"$f":"R1031","v":""},2,0,null,"",{"$f":"ROWS($AC$4:AC1031)","v":1028},"",{"$f":"IFERROR(SMALL($AD$4:$AD$1642,ROWS($AD$4:AD1031)),\"\")","v":""},null,{"$f":"IFERROR(INDEX($A$4:$R$1642,$AE1031,COLUMNS($A:$B)),\"\")","v":""},{"$f":"IFERROR(INDEX($A$4:$R$1642,$AE1031,COLUMNS($A:$C)),\"\")","v":""},{"$f":"IFERROR(INDEX($A$4:$R$1642,$AE1031,COLUMNS($A:$R)),\"\")","v":""},null,null,null,null,null,null,null,null,128]
[null,null,null,null,null,null,null,{"$f":"IF(I1032<0,\"a detrarre\",\"\")","v":""},{"$f":"SUMIF(I1027:I1030,\"<0\")","v":0},null,null,null,null,null,null,null,null,null,{"$f":"R1031","v":""},null,null,{"$f":"VLOOKUP(B1027,#REF!,4,FALSE)","v":{"$error":"#REF!"}},null,null,2,0,null,"",{"$f":"ROWS($AC$4:AC1032)","v":1029},"",{"$f":"IFERROR(SMALL($AD$4:$AD$1642,ROWS($AD$4:AD1032)),\"\")","v":""},null,{"$f":"IFERROR(INDEX($A$4:$R$1642,$AE1032,COLUMNS($A:$B)),\"\")","v":""},{"$f":"IFERROR(INDEX($A$4:$R$1642,$AE1032,COLUMNS($A:$C)),\"\")","v":""},{"$f":"IFERROR(INDEX($A$4:$R$1642,$AE1032,COLUMNS($A:$R)),\"\")","v":""},null,null,null,null,null,null,null,null,128]
[null,null,null,null,null,null,null,null,null,null,null,null,null,null,null,null,null,null,null,null,null,null,null,null,2,0,null,"",{"$f":"ROWS($AC$4:AC1033)","v":1030},"",{"$f":"IFERROR(SMALL($AD$4:$AD$1642,ROWS($AD$4:AD1033)),\"\")","v":""},null,{"$f":"IFERROR(INDEX($A$4:$R$1642,$AE1033,COLUMNS($A:$B)),\"\")","v":""},{"$f":"IFERROR(INDEX($A$4:$R$1642,$AE1033,COLUMNS($A:$C)),\"\")","v":""},{"$f":"IFERROR(INDEX($A$4:$R$1642,$AE1033,COLUMNS($A:$R)),\"\")","v":""},null,null,null,null,null,null,null,null,128]
[null,null,null,null,null,null,null,null,null,null,null,null,null,null,null,null,null,null,null,null,null,null,null,null,2,0,null,"",{"$f":"ROWS($AC$4:AC1034)","v":1031},"",{"$f":"IFERROR(SMALL($AD$4:$AD$1642,ROWS($AD$4:AD1034)),\"\")","v":""},null,{"$f":"IFERROR(INDEX($A$4:$R$1642,$AE1034,COLUMNS($A:$B)),\"\")","v":""},{"$f":"IFERROR(INDEX($A$4:$R$1642,$AE1034,COLUMNS($A:$C)),\"\")","v":""},{"$f":"IFERROR(INDEX($A$4:$R$1642,$AE1034,COLUMNS($A:$R)),\"\")","v":""},null,null,null,null,null,null,null,null,128]
[{"$f":"AR1035","v":129},null,{"$f":"(VLOOKUP($B1035,'Elenco Prezzi2'!$A$2:$E$201,2,FALSE))","v":{"$error":"#N/A"}},null,null,null,null,null,null,null,null,null,null,null,null,null,null,null,null,null,null,null,null,null,2,0,null,"",{"$f":"ROWS($AC$4:AC1035)","v":1032},"",{"$f":"IFERROR(SMALL($AD$4:$AD$1642,ROWS($AD$4:AD1035)),\"\")","v":""},null,{"$f":"IFERROR(INDEX($A$4:$R$1642,$AE1035,COLUMNS($A:$B)),\"\")","v":""},{"$f":"IFERROR(INDEX($A$4:$R$1642,$AE1035,COLUMNS($A:$C)),\"\")","v":""},{"$f":"IFERROR(INDEX($A$4:$R$1642,$AE1035,COLUMNS($A:$R)),\"\")","v":""},null,null,null,null,null,null,null,1,129]
[null,null,null,{"$f":"CONCATENATE(AK1036&AL1036&AM1036&AN1036)","v":""},null,null,null,null,{"$f":"IFERROR(IF(PRODUCT(E1036:H1036)=0,\"\",PRODUCT(E1036:H1036)),\"\")","v":""},{"$f":"I1036","v":""},null,{"$f":"IF(E1036>0,\" (p/u) \"&Modulo2.GetFormula(E1036),\"\")","v":""},{"$f":"IF(F1036>0,\" (lu) \"&Modulo2.GetFormula(F1036),\"\")","v":""},{"$f":"IF(G1036>0,\" (la) \"&Modulo2.GetFormula(G1036),\"\")","v":""},{"$f":"IF(H1036>0,\" (H) \"&Modulo2.GetFormula(H1036),\"\")","v":""},null,null,null,null,null,null,null,null,null,2,0,null,"",{"$f":"ROWS($AC$4:AC1036)","v":1033},"",{"$f":"IFERROR(SMALL($AD$4:$AD$1642,ROWS($AD$4:AD1036)),\"\")","v":""},null,{"$f":"IFERROR(INDEX($A$4:$R$1642,$AE1036,COLUMNS($A:$B)),\"\")","v":""},{"$f":"IFERROR(INDEX($A$4:$R$1642,$AE1036,COLUMNS($A:$C)),\"\")","v":""},{"$f":"IFERROR(INDEX($A$4:$R$1642,$AE1036,COLUMNS($A:$R)),\"\")","v":""},null,{"$f":"IFERROR(IF(SEARCH(\"=\",L1036),L1036,\"\"),\"\")","v":""},{"$f":"IFERROR(IF(SEARCH(\"=\",M1036),M1036,\"\"),\"\")","v":""},{"$f":"IFERROR(IF(SEARCH(\"=\",N1036),N1036,\"\"),\"\")","v":""},{"$f":"IFERROR(IF(SEARCH(\"=\",O1036),O1036,\"\"),\"\")","v":""},null,null,null,129]
[null,null,null,"",null,null,null,null,"","",null,{"$f":"IF(E1037>0,\" (p/u) \"&Modulo2.GetFormula(E1037),\"\")","v":""},{"$f":"IF(F1037>0,\" (lu) \"&Modulo2.GetFormula(F1037),\"\")","v":""},{"$f":"IF(G1037>0,\" (la) \"&Modulo2.GetFormula(G1037),\"\")","v":""},{"$f":"IF(H1037>0,\" (H) \"&Modulo2.GetFormula(H1037),\"\")","v":""},null,null,null,null,null,null,null,null,null,2,0,null,"",{"$f":"ROWS($AC$4:AC1037)","v":1034},"",{"$f":"IFERROR(SMALL($AD$4:$AD$1642,ROWS($AD$4:AD1037)),\"\")","v":""},null,{"$f":"IFERROR(INDEX($A$4:$R$1642,$AE1037,COLUMNS($A:$B)),\"\")","v":""},{"$f":"IFERROR(INDEX($A$4:$R$1642,$AE1037,COLUMNS($A:$C)),\"\")","v":""},{"$f":"IFERROR(INDEX($A$4:$R$1642,$AE1037,COLUMNS($A:$R)),\"\")","v":""},null,"","","","",null,null,null,129]
[null,null,null,"",null,null,null,null,"","",null,{"$f":"IF(E1038>0,\" (p/u) \"&Modulo2.GetFormula(E1038),\"\")","v":""},{"$f":"IF(F1038>0,\" (lu) \"&Modulo2.GetFormula(F1038),\"\")","v":""},{"$f":"IF(G1038>0,\" (la) \"&Modulo2.GetFormula(G1038),\"\")","v":""},{"$f":"IF(H1038>0,\" (H) \"&Modulo2.GetFormula(H1038),\"\")","v":""},null,null,null,null,null,null,null,null,null,2,0,null,"",{"$f":"ROWS($AC$4:AC1038)","v":1035},"",{"$f":"IFERROR(SMALL($AD$4:$AD$1642,ROWS($AD$4:AD1038)),\"\")","v":""},null,{"$f":"IFERROR(INDEX($A$4:$R$1642,$AE1038,COLUMNS($A:$B)),\"\")","v":""},{"$f":"IFERROR(INDEX($A$4:$R$1642,$AE1038,COLUMNS($A:$C)),\"\")","v":""},{"$f":"IFERROR(INDEX($A$4:$R$1642,$AE1038,COLUMNS($A:$R)),\"\")","v":""},null,"","","","",null,null,null,129]
[null,null,null,null,null,null,null,{"$f":"CONCATENATE(\"SOMMANO [\",VLOOKUP(B1035,'Elenco Prezzi2'!$A$2:$E$201,3,FALSE()),\"]\")","v":{"$error":"#N/A"}},{"$f":"IF(T1039=\"s\",V1040,SUBTOTAL(9,I1035:I1039))","v":{"$error":"#REF!"}},null,{"$f":"VLOOKUP(B1035,'Elenco Prezzi2'!$A$2:$E$201,5,FALSE)","v":{"$error":"#N/A"}},null,null,null,null,null,null,{"$f":"IFERROR(I1039*K1039,\"\")","v":""},null,"s",null,null,null,{"$f":"R1039","v":""},2,0,null,"",{"$f":"ROWS($AC$4:AC1039)","v":1036},"",{"$f":"IFERROR(SMALL($AD$4:$AD$1642,ROWS($AD$4:AD1039)),\"\")","v":""},null,{"$f":"IFERROR(INDEX($A$4:$R$1642,$AE1039,COLUMNS($A:$B)),\"\")","v":""},{"$f":"IFERROR(INDEX($A$4:$R$1642,$AE1039,COLUMNS($A:$C)),\"\")","v":""},{"$f":"IFERROR(INDEX($A$4:$R$1642,$AE1039,COLUMNS($A:$R)),\"\")","v":""},null,null,null,null,null,null,null,null,129]
[null,null,null,null,null,null,null,{"$f":"IF(I1040<0,\"a detrarre\",\"\")","v":""},{"$f":"SUMIF(I1035:I1038,\"<0\")","v":0},null,null,null,null,null,null,null,null,null,{"$f":"R1039","v":""},null,null,{"$f":"VLOOKUP(B1035,#REF!,4,FALSE)","v":{"$error":"#REF!"}},null,null,2,0,null,"",{"$f":"ROWS($AC$4:AC1040)","v":1037},"",{"$f":"IFERROR(SMALL($AD$4:$AD$1642,ROWS($AD$4:AD1040)),\"\")","v":""},null,{"$f":"IFERROR(INDEX($A$4:$R$1642,$AE1040,COLUMNS($A:$B)),\"\")","v":""},{"$f":"IFERROR(INDEX($A$4:$R$1642,$AE1040,COLUMNS($A:$C)),\"\")","v":""},{"$f":"IFERROR(INDEX($A$4:$R$1642,$AE1040,COLUMNS($A:$R)),\"\")","v":""},null,null,null,null,null,null,null,null,129]
[null,null,null,null,null,null,null,null,null,null,null,null,null,null,null,null,null,null,null,null,null,null,null,null,2,0,null,"",{"$f":"ROWS($AC$4:AC1041)","v":1038},"",{"$f":"IFERROR(SMALL($AD$4:$AD$1642,ROWS($AD$4:AD1041)),\"\")","v":""},null,{"$f":"IFERROR(INDEX($A$4:$R$1642,$AE1041,COLUMNS($A:$B)),\"\")","v":""},{"$f":"IFERROR(INDEX($A$4:$R$1642,$AE1041,COLUMNS($A:$C)),\"\")","v":""},{"$f":"IFERROR(INDEX($A$4:$R$1642,$AE1041,COLUMNS($A:$R)),\"\")","v":""},null,null,null,null,null,null,null,null,129]
[null,null,null,null,null,null,null,null,null,null,null,null,null,null,null,null,null,null,null,null,null,null,null,null,2,0,null,"",{"$f":"ROWS($AC$4:AC1042)","v":1039},"",{"$f":"IFERROR(SMALL($AD$4:$AD$1642,ROWS($AD$4:AD1042)),\"\")","v":""},null,{"$f":"IFERROR(INDEX($A$4:$R$1642,$AE1042,COLUMNS($A:$B)),\"\")","v":""},{"$f":"IFERROR(INDEX($A$4:$R$1642,$AE1042,COLUMNS($A:$C)),\"\")","v":""},{"$f":"IFERROR(INDEX($A$4:$R$1642,$AE1042,COLUMNS($A:$R)),\"\")","v":""},null,null,null,null,null,null,null,null,129]
[{"$f":"AR1043","v":130},null,{"$f":"(VLOOKUP($B1043,'Elenco Prezzi2'!$A$2:$E$201,2,FALSE))","v":{"$error":"#N/A"}},null,null,null,null,null,null,null,null,null,null,null,null,null,null,null,null,null,null,null,null,null,2,0,null,"",{"$f":"ROWS($AC$4:AC1043)","v":1040},"",{"$f":"IFERROR(SMALL($AD$4:$AD$1642,ROWS($AD$4:AD1043)),\"\")","v":""},null,{"$f":"IFERROR(INDEX($A$4:$R$1642,$AE1043,COLUMNS($A:$B)),\"\")","v":""},{"$f":"IFERROR(INDEX($A$4:$R$1642,$AE1043,COLUMNS($A:$C)),\"\")","v":""},{"$f":"IFERROR(INDEX($A$4:$R$1642,$AE1043,COLUMNS($A:$R)),\"\")","v":""},null,null,null,null,null,null,null,1,130]
[null,null,null,{"$f":"CONCATENATE(AK1044&AL1044&AM1044&AN1044)","v":""},null,null,null,null,{"$f":"IFERROR(IF(PRODUCT(E1044:H1044)=0,\"\",PRODUCT(E1044:H1044)),\"\")","v":""},{"$f":"I1044","v":""},null,{"$f":"IF(E1044>0,\" (p/u) \"&Modulo2.GetFormula(E1044),\"\")","v":""},{"$f":"IF(F1044>0,\" (lu) \"&Modulo2.GetFormula(F1044),\"\")","v":""},{"$f":"IF(G1044>0,\" (la) \"&Modulo2.GetFormula(G1044),\"\")","v":""},{"$f":"IF(H1044>0,\" (H) \"&Modulo2.GetFormula(H1044),\"\")","v":""},null,null,null,null,null,null,null,null,null,2,0,null,"",{"$f":"ROWS($AC$4:AC1044)","v":1041},"",{"$f":"IFERROR(SMALL($AD$4:$AD$1642,ROWS($AD$4:AD1044)),\"\")","v":""},null,{"$f":"IFERROR(INDEX($A$4:$R$1642,$AE1044,COLUMNS($A:$B)),\"\")","v":""},{"$f":"IFERROR(INDEX($A$4:$R$1642,$AE1044,COLUMNS($A:$C)),\"\")","v":""},{"$f":"IFERROR(INDEX($A$4:$R$1642,$AE1044,COLUMNS($A:$R)),\"\")","v":""},null,{"$f":"IFERROR(IF(SEARCH(\"=\",L1044),L1044,\"\"),\"\")","v":""},{"$f":"IFERROR(IF(SEARCH(\"=\",M1044),M1044,\"\"),\"\")","v":""},{"$f":"IFERROR(IF(SEARCH(\"=\",N1044),N1044,\"\"),\"\")","v":""},{"$f":"IFERROR(IF(SEARCH(\"=\",O1044),O1044,\"\"),\"\")","v":""},null,null,null,130]
[null,null,null,"",null,null,null,null,"","",null,{"$f":"IF(E1045>0,\" (p/u) \"&Modulo2.GetFormula(E1045),\"\")","v":""},{"$f":"IF(F1045>0,\" (lu) \"&Modulo2.GetFormula(F1045),\"\")","v":""},{"$f":"IF(G1045>0,\" (la) \"&Modulo2.GetFormula(G1045),\"\")","v":""},{"$f":"IF(H1045>0,\" (H) \"&Modulo2.GetFormula(H1045),\"\")","v":""},null,null,null,null,null,null,null,null,null,2,0,null,"",{"$f":"ROWS($AC$4:AC1045)","v":1042},"",{"$f":"IFERROR(SMALL($AD$4:$AD$1642,ROWS($AD$4:AD1045)),\"\")","v":""},null,{"$f":"IFERROR(INDEX($A$4:$R$1642,$AE1045,COLUMNS($A:$B)),\"\")","v":""},{"$f":"IFERROR(INDEX($A$4:$R$1642,$AE1045,COLUMNS($A:$C)),\"\")","v":""},{"$f":"IFERROR(INDEX($A$4:$R$1642,$AE1045,COLUMNS($A:$R)),\"\")","v":""},null,"","","","",null,null,null,130]
[null,null,null,"",null,null,null,null,"","",null,{"$f":"IF(E1046>0,\" (p/u) \"&Modulo2.GetFormula(E1046),\"\")","v":""},{"$f":"IF(F1046>0,\" (lu) \"&Modulo2.GetFormula(F1046),\"\")","v":""},{"$f":"IF(G1046>0,\" (la) \"&Modulo2.GetFormula(G1046),\"\")","v":""},{"$f":"IF(H1046>0,\" (H) \"&Modulo2.GetFormula(H1046),\"\")","v":""},null,null,null,null,null,null,null,null,null,2,0,null,"",{"$f":"ROWS($AC$4:AC1046)","v":1043},"",{"$f":"IFERROR(SMALL($AD$4:$AD$1642,ROWS($AD$4:AD1046)),\"\")","v":""},null,{"$f":"IFERROR(INDEX($A$4:$R$1642,$AE1046,COLUMNS($A:$B)),\"\")","v":""},{"$f":"IFERROR(INDEX($A$4:$R$1642,$AE1046,COLUMNS($A:$C)),\"\")","v":""},{"$f":"IFERROR(INDEX($A$4:$R$1642,$AE1046,COLUMNS($A:$R)),\"\")","v":""},null,"","","","",null,null,null,130]
[null,null,null,null,null,null,null,{"$f":"CONCATENATE(\"SOMMANO [\",VLOOKUP(B1043,'Elenco Prezzi2'!$A$2:$E$201,3,FALSE()),\"]\")","v":{"$error":"#N/A"}},{"$f":"IF(T1047=\"s\",V1048,SUBTOTAL(9,I1043:I1047))","v":{"$error":"#REF!"}},null,{"$f":"VLOOKUP(B1043,'Elenco Prezzi2'!$A$2:$E$201,5,FALSE)","v":{"$error":"#N/A"}},null,null,null,null,null,null,{"$f":"IFERROR(I1047*K1047,\"\")","v":""},null,"s",null,null,null,{"$f":"R1047","v":""},2,0,null,"",{"$f":"ROWS($AC$4:AC1047)","v":1044},"",{"$f":"IFERROR(SMALL($AD$4:$AD$1642,ROWS($AD$4:AD1047)),\"\")","v":""},null,{"$f":"IFERROR(INDEX($A$4:$R$1642,$AE1047,COLUMNS($A:$B)),\"\")","v":""},{"$f":"IFERROR(INDEX($A$4:$R$1642,$AE1047,COLUMNS($A:$C)),\"\")","v":""},{"$f":"IFERROR(INDEX($A$4:$R$1642,$AE1047,COLUMNS($A:$R)),\"\")","v":""},null,null,null,null,null,null,null,null,130]
[null,null,null,null,null,null,null,{"$f":"IF(I1048<0,\"a detrarre\",\"\")","v":""},{"$f":"SUMIF(I1043:I1046,\"<0\")","v":0},null,null,null,null,null,null,null,null,null,{"$f":"R1047","v":""},null,null,{"$f":"VLOOKUP(B1043,#REF!,4,FALSE)","v":{"$error":"#REF!"}},null,null,2,0,null,"",{"$f":"ROWS($AC$4:AC1048)","v":1045},"",{"$f":"IFERROR(SMALL($AD$4:$AD$1642,ROWS($AD$4:AD1048)),\"\")","v":""},null,{"$f":"IFERROR(INDEX($A$4:$R$1642,$AE1048,COLUMNS($A:$B)),\"\")","v":""},{"$f":"IFERROR(INDEX($A$4:$R$1642,$AE1048,COLUMNS($A:$C)),\"\")","v":""},{"$f":"IFERROR(INDEX($A$4:$R$1642,$AE1048,COLUMNS($A:$R)),\"\")","v":""},null,null,null,null,null,null,null,null,130]
[null,null,null,null,null,null,null,null,null,null,null,null,null,null,null,null,null,null,null,null,null,null,null,null,2,0,null,"",{"$f":"ROWS($AC$4:AC1049)","v":1046},"",{"$f":"IFERROR(SMALL($AD$4:$AD$1642,ROWS($AD$4:AD1049)),\"\")","v":""},null,{"$f":"IFERROR(INDEX($A$4:$R$1642,$AE1049,COLUMNS($A:$B)),\"\")","v":""},{"$f":"IFERROR(INDEX($A$4:$R$1642,$AE1049,COLUMNS($A:$C)),\"\")","v":""},{"$f":"IFERROR(INDEX($A$4:$R$1642,$AE1049,COLUMNS($A:$R)),\"\")","v":""},null,null,null,null,null,null,null,null,130]
[null,null,null,null,null,null,null,null,null,null,null,null,null,null,null,null,null,null,null,null,null,null,null,null,2,0,null,"",{"$f":"ROWS($AC$4:AC1050)","v":1047},"",{"$f":"IFERROR(SMALL($AD$4:$AD$1642,ROWS($AD$4:AD1050)),\"\")","v":""},null,{"$f":"IFERROR(INDEX($A$4:$R$1642,$AE1050,COLUMNS($A:$B)),\"\")","v":""},{"$f":"IFERROR(INDEX($A$4:$R$1642,$AE1050,COLUMNS($A:$C)),\"\")","v":""},{"$f":"IFERROR(INDEX($A$4:$R$1642,$AE1050,COLUMNS($A:$R)),\"\")","v":""},null,null,null,null,null,null,null,null,130]
[{"$f":"AR1051","v":131},null,{"$f":"(VLOOKUP($B1051,'Elenco Prezzi2'!$A$2:$E$201,2,FALSE))","v":{"$error":"#N/A"}},null,null,null,null,null,null,null,null,null,null,null,null,null,null,null,null,null,null,null,null,null,2,0,null,"",{"$f":"ROWS($AC$4:AC1051)","v":1048},"",{"$f":"IFERROR(SMALL($AD$4:$AD$1642,ROWS($AD$4:AD1051)),\"\")","v":""},null,{"$f":"IFERROR(INDEX($A$4:$R$1642,$AE1051,COLUMNS($A:$B)),\"\")","v":""},{"$f":"IFERROR(INDEX($A$4:$R$1642,$AE1051,COLUMNS($A:$C)),\"\")","v":""},{"$f":"IFERROR(INDEX($A$4:$R$1642,$AE1051,COLUMNS($A:$R)),\"\")","v":""},null,null,null,null,null,null,null,1,131]
[null,null,null,{"$f":"CONCATENATE(AK1052&AL1052&AM1052&AN1052)","v":""},null,null,null,null,{"$f":"IFERROR(IF(PRODUCT(E1052:H1052)=0,\"\",PRODUCT(E1052:H1052)),\"\")","v":""},{"$f":"I1052","v":""},null,{"$f":"IF(E1052>0,\" (p/u) \"&Modulo2.GetFormula(E1052),\"\")","v":""},{"$f":"IF(F1052>0,\" (lu) \"&Modulo2.GetFormula(F1052),\"\")","v":""},{"$f":"IF(G1052>0,\" (la) \"&Modulo2.GetFormula(G1052),\"\")","v":""},{"$f":"IF(H1052>0,\" (H) \"&Modulo2.GetFormula(H1052),\"\")","v":""},null,null,null,null,null,null,null,null,null,2,0,null,"",{"$f":"ROWS($AC$4:AC1052)","v":1049},"",{"$f":"IFERROR(SMALL($AD$4:$AD$1642,ROWS($AD$4:AD1052)),\"\")","v":""},null,{"$f":"IFERROR(INDEX($A$4:$R$1642,$AE1052,COLUMNS($A:$B)),\"\")","v":""},{"$f":"IFERROR(INDEX($A$4:$R$1642,$AE1052,COLUMNS($A:$C)),\"\")","v":""},{"$f":"IFERROR(INDEX($A$4:$R$1642,$AE1052,COLUMNS($A:$R)),\"\")","v":""},null,{"$f":"IFERROR(IF(SEARCH(\"=\",L1052),L1052,\"\"),\"\")","v":""},{"$f":"IFERROR(IF(SEARCH(\"=\",M1052),M1052,\"\"),\"\")","v":""},{"$f":"IFERROR(IF(SEARCH(\"=\",N1052),N1052,\"\"),\"\")","v":""},{"$f":"IFERROR(IF(SEARCH(\"=\",O1052),O1052,\"\"),\"\")","v":""},null,null,null,131]
[null,null,null,"",null,null,null,null,"","",null,{"$f":"IF(E1053>0,\" (p/u) \"&Modulo2.GetFormula(E1053),\"\")","v":""},{"$f":"IF(F1053>0,\" (lu) \"&Modulo2.GetFormula(F1053),\"\")","v":""},{"$f":"IF(G1053>0,\" (la) \"&Modulo2.GetFormula(G1053),\"\")","v":""},{"$f":"IF(H1053>0,\" (H) \"&Modulo2.GetFormula(H1053),\"\")","v":""},null,null,null,null,null,null,null,null,null,2,0,null,"",{"$f":"ROWS($AC$4:AC1053)","v":1050},"",{"$f":"IFERROR(SMALL($AD$4:$AD$1642,ROWS($AD$4:AD1053)),\"\")","v":""},null,{"$f":"IFERROR(INDEX($A$4:$R$1642,$AE1053,COLUMNS($A:$B)),\"\")","v":""},{"$f":"IFERROR(INDEX($A$4:$R$1642,$AE1053,COLUMNS($A:$C)),\"\")","v":""},{"$f":"IFERROR(INDEX($A$4:$R$1642,$AE1053,COLUMNS($A:$R)),\"\")","v":""},null,"","","","",null,null,null,131]
[null,null,null,"",null,null,null,null,"","",null,{"$f":"IF(E1054>0,\" (p/u) \"&Modulo2.GetFormula(E1054),\"\")","v":""},{"$f":"IF(F1054>0,\" (lu) \"&Modulo2.GetFormula(F1054),\"\")","v":""},{"$f":"IF(G1054>0,\" (la) \"&Modulo2.GetFormula(G1054),\"\")","v":""},{"$f":"IF(H1054>0,\" (H) \"&Modulo2.GetFormula(H1054),\"\")","v":""},null,null,null,null,null,null,null,null,null,2,0,null,"",{"$f":"ROWS($AC$4:AC1054)","v":1051},"",{"$f":"IFERROR(SMALL($AD$4:$AD$1642,ROWS($AD$4:AD1054)),\"\")","v":""},null,{"$f":"IFERROR(INDEX($A$4:$R$1642,$AE1054,COLUMNS($A:$B)),\"\")","v":""},{"$f":"IFERROR(INDEX($A$4:$R$1642,$AE1054,COLUMNS($A:$C)),\"\")","v":""},{"$f":"IFERROR(INDEX($A$4:$R$1642,$AE1054,COLUMNS($A:$R)),\"\")","v":""},null,"","","","",null,null,null,131]
[null,null,null,null,null,null,null,{"$f":"CONCATENATE(\"SOMMANO [\",VLOOKUP(B1051,'Elenco Prezzi2'!$A$2:$E$201,3,FALSE()),\"]\")","v":{"$error":"#N/A"}},{"$f":"IF(T1055=\"s\",V1056,SUBTOTAL(9,I1051:I1055))","v":{"$error":"#REF!"}},null,{"$f":"VLOOKUP(B1051,'Elenco Prezzi2'!$A$2:$E$201,5,FALSE)","v":{"$error":"#N/A"}},null,null,null,null,null,null,{"$f":"IFERROR(I1055*K1055,\"\")","v":""},null,"s",null,null,null,{"$f":"R1055","v":""},2,0,null,"",{"$f":"ROWS($AC$4:AC1055)","v":1052},"",{"$f":"IFERROR(SMALL($AD$4:$AD$1642,ROWS($AD$4:AD1055)),\"\")","v":""},null,{"$f":"IFERROR(INDEX($A$4:$R$1642,$AE1055,COLUMNS($A:$B)),\"\")","v":""},{"$f":"IFERROR(INDEX($A$4:$R$1642,$AE1055,COLUMNS($A:$C)),\"\")","v":""},{"$f":"IFERROR(INDEX($A$4:$R$1642,$AE1055,COLUMNS($A:$R)),\"\")","v":""},null,null,null,null,null,null,null,null,131]
[null,null,null,null,null,null,null,{"$f":"IF(I1056<0,\"a detrarre\",\"\")","v":""},{"$f":"SUMIF(I1051:I1054,\"<0\")","v":0},null,null,null,null,null,null,null,null,null,{"$f":"R1055","v":""},null,null,{"$f":"VLOOKUP(B1051,#REF!,4,FALSE)","v":{"$error":"#REF!"}},null,null,2,0,null,"",{"$f":"ROWS($AC$4:AC1056)","v":1053},"",{"$f":"IFERROR(SMALL($AD$4:$AD$1642,ROWS($AD$4:AD1056)),\"\")","v":""},null,{"$f":"IFERROR(INDEX($A$4:$R$1642,$AE1056,COLUMNS($A:$B)),\"\")","v":""},{"$f":"IFERROR(INDEX($A$4:$R$1642,$AE1056,COLUMNS($A:$C)),\"\")","v":""},{"$f":"IFERROR(INDEX($A$4:$R$1642,$AE1056,COLUMNS($A:$R)),\"\")","v":""},null,null,null,null,null,null,null,null,131]
[null,null,null,null,null,null,null,null,null,null,null,null,null,null,null,null,null,null,null,null,null,null,null,null,2,0,null,"",{"$f":"ROWS($AC$4:AC1057)","v":1054},"",{"$f":"IFERROR(SMALL($AD$4:$AD$1642,ROWS($AD$4:AD1057)),\"\")","v":""},null,{"$f":"IFERROR(INDEX($A$4:$R$1642,$AE1057,COLUMNS($A:$B)),\"\")","v":""},{"$f":"IFERROR(INDEX($A$4:$R$1642,$AE1057,COLUMNS($A:$C)),\"\")","v":""},{"$f":"IFERROR(INDEX($A$4:$R$1642,$AE1057,COLUMNS($A:$R)),\"\")","v":""},null,null,null,null,null,null,null,null,131]
[null,null,null,null,null,null,null,null,null,null,null,null,null,null,null,null,null,null,null,null,null,null,null,null,2,0,null,"",{"$f":"ROWS($AC$4:AC1058)","v":1055},"",{"$f":"IFERROR(SMALL($AD$4:$AD$1642,ROWS($AD$4:AD1058)),\"\")","v":""},null,{"$f":"IFERROR(INDEX($A$4:$R$1642,$AE1058,COLUMNS($A:$B)),\"\")","v":""},{"$f":"IFERROR(INDEX($A$4:$R$1642,$AE1058,COLUMNS($A:$C)),\"\")","v":""},{"$f":"IFERROR(INDEX($A$4:$R$1642,$AE1058,COLUMNS($A:$R)),\"\")","v":""},null,null,null,null,null,null,null,null,131]
[{"$f":"AR1059","v":132},null,{"$f":"(VLOOKUP($B1059,'Elenco Prezzi2'!$A$2:$E$201,2,FALSE))","v":{"$error":"#N/A"}},null,null,null,null,null,null,null,null,null,null,null,null,null,null,null,null,null,null,null,null,null,2,0,null,{"$f":"IF(W1059>0,\"OK\",\"\")","v":""},{"$f":"ROWS($AC$4:AC1059)","v":1056},{"$f":"IF(AB1059=\"ok\",AC1059,\"\")","v":""},{"$f":"IFERROR(SMALL($AD$4:$AD$1642,ROWS($AD$4:AD1059)),\"\")","v":""},null,{"$f":"IFERROR(INDEX($A$4:$R$1642,$AE1059,COLUMNS($A:$B)),\"\")","v":""},{"$f":"IFERROR(INDEX($A$4:$R$1642,$AE1059,COLUMNS($A:$C)),\"\")","v":""},{"$f":"IFERROR(INDEX($A$4:$R$1642,$AE1059,COLUMNS($A:$R)),\"\")","v":""},null,null,null,null,null,null,null,1,{"$f":"IF(AQ1059=\"\",AR1058,AR1058+AQ1059)","v":132}]
[null,null,null,{"$f":"CONCATENATE(AK1060&AL1060&AM1060&AN1060)","v":""},null,null,null,null,{"$f":"IFERROR(IF(PRODUCT(E1060:H1060)=0,\"\",PRODUCT(E1060:H1060)),\"\")","v":""},{"$f":"I1060","v":""},null,{"$f":"IF(E1060>0,\" (p/u) \"&Modulo2.GetFormula(E1060),\"\")","v":""},{"$f":"IF(F1060>0,\" (lu) \"&Modulo2.GetFormula(F1060),\"\")","v":""},{"$f":"IF(G1060>0,\" (la) \"&Modulo2.GetFormula(G1060),\"\")","v":""},{"$f":"IF(H1060>0,\" (H) \"&Modulo2.GetFormula(H1060),\"\")","v":""},null,null,null,null,null,null,null,null,null,{"$f":"IF(AO1060=\"\",Y1059,Y1059+AO1060)","v":2},{"$f":"IF(AP1060=\"\",Z1059,Z1059+AP1060)","v":0},null,"",{"$f":"ROWS($AC$4:AC1060)","v":1057},"",{"$f":"IFERROR(SMALL($AD$4:$AD$1642,ROWS($AD$4:AD1060)),\"\")","v":""},null,{"$f":"IFERROR(INDEX($A$4:$R$1642,$AE1060,COLUMNS($A:$B)),\"\")","v":""},{"$f":"IFERROR(INDEX($A$4:$R$1642,$AE1060,COLUMNS($A:$C)),\"\")","v":""},{"$f":"IFERROR(INDEX($A$4:$R$1642,$AE1060,COLUMNS($A:$R)),\"\")","v":""},null,{"$f":"IFERROR(IF(SEARCH(\"=\",L1060),L1060,\"\"),\"\")","v":""},{"$f":"IFERROR(IF(SEARCH(\"=\",M1060),M1060,\"\"),\"\")","v":""},{"$f":"IFERROR(IF(SEARCH(\"=\",N1060),N1060,\"\"),\"\")","v":""},{"$f":"IFERROR(IF(SEARCH(\"=\",O1060),O1060,\"\"),\"\")","v":""},null,null,null,132]
[null,null,null,"",null,null,null,null,"","",null,{"$f":"IF(E1061>0,\" (p/u) \"&Modulo2.GetFormula(E1061),\"\")","v":""},{"$f":"IF(F1061>0,\" (lu) \"&Modulo2.GetFormula(F1061),\"\")","v":""},{"$f":"IF(G1061>0,\" (la) \"&Modulo2.GetFormula(G1061),\"\")","v":""},{"$f":"IF(H1061>0,\" (H) \"&Modulo2.GetFormula(H1061),\"\")","v":""},null,null,null,null,null,null,null,null,null,2,0,null,"",{"$f":"ROWS($AC$4:AC1061)","v":1058},"",{"$f":"IFERROR(SMALL($AD$4:$AD$1642,ROWS($AD$4:AD1061)),\"\")","v":""},null,{"$f":"IFERROR(INDEX($A$4:$R$1642,$AE1061,COLUMNS($A:$B)),\"\")","v":""},{"$f":"IFERROR(INDEX($A$4:$R$1642,$AE1061,COLUMNS($A:$C)),\"\")","v":""},{"$f":"IFERROR(INDEX($A$4:$R$1642,$AE1061,COLUMNS($A:$R)),\"\")","v":""},null,"","","","",null,null,null,132]
[null,null,null,"",null,null,null,null,"","",null,{"$f":"IF(E1062>0,\" (p/u) \"&Modulo2.GetFormula(E1062),\"\")","v":""},{"$f":"IF(F1062>0,\" (lu) \"&Modulo2.GetFormula(F1062),\"\")","v":""},{"$f":"IF(G1062>0,\" (la) \"&Modulo2.GetFormula(G1062),\"\")","v":""},{"$f":"IF(H1062>0,\" (H) \"&Modulo2.GetFormula(H1062),\"\")","v":""},null,null,null,null,null,null,null,null,null,2,0,null,"",{"$f":"ROWS($AC$4:AC1062)","v":1059},"",{"$f":"IFERROR(SMALL($AD$4:$AD$1642,ROWS($AD$4:AD1062)),\"\")","v":""},null,{"$f":"IFERROR(INDEX($A$4:$R$1642,$AE1062,COLUMNS($A:$B)),\"\")","v":""},{"$f":"IFERROR(INDEX($A$4:$R$1642,$AE1062,COLUMNS($A:$C)),\"\")","v":""},{"$f":"IFERROR(INDEX($A$4:$R$1642,$AE1062,COLUMNS($A:$R)),\"\")","v":""},null,"","","","",null,null,null,132]
[null,null,null,null,null,null,null,{"$f":"CONCATENATE(\"SOMMANO [\",VLOOKUP(B1059,'Elenco Prezzi2'!$A$2:$E$201,3,FALSE()),\"]\")","v":{"$error":"#N/A"}},{"$f":"IF(T1063=\"s\",V1064,SUBTOTAL(9,I1059:I1063))","v":{"$error":"#REF!"}},null,{"$f":"VLOOKUP(B1059,'Elenco Prezzi2'!$A$2:$E$201,5,FALSE)","v":{"$error":"#N/A"}},null,null,null,null,null,null,{"$f":"IFERROR(I1063*K1063,\"\")","v":""},null,"s",null,null,null,{"$f":"R1063","v":""},2,0,null,"",{"$f":"ROWS($AC$4:AC1063)","v":1060},"",{"$f":"IFERROR(SMALL($AD$4:$AD$1642,ROWS($AD$4:AD1063)),\"\")","v":""},null,{"$f":"IFERROR(INDEX($A$4:$R$1642,$AE1063,COLUMNS($A:$B)),\"\")","v":""},{"$f":"IFERROR(INDEX($A$4:$R$1642,$AE1063,COLUMNS($A:$C)),\"\")","v":""},{"$f":"IFERROR(INDEX($A$4:$R$1642,$AE1063,COLUMNS($A:$R)),\"\")","v":""},null,null,null,null,null,null,null,null,132]
[null,null,null,null,null,null,null,{"$f":"IF(I1064<0,\"a detrarre\",\"\")","v":""},{"$f":"SUMIF(I1059:I1062,\"<0\")","v":0},null,null,null,null,null,null,null,null,null,{"$f":"R1063","v":""},null,null,{"$f":"VLOOKUP(B1059,#REF!,4,FALSE)","v":{"$error":"#REF!"}},null,null,2,0,null,"",{"$f":"ROWS($AC$4:AC1064)","v":1061},"",{"$f":"IFERROR(SMALL($AD$4:$AD$1642,ROWS($AD$4:AD1064)),\"\")","v":""},null,{"$f":"IFERROR(INDEX($A$4:$R$1642,$AE1064,COLUMNS($A:$B)),\"\")","v":""},{"$f":"IFERROR(INDEX($A$4:$R$1642,$AE1064,COLUMNS($A:$C)),\"\")","v":""},{"$f":"IFERROR(INDEX($A$4:$R$1642,$AE1064,COLUMNS($A:$R)),\"\")","v":""},null,null,null,null,null,null,null,null,132]
[null,null,null,null,null,null,null,null,null,null,null,null,null,null,null,null,null,null,null,null,null,null,null,null,2,0,null,"",{"$f":"ROWS($AC$4:AC1065)","v":1062},"",{"$f":"IFERROR(SMALL($AD$4:$AD$1642,ROWS($AD$4:AD1065)),\"\")","v":""},null,{"$f":"IFERROR(INDEX($A$4:$R$1642,$AE1065,COLUMNS($A:$B)),\"\")","v":""},{"$f":"IFERROR(INDEX($A$4:$R$1642,$AE1065,COLUMNS($A:$C)),\"\")","v":""},{"$f":"IFERROR(INDEX($A$4:$R$1642,$AE1065,COLUMNS($A:$R)),\"\")","v":""},null,null,null,null,null,null,null,null,132]
[null,null,null,null,null,null,null,null,null,null,null,null,null,null,null,null,null,null,null,null,null,null,null,null,2,0,null,"",{"$f":"ROWS($AC$4:AC1066)","v":1063},"",{"$f":"IFERROR(SMALL($AD$4:$AD$1642,ROWS($AD$4:AD1066)),\"\")","v":""},null,{"$f":"IFERROR(INDEX($A$4:$R$1642,$AE1066,COLUMNS($A:$B)),\"\")","v":""},{"$f":"IFERROR(INDEX($A$4:$R$1642,$AE1066,COLUMNS($A:$C)),\"\")","v":""},{"$f":"IFERROR(INDEX($A$4:$R$1642,$AE1066,COLUMNS($A:$R)),\"\")","v":""},null,null,null,null,null,null,null,null,132]
[{"$f":"AR1067","v":133},null,{"$f":"(VLOOKUP($B1067,'Elenco Prezzi2'!$A$2:$E$201,2,FALSE))","v":{"$error":"#N/A"}},null,null,null,null,null,null,null,null,null,null,null,null,null,null,null,null,null,null,null,null,null,2,0,null,"",{"$f":"ROWS($AC$4:AC1067)","v":1064},"",{"$f":"IFERROR(SMALL($AD$4:$AD$1642,ROWS($AD$4:AD1067)),\"\")","v":""},null,{"$f":"IFERROR(INDEX($A$4:$R$1642,$AE1067,COLUMNS($A:$B)),\"\")","v":""},{"$f":"IFERROR(INDEX($A$4:$R$1642,$AE1067,COLUMNS($A:$C)),\"\")","v":""},{"$f":"IFERROR(INDEX($A$4:$R$1642,$AE1067,COLUMNS($A:$R)),\"\")","v":""},null,null,null,null,null,null,null,1,133]
[null,null,null,{"$f":"CONCATENATE(AK1068&AL1068&AM1068&AN1068)","v":""},null,null,null,null,{"$f":"IFERROR(IF(PRODUCT(E1068:H1068)=0,\"\",PRODUCT(E1068:H1068)),\"\")","v":""},{"$f":"I1068","v":""},null,{"$f":"IF(E1068>0,\" (p/u) \"&Modulo2.GetFormula(E1068),\"\")","v":""},{"$f":"IF(F1068>0,\" (lu) \"&Modulo2.GetFormula(F1068),\"\")","v":""},{"$f":"IF(G1068>0,\" (la) \"&Modulo2.GetFormula(G1068),\"\")","v":""},{"$f":"IF(H1068>0,\" (H) \"&Modulo2.GetFormula(H1068),\"\")","v":""},null,null,null,null,null,null,null,null,null,2,0,null,"",{"$f":"ROWS($AC$4:AC1068)","v":1065},"",{"$f":"IFERROR(SMALL($AD$4:$AD$1642,ROWS($AD$4:AD1068)),\"\")","v":""},null,{"$f":"IFERROR(INDEX($A$4:$R$1642,$AE1068,COLUMNS($A:$B)),\"\")","v":""},{"$f":"IFERROR(INDEX($A$4:$R$1642,$AE1068,COLUMNS($A:$C)),\"\")","v":""},{"$f":"IFERROR(INDEX($A$4:$R$1642,$AE1068,COLUMNS($A:$R)),\"\")","v":""},null,{"$f":"IFERROR(IF(SEARCH(\"=\",L1068),L1068,\"\"),\"\")","v":""},{"$f":"IFERROR(IF(SEARCH(\"=\",M1068),M1068,\"\"),\"\")","v":""},{"$f":"IFERROR(IF(SEARCH(\"=\",N1068),N1068,\"\"),\"\")","v":""},{"$f":"IFERROR(IF(SEARCH(\"=\",O1068),O1068,\"\"),\"\")","v":""},null,null,null,133]
[null,null,null,"",null,null,null,null,"","",null,{"$f":"IF(E1069>0,\" (p/u) \"&Modulo2.GetFormula(E1069),\"\")","v":""},{"$f":"IF(F1069>0,\" (lu) \"&Modulo2.GetFormula(F1069),\"\")","v":""},{"$f":"IF(G1069>0,\" (la) \"&Modulo2.GetFormula(G1069),\"\")","v":""},{"$f":"IF(H1069>0,\" (H) \"&Modulo2.GetFormula(H1069),\"\")","v":""},null,null,null,null,null,null,null,null,null,2,0,null,"",{"$f":"ROWS($AC$4:AC1069)","v":1066},"",{"$f":"IFERROR(SMALL($AD$4:$AD$1642,ROWS($AD$4:AD1069)),\"\")","v":""},null,{"$f":"IFERROR(INDEX($A$4:$R$1642,$AE1069,COLUMNS($A:$B)),\"\")","v":""},{"$f":"IFERROR(INDEX($A$4:$R$1642,$AE1069,COLUMNS($A:$C)),\"\")","v":""},{"$f":"IFERROR(INDEX($A$4:$R$1642,$AE1069,COLUMNS($A:$R)),\"\")","v":""},null,"","","","",null,null,null,133]
[null,null,null,"",null,null,null,null,"","",null,{"$f":"IF(E1070>0,\" (p/u) \"&Modulo2.GetFormula(E1070),\"\")","v":""},{"$f":"IF(F1070>0,\" (lu) \"&Modulo2.GetFormula(F1070),\"\")","v":""},{"$f":"IF(G1070>0,\" (la) \"&Modulo2.GetFormula(G1070),\"\")","v":""},{"$f":"IF(H1070>0,\" (H) \"&Modulo2.GetFormula(H1070),\"\")","v":""},null,null,null,null,null,null,null,null,null,2,0,null,"",{"$f":"ROWS($AC$4:AC1070)","v":1067},"",{"$f":"IFERROR(SMALL($AD$4:$AD$1642,ROWS($AD$4:AD1070)),\"\")","v":""},null,{"$f":"IFERROR(INDEX($A$4:$R$1642,$AE1070,COLUMNS($A:$B)),\"\")","v":""},{"$f":"IFERROR(INDEX($A$4:$R$1642,$AE1070,COLUMNS($A:$C)),\"\")","v":""},{"$f":"IFERROR(INDEX($A$4:$R$1642,$AE1070,COLUMNS($A:$R)),\"\")","v":""},null,"","","","",null,null,null,133]
[null,null,null,null,null,null,null,{"$f":"CONCATENATE(\"SOMMANO [\",VLOOKUP(B1067,'Elenco Prezzi2'!$A$2:$E$201,3,FALSE()),\"]\")","v":{"$error":"#N/A"}},{"$f":"IF(T1071=\"s\",V1072,SUBTOTAL(9,I1067:I1071))","v":{"$error":"#REF!"}},null,{"$f":"VLOOKUP(B1067,'Elenco Prezzi2'!$A$2:$E$201,5,FALSE)","v":{"$error":"#N/A"}},null,null,null,null,null,null,{"$f":"IFERROR(I1071*K1071,\"\")","v":""},null,"s",null,null,null,{"$f":"R1071","v":""},2,0,null,"",{"$f":"ROWS($AC$4:AC1071)","v":1068},"",{"$f":"IFERROR(SMALL($AD$4:$AD$1642,ROWS($AD$4:AD1071)),\"\")","v":""},null,{"$f":"IFERROR(INDEX($A$4:$R$1642,$AE1071,COLUMNS($A:$B)),\"\")","v":""},{"$f":"IFERROR(INDEX($A$4:$R$1642,$AE1071,COLUMNS($A:$C)),\"\")","v":""},{"$f":"IFERROR(INDEX($A$4:$R$1642,$AE1071,COLUMNS($A:$R)),\"\")","v":""},null,null,null,null,null,null,null,null,133]
[null,null,null,null,null,null,null,{"$f":"IF(I1072<0,\"a detrarre\",\"\")","v":""},{"$f":"SUMIF(I1067:I1070,\"<0\")","v":0},null,null,null,null,null,null,null,null,null,{"$f":"R1071","v":""},null,null,{"$f":"VLOOKUP(B1067,#REF!,4,FALSE)","v":{"$error":"#REF!"}},null,null,2,0,null,"",{"$f":"ROWS($AC$4:AC1072)","v":1069},"",{"$f":"IFERROR(SMALL($AD$4:$AD$1642,ROWS($AD$4:AD1072)),\"\")","v":""},null,{"$f":"IFERROR(INDEX($A$4:$R$1642,$AE1072,COLUMNS($A:$B)),\"\")","v":""},{"$f":"IFERROR(INDEX($A$4:$R$1642,$AE1072,COLUMNS($A:$C)),\"\")","v":""},{"$f":"IFERROR(INDEX($A$4:$R$1642,$AE1072,COLUMNS($A:$R)),\"\")","v":""},null,null,null,null,null,null,null,null,133]
[null,null,null,null,null,null,null,null,null,null,null,null,null,null,null,null,null,null,null,null,null,null,null,null,2,0,null,"",{"$f":"ROWS($AC$4:AC1073)","v":1070},"",{"$f":"IFERROR(SMALL($AD$4:$AD$1642,ROWS($AD$4:AD1073)),\"\")","v":""},null,{"$f":"IFERROR(INDEX($A$4:$R$1642,$AE1073,COLUMNS($A:$B)),\"\")","v":""},{"$f":"IFERROR(INDEX($A$4:$R$1642,$AE1073,COLUMNS($A:$C)),\"\")","v":""},{"$f":"IFERROR(INDEX($A$4:$R$1642,$AE1073,COLUMNS($A:$R)),\"\")","v":""},null,null,null,null,null,null,null,null,133]
[null,null,null,null,null,null,null,null,null,null,null,null,null,null,null,null,null,null,null,null,null,null,null,null,2,0,null,"",{"$f":"ROWS($AC$4:AC1074)","v":1071},"",{"$f":"IFERROR(SMALL($AD$4:$AD$1642,ROWS($AD$4:AD1074)),\"\")","v":""},null,{"$f":"IFERROR(INDEX($A$4:$R$1642,$AE1074,COLUMNS($A:$B)),\"\")","v":""},{"$f":"IFERROR(INDEX($A$4:$R$1642,$AE1074,COLUMNS($A:$C)),\"\")","v":""},{"$f":"IFERROR(INDEX($A$4:$R$1642,$AE1074,COLUMNS($A:$R)),\"\")","v":""},null,null,null,null,null,null,null,null,133]
[{"$f":"AR1075","v":134},null,{"$f":"(VLOOKUP($B1075,'Elenco Prezzi2'!$A$2:$E$201,2,FALSE))","v":{"$error":"#N/A"}},null,null,null,null,null,null,null,null,null,null,null,null,null,null,null,null,null,null,null,null,null,2,0,null,"",{"$f":"ROWS($AC$4:AC1075)","v":1072},"",{"$f":"IFERROR(SMALL($AD$4:$AD$1642,ROWS($AD$4:AD1075)),\"\")","v":""},null,{"$f":"IFERROR(INDEX($A$4:$R$1642,$AE1075,COLUMNS($A:$B)),\"\")","v":""},{"$f":"IFERROR(INDEX($A$4:$R$1642,$AE1075,COLUMNS($A:$C)),\"\")","v":""},{"$f":"IFERROR(INDEX($A$4:$R$1642,$AE1075,COLUMNS($A:$R)),\"\")","v":""},null,null,null,null,null,null,null,1,134]
[null,null,null,{"$f":"CONCATENATE(AK1076&AL1076&AM1076&AN1076)","v":""},null,null,null,null,{"$f":"IFERROR(IF(PRODUCT(E1076:H1076)=0,\"\",PRODUCT(E1076:H1076)),\"\")","v":""},{"$f":"I1076","v":""},null,{"$f":"IF(E1076>0,\" (p/u) \"&Modulo2.GetFormula(E1076),\"\")","v":""},{"$f":"IF(F1076>0,\" (lu) \"&Modulo2.GetFormula(F1076),\"\")","v":""},{"$f":"IF(G1076>0,\" (la) \"&Modulo2.GetFormula(G1076),\"\")","v":""},{"$f":"IF(H1076>0,\" (H) \"&Modulo2.GetFormula(H1076),\"\")","v":""},null,null,null,null,null,null,null,null,null,2,0,null,"",{"$f":"ROWS($AC$4:AC1076)","v":1073},"",{"$f":"IFERROR(SMALL($AD$4:$AD$1642,ROWS($AD$4:AD1076)),\"\")","v":""},null,{"$f":"IFERROR(INDEX($A$4:$R$1642,$AE1076,COLUMNS($A:$B)),\"\")","v":""},{"$f":"IFERROR(INDEX($A$4:$R$1642,$AE1076,COLUMNS($A:$C)),\"\")","v":""},{"$f":"IFERROR(INDEX($A$4:$R$1642,$AE1076,COLUMNS($A:$R)),\"\")","v":""},null,{"$f":"IFERROR(IF(SEARCH(\"=\",L1076),L1076,\"\"),\"\")","v":""},{"$f":"IFERROR(IF(SEARCH(\"=\",M1076),M1076,\"\"),\"\")","v":""},{"$f":"IFERROR(IF(SEARCH(\"=\",N1076),N1076,\"\"),\"\")","v":""},{"$f":"IFERROR(IF(SEARCH(\"=\",O1076),O1076,\"\"),\"\")","v":""},null,null,null,134]
[null,null,null,"",null,null,null,null,"","",null,{"$f":"IF(E1077>0,\" (p/u) \"&Modulo2.GetFormula(E1077),\"\")","v":""},{"$f":"IF(F1077>0,\" (lu) \"&Modulo2.GetFormula(F1077),\"\")","v":""},{"$f":"IF(G1077>0,\" (la) \"&Modulo2.GetFormula(G1077),\"\")","v":""},{"$f":"IF(H1077>0,\" (H) \"&Modulo2.GetFormula(H1077),\"\")","v":""},null,null,null,null,null,null,null,null,null,2,0,null,"",{"$f":"ROWS($AC$4:AC1077)","v":1074},"",{"$f":"IFERROR(SMALL($AD$4:$AD$1642,ROWS($AD$4:AD1077)),\"\")","v":""},null,{"$f":"IFERROR(INDEX($A$4:$R$1642,$AE1077,COLUMNS($A:$B)),\"\")","v":""},{"$f":"IFERROR(INDEX($A$4:$R$1642,$AE1077,COLUMNS($A:$C)),\"\")","v":""},{"$f":"IFERROR(INDEX($A$4:$R$1642,$AE1077,COLUMNS($A:$R)),\"\")","v":""},null,"","","","",null,null,null,134]
[null,null,null,"",null,null,null,null,"","",null,{"$f":"IF(E1078>0,\" (p/u) \"&Modulo2.GetFormula(E1078),\"\")","v":""},{"$f":"IF(F1078>0,\" (lu) \"&Modulo2.GetFormula(F1078),\"\")","v":""},{"$f":"IF(G1078>0,\" (la) \"&Modulo2.GetFormula(G1078),\"\")","v":""},{"$f":"IF(H1078>0,\" (H) \"&Modulo2.GetFormula(H1078),\"\")","v":""},null,null,null,null,null,null,null,null,null,2,0,null,"",{"$f":"ROWS($AC$4:AC1078)","v":1075},"",{"$f":"IFERROR(SMALL($AD$4:$AD$1642,ROWS($AD$4:AD1078)),\"\")","v":""},null,{"$f":"IFERROR(INDEX($A$4:$R$1642,$AE1078,COLUMNS($A:$B)),\"\")","v":""},{"$f":"IFERROR(INDEX($A$4:$R$1642,$AE1078,COLUMNS($A:$C)),\"\")","v":""},{"$f":"IFERROR(INDEX($A$4:$R$1642,$AE1078,COLUMNS($A:$R)),\"\")","v":""},null,"","","","",null,null,null,134]
[null,null,null,null,null,null,null,{"$f":"CONCATENATE(\"SOMMANO [\",VLOOKUP(B1075,'Elenco Prezzi2'!$A$2:$E$201,3,FALSE()),\"]\")","v":{"$error":"#N/A"}},{"$f":"IF(T1079=\"s\",V1080,SUBTOTAL(9,I1075:I1079))","v":{"$error":"#REF!"}},null,{"$f":"VLOOKUP(B1075,'Elenco Prezzi2'!$A$2:$E$201,5,FALSE)","v":{"$error":"#N/A"}},null,null,null,null,null,null,{"$f":"IFERROR(I1079*K1079,\"\")","v":""},null,"s",null,null,null,{"$f":"R1079","v":""},2,0,null,"",{"$f":"ROWS($AC$4:AC1079)","v":1076},"",{"$f":"IFERROR(SMALL($AD$4:$AD$1642,ROWS($AD$4:AD1079)),\"\")","v":""},null,{"$f":"IFERROR(INDEX($A$4:$R$1642,$AE1079,COLUMNS($A:$B)),\"\")","v":""},{"$f":"IFERROR(INDEX($A$4:$R$1642,$AE1079,COLUMNS($A:$C)),\"\")","v":""},{"$f":"IFERROR(INDEX($A$4:$R$1642,$AE1079,COLUMNS($A:$R)),\"\")","v":""},null,null,null,null,null,null,null,null,134]
[null,null,null,null,null,null,null,{"$f":"IF(I1080<0,\"a detrarre\",\"\")","v":""},{"$f":"SUMIF(I1075:I1078,\"<0\")","v":0},null,null,null,null,null,null,null,null,null,{"$f":"R1079","v":""},null,null,{"$f":"VLOOKUP(B1075,#REF!,4,FALSE)","v":{"$error":"#REF!"}},null,null,2,0,null,"",{"$f":"ROWS($AC$4:AC1080)","v":1077},"",{"$f":"IFERROR(SMALL($AD$4:$AD$1642,ROWS($AD$4:AD1080)),\"\")","v":""},null,{"$f":"IFERROR(INDEX($A$4:$R$1642,$AE1080,COLUMNS($A:$B)),\"\")","v":""},{"$f":"IFERROR(INDEX($A$4:$R$1642,$AE1080,COLUMNS($A:$C)),\"\")","v":""},{"$f":"IFERROR(INDEX($A$4:$R$1642,$AE1080,COLUMNS($A:$R)),\"\")","v":""},null,null,null,null,null,null,null,null,134]
[null,null,null,null,null,null,null,null,null,null,null,null,null,null,null,null,null,null,null,null,null,null,null,null,2,0,null,"",{"$f":"ROWS($AC$4:AC1081)","v":1078},"",{"$f":"IFERROR(SMALL($AD$4:$AD$1642,ROWS($AD$4:AD1081)),\"\")","v":""},null,{"$f":"IFERROR(INDEX($A$4:$R$1642,$AE1081,COLUMNS($A:$B)),\"\")","v":""},{"$f":"IFERROR(INDEX($A$4:$R$1642,$AE1081,COLUMNS($A:$C)),\"\")","v":""},{"$f":"IFERROR(INDEX($A$4:$R$1642,$AE1081,COLUMNS($A:$R)),\"\")","v":""},null,null,null,null,null,null,null,null,134]
[null,null,null,null,null,null,null,null,null,null,null,null,null,null,null,null,null,null,null,null,null,null,null,null,2,0,null,"",{"$f":"ROWS($AC$4:AC1082)","v":1079},"",{"$f":"IFERROR(SMALL($AD$4:$AD$1642,ROWS($AD$4:AD1082)),\"\")","v":""},null,{"$f":"IFERROR(INDEX($A$4:$R$1642,$AE1082,COLUMNS($A:$B)),\"\")","v":""},{"$f":"IFERROR(INDEX($A$4:$R$1642,$AE1082,COLUMNS($A:$C)),\"\")","v":""},{"$f":"IFERROR(INDEX($A$4:$R$1642,$AE1082,COLUMNS($A:$R)),\"\")","v":""},null,null,null,null,null,null,null,null,134]
[{"$f":"AR1083","v":135},null,{"$f":"(VLOOKUP($B1083,'Elenco Prezzi2'!$A$2:$E$201,2,FALSE))","v":{"$error":"#N/A"}},null,null,null,null,null,null,null,null,null,null,null,null,null,null,null,null,null,null,null,null,null,2,0,null,"",{"$f":"ROWS($AC$4:AC1083)","v":1080},"",{"$f":"IFERROR(SMALL($AD$4:$AD$1642,ROWS($AD$4:AD1083)),\"\")","v":""},null,{"$f":"IFERROR(INDEX($A$4:$R$1642,$AE1083,COLUMNS($A:$B)),\"\")","v":""},{"$f":"IFERROR(INDEX($A$4:$R$1642,$AE1083,COLUMNS($A:$C)),\"\")","v":""},{"$f":"IFERROR(INDEX($A$4:$R$1642,$AE1083,COLUMNS($A:$R)),\"\")","v":""},null,null,null,null,null,null,null,1,135]
[null,null,null,{"$f":"CONCATENATE(AK1084&AL1084&AM1084&AN1084)","v":""},null,null,null,null,{"$f":"IFERROR(IF(PRODUCT(E1084:H1084)=0,\"\",PRODUCT(E1084:H1084)),\"\")","v":""},{"$f":"I1084","v":""},null,{"$f":"IF(E1084>0,\" (p/u) \"&Modulo2.GetFormula(E1084),\"\")","v":""},{"$f":"IF(F1084>0,\" (lu) \"&Modulo2.GetFormula(F1084),\"\")","v":""},{"$f":"IF(G1084>0,\" (la) \"&Modulo2.GetFormula(G1084),\"\")","v":""},{"$f":"IF(H1084>0,\" (H) \"&Modulo2.GetFormula(H1084),\"\")","v":""},null,null,null,null,null,null,null,null,null,2,0,null,"",{"$f":"ROWS($AC$4:AC1084)","v":1081},"",{"$f":"IFERROR(SMALL($AD$4:$AD$1642,ROWS($AD$4:AD1084)),\"\")","v":""},null,{"$f":"IFERROR(INDEX($A$4:$R$1642,$AE1084,COLUMNS($A:$B)),\"\")","v":""},{"$f":"IFERROR(INDEX($A$4:$R$1642,$AE1084,COLUMNS($A:$C)),\"\")","v":""},{"$f":"IFERROR(INDEX($A$4:$R$1642,$AE1084,COLUMNS($A:$R)),\"\")","v":""},null,{"$f":"IFERROR(IF(SEARCH(\"=\",L1084),L1084,\"\"),\"\")","v":""},{"$f":"IFERROR(IF(SEARCH(\"=\",M1084),M1084,\"\"),\"\")","v":""},{"$f":"IFERROR(IF(SEARCH(\"=\",N1084),N1084,\"\"),\"\")","v":""},{"$f":"IFERROR(IF(SEARCH(\"=\",O1084),O1084,\"\"),\"\")","v":""},null,null,null,135]
[null,null,null,"",null,null,null,null,"","",null,{"$f":"IF(E1085>0,\" (p/u) \"&Modulo2.GetFormula(E1085),\"\")","v":""},{"$f":"IF(F1085>0,\" (lu) \"&Modulo2.GetFormula(F1085),\"\")","v":""},{"$f":"IF(G1085>0,\" (la) \"&Modulo2.GetFormula(G1085),\"\")","v":""},{"$f":"IF(H1085>0,\" (H) \"&Modulo2.GetFormula(H1085),\"\")","v":""},null,null,null,null,null,null,null,null,null,2,0,null,"",{"$f":"ROWS($AC$4:AC1085)","v":1082},"",{"$f":"IFERROR(SMALL($AD$4:$AD$1642,ROWS($AD$4:AD1085)),\"\")","v":""},null,{"$f":"IFERROR(INDEX($A$4:$R$1642,$AE1085,COLUMNS($A:$B)),\"\")","v":""},{"$f":"IFERROR(INDEX($A$4:$R$1642,$AE1085,COLUMNS($A:$C)),\"\")","v":""},{"$f":"IFERROR(INDEX($A$4:$R$1642,$AE1085,COLUMNS($A:$R)),\"\")","v":""},null,"","","","",null,null,null,135]
[null,null,null,"",null,null,null,null,"","",null,{"$f":"IF(E1086>0,\" (p/u) \"&Modulo2.GetFormula(E1086),\"\")","v":""},{"$f":"IF(F1086>0,\" (lu) \"&Modulo2.GetFormula(F1086),\"\")","v":""},{"$f":"IF(G1086>0,\" (la) \"&Modulo2.GetFormula(G1086),\"\")","v":""},{"$f":"IF(H1086>0,\" (H) \"&Modulo2.GetFormula(H1086),\"\")","v":""},null,null,null,null,null,null,null,null,null,2,0,null,"",{"$f":"ROWS($AC$4:AC1086)","v":1083},"",{"$f":"IFERROR(SMALL($AD$4:$AD$1642,ROWS($AD$4:AD1086)),\"\")","v":""},null,{"$f":"IFERROR(INDEX($A$4:$R$1642,$AE1086,COLUMNS($A:$B)),\"\")","v":""},{"$f":"IFERROR(INDEX($A$4:$R$1642,$AE1086,COLUMNS($A:$C)),\"\")","v":""},{"$f":"IFERROR(INDEX($A$4:$R$1642,$AE1086,COLUMNS($A:$R)),\"\")","v":""},null,"","","","",null,null,null,135]
[null,null,null,null,null,null,null,{"$f":"CONCATENATE(\"SOMMANO [\",VLOOKUP(B1083,'Elenco Prezzi2'!$A$2:$E$201,3,FALSE()),\"]\")","v":{"$error":"#N/A"}},{"$f":"IF(T1087=\"s\",V1088,SUBTOTAL(9,I1083:I1087))","v":{"$error":"#REF!"}},null,{"$f":"VLOOKUP(B1083,'Elenco Prezzi2'!$A$2:$E$201,5,FALSE)","v":{"$error":"#N/A"}},null,null,null,null,null,null,{"$f":"IFERROR(I1087*K1087,\"\")","v":""},null,"s",null,null,null,{"$f":"R1087","v":""},2,0,null,"",{"$f":"ROWS($AC$4:AC1087)","v":1084},"",{"$f":"IFERROR(SMALL($AD$4:$AD$1642,ROWS($AD$4:AD1087)),\"\")","v":""},null,{"$f":"IFERROR(INDEX($A$4:$R$1642,$AE1087,COLUMNS($A:$B)),\"\")","v":""},{"$f":"IFERROR(INDEX($A$4:$R$1642,$AE1087,COLUMNS($A:$C)),\"\")","v":""},{"$f":"IFERROR(INDEX($A$4:$R$1642,$AE1087,COLUMNS($A:$R)),\"\")","v":""},null,null,null,null,null,null,null,null,135]
[null,null,null,null,null,null,null,{"$f":"IF(I1088<0,\"a detrarre\",\"\")","v":""},{"$f":"SUMIF(I1083:I1086,\"<0\")","v":0},null,null,null,null,null,null,null,null,null,{"$f":"R1087","v":""},null,null,{"$f":"VLOOKUP(B1083,#REF!,4,FALSE)","v":{"$error":"#REF!"}},null,null,2,0,null,"",{"$f":"ROWS($AC$4:AC1088)","v":1085},"",{"$f":"IFERROR(SMALL($AD$4:$AD$1642,ROWS($AD$4:AD1088)),\"\")","v":""},null,{"$f":"IFERROR(INDEX($A$4:$R$1642,$AE1088,COLUMNS($A:$B)),\"\")","v":""},{"$f":"IFERROR(INDEX($A$4:$R$1642,$AE1088,COLUMNS($A:$C)),\"\")","v":""},{"$f":"IFERROR(INDEX($A$4:$R$1642,$AE1088,COLUMNS($A:$R)),\"\")","v":""},null,null,null,null,null,null,null,null,135]
[null,null,null,null,null,null,null,null,null,null,null,null,null,null,null,null,null,null,null,null,null,null,null,null,2,0,null,"",{"$f":"ROWS($AC$4:AC1089)","v":1086},"",{"$f":"IFERROR(SMALL($AD$4:$AD$1642,ROWS($AD$4:AD1089)),\"\")","v":""},null,{"$f":"IFERROR(INDEX($A$4:$R$1642,$AE1089,COLUMNS($A:$B)),\"\")","v":""},{"$f":"IFERROR(INDEX($A$4:$R$1642,$AE1089,COLUMNS($A:$C)),\"\")","v":""},{"$f":"IFERROR(INDEX($A$4:$R$1642,$AE1089,COLUMNS($A:$R)),\"\")","v":""},null,null,null,null,null,null,null,null,135]
[null,null,null,null,null,null,null,null,null,null,null,null,null,null,null,null,null,null,null,null,null,null,null,null,2,0,null,"",{"$f":"ROWS($AC$4:AC1090)","v":1087},"",{"$f":"IFERROR(SMALL($AD$4:$AD$1642,ROWS($AD$4:AD1090)),\"\")","v":""},null,{"$f":"IFERROR(INDEX($A$4:$R$1642,$AE1090,COLUMNS($A:$B)),\"\")","v":""},{"$f":"IFERROR(INDEX($A$4:$R$1642,$AE1090,COLUMNS($A:$C)),\"\")","v":""},{"$f":"IFERROR(INDEX($A$4:$R$1642,$AE1090,COLUMNS($A:$R)),\"\")","v":""},null,null,null,null,null,null,null,null,135]
[{"$f":"AR1091","v":136},null,{"$f":"(VLOOKUP($B1091,'Elenco Prezzi2'!$A$2:$E$201,2,FALSE))","v":{"$error":"#N/A"}},null,null,null,null,null,null,null,null,null,null,null,null,null,null,null,null,null,null,null,null,null,2,0,null,"",{"$f":"ROWS($AC$4:AC1091)","v":1088},"",{"$f":"IFERROR(SMALL($AD$4:$AD$1642,ROWS($AD$4:AD1091)),\"\")","v":""},null,{"$f":"IFERROR(INDEX($A$4:$R$1642,$AE1091,COLUMNS($A:$B)),\"\")","v":""},{"$f":"IFERROR(INDEX($A$4:$R$1642,$AE1091,COLUMNS($A:$C)),\"\")","v":""},{"$f":"IFERROR(INDEX($A$4:$R$1642,$AE1091,COLUMNS($A:$R)),\"\")","v":""},null,null,null,null,null,null,null,1,136]
[null,null,null,{"$f":"CONCATENATE(AK1092&AL1092&AM1092&AN1092)","v":""},null,null,null,null,{"$f":"IFERROR(IF(PRODUCT(E1092:H1092)=0,\"\",PRODUCT(E1092:H1092)),\"\")","v":""},{"$f":"I1092","v":""},null,{"$f":"IF(E1092>0,\" (p/u) \"&Modulo2.GetFormula(E1092),\"\")","v":""},{"$f":"IF(F1092>0,\" (lu) \"&Modulo2.GetFormula(F1092),\"\")","v":""},{"$f":"IF(G1092>0,\" (la) \"&Modulo2.GetFormula(G1092),\"\")","v":""},{"$f":"IF(H1092>0,\" (H) \"&Modulo2.GetFormula(H1092),\"\")","v":""},null,null,null,null,null,null,null,null,null,2,0,null,"",{"$f":"ROWS($AC$4:AC1092)","v":1089},"",{"$f":"IFERROR(SMALL($AD$4:$AD$1642,ROWS($AD$4:AD1092)),\"\")","v":""},null,{"$f":"IFERROR(INDEX($A$4:$R$1642,$AE1092,COLUMNS($A:$B)),\"\")","v":""},{"$f":"IFERROR(INDEX($A$4:$R$1642,$AE1092,COLUMNS($A:$C)),\"\")","v":""},{"$f":"IFERROR(INDEX($A$4:$R$1642,$AE1092,COLUMNS($A:$R)),\"\")","v":""},null,{"$f":"IFERROR(IF(SEARCH(\"=\",L1092),L1092,\"\"),\"\")","v":""},{"$f":"IFERROR(IF(SEARCH(\"=\",M1092),M1092,\"\"),\"\")","v":""},{"$f":"IFERROR(IF(SEARCH(\"=\",N1092),N1092,\"\"),\"\")","v":""},{"$f":"IFERROR(IF(SEARCH(\"=\",O1092),O1092,\"\"),\"\")","v":""},null,null,null,136]
[null,null,null,"",null,null,null,null,"","",null,{"$f":"IF(E1093>0,\" (p/u) \"&Modulo2.GetFormula(E1093),\"\")","v":""},{"$f":"IF(F1093>0,\" (lu) \"&Modulo2.GetFormula(F1093),\"\")","v":""},{"$f":"IF(G1093>0,\" (la) \"&Modulo2.GetFormula(G1093),\"\")","v":""},{"$f":"IF(H1093>0,\" (H) \"&Modulo2.GetFormula(H1093),\"\")","v":""},null,null,null,null,null,null,null,null,null,2,0,null,"",{"$f":"ROWS($AC$4:AC1093)","v":1090},"",{"$f":"IFERROR(SMALL($AD$4:$AD$1642,ROWS($AD$4:AD1093)),\"\")","v":""},null,{"$f":"IFERROR(INDEX($A$4:$R$1642,$AE1093,COLUMNS($A:$B)),\"\")","v":""},{"$f":"IFERROR(INDEX($A$4:$R$1642,$AE1093,COLUMNS($A:$C)),\"\")","v":""},{"$f":"IFERROR(INDEX($A$4:$R$1642,$AE1093,COLUMNS($A:$R)),\"\")","v":""},null,"","","","",null,null,null,136]
[null,null,null,"",null,null,null,null,"","",null,{"$f":"IF(E1094>0,\" (p/u) \"&Modulo2.GetFormula(E1094),\"\")","v":""},{"$f":"IF(F1094>0,\" (lu) \"&Modulo2.GetFormula(F1094),\"\")","v":""},{"$f":"IF(G1094>0,\" (la) \"&Modulo2.GetFormula(G1094),\"\")","v":""},{"$f":"IF(H1094>0,\" (H) \"&Modulo2.GetFormula(H1094),\"\")","v":""},null,null,null,null,null,null,null,null,null,2,0,null,"",{"$f":"ROWS($AC$4:AC1094)","v":1091},"",{"$f":"IFERROR(SMALL($AD$4:$AD$1642,ROWS($AD$4:AD1094)),\"\")","v":""},null,{"$f":"IFERROR(INDEX($A$4:$R$1642,$AE1094,COLUMNS($A:$B)),\"\")","v":""},{"$f":"IFERROR(INDEX($A$4:$R$1642,$AE1094,COLUMNS($A:$C)),\"\")","v":""},{"$f":"IFERROR(INDEX($A$4:$R$1642,$AE1094,COLUMNS($A:$R)),\"\")","v":""},null,"","","","",null,null,null,136]
[null,null,null,null,null,null,null,{"$f":"CONCATENATE(\"SOMMANO [\",VLOOKUP(B1091,'Elenco Prezzi2'!$A$2:$E$201,3,FALSE()),\"]\")","v":{"$error":"#N/A"}},{"$f":"IF(T1095=\"s\",V1096,SUBTOTAL(9,I1091:I1095))","v":{"$error":"#REF!"}},null,{"$f":"VLOOKUP(B1091,'Elenco Prezzi2'!$A$2:$E$201,5,FALSE)","v":{"$error":"#N/A"}},null,null,null,null,null,null,{"$f":"IFERROR(I1095*K1095,\"\")","v":""},null,"s",null,null,null,{"$f":"R1095","v":""},2,0,null,"",{"$f":"ROWS($AC$4:AC1095)","v":1092},"",{"$f":"IFERROR(SMALL($AD$4:$AD$1642,ROWS($AD$4:AD1095)),\"\")","v":""},null,{"$f":"IFERROR(INDEX($A$4:$R$1642,$AE1095,COLUMNS($A:$B)),\"\")","v":""},{"$f":"IFERROR(INDEX($A$4:$R$1642,$AE1095,COLUMNS($A:$C)),\"\")","v":""},{"$f":"IFERROR(INDEX($A$4:$R$1642,$AE1095,COLUMNS($A:$R)),\"\")","v":""},null,null,null,null,null,null,null,null,136]
[null,null,null,null,null,null,null,{"$f":"IF(I1096<0,\"a detrarre\",\"\")","v":""},{"$f":"SUMIF(I1091:I1094,\"<0\")","v":0},null,null,null,null,null,null,null,null,null,{"$f":"R1095","v":""},null,null,{"$f":"VLOOKUP(B1091,#REF!,4,FALSE)","v":{"$error":"#REF!"}},null,null,2,0,null,"",{"$f":"ROWS($AC$4:AC1096)","v":1093},"",{"$f":"IFERROR(SMALL($AD$4:$AD$1642,ROWS($AD$4:AD1096)),\"\")","v":""},null,{"$f":"IFERROR(INDEX($A$4:$R$1642,$AE1096,COLUMNS($A:$B)),\"\")","v":""},{"$f":"IFERROR(INDEX($A$4:$R$1642,$AE1096,COLUMNS($A:$C)),\"\")","v":""},{"$f":"IFERROR(INDEX($A$4:$R$1642,$AE1096,COLUMNS($A:$R)),\"\")","v":""},null,null,null,null,null,null,null,null,136]
[null,null,null,null,null,null,null,null,null,null,null,null,null,null,null,null,null,null,null,null,null,null,null,null,2,0,null,"",{"$f":"ROWS($AC$4:AC1097)","v":1094},"",{"$f":"IFERROR(SMALL($AD$4:$AD$1642,ROWS($AD$4:AD1097)),\"\")","v":""},null,{"$f":"IFERROR(INDEX($A$4:$R$1642,$AE1097,COLUMNS($A:$B)),\"\")","v":""},{"$f":"IFERROR(INDEX($A$4:$R$1642,$AE1097,COLUMNS($A:$C)),\"\")","v":""},{"$f":"IFERROR(INDEX($A$4:$R$1642,$AE1097,COLUMNS($A:$R)),\"\")","v":""},null,null,null,null,null,null,null,null,136]
[null,null,null,null,null,null,null,null,null,null,null,null,null,null,null,null,null,null,null,null,null,null,null,null,2,0,null,"",{"$f":"ROWS($AC$4:AC1098)","v":1095},"",{"$f":"IFERROR(SMALL($AD$4:$AD$1642,ROWS($AD$4:AD1098)),\"\")","v":""},null,{"$f":"IFERROR(INDEX($A$4:$R$1642,$AE1098,COLUMNS($A:$B)),\"\")","v":""},{"$f":"IFERROR(INDEX($A$4:$R$1642,$AE1098,COLUMNS($A:$C)),\"\")","v":""},{"$f":"IFERROR(INDEX($A$4:$R$1642,$AE1098,COLUMNS($A:$R)),\"\")","v":""},null,null,null,null,null,null,null,null,136]
[{"$f":"AR1099","v":137},null,{"$f":"(VLOOKUP($B1099,'Elenco Prezzi2'!$A$2:$E$201,2,FALSE))","v":{"$error":"#N/A"}},null,null,null,null,null,null,null,null,null,null,null,null,null,null,null,null,null,null,null,null,null,2,0,null,"",{"$f":"ROWS($AC$4:AC1099)","v":1096},"",{"$f":"IFERROR(SMALL($AD$4:$AD$1642,ROWS($AD$4:AD1099)),\"\")","v":""},null,{"$f":"IFERROR(INDEX($A$4:$R$1642,$AE1099,COLUMNS($A:$B)),\"\")","v":""},{"$f":"IFERROR(INDEX($A$4:$R$1642,$AE1099,COLUMNS($A:$C)),\"\")","v":""},{"$f":"IFERROR(INDEX($A$4:$R$1642,$AE1099,COLUMNS($A:$R)),\"\")","v":""},null,null,null,null,null,null,null,1,137]
[null,null,null,{"$f":"CONCATENATE(AK1100&AL1100&AM1100&AN1100)","v":""},null,null,null,null,{"$f":"IFERROR(IF(PRODUCT(E1100:H1100)=0,\"\",PRODUCT(E1100:H1100)),\"\")","v":""},{"$f":"I1100","v":""},null,{"$f":"IF(E1100>0,\" (p/u) \"&Modulo2.GetFormula(E1100),\"\")","v":""},{"$f":"IF(F1100>0,\" (lu) \"&Modulo2.GetFormula(F1100),\"\")","v":""},{"$f":"IF(G1100>0,\" (la) \"&Modulo2.GetFormula(G1100),\"\")","v":""},{"$f":"IF(H1100>0,\" (H) \"&Modulo2.GetFormula(H1100),\"\")","v":""},null,null,null,null,null,null,null,null,null,2,0,null,"",{"$f":"ROWS($AC$4:AC1100)","v":1097},"",{"$f":"IFERROR(SMALL($AD$4:$AD$1642,ROWS($AD$4:AD1100)),\"\")","v":""},null,{"$f":"IFERROR(INDEX($A$4:$R$1642,$AE1100,COLUMNS($A:$B)),\"\")","v":""},{"$f":"IFERROR(INDEX($A$4:$R$1642,$AE1100,COLUMNS($A:$C)),\"\")","v":""},{"$f":"IFERROR(INDEX($A$4:$R$1642,$AE1100,COLUMNS($A:$R)),\"\")","v":""},null,{"$f":"IFERROR(IF(SEARCH(\"=\",L1100),L1100,\"\"),\"\")","v":""},{"$f":"IFERROR(IF(SEARCH(\"=\",M1100),M1100,\"\"),\"\")","v":""},{"$f":"IFERROR(IF(SEARCH(\"=\",N1100),N1100,\"\"),\"\")","v":""},{"$f":"IFERROR(IF(SEARCH(\"=\",O1100),O1100,\"\"),\"\")","v":""},null,null,null,137]
[null,null,null,"",null,null,null,null,"","",null,{"$f":"IF(E1101>0,\" (p/u) \"&Modulo2.GetFormula(E1101),\"\")","v":""},{"$f":"IF(F1101>0,\" (lu) \"&Modulo2.GetFormula(F1101),\"\")","v":""},{"$f":"IF(G1101>0,\" (la) \"&Modulo2.GetFormula(G1101),\"\")","v":""},{"$f":"IF(H1101>0,\" (H) \"&Modulo2.GetFormula(H1101),\"\")","v":""},null,null,null,null,null,null,null,null,null,2,0,null,"",{"$f":"ROWS($AC$4:AC1101)","v":1098},"",{"$f":"IFERROR(SMALL($AD$4:$AD$1642,ROWS($AD$4:AD1101)),\"\")","v":""},null,{"$f":"IFERROR(INDEX($A$4:$R$1642,$AE1101,COLUMNS($A:$B)),\"\")","v":""},{"$f":"IFERROR(INDEX($A$4:$R$1642,$AE1101,COLUMNS($A:$C)),\"\")","v":""},{"$f":"IFERROR(INDEX($A$4:$R$1642,$AE1101,COLUMNS($A:$R)),\"\")","v":""},null,"","","","",null,null,null,137]
[null,null,null,"",null,null,null,null,"","",null,{"$f":"IF(E1102>0,\" (p/u) \"&Modulo2.GetFormula(E1102),\"\")","v":""},{"$f":"IF(F1102>0,\" (lu) \"&Modulo2.GetFormula(F1102),\"\")","v":""},{"$f":"IF(G1102>0,\" (la) \"&Modulo2.GetFormula(G1102),\"\")","v":""},{"$f":"IF(H1102>0,\" (H) \"&Modulo2.GetFormula(H1102),\"\")","v":""},null,null,null,null,null,null,null,null,null,2,0,null,"",{"$f":"ROWS($AC$4:AC1102)","v":1099},"",{"$f":"IFERROR(SMALL($AD$4:$AD$1642,ROWS($AD$4:AD1102)),\"\")","v":""},null,{"$f":"IFERROR(INDEX($A$4:$R$1642,$AE1102,COLUMNS($A:$B)),\"\")","v":""},{"$f":"IFERROR(INDEX($A$4:$R$1642,$AE1102,COLUMNS($A:$C)),\"\")","v":""},{"$f":"IFERROR(INDEX($A$4:$R$1642,$AE1102,COLUMNS($A:$R)),\"\")","v":""},null,"","","","",null,null,null,137]
[null,null,null,null,null,null,null,{"$f":"CONCATENATE(\"SOMMANO [\",VLOOKUP(B1099,'Elenco Prezzi2'!$A$2:$E$201,3,FALSE()),\"]\")","v":{"$error":"#N/A"}},{"$f":"IF(T1103=\"s\",V1104,SUBTOTAL(9,I1099:I1103))","v":{"$error":"#REF!"}},null,{"$f":"VLOOKUP(B1099,'Elenco Prezzi2'!$A$2:$E$201,5,FALSE)","v":{"$error":"#N/A"}},null,null,null,null,null,null,{"$f":"IFERROR(I1103*K1103,\"\")","v":""},null,"s",null,null,null,{"$f":"R1103","v":""},2,0,null,"",{"$f":"ROWS($AC$4:AC1103)","v":1100},"",{"$f":"IFERROR(SMALL($AD$4:$AD$1642,ROWS($AD$4:AD1103)),\"\")","v":""},null,{"$f":"IFERROR(INDEX($A$4:$R$1642,$AE1103,COLUMNS($A:$B)),\"\")","v":""},{"$f":"IFERROR(INDEX($A$4:$R$1642,$AE1103,COLUMNS($A:$C)),\"\")","v":""},{"$f":"IFERROR(INDEX($A$4:$R$1642,$AE1103,COLUMNS($A:$R)),\"\")","v":""},null,null,null,null,null,null,null,null,137]
[null,null,null,null,null,null,null,{"$f":"IF(I1104<0,\"a detrarre\",\"\")","v":""},{"$f":"SUMIF(I1099:I1102,\"<0\")","v":0},null,null,null,null,null,null,null,null,null,{"$f":"R1103","v":""},null,null,{"$f":"VLOOKUP(B1099,#REF!,4,FALSE)","v":{"$error":"#REF!"}},null,null,2,0,null,"",{"$f":"ROWS($AC$4:AC1104)","v":1101},"",{"$f":"IFERROR(SMALL($AD$4:$AD$1642,ROWS($AD$4:AD1104)),\"\")","v":""},null,{"$f":"IFERROR(INDEX($A$4:$R$1642,$AE1104,COLUMNS($A:$B)),\"\")","v":""},{"$f":"IFERROR(INDEX($A$4:$R$1642,$AE1104,COLUMNS($A:$C)),\"\")","v":""},{"$f":"IFERROR(INDEX($A$4:$R$1642,$AE1104,COLUMNS($A:$R)),\"\")","v":""},null,null,null,null,null,null,null,null,137]
[null,null,null,null,null,null,null,null,null,null,null,null,null,null,null,null,null,null,null,null,null,null,null,null,2,0,null,"",{"$f":"ROWS($AC$4:AC1105)","v":1102},"",{"$f":"IFERROR(SMALL($AD$4:$AD$1642,ROWS($AD$4:AD1105)),\"\")","v":""},null,{"$f":"IFERROR(INDEX($A$4:$R$1642,$AE1105,COLUMNS($A:$B)),\"\")","v":""},{"$f":"IFERROR(INDEX($A$4:$R$1642,$AE1105,COLUMNS($A:$C)),\"\")","v":""},{"$f":"IFERROR(INDEX($A$4:$R$1642,$AE1105,COLUMNS($A:$R)),\"\")","v":""},null,null,null,null,null,null,null,null,137]
[null,null,null,null,null,null,null,null,null,null,null,null,null,null,null,null,null,null,null,null,null,null,null,null,2,0,null,"",{"$f":"ROWS($AC$4:AC1106)","v":1103},"",{"$f":"IFERROR(SMALL($AD$4:$AD$1642,ROWS($AD$4:AD1106)),\"\")","v":""},null,{"$f":"IFERROR(INDEX($A$4:$R$1642,$AE1106,COLUMNS($A:$B)),\"\")","v":""},{"$f":"IFERROR(INDEX($A$4:$R$1642,$AE1106,COLUMNS($A:$C)),\"\")","v":""},{"$f":"IFERROR(INDEX($A$4:$R$1642,$AE1106,COLUMNS($A:$R)),\"\")","v":""},null,null,null,null,null,null,null,null,137]
[{"$f":"AR1107","v":138},null,{"$f":"(VLOOKUP($B1107,'Elenco Prezzi2'!$A$2:$E$201,2,FALSE))","v":{"$error":"#N/A"}},null,null,null,null,null,null,null,null,null,null,null,null,null,null,null,null,null,null,null,null,null,2,0,null,"",{"$f":"ROWS($AC$4:AC1107)","v":1104},"",{"$f":"IFERROR(SMALL($AD$4:$AD$1642,ROWS($AD$4:AD1107)),\"\")","v":""},null,{"$f":"IFERROR(INDEX($A$4:$R$1642,$AE1107,COLUMNS($A:$B)),\"\")","v":""},{"$f":"IFERROR(INDEX($A$4:$R$1642,$AE1107,COLUMNS($A:$C)),\"\")","v":""},{"$f":"IFERROR(INDEX($A$4:$R$1642,$AE1107,COLUMNS($A:$R)),\"\")","v":""},null,null,null,null,null,null,null,1,138]
[null,null,null,{"$f":"CONCATENATE(AK1108&AL1108&AM1108&AN1108)","v":""},null,null,null,null,{"$f":"IFERROR(IF(PRODUCT(E1108:H1108)=0,\"\",PRODUCT(E1108:H1108)),\"\")","v":""},{"$f":"I1108","v":""},null,{"$f":"IF(E1108>0,\" (p/u) \"&Modulo2.GetFormula(E1108),\"\")","v":""},{"$f":"IF(F1108>0,\" (lu) \"&Modulo2.GetFormula(F1108),\"\")","v":""},{"$f":"IF(G1108>0,\" (la) \"&Modulo2.GetFormula(G1108),\"\")","v":""},{"$f":"IF(H1108>0,\" (H) \"&Modulo2.GetFormula(H1108),\"\")","v":""},null,null,null,null,null,null,null,null,null,2,0,null,"",{"$f":"ROWS($AC$4:AC1108)","v":1105},"",{"$f":"IFERROR(SMALL($AD$4:$AD$1642,ROWS($AD$4:AD1108)),\"\")","v":""},null,{"$f":"IFERROR(INDEX($A$4:$R$1642,$AE1108,COLUMNS($A:$B)),\"\")","v":""},{"$f":"IFERROR(INDEX($A$4:$R$1642,$AE1108,COLUMNS($A:$C)),\"\")","v":""},{"$f":"IFERROR(INDEX($A$4:$R$1642,$AE1108,COLUMNS($A:$R)),\"\")","v":""},null,{"$f":"IFERROR(IF(SEARCH(\"=\",L1108),L1108,\"\"),\"\")","v":""},{"$f":"IFERROR(IF(SEARCH(\"=\",M1108),M1108,\"\"),\"\")","v":""},{"$f":"IFERROR(IF(SEARCH(\"=\",N1108),N1108,\"\"),\"\")","v":""},{"$f":"IFERROR(IF(SEARCH(\"=\",O1108),O1108,\"\"),\"\")","v":""},null,null,null,138]
[null,null,null,"",null,null,null,null,"","",null,{"$f":"IF(E1109>0,\" (p/u) \"&Modulo2.GetFormula(E1109),\"\")","v":""},{"$f":"IF(F1109>0,\" (lu) \"&Modulo2.GetFormula(F1109),\"\")","v":""},{"$f":"IF(G1109>0,\" (la) \"&Modulo2.GetFormula(G1109),\"\")","v":""},{"$f":"IF(H1109>0,\" (H) \"&Modulo2.GetFormula(H1109),\"\")","v":""},null,null,null,null,null,null,null,null,null,2,0,null,"",{"$f":"ROWS($AC$4:AC1109)","v":1106},"",{"$f":"IFERROR(SMALL($AD$4:$AD$1642,ROWS($AD$4:AD1109)),\"\")","v":""},null,{"$f":"IFERROR(INDEX($A$4:$R$1642,$AE1109,COLUMNS($A:$B)),\"\")","v":""},{"$f":"IFERROR(INDEX($A$4:$R$1642,$AE1109,COLUMNS($A:$C)),\"\")","v":""},{"$f":"IFERROR(INDEX($A$4:$R$1642,$AE1109,COLUMNS($A:$R)),\"\")","v":""},null,"","","","",null,null,null,138]
[null,null,null,"",null,null,null,null,"","",null,{"$f":"IF(E1110>0,\" (p/u) \"&Modulo2.GetFormula(E1110),\"\")","v":""},{"$f":"IF(F1110>0,\" (lu) \"&Modulo2.GetFormula(F1110),\"\")","v":""},{"$f":"IF(G1110>0,\" (la) \"&Modulo2.GetFormula(G1110),\"\")","v":""},{"$f":"IF(H1110>0,\" (H) \"&Modulo2.GetFormula(H1110),\"\")","v":""},null,null,null,null,null,null,null,null,null,2,0,null,"",{"$f":"ROWS($AC$4:AC1110)","v":1107},"",{"$f":"IFERROR(SMALL($AD$4:$AD$1642,ROWS($AD$4:AD1110)),\"\")","v":""},null,{"$f":"IFERROR(INDEX($A$4:$R$1642,$AE1110,COLUMNS($A:$B)),\"\")","v":""},{"$f":"IFERROR(INDEX($A$4:$R$1642,$AE1110,COLUMNS($A:$C)),\"\")","v":""},{"$f":"IFERROR(INDEX($A$4:$R$1642,$AE1110,COLUMNS($A:$R)),\"\")","v":""},null,"","","","",null,null,null,138]
[null,null,null,null,null,null,null,{"$f":"CONCATENATE(\"SOMMANO [\",VLOOKUP(B1107,'Elenco Prezzi2'!$A$2:$E$201,3,FALSE()),\"]\")","v":{"$error":"#N/A"}},{"$f":"IF(T1111=\"s\",V1112,SUBTOTAL(9,I1107:I1111))","v":{"$error":"#REF!"}},null,{"$f":"VLOOKUP(B1107,'Elenco Prezzi2'!$A$2:$E$201,5,FALSE)","v":{"$error":"#N/A"}},null,null,null,null,null,null,{"$f":"IFERROR(I1111*K1111,\"\")","v":""},null,"s",null,null,null,{"$f":"R1111","v":""},2,0,null,"",{"$f":"ROWS($AC$4:AC1111)","v":1108},"",{"$f":"IFERROR(SMALL($AD$4:$AD$1642,ROWS($AD$4:AD1111)),\"\")","v":""},null,{"$f":"IFERROR(INDEX($A$4:$R$1642,$AE1111,COLUMNS($A:$B)),\"\")","v":""},{"$f":"IFERROR(INDEX($A$4:$R$1642,$AE1111,COLUMNS($A:$C)),\"\")","v":""},{"$f":"IFERROR(INDEX($A$4:$R$1642,$AE1111,COLUMNS($A:$R)),\"\")","v":""},null,null,null,null,null,null,null,null,138]
[null,null,null,null,null,null,null,{"$f":"IF(I1112<0,\"a detrarre\",\"\")","v":""},{"$f":"SUMIF(I1107:I1110,\"<0\")","v":0},null,null,null,null,null,null,null,null,null,{"$f":"R1111","v":""},null,null,{"$f":"VLOOKUP(B1107,#REF!,4,FALSE)","v":{"$error":"#REF!"}},null,null,2,0,null,"",{"$f":"ROWS($AC$4:AC1112)","v":1109},"",{"$f":"IFERROR(SMALL($AD$4:$AD$1642,ROWS($AD$4:AD1112)),\"\")","v":""},null,{"$f":"IFERROR(INDEX($A$4:$R$1642,$AE1112,COLUMNS($A:$B)),\"\")","v":""},{"$f":"IFERROR(INDEX($A$4:$R$1642,$AE1112,COLUMNS($A:$C)),\"\")","v":""},{"$f":"IFERROR(INDEX($A$4:$R$1642,$AE1112,COLUMNS($A:$R)),\"\")","v":""},null,null,null,null,null,null,null,null,138]
[null,null,null,null,null,null,null,null,null,null,null,null,null,null,null,null,null,null,null,null,null,null,null,null,2,0,null,"",{"$f":"ROWS($AC$4:AC1113)","v":1110},"",{"$f":"IFERROR(SMALL($AD$4:$AD$1642,ROWS($AD$4:AD1113)),\"\")","v":""},null,{"$f":"IFERROR(INDEX($A$4:$R$1642,$AE1113,COLUMNS($A:$B)),\"\")","v":""},{"$f":"IFERROR(INDEX($A$4:$R$1642,$AE1113,COLUMNS($A:$C)),\"\")","v":""},{"$f":"IFERROR(INDEX($A$4:$R$1642,$AE1113,COLUMNS($A:$R)),\"\")","v":""},null,null,null,null,null,null,null,null,138]
[null,null,null,null,null,null,null,null,null,null,null,null,null,null,null,null,null,null,null,null,null,null,null,null,2,0,null,"",{"$f":"ROWS($AC$4:AC1114)","v":1111},"",{"$f":"IFERROR(SMALL($AD$4:$AD$1642,ROWS($AD$4:AD1114)),\"\")","v":""},null,{"$f":"IFERROR(INDEX($A$4:$R$1642,$AE1114,COLUMNS($A:$B)),\"\")","v":""},{"$f":"IFERROR(INDEX($A$4:$R$1642,$AE1114,COLUMNS($A:$C)),\"\")","v":""},{"$f":"IFERROR(INDEX($A$4:$R$1642,$AE1114,COLUMNS($A:$R)),\"\")","v":""},null,null,null,null,null,null,null,null,138]
[{"$f":"AR1115","v":139},null,{"$f":"(VLOOKUP($B1115,'Elenco Prezzi2'!$A$2:$E$201,2,FALSE))","v":{"$error":"#N/A"}},null,null,null,null,null,null,null,null,null,null,null,null,null,null,null,null,null,null,null,null,null,2,0,null,"",{"$f":"ROWS($AC$4:AC1115)","v":1112},"",{"$f":"IFERROR(SMALL($AD$4:$AD$1642,ROWS($AD$4:AD1115)),\"\")","v":""},null,{"$f":"IFERROR(INDEX($A$4:$R$1642,$AE1115,COLUMNS($A:$B)),\"\")","v":""},{"$f":"IFERROR(INDEX($A$4:$R$1642,$AE1115,COLUMNS($A:$C)),\"\")","v":""},{"$f":"IFERROR(INDEX($A$4:$R$1642,$AE1115,COLUMNS($A:$R)),\"\")","v":""},null,null,null,null,null,null,null,1,139]
[null,null,null,{"$f":"CONCATENATE(AK1116&AL1116&AM1116&AN1116)","v":""},null,null,null,null,{"$f":"IFERROR(IF(PRODUCT(E1116:H1116)=0,\"\",PRODUCT(E1116:H1116)),\"\")","v":""},{"$f":"I1116","v":""},null,{"$f":"IF(E1116>0,\" (p/u) \"&Modulo2.GetFormula(E1116),\"\")","v":""},{"$f":"IF(F1116>0,\" (lu) \"&Modulo2.GetFormula(F1116),\"\")","v":""},{"$f":"IF(G1116>0,\" (la) \"&Modulo2.GetFormula(G1116),\"\")","v":""},{"$f":"IF(H1116>0,\" (H) \"&Modulo2.GetFormula(H1116),\"\")","v":""},null,null,null,null,null,null,null,null,null,2,0,null,"",{"$f":"ROWS($AC$4:AC1116)","v":1113},"",{"$f":"IFERROR(SMALL($AD$4:$AD$1642,ROWS($AD$4:AD1116)),\"\")","v":""},null,{"$f":"IFERROR(INDEX($A$4:$R$1642,$AE1116,COLUMNS($A:$B)),\"\")","v":""},{"$f":"IFERROR(INDEX($A$4:$R$1642,$AE1116,COLUMNS($A:$C)),\"\")","v":""},{"$f":"IFERROR(INDEX($A$4:$R$1642,$AE1116,COLUMNS($A:$R)),\"\")","v":""},null,{"$f":"IFERROR(IF(SEARCH(\"=\",L1116),L1116,\"\"),\"\")","v":""},{"$f":"IFERROR(IF(SEARCH(\"=\",M1116),M1116,\"\"),\"\")","v":""},{"$f":"IFERROR(IF(SEARCH(\"=\",N1116),N1116,\"\"),\"\")","v":""},{"$f":"IFERROR(IF(SEARCH(\"=\",O1116),O1116,\"\"),\"\")","v":""},null,null,null,139]
[null,null,null,"",null,null,null,null,"","",null,{"$f":"IF(E1117>0,\" (p/u) \"&Modulo2.GetFormula(E1117),\"\")","v":""},{"$f":"IF(F1117>0,\" (lu) \"&Modulo2.GetFormula(F1117),\"\")","v":""},{"$f":"IF(G1117>0,\" (la) \"&Modulo2.GetFormula(G1117),\"\")","v":""},{"$f":"IF(H1117>0,\" (H) \"&Modulo2.GetFormula(H1117),\"\")","v":""},null,null,null,null,null,null,null,null,null,2,0,null,"",{"$f":"ROWS($AC$4:AC1117)","v":1114},"",{"$f":"IFERROR(SMALL($AD$4:$AD$1642,ROWS($AD$4:AD1117)),\"\")","v":""},null,{"$f":"IFERROR(INDEX($A$4:$R$1642,$AE1117,COLUMNS($A:$B)),\"\")","v":""},{"$f":"IFERROR(INDEX($A$4:$R$1642,$AE1117,COLUMNS($A:$C)),\"\")","v":""},{"$f":"IFERROR(INDEX($A$4:$R$1642,$AE1117,COLUMNS($A:$R)),\"\")","v":""},null,"","","","",null,null,null,139]
[null,null,null,"",null,null,null,null,"","",null,{"$f":"IF(E1118>0,\" (p/u) \"&Modulo2.GetFormula(E1118),\"\")","v":""},{"$f":"IF(F1118>0,\" (lu) \"&Modulo2.GetFormula(F1118),\"\")","v":""},{"$f":"IF(G1118>0,\" (la) \"&Modulo2.GetFormula(G1118),\"\")","v":""},{"$f":"IF(H1118>0,\" (H) \"&Modulo2.GetFormula(H1118),\"\")","v":""},null,null,null,null,null,null,null,null,null,2,0,null,"",{"$f":"ROWS($AC$4:AC1118)","v":1115},"",{"$f":"IFERROR(SMALL($AD$4:$AD$1642,ROWS($AD$4:AD1118)),\"\")","v":""},null,{"$f":"IFERROR(INDEX($A$4:$R$1642,$AE1118,COLUMNS($A:$B)),\"\")","v":""},{"$f":"IFERROR(INDEX($A$4:$R$1642,$AE1118,COLUMNS($A:$C)),\"\")","v":""},{"$f":"IFERROR(INDEX($A$4:$R$1642,$AE1118,COLUMNS($A:$R)),\"\")","v":""},null,"","","","",null,null,null,139]
[null,null,null,null,null,null,null,{"$f":"CONCATENATE(\"SOMMANO [\",VLOOKUP(B1115,'Elenco Prezzi2'!$A$2:$E$201,3,FALSE()),\"]\")","v":{"$error":"#N/A"}},{"$f":"IF(T1119=\"s\",V1120,SUBTOTAL(9,I1115:I1119))","v":{"$error":"#REF!"}},null,{"$f":"VLOOKUP(B1115,'Elenco Prezzi2'!$A$2:$E$201,5,FALSE)","v":{"$error":"#N/A"}},null,null,null,null,null,null,{"$f":"IFERROR(I1119*K1119,\"\")","v":""},null,"s",null,null,null,{"$f":"R1119","v":""},2,0,null,"",{"$f":"ROWS($AC$4:AC1119)","v":1116},"",{"$f":"IFERROR(SMALL($AD$4:$AD$1642,ROWS($AD$4:AD1119)),\"\")","v":""},null,{"$f":"IFERROR(INDEX($A$4:$R$1642,$AE1119,COLUMNS($A:$B)),\"\")","v":""},{"$f":"IFERROR(INDEX($A$4:$R$1642,$AE1119,COLUMNS($A:$C)),\"\")","v":""},{"$f":"IFERROR(INDEX($A$4:$R$1642,$AE1119,COLUMNS($A:$R)),\"\")","v":""},null,null,null,null,null,null,null,null,139]
[null,null,null,null,null,null,null,{"$f":"IF(I1120<0,\"a detrarre\",\"\")","v":""},{"$f":"SUMIF(I1115:I1118,\"<0\")","v":0},null,null,null,null,null,null,null,null,null,{"$f":"R1119","v":""},null,null,{"$f":"VLOOKUP(B1115,#REF!,4,FALSE)","v":{"$error":"#REF!"}},null,null,2,0,null,"",{"$f":"ROWS($AC$4:AC1120)","v":1117},"",{"$f":"IFERROR(SMALL($AD$4:$AD$1642,ROWS($AD$4:AD1120)),\"\")","v":""},null,{"$f":"IFERROR(INDEX($A$4:$R$1642,$AE1120,COLUMNS($A:$B)),\"\")","v":""},{"$f":"IFERROR(INDEX($A$4:$R$1642,$AE1120,COLUMNS($A:$C)),\"\")","v":""},{"$f":"IFERROR(INDEX($A$4:$R$1642,$AE1120,COLUMNS($A:$R)),\"\")","v":""},null,null,null,null,null,null,null,null,139]
[null,null,null,null,null,null,null,null,null,null,null,null,null,null,null,null,null,null,null,null,null,null,null,null,2,0,null,"",{"$f":"ROWS($AC$4:AC1121)","v":1118},"",{"$f":"IFERROR(SMALL($AD$4:$AD$1642,ROWS($AD$4:AD1121)),\"\")","v":""},null,{"$f":"IFERROR(INDEX($A$4:$R$1642,$AE1121,COLUMNS($A:$B)),\"\")","v":""},{"$f":"IFERROR(INDEX($A$4:$R$1642,$AE1121,COLUMNS($A:$C)),\"\")","v":""},{"$f":"IFERROR(INDEX($A$4:$R$1642,$AE1121,COLUMNS($A:$R)),\"\")","v":""},null,null,null,null,null,null,null,null,139]
[null,null,null,null,null,null,null,null,null,null,null,null,null,null,null,null,null,null,null,null,null,null,null,null,2,0,null,"",{"$f":"ROWS($AC$4:AC1122)","v":1119},"",{"$f":"IFERROR(SMALL($AD$4:$AD$1642,ROWS($AD$4:AD1122)),\"\")","v":""},null,{"$f":"IFERROR(INDEX($A$4:$R$1642,$AE1122,COLUMNS($A:$B)),\"\")","v":""},{"$f":"IFERROR(INDEX($A$4:$R$1642,$AE1122,COLUMNS($A:$C)),\"\")","v":""},{"$f":"IFERROR(INDEX($A$4:$R$1642,$AE1122,COLUMNS($A:$R)),\"\")","v":""},null,null,null,null,null,null,null,null,139]
[{"$f":"AR1123","v":140},null,{"$f":"(VLOOKUP($B1123,'Elenco Prezzi2'!$A$2:$E$201,2,FALSE))","v":{"$error":"#N/A"}},null,null,null,null,null,null,null,null,null,null,null,null,null,null,null,null,null,null,null,null,null,2,0,null,{"$f":"IF(W1123>0,\"OK\",\"\")","v":""},{"$f":"ROWS($AC$4:AC1123)","v":1120},{"$f":"IF(AB1123=\"ok\",AC1123,\"\")","v":""},{"$f":"IFERROR(SMALL($AD$4:$AD$1642,ROWS($AD$4:AD1123)),\"\")","v":""},null,{"$f":"IFERROR(INDEX($A$4:$R$1642,$AE1123,COLUMNS($A:$B)),\"\")","v":""},{"$f":"IFERROR(INDEX($A$4:$R$1642,$AE1123,COLUMNS($A:$C)),\"\")","v":""},{"$f":"IFERROR(INDEX($A$4:$R$1642,$AE1123,COLUMNS($A:$R)),\"\")","v":""},null,null,null,null,null,null,null,1,{"$f":"IF(AQ1123=\"\",AR1122,AR1122+AQ1123)","v":140}]
[null,null,null,{"$f":"CONCATENATE(AK1124&AL1124&AM1124&AN1124)","v":""},null,null,null,null,{"$f":"IFERROR(IF(PRODUCT(E1124:H1124)=0,\"\",PRODUCT(E1124:H1124)),\"\")","v":""},{"$f":"I1124","v":""},null,{"$f":"IF(E1124>0,\" (p/u) \"&Modulo2.GetFormula(E1124),\"\")","v":""},{"$f":"IF(F1124>0,\" (lu) \"&Modulo2.GetFormula(F1124),\"\")","v":""},{"$f":"IF(G1124>0,\" (la) \"&Modulo2.GetFormula(G1124),\"\")","v":""},{"$f":"IF(H1124>0,\" (H) \"&Modulo2.GetFormula(H1124),\"\")","v":""},null,null,null,null,null,null,null,null,null,{"$f":"IF(AO1124=\"\",Y1123,Y1123+AO1124)","v":2},{"$f":"IF(AP1124=\"\",Z1123,Z1123+AP1124)","v":0},null,"",{"$f":"ROWS($AC$4:AC1124)","v":1121},"",{"$f":"IFERROR(SMALL($AD$4:$AD$1642,ROWS($AD$4:AD1124)),\"\")","v":""},null,{"$f":"IFERROR(INDEX($A$4:$R$1642,$AE1124,COLUMNS($A:$B)),\"\")","v":""},{"$f":"IFERROR(INDEX($A$4:$R$1642,$AE1124,COLUMNS($A:$C)),\"\")","v":""},{"$f":"IFERROR(INDEX($A$4:$R$1642,$AE1124,COLUMNS($A:$R)),\"\")","v":""},null,{"$f":"IFERROR(IF(SEARCH(\"=\",L1124),L1124,\"\"),\"\")","v":""},{"$f":"IFERROR(IF(SEARCH(\"=\",M1124),M1124,\"\"),\"\")","v":""},{"$f":"IFERROR(IF(SEARCH(\"=\",N1124),N1124,\"\"),\"\")","v":""},{"$f":"IFERROR(IF(SEARCH(\"=\",O1124),O1124,\"\"),\"\")","v":""},null,null,null,140]
[null,null,null,"",null,null,null,null,"","",null,{"$f":"IF(E1125>0,\" (p/u) \"&Modulo2.GetFormula(E1125),\"\")","v":""},{"$f":"IF(F1125>0,\" (lu) \"&Modulo2.GetFormula(F1125),\"\")","v":""},{"$f":"IF(G1125>0,\" (la) \"&Modulo2.GetFormula(G1125),\"\")","v":""},{"$f":"IF(H1125>0,\" (H) \"&Modulo2.GetFormula(H1125),\"\")","v":""},null,null,null,null,null,null,null,null,null,2,0,null,"",{"$f":"ROWS($AC$4:AC1125)","v":1122},"",{"$f":"IFERROR(SMALL($AD$4:$AD$1642,ROWS($AD$4:AD1125)),\"\")","v":""},null,{"$f":"IFERROR(INDEX($A$4:$R$1642,$AE1125,COLUMNS($A:$B)),\"\")","v":""},{"$f":"IFERROR(INDEX($A$4:$R$1642,$AE1125,COLUMNS($A:$C)),\"\")","v":""},{"$f":"IFERROR(INDEX($A$4:$R$1642,$AE1125,COLUMNS($A:$R)),\"\")","v":""},null,"","","","",null,null,null,140]
[null,null,null,"",null,null,null,null,"","",null,{"$f":"IF(E1126>0,\" (p/u) \"&Modulo2.GetFormula(E1126),\"\")","v":""},{"$f":"IF(F1126>0,\" (lu) \"&Modulo2.GetFormula(F1126),\"\")","v":""},{"$f":"IF(G1126>0,\" (la) \"&Modulo2.GetFormula(G1126),\"\")","v":""},{"$f":"IF(H1126>0,\" (H) \"&Modulo2.GetFormula(H1126),\"\")","v":""},null,null,null,null,null,null,null,null,null,2,0,null,"",{"$f":"ROWS($AC$4:AC1126)","v":1123},"",{"$f":"IFERROR(SMALL($AD$4:$AD$1642,ROWS($AD$4:AD1126)),\"\")","v":""},null,{"$f":"IFERROR(INDEX($A$4:$R$1642,$AE1126,COLUMNS($A:$B)),\"\")","v":""},{"$f":"IFERROR(INDEX($A$4:$R$1642,$AE1126,COLUMNS($A:$C)),\"\")","v":""},{"$f":"IFERROR(INDEX($A$4:$R$1642,$AE1126,COLUMNS($A:$R)),\"\")","v":""},null,"","","","",null,null,null,140]
[null,null,null,null,null,null,null,{"$f":"CONCATENATE(\"SOMMANO [\",VLOOKUP(B1123,'Elenco Prezzi2'!$A$2:$E$201,3,FALSE()),\"]\")","v":{"$error":"#N/A"}},{"$f":"IF(T1127=\"s\",V1128,SUBTOTAL(9,I1123:I1127))","v":{"$error":"#REF!"}},null,{"$f":"VLOOKUP(B1123,'Elenco Prezzi2'!$A$2:$E$201,5,FALSE)","v":{"$error":"#N/A"}},null,null,null,null,null,null,{"$f":"IFERROR(I1127*K1127,\"\")","v":""},null,"s",null,null,null,{"$f":"R1127","v":""},2,0,null,"",{"$f":"ROWS($AC$4:AC1127)","v":1124},"",{"$f":"IFERROR(SMALL($AD$4:$AD$1642,ROWS($AD$4:AD1127)),\"\")","v":""},null,{"$f":"IFERROR(INDEX($A$4:$R$1642,$AE1127,COLUMNS($A:$B)),\"\")","v":""},{"$f":"IFERROR(INDEX($A$4:$R$1642,$AE1127,COLUMNS($A:$C)),\"\")","v":""},{"$f":"IFERROR(INDEX($A$4:$R$1642,$AE1127,COLUMNS($A:$R)),\"\")","v":""},null,null,null,null,null,null,null,null,140]
[null,null,null,null,null,null,null,{"$f":"IF(I1128<0,\"a detrarre\",\"\")","v":""},{"$f":"SUMIF(I1123:I1126,\"<0\")","v":0},null,null,null,null,null,null,null,null,null,{"$f":"R1127","v":""},null,null,{"$f":"VLOOKUP(B1123,#REF!,4,FALSE)","v":{"$error":"#REF!"}},null,null,2,0,null,"",{"$f":"ROWS($AC$4:AC1128)","v":1125},"",{"$f":"IFERROR(SMALL($AD$4:$AD$1642,ROWS($AD$4:AD1128)),\"\")","v":""},null,{"$f":"IFERROR(INDEX($A$4:$R$1642,$AE1128,COLUMNS($A:$B)),\"\")","v":""},{"$f":"IFERROR(INDEX($A$4:$R$1642,$AE1128,COLUMNS($A:$C)),\"\")","v":""},{"$f":"IFERROR(INDEX($A$4:$R$1642,$AE1128,COLUMNS($A:$R)),\"\")","v":""},null,null,null,null,null,null,null,null,140]
[null,null,null,null,null,null,null,null,null,null,null,null,null,null,null,null,null,null,null,null,null,null,null,null,2,0,null,"",{"$f":"ROWS($AC$4:AC1129)","v":1126},"",{"$f":"IFERROR(SMALL($AD$4:$AD$1642,ROWS($AD$4:AD1129)),\"\")","v":""},null,{"$f":"IFERROR(INDEX($A$4:$R$1642,$AE1129,COLUMNS($A:$B)),\"\")","v":""},{"$f":"IFERROR(INDEX($A$4:$R$1642,$AE1129,COLUMNS($A:$C)),\"\")","v":""},{"$f":"IFERROR(INDEX($A$4:$R$1642,$AE1129,COLUMNS($A:$R)),\"\")","v":""},null,null,null,null,null,null,null,null,140]
[null,null,null,null,null,null,null,null,null,null,null,null,null,null,null,null,null,null,null,null,null,null,null,null,2,0,null,"",{"$f":"ROWS($AC$4:AC1130)","v":1127},"",{"$f":"IFERROR(SMALL($AD$4:$AD$1642,ROWS($AD$4:AD1130)),\"\")","v":""},null,{"$f":"IFERROR(INDEX($A$4:$R$1642,$AE1130,COLUMNS($A:$B)),\"\")","v":""},{"$f":"IFERROR(INDEX($A$4:$R$1642,$AE1130,COLUMNS($A:$C)),\"\")","v":""},{"$f":"IFERROR(INDEX($A$4:$R$1642,$AE1130,COLUMNS($A:$R)),\"\")","v":""},null,null,null,null,null,null,null,null,140]
[{"$f":"AR1131","v":141},null,{"$f":"(VLOOKUP($B1131,'Elenco Prezzi2'!$A$2:$E$201,2,FALSE))","v":{"$error":"#N/A"}},null,null,null,null,null,null,null,null,null,null,null,null,null,null,null,null,null,null,null,null,null,2,0,null,"",{"$f":"ROWS($AC$4:AC1131)","v":1128},"",{"$f":"IFERROR(SMALL($AD$4:$AD$1642,ROWS($AD$4:AD1131)),\"\")","v":""},null,{"$f":"IFERROR(INDEX($A$4:$R$1642,$AE1131,COLUMNS($A:$B)),\"\")","v":""},{"$f":"IFERROR(INDEX($A$4:$R$1642,$AE1131,COLUMNS($A:$C)),\"\")","v":""},{"$f":"IFERROR(INDEX($A$4:$R$1642,$AE1131,COLUMNS($A:$R)),\"\")","v":""},null,null,null,null,null,null,null,1,141]
[null,null,null,{"$f":"CONCATENATE(AK1132&AL1132&AM1132&AN1132)","v":""},null,null,null,null,{"$f":"IFERROR(IF(PRODUCT(E1132:H1132)=0,\"\",PRODUCT(E1132:H1132)),\"\")","v":""},{"$f":"I1132","v":""},null,{"$f":"IF(E1132>0,\" (p/u) \"&Modulo2.GetFormula(E1132),\"\")","v":""},{"$f":"IF(F1132>0,\" (lu) \"&Modulo2.GetFormula(F1132),\"\")","v":""},{"$f":"IF(G1132>0,\" (la) \"&Modulo2.GetFormula(G1132),\"\")","v":""},{"$f":"IF(H1132>0,\" (H) \"&Modulo2.GetFormula(H1132),\"\")","v":""},null,null,null,null,null,null,null,null,null,2,0,null,"",{"$f":"ROWS($AC$4:AC1132)","v":1129},"",{"$f":"IFERROR(SMALL($AD$4:$AD$1642,ROWS($AD$4:AD1132)),\"\")","v":""},null,{"$f":"IFERROR(INDEX($A$4:$R$1642,$AE1132,COLUMNS($A:$B)),\"\")","v":""},{"$f":"IFERROR(INDEX($A$4:$R$1642,$AE1132,COLUMNS($A:$C)),\"\")","v":""},{"$f":"IFERROR(INDEX($A$4:$R$1642,$AE1132,COLUMNS($A:$R)),\"\")","v":""},null,{"$f":"IFERROR(IF(SEARCH(\"=\",L1132),L1132,\"\"),\"\")","v":""},{"$f":"IFERROR(IF(SEARCH(\"=\",M1132),M1132,\"\"),\"\")","v":""},{"$f":"IFERROR(IF(SEARCH(\"=\",N1132),N1132,\"\"),\"\")","v":""},{"$f":"IFERROR(IF(SEARCH(\"=\",O1132),O1132,\"\"),\"\")","v":""},null,null,null,141]
[null,null,null,"",null,null,null,null,"","",null,{"$f":"IF(E1133>0,\" (p/u) \"&Modulo2.GetFormula(E1133),\"\")","v":""},{"$f":"IF(F1133>0,\" (lu) \"&Modulo2.GetFormula(F1133),\"\")","v":""},{"$f":"IF(G1133>0,\" (la) \"&Modulo2.GetFormula(G1133),\"\")","v":""},{"$f":"IF(H1133>0,\" (H) \"&Modulo2.GetFormula(H1133),\"\")","v":""},null,null,null,null,null,null,null,null,null,2,0,null,"",{"$f":"ROWS($AC$4:AC1133)","v":1130},"",{"$f":"IFERROR(SMALL($AD$4:$AD$1642,ROWS($AD$4:AD1133)),\"\")","v":""},null,{"$f":"IFERROR(INDEX($A$4:$R$1642,$AE1133,COLUMNS($A:$B)),\"\")","v":""},{"$f":"IFERROR(INDEX($A$4:$R$1642,$AE1133,COLUMNS($A:$C)),\"\")","v":""},{"$f":"IFERROR(INDEX($A$4:$R$1642,$AE1133,COLUMNS($A:$R)),\"\")","v":""},null,"","","","",null,null,null,141]
[null,null,null,"",null,null,null,null,"","",null,{"$f":"IF(E1134>0,\" (p/u) \"&Modulo2.GetFormula(E1134),\"\")","v":""},{"$f":"IF(F1134>0,\" (lu) \"&Modulo2.GetFormula(F1134),\"\")","v":""},{"$f":"IF(G1134>0,\" (la) \"&Modulo2.GetFormula(G1134),\"\")","v":""},{"$f":"IF(H1134>0,\" (H) \"&Modulo2.GetFormula(H1134),\"\")","v":""},null,null,null,null,null,null,null,null,null,2,0,null,"",{"$f":"ROWS($AC$4:AC1134)","v":1131},"",{"$f":"IFERROR(SMALL($AD$4:$AD$1642,ROWS($AD$4:AD1134)),\"\")","v":""},null,{"$f":"IFERROR(INDEX($A$4:$R$1642,$AE1134,COLUMNS($A:$B)),\"\")","v":""},{"$f":"IFERROR(INDEX($A$4:$R$1642,$AE1134,COLUMNS($A:$C)),\"\")","v":""},{"$f":"IFERROR(INDEX($A$4:$R$1642,$AE1134,COLUMNS($A:$R)),\"\")","v":""},null,"","","","",null,null,null,141]
[null,null,null,null,null,null,null,{"$f":"CONCATENATE(\"SOMMANO [\",VLOOKUP(B1131,'Elenco Prezzi2'!$A$2:$E$201,3,FALSE()),\"]\")","v":{"$error":"#N/A"}},{"$f":"IF(T1135=\"s\",V1136,SUBTOTAL(9,I1131:I1135))","v":{"$error":"#REF!"}},null,{"$f":"VLOOKUP(B1131,'Elenco Prezzi2'!$A$2:$E$201,5,FALSE)","v":{"$error":"#N/A"}},null,null,null,null,null,null,{"$f":"IFERROR(I1135*K1135,\"\")","v":""},null,"s",null,null,null,{"$f":"R1135","v":""},2,0,null,"",{"$f":"ROWS($AC$4:AC1135)","v":1132},"",{"$f":"IFERROR(SMALL($AD$4:$AD$1642,ROWS($AD$4:AD1135)),\"\")","v":""},null,{"$f":"IFERROR(INDEX($A$4:$R$1642,$AE1135,COLUMNS($A:$B)),\"\")","v":""},{"$f":"IFERROR(INDEX($A$4:$R$1642,$AE1135,COLUMNS($A:$C)),\"\")","v":""},{"$f":"IFERROR(INDEX($A$4:$R$1642,$AE1135,COLUMNS($A:$R)),\"\")","v":""},null,null,null,null,null,null,null,null,141]
[null,null,null,null,null,null,null,{"$f":"IF(I1136<0,\"a detrarre\",\"\")","v":""},{"$f":"SUMIF(I1131:I1134,\"<0\")","v":0},null,null,null,null,null,null,null,null,null,{"$f":"R1135","v":""},null,null,{"$f":"VLOOKUP(B1131,#REF!,4,FALSE)","v":{"$error":"#REF!"}},null,null,2,0,null,"",{"$f":"ROWS($AC$4:AC1136)","v":1133},"",{"$f":"IFERROR(SMALL($AD$4:$AD$1642,ROWS($AD$4:AD1136)),\"\")","v":""},null,{"$f":"IFERROR(INDEX($A$4:$R$1642,$AE1136,COLUMNS($A:$B)),\"\")","v":""},{"$f":"IFERROR(INDEX($A$4:$R$1642,$AE1136,COLUMNS($A:$C)),\"\")","v":""},{"$f":"IFERROR(INDEX($A$4:$R$1642,$AE1136,COLUMNS($A:$R)),\"\")","v":""},null,null,null,null,null,null,null,null,141]
[null,null,null,null,null,null,null,null,null,null,null,null,null,null,null,null,null,null,null,null,null,null,null,null,2,0,null,"",{"$f":"ROWS($AC$4:AC1137)","v":1134},"",{"$f":"IFERROR(SMALL($AD$4:$AD$1642,ROWS($AD$4:AD1137)),\"\")","v":""},null,{"$f":"IFERROR(INDEX($A$4:$R$1642,$AE1137,COLUMNS($A:$B)),\"\")","v":""},{"$f":"IFERROR(INDEX($A$4:$R$1642,$AE1137,COLUMNS($A:$C)),\"\")","v":""},{"$f":"IFERROR(INDEX($A$4:$R$1642,$AE1137,COLUMNS($A:$R)),\"\")","v":""},null,null,null,null,null,null,null,null,141]
[null,null,null,null,null,null,null,null,null,null,null,null,null,null,null,null,null,null,null,null,null,null,null,null,2,0,null,"",{"$f":"ROWS($AC$4:AC1138)","v":1135},"",{"$f":"IFERROR(SMALL($AD$4:$AD$1642,ROWS($AD$4:AD1138)),\"\")","v":""},null,{"$f":"IFERROR(INDEX($A$4:$R$1642,$AE1138,COLUMNS($A:$B)),\"\")","v":""},{"$f":"IFERROR(INDEX($A$4:$R$1642,$AE1138,COLUMNS($A:$C)),\"\")","v":""},{"$f":"IFERROR(INDEX($A$4:$R$1642,$AE1138,COLUMNS($A:$R)),\"\")","v":""},null,null,null,null,null,null,null,null,141]
[{"$f":"AR1139","v":142},null,{"$f":"(VLOOKUP($B1139,'Elenco Prezzi2'!$A$2:$E$201,2,FALSE))","v":{"$error":"#N/A"}},null,null,null,null,null,null,null,null,null,null,null,null,null,null,null,null,null,null,null,null,null,2,0,null,"",{"$f":"ROWS($AC$4:AC1139)","v":1136},"",{"$f":"IFERROR(SMALL($AD$4:$AD$1642,ROWS($AD$4:AD1139)),\"\")","v":""},null,{"$f":"IFERROR(INDEX($A$4:$R$1642,$AE1139,COLUMNS($A:$B)),\"\")","v":""},{"$f":"IFERROR(INDEX($A$4:$R$1642,$AE1139,COLUMNS($A:$C)),\"\")","v":""},{"$f":"IFERROR(INDEX($A$4:$R$1642,$AE1139,COLUMNS($A:$R)),\"\")","v":""},null,null,null,null,null,null,null,1,142]
[null,null,null,{"$f":"CONCATENATE(AK1140&AL1140&AM1140&AN1140)","v":""},null,null,null,null,{"$f":"IFERROR(IF(PRODUCT(E1140:H1140)=0,\"\",PRODUCT(E1140:H1140)),\"\")","v":""},{"$f":"I1140","v":""},null,{"$f":"IF(E1140>0,\" (p/u) \"&Modulo2.GetFormula(E1140),\"\")","v":""},{"$f":"IF(F1140>0,\" (lu) \"&Modulo2.GetFormula(F1140),\"\")","v":""},{"$f":"IF(G1140>0,\" (la) \"&Modulo2.GetFormula(G1140),\"\")","v":""},{"$f":"IF(H1140>0,\" (H) \"&Modulo2.GetFormula(H1140),\"\")","v":""},null,null,null,null,null,null,null,null,null,2,0,null,"",{"$f":"ROWS($AC$4:AC1140)","v":1137},"",{"$f":"IFERROR(SMALL($AD$4:$AD$1642,ROWS($AD$4:AD1140)),\"\")","v":""},null,{"$f":"IFERROR(INDEX($A$4:$R$1642,$AE1140,COLUMNS($A:$B)),\"\")","v":""},{"$f":"IFERROR(INDEX($A$4:$R$1642,$AE1140,COLUMNS($A:$C)),\"\")","v":""},{"$f":"IFERROR(INDEX($A$4:$R$1642,$AE1140,COLUMNS($A:$R)),\"\")","v":""},null,{"$f":"IFERROR(IF(SEARCH(\"=\",L1140),L1140,\"\"),\"\")","v":""},{"$f":"IFERROR(IF(SEARCH(\"=\",M1140),M1140,\"\"),\"\")","v":""},{"$f":"IFERROR(IF(SEARCH(\"=\",N1140),N1140,\"\"),\"\")","v":""},{"$f":"IFERROR(IF(SEARCH(\"=\",O1140),O1140,\"\"),\"\")","v":""},null,null,null,142]
[null,null,null,"",null,null,null,null,"","",null,{"$f":"IF(E1141>0,\" (p/u) \"&Modulo2.GetFormula(E1141),\"\")","v":""},{"$f":"IF(F1141>0,\" (lu) \"&Modulo2.GetFormula(F1141),\"\")","v":""},{"$f":"IF(G1141>0,\" (la) \"&Modulo2.GetFormula(G1141),\"\")","v":""},{"$f":"IF(H1141>0,\" (H) \"&Modulo2.GetFormula(H1141),\"\")","v":""},null,null,null,null,null,null,null,null,null,2,0,null,"",{"$f":"ROWS($AC$4:AC1141)","v":1138},"",{"$f":"IFERROR(SMALL($AD$4:$AD$1642,ROWS($AD$4:AD1141)),\"\")","v":""},null,{"$f":"IFERROR(INDEX($A$4:$R$1642,$AE1141,COLUMNS($A:$B)),\"\")","v":""},{"$f":"IFERROR(INDEX($A$4:$R$1642,$AE1141,COLUMNS($A:$C)),\"\")","v":""},{"$f":"IFERROR(INDEX($A$4:$R$1642,$AE1141,COLUMNS($A:$R)),\"\")","v":""},null,"","","","",null,null,null,142]
[null,null,null,"",null,null,null,null,"","",null,{"$f":"IF(E1142>0,\" (p/u) \"&Modulo2.GetFormula(E1142),\"\")","v":""},{"$f":"IF(F1142>0,\" (lu) \"&Modulo2.GetFormula(F1142),\"\")","v":""},{"$f":"IF(G1142>0,\" (la) \"&Modulo2.GetFormula(G1142),\"\")","v":""},{"$f":"IF(H1142>0,\" (H) \"&Modulo2.GetFormula(H1142),\"\")","v":""},null,null,null,null,null,null,null,null,null,2,0,null,"",{"$f":"ROWS($AC$4:AC1142)","v":1139},"",{"$f":"IFERROR(SMALL($AD$4:$AD$1642,ROWS($AD$4:AD1142)),\"\")","v":""},null,{"$f":"IFERROR(INDEX($A$4:$R$1642,$AE1142,COLUMNS($A:$B)),\"\")","v":""},{"$f":"IFERROR(INDEX($A$4:$R$1642,$AE1142,COLUMNS($A:$C)),\"\")","v":""},{"$f":"IFERROR(INDEX($A$4:$R$1642,$AE1142,COLUMNS($A:$R)),\"\")","v":""},null,"","","","",null,null,null,142]
[null,null,null,null,null,null,null,{"$f":"CONCATENATE(\"SOMMANO [\",VLOOKUP(B1139,'Elenco Prezzi2'!$A$2:$E$201,3,FALSE()),\"]\")","v":{"$error":"#N/A"}},{"$f":"IF(T1143=\"s\",V1144,SUBTOTAL(9,I1139:I1143))","v":{"$error":"#REF!"}},null,{"$f":"VLOOKUP(B1139,'Elenco Prezzi2'!$A$2:$E$201,5,FALSE)","v":{"$error":"#N/A"}},null,null,null,null,null,null,{"$f":"IFERROR(I1143*K1143,\"\")","v":""},null,"s",null,null,null,{"$f":"R1143","v":""},2,0,null,"",{"$f":"ROWS($AC$4:AC1143)","v":1140},"",{"$f":"IFERROR(SMALL($AD$4:$AD$1642,ROWS($AD$4:AD1143)),\"\")","v":""},null,{"$f":"IFERROR(INDEX($A$4:$R$1642,$AE1143,COLUMNS($A:$B)),\"\")","v":""},{"$f":"IFERROR(INDEX($A$4:$R$1642,$AE1143,COLUMNS($A:$C)),\"\")","v":""},{"$f":"IFERROR(INDEX($A$4:$R$1642,$AE1143,COLUMNS($A:$R)),\"\")","v":""},null,null,null,null,null,null,null,null,142]
[null,null,null,null,null,null,null,{"$f":"IF(I1144<0,\"a detrarre\",\"\")","v":""},{"$f":"SUMIF(I1139:I1142,\"<0\")","v":0},null,null,null,null,null,null,null,null,null,{"$f":"R1143","v":""},null,null,{"$f":"VLOOKUP(B1139,#REF!,4,FALSE)","v":{"$error":"#REF!"}},null,null,2,0,null,"",{"$f":"ROWS($AC$4:AC1144)","v":1141},"",{"$f":"IFERROR(SMALL($AD$4:$AD$1642,ROWS($AD$4:AD1144)),\"\")","v":""},null,{"$f":"IFERROR(INDEX($A$4:$R$1642,$AE1144,COLUMNS($A:$B)),\"\")","v":""},{"$f":"IFERROR(INDEX($A$4:$R$1642,$AE1144,COLUMNS($A:$C)),\"\")","v":""},{"$f":"IFERROR(INDEX($A$4:$R$1642,$AE1144,COLUMNS($A:$R)),\"\")","v":""},null,null,null,null,null,null,null,null,142]
[null,null,null,null,null,null,null,null,null,null,null,null,null,null,null,null,null,null,null,null,null,null,null,null,2,0,null,"",{"$f":"ROWS($AC$4:AC1145)","v":1142},"",{"$f":"IFERROR(SMALL($AD$4:$AD$1642,ROWS($AD$4:AD1145)),\"\")","v":""},null,{"$f":"IFERROR(INDEX($A$4:$R$1642,$AE1145,COLUMNS($A:$B)),\"\")","v":""},{"$f":"IFERROR(INDEX($A$4:$R$1642,$AE1145,COLUMNS($A:$C)),\"\")","v":""},{"$f":"IFERROR(INDEX($A$4:$R$1642,$AE1145,COLUMNS($A:$R)),\"\")","v":""},null,null,null,null,null,null,null,null,142]
[null,null,null,null,null,null,null,null,null,null,null,null,null,null,null,null,null,null,null,null,null,null,null,null,2,0,null,"",{"$f":"ROWS($AC$4:AC1146)","v":1143},"",{"$f":"IFERROR(SMALL($AD$4:$AD$1642,ROWS($AD$4:AD1146)),\"\")","v":""},null,{"$f":"IFERROR(INDEX($A$4:$R$1642,$AE1146,COLUMNS($A:$B)),\"\")","v":""},{"$f":"IFERROR(INDEX($A$4:$R$1642,$AE1146,COLUMNS($A:$C)),\"\")","v":""},{"$f":"IFERROR(INDEX($A$4:$R$1642,$AE1146,COLUMNS($A:$R)),\"\")","v":""},null,null,null,null,null,null,null,null,142]
[{"$f":"AR1147","v":143},null,{"$f":"(VLOOKUP($B1147,'Elenco Prezzi2'!$A$2:$E$201,2,FALSE))","v":{"$error":"#N/A"}},null,null,null,null,null,null,null,null,null,null,null,null,null,null,null,null,null,null,null,null,null,2,0,null,"",{"$f":"ROWS($AC$4:AC1147)","v":1144},"",{"$f":"IFERROR(SMALL($AD$4:$AD$1642,ROWS($AD$4:AD1147)),\"\")","v":""},null,{"$f":"IFERROR(INDEX($A$4:$R$1642,$AE1147,COLUMNS($A:$B)),\"\")","v":""},{"$f":"IFERROR(INDEX($A$4:$R$1642,$AE1147,COLUMNS($A:$C)),\"\")","v":""},{"$f":"IFERROR(INDEX($A$4:$R$1642,$AE1147,COLUMNS($A:$R)),\"\")","v":""},null,null,null,null,null,null,null,1,143]
[null,null,null,{"$f":"CONCATENATE(AK1148&AL1148&AM1148&AN1148)","v":""},null,null,null,null,{"$f":"IFERROR(IF(PRODUCT(E1148:H1148)=0,\"\",PRODUCT(E1148:H1148)),\"\")","v":""},{"$f":"I1148","v":""},null,{"$f":"IF(E1148>0,\" (p/u) \"&Modulo2.GetFormula(E1148),\"\")","v":""},{"$f":"IF(F1148>0,\" (lu) \"&Modulo2.GetFormula(F1148),\"\")","v":""},{"$f":"IF(G1148>0,\" (la) \"&Modulo2.GetFormula(G1148),\"\")","v":""},{"$f":"IF(H1148>0,\" (H) \"&Modulo2.GetFormula(H1148),\"\")","v":""},null,null,null,null,null,null,null,null,null,2,0,null,"",{"$f":"ROWS($AC$4:AC1148)","v":1145},"",{"$f":"IFERROR(SMALL($AD$4:$AD$1642,ROWS($AD$4:AD1148)),\"\")","v":""},null,{"$f":"IFERROR(INDEX($A$4:$R$1642,$AE1148,COLUMNS($A:$B)),\"\")","v":""},{"$f":"IFERROR(INDEX($A$4:$R$1642,$AE1148,COLUMNS($A:$C)),\"\")","v":""},{"$f":"IFERROR(INDEX($A$4:$R$1642,$AE1148,COLUMNS($A:$R)),\"\")","v":""},null,{"$f":"IFERROR(IF(SEARCH(\"=\",L1148),L1148,\"\"),\"\")","v":""},{"$f":"IFERROR(IF(SEARCH(\"=\",M1148),M1148,\"\"),\"\")","v":""},{"$f":"IFERROR(IF(SEARCH(\"=\",N1148),N1148,\"\"),\"\")","v":""},{"$f":"IFERROR(IF(SEARCH(\"=\",O1148),O1148,\"\"),\"\")","v":""},null,null,null,143]
[null,null,null,"",null,null,null,null,"","",null,{"$f":"IF(E1149>0,\" (p/u) \"&Modulo2.GetFormula(E1149),\"\")","v":""},{"$f":"IF(F1149>0,\" (lu) \"&Modulo2.GetFormula(F1149),\"\")","v":""},{"$f":"IF(G1149>0,\" (la) \"&Modulo2.GetFormula(G1149),\"\")","v":""},{"$f":"IF(H1149>0,\" (H) \"&Modulo2.GetFormula(H1149),\"\")","v":""},null,null,null,null,null,null,null,null,null,2,0,null,"",{"$f":"ROWS($AC$4:AC1149)","v":1146},"",{"$f":"IFERROR(SMALL($AD$4:$AD$1642,ROWS($AD$4:AD1149)),\"\")","v":""},null,{"$f":"IFERROR(INDEX($A$4:$R$1642,$AE1149,COLUMNS($A:$B)),\"\")","v":""},{"$f":"IFERROR(INDEX($A$4:$R$1642,$AE1149,COLUMNS($A:$C)),\"\")","v":""},{"$f":"IFERROR(INDEX($A$4:$R$1642,$AE1149,COLUMNS($A:$R)),\"\")","v":""},null,"","","","",null,null,null,143]
[null,null,null,"",null,null,null,null,"","",null,{"$f":"IF(E1150>0,\" (p/u) \"&Modulo2.GetFormula(E1150),\"\")","v":""},{"$f":"IF(F1150>0,\" (lu) \"&Modulo2.GetFormula(F1150),\"\")","v":""},{"$f":"IF(G1150>0,\" (la) \"&Modulo2.GetFormula(G1150),\"\")","v":""},{"$f":"IF(H1150>0,\" (H) \"&Modulo2.GetFormula(H1150),\"\")","v":""},null,null,null,null,null,null,null,null,null,2,0,null,"",{"$f":"ROWS($AC$4:AC1150)","v":1147},"",{"$f":"IFERROR(SMALL($AD$4:$AD$1642,ROWS($AD$4:AD1150)),\"\")","v":""},null,{"$f":"IFERROR(INDEX($A$4:$R$1642,$AE1150,COLUMNS($A:$B)),\"\")","v":""},{"$f":"IFERROR(INDEX($A$4:$R$1642,$AE1150,COLUMNS($A:$C)),\"\")","v":""},{"$f":"IFERROR(INDEX($A$4:$R$1642,$AE1150,COLUMNS($A:$R)),\"\")","v":""},null,"","","","",null,null,null,143]
[null,null,null,null,null,null,null,{"$f":"CONCATENATE(\"SOMMANO [\",VLOOKUP(B1147,'Elenco Prezzi2'!$A$2:$E$201,3,FALSE()),\"]\")","v":{"$error":"#N/A"}},{"$f":"IF(T1151=\"s\",V1152,SUBTOTAL(9,I1147:I1151))","v":{"$error":"#REF!"}},null,{"$f":"VLOOKUP(B1147,'Elenco Prezzi2'!$A$2:$E$201,5,FALSE)","v":{"$error":"#N/A"}},null,null,null,null,null,null,{"$f":"IFERROR(I1151*K1151,\"\")","v":""},null,"s",null,null,null,{"$f":"R1151","v":""},2,0,null,"",{"$f":"ROWS($AC$4:AC1151)","v":1148},"",{"$f":"IFERROR(SMALL($AD$4:$AD$1642,ROWS($AD$4:AD1151)),\"\")","v":""},null,{"$f":"IFERROR(INDEX($A$4:$R$1642,$AE1151,COLUMNS($A:$B)),\"\")","v":""},{"$f":"IFERROR(INDEX($A$4:$R$1642,$AE1151,COLUMNS($A:$C)),\"\")","v":""},{"$f":"IFERROR(INDEX($A$4:$R$1642,$AE1151,COLUMNS($A:$R)),\"\")","v":""},null,null,null,null,null,null,null,null,143]
[null,null,null,null,null,null,null,{"$f":"IF(I1152<0,\"a detrarre\",\"\")","v":""},{"$f":"SUMIF(I1147:I1150,\"<0\")","v":0},null,null,null,null,null,null,null,null,null,{"$f":"R1151","v":""},null,null,{"$f":"VLOOKUP(B1147,#REF!,4,FALSE)","v":{"$error":"#REF!"}},null,null,2,0,null,"",{"$f":"ROWS($AC$4:AC1152)","v":1149},"",{"$f":"IFERROR(SMALL($AD$4:$AD$1642,ROWS($AD$4:AD1152)),\"\")","v":""},null,{"$f":"IFERROR(INDEX($A$4:$R$1642,$AE1152,COLUMNS($A:$B)),\"\")","v":""},{"$f":"IFERROR(INDEX($A$4:$R$1642,$AE1152,COLUMNS($A:$C)),\"\")","v":""},{"$f":"IFERROR(INDEX($A$4:$R$1642,$AE1152,COLUMNS($A:$R)),\"\")","v":""},null,null,null,null,null,null,null,null,143]
[null,null,null,null,null,null,null,null,null,null,null,null,null,null,null,null,null,null,null,null,null,null,null,null,2,0,null,"",{"$f":"ROWS($AC$4:AC1153)","v":1150},"",{"$f":"IFERROR(SMALL($AD$4:$AD$1642,ROWS($AD$4:AD1153)),\"\")","v":""},null,{"$f":"IFERROR(INDEX($A$4:$R$1642,$AE1153,COLUMNS($A:$B)),\"\")","v":""},{"$f":"IFERROR(INDEX($A$4:$R$1642,$AE1153,COLUMNS($A:$C)),\"\")","v":""},{"$f":"IFERROR(INDEX($A$4:$R$1642,$AE1153,COLUMNS($A:$R)),\"\")","v":""},null,null,null,null,null,null,null,null,143]
[null,null,null,null,null,null,null,null,null,null,null,null,null,null,null,null,null,null,null,null,null,null,null,null,2,0,null,"",{"$f":"ROWS($AC$4:AC1154)","v":1151},"",{"$f":"IFERROR(SMALL($AD$4:$AD$1642,ROWS($AD$4:AD1154)),\"\")","v":""},null,{"$f":"IFERROR(INDEX($A$4:$R$1642,$AE1154,COLUMNS($A:$B)),\"\")","v":""},{"$f":"IFERROR(INDEX($A$4:$R$1642,$AE1154,COLUMNS($A:$C)),\"\")","v":""},{"$f":"IFERROR(INDEX($A$4:$R$1642,$AE1154,COLUMNS($A:$R)),\"\")","v":""},null,null,null,null,null,null,null,null,143]
[{"$f":"AR1155","v":144},null,{"$f":"(VLOOKUP($B1155,'Elenco Prezzi2'!$A$2:$E$201,2,FALSE))","v":{"$error":"#N/A"}},null,null,null,null,null,null,null,null,null,null,null,null,null,null,null,null,null,null,null,null,null,2,0,null,"",{"$f":"ROWS($AC$4:AC1155)","v":1152},"",{"$f":"IFERROR(SMALL($AD$4:$AD$1642,ROWS($AD$4:AD1155)),\"\")","v":""},null,{"$f":"IFERROR(INDEX($A$4:$R$1642,$AE1155,COLUMNS($A:$B)),\"\")","v":""},{"$f":"IFERROR(INDEX($A$4:$R$1642,$AE1155,COLUMNS($A:$C)),\"\")","v":""},{"$f":"IFERROR(INDEX($A$4:$R$1642,$AE1155,COLUMNS($A:$R)),\"\")","v":""},null,null,null,null,null,null,null,1,144]
[null,null,null,{"$f":"CONCATENATE(AK1156&AL1156&AM1156&AN1156)","v":""},null,null,null,null,{"$f":"IFERROR(IF(PRODUCT(E1156:H1156)=0,\"\",PRODUCT(E1156:H1156)),\"\")","v":""},{"$f":"I1156","v":""},null,{"$f":"IF(E1156>0,\" (p/u) \"&Modulo2.GetFormula(E1156),\"\")","v":""},{"$f":"IF(F1156>0,\" (lu) \"&Modulo2.GetFormula(F1156),\"\")","v":""},{"$f":"IF(G1156>0,\" (la) \"&Modulo2.GetFormula(G1156),\"\")","v":""},{"$f":"IF(H1156>0,\" (H) \"&Modulo2.GetFormula(H1156),\"\")","v":""},null,null,null,null,null,null,null,null,null,2,0,null,"",{"$f":"ROWS($AC$4:AC1156)","v":1153},"",{"$f":"IFERROR(SMALL($AD$4:$AD$1642,ROWS($AD$4:AD1156)),\"\")","v":""},null,{"$f":"IFERROR(INDEX($A$4:$R$1642,$AE1156,COLUMNS($A:$B)),\"\")","v":""},{"$f":"IFERROR(INDEX($A$4:$R$1642,$AE1156,COLUMNS($A:$C)),\"\")","v":""},{"$f":"IFERROR(INDEX($A$4:$R$1642,$AE1156,COLUMNS($A:$R)),\"\")","v":""},null,{"$f":"IFERROR(IF(SEARCH(\"=\",L1156),L1156,\"\"),\"\")","v":""},{"$f":"IFERROR(IF(SEARCH(\"=\",M1156),M1156,\"\"),\"\")","v":""},{"$f":"IFERROR(IF(SEARCH(\"=\",N1156),N1156,\"\"),\"\")","v":""},{"$f":"IFERROR(IF(SEARCH(\"=\",O1156),O1156,\"\"),\"\")","v":""},null,null,null,144]
[null,null,null,"",null,null,null,null,"","",null,{"$f":"IF(E1157>0,\" (p/u) \"&Modulo2.GetFormula(E1157),\"\")","v":""},{"$f":"IF(F1157>0,\" (lu) \"&Modulo2.GetFormula(F1157),\"\")","v":""},{"$f":"IF(G1157>0,\" (la) \"&Modulo2.GetFormula(G1157),\"\")","v":""},{"$f":"IF(H1157>0,\" (H) \"&Modulo2.GetFormula(H1157),\"\")","v":""},null,null,null,null,null,null,null,null,null,2,0,null,"",{"$f":"ROWS($AC$4:AC1157)","v":1154},"",{"$f":"IFERROR(SMALL($AD$4:$AD$1642,ROWS($AD$4:AD1157)),\"\")","v":""},null,{"$f":"IFERROR(INDEX($A$4:$R$1642,$AE1157,COLUMNS($A:$B)),\"\")","v":""},{"$f":"IFERROR(INDEX($A$4:$R$1642,$AE1157,COLUMNS($A:$C)),\"\")","v":""},{"$f":"IFERROR(INDEX($A$4:$R$1642,$AE1157,COLUMNS($A:$R)),\"\")","v":""},null,"","","","",null,null,null,144]
[null,null,null,"",null,null,null,null,"","",null,{"$f":"IF(E1158>0,\" (p/u) \"&Modulo2.GetFormula(E1158),\"\")","v":""},{"$f":"IF(F1158>0,\" (lu) \"&Modulo2.GetFormula(F1158),\"\")","v":""},{"$f":"IF(G1158>0,\" (la) \"&Modulo2.GetFormula(G1158),\"\")","v":""},{"$f":"IF(H1158>0,\" (H) \"&Modulo2.GetFormula(H1158),\"\")","v":""},null,null,null,null,null,null,null,null,null,2,0,null,"",{"$f":"ROWS($AC$4:AC1158)","v":1155},"",{"$f":"IFERROR(SMALL($AD$4:$AD$1642,ROWS($AD$4:AD1158)),\"\")","v":""},null,{"$f":"IFERROR(INDEX($A$4:$R$1642,$AE1158,COLUMNS($A:$B)),\"\")","v":""},{"$f":"IFERROR(INDEX($A$4:$R$1642,$AE1158,COLUMNS($A:$C)),\"\")","v":""},{"$f":"IFERROR(INDEX($A$4:$R$1642,$AE1158,COLUMNS($A:$R)),\"\")","v":""},null,"","","","",null,null,null,144]
[null,null,null,null,null,null,null,{"$f":"CONCATENATE(\"SOMMANO [\",VLOOKUP(B1155,'Elenco Prezzi2'!$A$2:$E$201,3,FALSE()),\"]\")","v":{"$error":"#N/A"}},{"$f":"IF(T1159=\"s\",V1160,SUBTOTAL(9,I1155:I1159))","v":{"$error":"#REF!"}},null,{"$f":"VLOOKUP(B1155,'Elenco Prezzi2'!$A$2:$E$201,5,FALSE)","v":{"$error":"#N/A"}},null,null,null,null,null,null,{"$f":"IFERROR(I1159*K1159,\"\")","v":""},null,"s",null,null,null,{"$f":"R1159","v":""},2,0,null,"",{"$f":"ROWS($AC$4:AC1159)","v":1156},"",{"$f":"IFERROR(SMALL($AD$4:$AD$1642,ROWS($AD$4:AD1159)),\"\")","v":""},null,{"$f":"IFERROR(INDEX($A$4:$R$1642,$AE1159,COLUMNS($A:$B)),\"\")","v":""},{"$f":"IFERROR(INDEX($A$4:$R$1642,$AE1159,COLUMNS($A:$C)),\"\")","v":""},{"$f":"IFERROR(INDEX($A$4:$R$1642,$AE1159,COLUMNS($A:$R)),\"\")","v":""},null,null,null,null,null,null,null,null,144]
[null,null,null,null,null,null,null,{"$f":"IF(I1160<0,\"a detrarre\",\"\")","v":""},{"$f":"SUMIF(I1155:I1158,\"<0\")","v":0},null,null,null,null,null,null,null,null,null,{"$f":"R1159","v":""},null,null,{"$f":"VLOOKUP(B1155,#REF!,4,FALSE)","v":{"$error":"#REF!"}},null,null,2,0,null,"",{"$f":"ROWS($AC$4:AC1160)","v":1157},"",{"$f":"IFERROR(SMALL($AD$4:$AD$1642,ROWS($AD$4:AD1160)),\"\")","v":""},null,{"$f":"IFERROR(INDEX($A$4:$R$1642,$AE1160,COLUMNS($A:$B)),\"\")","v":""},{"$f":"IFERROR(INDEX($A$4:$R$1642,$AE1160,COLUMNS($A:$C)),\"\")","v":""},{"$f":"IFERROR(INDEX($A$4:$R$1642,$AE1160,COLUMNS($A:$R)),\"\")","v":""},null,null,null,null,null,null,null,null,144]
[null,null,null,null,null,null,null,null,null,null,null,null,null,null,null,null,null,null,null,null,null,null,null,null,2,0,null,"",{"$f":"ROWS($AC$4:AC1161)","v":1158},"",{"$f":"IFERROR(SMALL($AD$4:$AD$1642,ROWS($AD$4:AD1161)),\"\")","v":""},null,{"$f":"IFERROR(INDEX($A$4:$R$1642,$AE1161,COLUMNS($A:$B)),\"\")","v":""},{"$f":"IFERROR(INDEX($A$4:$R$1642,$AE1161,COLUMNS($A:$C)),\"\")","v":""},{"$f":"IFERROR(INDEX($A$4:$R$1642,$AE1161,COLUMNS($A:$R)),\"\")","v":""},null,null,null,null,null,null,null,null,144]
[null,null,null,null,null,null,null,null,null,null,null,null,null,null,null,null,null,null,null,null,null,null,null,null,2,0,null,"",{"$f":"ROWS($AC$4:AC1162)","v":1159},"",{"$f":"IFERROR(SMALL($AD$4:$AD$1642,ROWS($AD$4:AD1162)),\"\")","v":""},null,{"$f":"IFERROR(INDEX($A$4:$R$1642,$AE1162,COLUMNS($A:$B)),\"\")","v":""},{"$f":"IFERROR(INDEX($A$4:$R$1642,$AE1162,COLUMNS($A:$C)),\"\")","v":""},{"$f":"IFERROR(INDEX($A$4:$R$1642,$AE1162,COLUMNS($A:$R)),\"\")","v":""},null,null,null,null,null,null,null,null,144]
[{"$f":"AR1163","v":145},null,{"$f":"(VLOOKUP($B1163,'Elenco Prezzi2'!$A$2:$E$201,2,FALSE))","v":{"$error":"#N/A"}},null,null,null,null,null,null,null,null,null,null,null,null,null,null,null,null,null,null,null,null,null,2,0,null,"",{"$f":"ROWS($AC$4:AC1163)","v":1160},"",{"$f":"IFERROR(SMALL($AD$4:$AD$1642,ROWS($AD$4:AD1163)),\"\")","v":""},null,{"$f":"IFERROR(INDEX($A$4:$R$1642,$AE1163,COLUMNS($A:$B)),\"\")","v":""},{"$f":"IFERROR(INDEX($A$4:$R$1642,$AE1163,COLUMNS($A:$C)),\"\")","v":""},{"$f":"IFERROR(INDEX($A$4:$R$1642,$AE1163,COLUMNS($A:$R)),\"\")","v":""},null,null,null,null,null,null,null,1,145]
[null,null,null,{"$f":"CONCATENATE(AK1164&AL1164&AM1164&AN1164)","v":""},null,null,null,null,{"$f":"IFERROR(IF(PRODUCT(E1164:H1164)=0,\"\",PRODUCT(E1164:H1164)),\"\")","v":""},{"$f":"I1164","v":""},null,{"$f":"IF(E1164>0,\" (p/u) \"&Modulo2.GetFormula(E1164),\"\")","v":""},{"$f":"IF(F1164>0,\" (lu) \"&Modulo2.GetFormula(F1164),\"\")","v":""},{"$f":"IF(G1164>0,\" (la) \"&Modulo2.GetFormula(G1164),\"\")","v":""},{"$f":"IF(H1164>0,\" (H) \"&Modulo2.GetFormula(H1164),\"\")","v":""},null,null,null,null,null,null,null,null,null,2,0,null,"",{"$f":"ROWS($AC$4:AC1164)","v":1161},"",{"$f":"IFERROR(SMALL($AD$4:$AD$1642,ROWS($AD$4:AD1164)),\"\")","v":""},null,{"$f":"IFERROR(INDEX($A$4:$R$1642,$AE1164,COLUMNS($A:$B)),\"\")","v":""},{"$f":"IFERROR(INDEX($A$4:$R$1642,$AE1164,COLUMNS($A:$C)),\"\")","v":""},{"$f":"IFERROR(INDEX($A$4:$R$1642,$AE1164,COLUMNS($A:$R)),\"\")","v":""},null,{"$f":"IFERROR(IF(SEARCH(\"=\",L1164),L1164,\"\"),\"\")","v":""},{"$f":"IFERROR(IF(SEARCH(\"=\",M1164),M1164,\"\"),\"\")","v":""},{"$f":"IFERROR(IF(SEARCH(\"=\",N1164),N1164,\"\"),\"\")","v":""},{"$f":"IFERROR(IF(SEARCH(\"=\",O1164),O1164,\"\"),\"\")","v":""},null,null,null,145]
[null,null,null,"",null,null,null,null,"","",null,{"$f":"IF(E1165>0,\" (p/u) \"&Modulo2.GetFormula(E1165),\"\")","v":""},{"$f":"IF(F1165>0,\" (lu) \"&Modulo2.GetFormula(F1165),\"\")","v":""},{"$f":"IF(G1165>0,\" (la) \"&Modulo2.GetFormula(G1165),\"\")","v":""},{"$f":"IF(H1165>0,\" (H) \"&Modulo2.GetFormula(H1165),\"\")","v":""},null,null,null,null,null,null,null,null,null,2,0,null,"",{"$f":"ROWS($AC$4:AC1165)","v":1162},"",{"$f":"IFERROR(SMALL($AD$4:$AD$1642,ROWS($AD$4:AD1165)),\"\")","v":""},null,{"$f":"IFERROR(INDEX($A$4:$R$1642,$AE1165,COLUMNS($A:$B)),\"\")","v":""},{"$f":"IFERROR(INDEX($A$4:$R$1642,$AE1165,COLUMNS($A:$C)),\"\")","v":""},{"$f":"IFERROR(INDEX($A$4:$R$1642,$AE1165,COLUMNS($A:$R)),\"\")","v":""},null,"","","","",null,null,null,145]
[null,null,null,"",null,null,null,null,"","",null,{"$f":"IF(E1166>0,\" (p/u) \"&Modulo2.GetFormula(E1166),\"\")","v":""},{"$f":"IF(F1166>0,\" (lu) \"&Modulo2.GetFormula(F1166),\"\")","v":""},{"$f":"IF(G1166>0,\" (la) \"&Modulo2.GetFormula(G1166),\"\")","v":""},{"$f":"IF(H1166>0,\" (H) \"&Modulo2.GetFormula(H1166),\"\")","v":""},null,null,null,null,null,null,null,null,null,2,0,null,"",{"$f":"ROWS($AC$4:AC1166)","v":1163},"",{"$f":"IFERROR(SMALL($AD$4:$AD$1642,ROWS($AD$4:AD1166)),\"\")","v":""},null,{"$f":"IFERROR(INDEX($A$4:$R$1642,$AE1166,COLUMNS($A:$B)),\"\")","v":""},{"$f":"IFERROR(INDEX($A$4:$R$1642,$AE1166,COLUMNS($A:$C)),\"\")","v":""},{"$f":"IFERROR(INDEX($A$4:$R$1642,$AE1166,COLUMNS($A:$R)),\"\")","v":""},null,"","","","",null,null,null,145]
[null,null,null,null,null,null,null,{"$f":"CONCATENATE(\"SOMMANO [\",VLOOKUP(B1163,'Elenco Prezzi2'!$A$2:$E$201,3,FALSE()),\"]\")","v":{"$error":"#N/A"}},{"$f":"IF(T1167=\"s\",V1168,SUBTOTAL(9,I1163:I1167))","v":{"$error":"#REF!"}},null,{"$f":"VLOOKUP(B1163,'Elenco Prezzi2'!$A$2:$E$201,5,FALSE)","v":{"$error":"#N/A"}},null,null,null,null,null,null,{"$f":"IFERROR(I1167*K1167,\"\")","v":""},null,"s",null,null,null,{"$f":"R1167","v":""},2,0,null,"",{"$f":"ROWS($AC$4:AC1167)","v":1164},"",{"$f":"IFERROR(SMALL($AD$4:$AD$1642,ROWS($AD$4:AD1167)),\"\")","v":""},null,{"$f":"IFERROR(INDEX($A$4:$R$1642,$AE1167,COLUMNS($A:$B)),\"\")","v":""},{"$f":"IFERROR(INDEX($A$4:$R$1642,$AE1167,COLUMNS($A:$C)),\"\")","v":""},{"$f":"IFERROR(INDEX($A$4:$R$1642,$AE1167,COLUMNS($A:$R)),\"\")","v":""},null,null,null,null,null,null,null,null,145]
[null,null,null,null,null,null,null,{"$f":"IF(I1168<0,\"a detrarre\",\"\")","v":""},{"$f":"SUMIF(I1163:I1166,\"<0\")","v":0},null,null,null,null,null,null,null,null,null,{"$f":"R1167","v":""},null,null,{"$f":"VLOOKUP(B1163,#REF!,4,FALSE)","v":{"$error":"#REF!"}},null,null,2,0,null,"",{"$f":"ROWS($AC$4:AC1168)","v":1165},"",{"$f":"IFERROR(SMALL($AD$4:$AD$1642,ROWS($AD$4:AD1168)),\"\")","v":""},null,{"$f":"IFERROR(INDEX($A$4:$R$1642,$AE1168,COLUMNS($A:$B)),\"\")","v":""},{"$f":"IFERROR(INDEX($A$4:$R$1642,$AE1168,COLUMNS($A:$C)),\"\")","v":""},{"$f":"IFERROR(INDEX($A$4:$R$1642,$AE1168,COLUMNS($A:$R)),\"\")","v":""},null,null,null,null,null,null,null,null,145]
[null,null,null,null,null,null,null,null,null,null,null,null,null,null,null,null,null,null,null,null,null,null,null,null,2,0,null,"",{"$f":"ROWS($AC$4:AC1169)","v":1166},"",{"$f":"IFERROR(SMALL($AD$4:$AD$1642,ROWS($AD$4:AD1169)),\"\")","v":""},null,{"$f":"IFERROR(INDEX($A$4:$R$1642,$AE1169,COLUMNS($A:$B)),\"\")","v":""},{"$f":"IFERROR(INDEX($A$4:$R$1642,$AE1169,COLUMNS($A:$C)),\"\")","v":""},{"$f":"IFERROR(INDEX($A$4:$R$1642,$AE1169,COLUMNS($A:$R)),\"\")","v":""},null,null,null,null,null,null,null,null,145]
[null,null,null,null,null,null,null,null,null,null,null,null,null,null,null,null,null,null,null,null,null,null,null,null,2,0,null,"",{"$f":"ROWS($AC$4:AC1170)","v":1167},"",{"$f":"IFERROR(SMALL($AD$4:$AD$1642,ROWS($AD$4:AD1170)),\"\")","v":""},null,{"$f":"IFERROR(INDEX($A$4:$R$1642,$AE1170,COLUMNS($A:$B)),\"\")","v":""},{"$f":"IFERROR(INDEX($A$4:$R$1642,$AE1170,COLUMNS($A:$C)),\"\")","v":""},{"$f":"IFERROR(INDEX($A$4:$R$1642,$AE1170,COLUMNS($A:$R)),\"\")","v":""},null,null,null,null,null,null,null,null,145]
[{"$f":"AR1171","v":146},null,{"$f":"(VLOOKUP($B1171,'Elenco Prezzi2'!$A$2:$E$201,2,FALSE))","v":{"$error":"#N/A"}},null,null,null,null,null,null,null,null,null,null,null,null,null,null,null,null,null,null,null,null,null,2,0,null,"",{"$f":"ROWS($AC$4:AC1171)","v":1168},"",{"$f":"IFERROR(SMALL($AD$4:$AD$1642,ROWS($AD$4:AD1171)),\"\")","v":""},null,{"$f":"IFERROR(INDEX($A$4:$R$1642,$AE1171,COLUMNS($A:$B)),\"\")","v":""},{"$f":"IFERROR(INDEX($A$4:$R$1642,$AE1171,COLUMNS($A:$C)),\"\")","v":""},{"$f":"IFERROR(INDEX($A$4:$R$1642,$AE1171,COLUMNS($A:$R)),\"\")","v":""},null,null,null,null,null,null,null,1,146]
[null,null,null,{"$f":"CONCATENATE(AK1172&AL1172&AM1172&AN1172)","v":""},null,null,null,null,{"$f":"IFERROR(IF(PRODUCT(E1172:H1172)=0,\"\",PRODUCT(E1172:H1172)),\"\")","v":""},{"$f":"I1172","v":""},null,{"$f":"IF(E1172>0,\" (p/u) \"&Modulo2.GetFormula(E1172),\"\")","v":""},{"$f":"IF(F1172>0,\" (lu) \"&Modulo2.GetFormula(F1172),\"\")","v":""},{"$f":"IF(G1172>0,\" (la) \"&Modulo2.GetFormula(G1172),\"\")","v":""},{"$f":"IF(H1172>0,\" (H) \"&Modulo2.GetFormula(H1172),\"\")","v":""},null,null,null,null,null,null,null,null,null,2,0,null,"",{"$f":"ROWS($AC$4:AC1172)","v":1169},"",{"$f":"IFERROR(SMALL($AD$4:$AD$1642,ROWS($AD$4:AD1172)),\"\")","v":""},null,{"$f":"IFERROR(INDEX($A$4:$R$1642,$AE1172,COLUMNS($A:$B)),\"\")","v":""},{"$f":"IFERROR(INDEX($A$4:$R$1642,$AE1172,COLUMNS($A:$C)),\"\")","v":""},{"$f":"IFERROR(INDEX($A$4:$R$1642,$AE1172,COLUMNS($A:$R)),\"\")","v":""},null,{"$f":"IFERROR(IF(SEARCH(\"=\",L1172),L1172,\"\"),\"\")","v":""},{"$f":"IFERROR(IF(SEARCH(\"=\",M1172),M1172,\"\"),\"\")","v":""},{"$f":"IFERROR(IF(SEARCH(\"=\",N1172),N1172,\"\"),\"\")","v":""},{"$f":"IFERROR(IF(SEARCH(\"=\",O1172),O1172,\"\"),\"\")","v":""},null,null,null,146]
[null,null,null,"",null,null,null,null,"","",null,{"$f":"IF(E1173>0,\" (p/u) \"&Modulo2.GetFormula(E1173),\"\")","v":""},{"$f":"IF(F1173>0,\" (lu) \"&Modulo2.GetFormula(F1173),\"\")","v":""},{"$f":"IF(G1173>0,\" (la) \"&Modulo2.GetFormula(G1173),\"\")","v":""},{"$f":"IF(H1173>0,\" (H) \"&Modulo2.GetFormula(H1173),\"\")","v":""},null,null,null,null,null,null,null,null,null,2,0,null,"",{"$f":"ROWS($AC$4:AC1173)","v":1170},"",{"$f":"IFERROR(SMALL($AD$4:$AD$1642,ROWS($AD$4:AD1173)),\"\")","v":""},null,{"$f":"IFERROR(INDEX($A$4:$R$1642,$AE1173,COLUMNS($A:$B)),\"\")","v":""},{"$f":"IFERROR(INDEX($A$4:$R$1642,$AE1173,COLUMNS($A:$C)),\"\")","v":""},{"$f":"IFERROR(INDEX($A$4:$R$1642,$AE1173,COLUMNS($A:$R)),\"\")","v":""},null,"","","","",null,null,null,146]
[null,null,null,"",null,null,null,null,"","",null,{"$f":"IF(E1174>0,\" (p/u) \"&Modulo2.GetFormula(E1174),\"\")","v":""},{"$f":"IF(F1174>0,\" (lu) \"&Modulo2.GetFormula(F1174),\"\")","v":""},{"$f":"IF(G1174>0,\" (la) \"&Modulo2.GetFormula(G1174),\"\")","v":""},{"$f":"IF(H1174>0,\" (H) \"&Modulo2.GetFormula(H1174),\"\")","v":""},null,null,null,null,null,null,null,null,null,2,0,null,"",{"$f":"ROWS($AC$4:AC1174)","v":1171},"",{"$f":"IFERROR(SMALL($AD$4:$AD$1642,ROWS($AD$4:AD1174)),\"\")","v":""},null,{"$f":"IFERROR(INDEX($A$4:$R$1642,$AE1174,COLUMNS($A:$B)),\"\")","v":""},{"$f":"IFERROR(INDEX($A$4:$R$1642,$AE1174,COLUMNS($A:$C)),\"\")","v":""},{"$f":"IFERROR(INDEX($A$4:$R$1642,$AE1174,COLUMNS($A:$R)),\"\")","v":""},null,"","","","",null,null,null,146]
[null,null,null,null,null,null,null,{"$f":"CONCATENATE(\"SOMMANO [\",VLOOKUP(B1171,'Elenco Prezzi2'!$A$2:$E$201,3,FALSE()),\"]\")","v":{"$error":"#N/A"}},{"$f":"IF(T1175=\"s\",V1176,SUBTOTAL(9,I1171:I1175))","v":{"$error":"#REF!"}},null,{"$f":"VLOOKUP(B1171,'Elenco Prezzi2'!$A$2:$E$201,5,FALSE)","v":{"$error":"#N/A"}},null,null,null,null,null,null,{"$f":"IFERROR(I1175*K1175,\"\")","v":""},null,"s",null,null,null,{"$f":"R1175","v":""},2,0,null,"",{"$f":"ROWS($AC$4:AC1175)","v":1172},"",{"$f":"IFERROR(SMALL($AD$4:$AD$1642,ROWS($AD$4:AD1175)),\"\")","v":""},null,{"$f":"IFERROR(INDEX($A$4:$R$1642,$AE1175,COLUMNS($A:$B)),\"\")","v":""},{"$f":"IFERROR(INDEX($A$4:$R$1642,$AE1175,COLUMNS($A:$C)),\"\")","v":""},{"$f":"IFERROR(INDEX($A$4:$R$1642,$AE1175,COLUMNS($A:$R)),\"\")","v":""},null,null,null,null,null,null,null,null,146]
[null,null,null,null,null,null,null,{"$f":"IF(I1176<0,\"a detrarre\",\"\")","v":""},{"$f":"SUMIF(I1171:I1174,\"<0\")","v":0},null,null,null,null,null,null,null,null,null,{"$f":"R1175","v":""},null,null,{"$f":"VLOOKUP(B1171,#REF!,4,FALSE)","v":{"$error":"#REF!"}},null,null,2,0,null,"",{"$f":"ROWS($AC$4:AC1176)","v":1173},"",{"$f":"IFERROR(SMALL($AD$4:$AD$1642,ROWS($AD$4:AD1176)),\"\")","v":""},null,{"$f":"IFERROR(INDEX($A$4:$R$1642,$AE1176,COLUMNS($A:$B)),\"\")","v":""},{"$f":"IFERROR(INDEX($A$4:$R$1642,$AE1176,COLUMNS($A:$C)),\"\")","v":""},{"$f":"IFERROR(INDEX($A$4:$R$1642,$AE1176,COLUMNS($A:$R)),\"\")","v":""},null,null,null,null,null,null,null,null,146]
[null,null,null,null,null,null,null,null,null,null,null,null,null,null,null,null,null,null,null,null,null,null,null,null,2,0,null,"",{"$f":"ROWS($AC$4:AC1177)","v":1174},"",{"$f":"IFERROR(SMALL($AD$4:$AD$1642,ROWS($AD$4:AD1177)),\"\")","v":""},null,{"$f":"IFERROR(INDEX($A$4:$R$1642,$AE1177,COLUMNS($A:$B)),\"\")","v":""},{"$f":"IFERROR(INDEX($A$4:$R$1642,$AE1177,COLUMNS($A:$C)),\"\")","v":""},{"$f":"IFERROR(INDEX($A$4:$R$1642,$AE1177,COLUMNS($A:$R)),\"\")","v":""},null,null,null,null,null,null,null,null,146]
[null,null,null,null,null,null,null,null,null,null,null,null,null,null,null,null,null,null,null,null,null,null,null,null,2,0,null,"",{"$f":"ROWS($AC$4:AC1178)","v":1175},"",{"$f":"IFERROR(SMALL($AD$4:$AD$1642,ROWS($AD$4:AD1178)),\"\")","v":""},null,{"$f":"IFERROR(INDEX($A$4:$R$1642,$AE1178,COLUMNS($A:$B)),\"\")","v":""},{"$f":"IFERROR(INDEX($A$4:$R$1642,$AE1178,COLUMNS($A:$C)),\"\")","v":""},{"$f":"IFERROR(INDEX($A$4:$R$1642,$AE1178,COLUMNS($A:$R)),\"\")","v":""},null,null,null,null,null,null,null,null,146]
[{"$f":"AR1179","v":147},null,{"$f":"(VLOOKUP($B1179,'Elenco Prezzi2'!$A$2:$E$201,2,FALSE))","v":{"$error":"#N/A"}},null,null,null,null,null,null,null,null,null,null,null,null,null,null,null,null,null,null,null,null,null,2,0,null,"",{"$f":"ROWS($AC$4:AC1179)","v":1176},"",{"$f":"IFERROR(SMALL($AD$4:$AD$1642,ROWS($AD$4:AD1179)),\"\")","v":""},null,{"$f":"IFERROR(INDEX($A$4:$R$1642,$AE1179,COLUMNS($A:$B)),\"\")","v":""},{"$f":"IFERROR(INDEX($A$4:$R$1642,$AE1179,COLUMNS($A:$C)),\"\")","v":""},{"$f":"IFERROR(INDEX($A$4:$R$1642,$AE1179,COLUMNS($A:$R)),\"\")","v":""},null,null,null,null,null,null,null,1,147]
[null,null,null,{"$f":"CONCATENATE(AK1180&AL1180&AM1180&AN1180)","v":""},null,null,null,null,{"$f":"IFERROR(IF(PRODUCT(E1180:H1180)=0,\"\",PRODUCT(E1180:H1180)),\"\")","v":""},{"$f":"I1180","v":""},null,{"$f":"IF(E1180>0,\" (p/u) \"&Modulo2.GetFormula(E1180),\"\")","v":""},{"$f":"IF(F1180>0,\" (lu) \"&Modulo2.GetFormula(F1180),\"\")","v":""},{"$f":"IF(G1180>0,\" (la) \"&Modulo2.GetFormula(G1180),\"\")","v":""},{"$f":"IF(H1180>0,\" (H) \"&Modulo2.GetFormula(H1180),\"\")","v":""},null,null,null,null,null,null,null,null,null,2,0,null,"",{"$f":"ROWS($AC$4:AC1180)","v":1177},"",{"$f":"IFERROR(SMALL($AD$4:$AD$1642,ROWS($AD$4:AD1180)),\"\")","v":""},null,{"$f":"IFERROR(INDEX($A$4:$R$1642,$AE1180,COLUMNS($A:$B)),\"\")","v":""},{"$f":"IFERROR(INDEX($A$4:$R$1642,$AE1180,COLUMNS($A:$C)),\"\")","v":""},{"$f":"IFERROR(INDEX($A$4:$R$1642,$AE1180,COLUMNS($A:$R)),\"\")","v":""},null,{"$f":"IFERROR(IF(SEARCH(\"=\",L1180),L1180,\"\"),\"\")","v":""},{"$f":"IFERROR(IF(SEARCH(\"=\",M1180),M1180,\"\"),\"\")","v":""},{"$f":"IFERROR(IF(SEARCH(\"=\",N1180),N1180,\"\"),\"\")","v":""},{"$f":"IFERROR(IF(SEARCH(\"=\",O1180),O1180,\"\"),\"\")","v":""},null,null,null,147]
[null,null,null,"",null,null,null,null,"","",null,{"$f":"IF(E1181>0,\" (p/u) \"&Modulo2.GetFormula(E1181),\"\")","v":""},{"$f":"IF(F1181>0,\" (lu) \"&Modulo2.GetFormula(F1181),\"\")","v":""},{"$f":"IF(G1181>0,\" (la) \"&Modulo2.GetFormula(G1181),\"\")","v":""},{"$f":"IF(H1181>0,\" (H) \"&Modulo2.GetFormula(H1181),\"\")","v":""},null,null,null,null,null,null,null,null,null,2,0,null,"",{"$f":"ROWS($AC$4:AC1181)","v":1178},"",{"$f":"IFERROR(SMALL($AD$4:$AD$1642,ROWS($AD$4:AD1181)),\"\")","v":""},null,{"$f":"IFERROR(INDEX($A$4:$R$1642,$AE1181,COLUMNS($A:$B)),\"\")","v":""},{"$f":"IFERROR(INDEX($A$4:$R$1642,$AE1181,COLUMNS($A:$C)),\"\")","v":""},{"$f":"IFERROR(INDEX($A$4:$R$1642,$AE1181,COLUMNS($A:$R)),\"\")","v":""},null,"","","","",null,null,null,147]
[null,null,null,"",null,null,null,null,"","",null,{"$f":"IF(E1182>0,\" (p/u) \"&Modulo2.GetFormula(E1182),\"\")","v":""},{"$f":"IF(F1182>0,\" (lu) \"&Modulo2.GetFormula(F1182),\"\")","v":""},{"$f":"IF(G1182>0,\" (la) \"&Modulo2.GetFormula(G1182),\"\")","v":""},{"$f":"IF(H1182>0,\" (H) \"&Modulo2.GetFormula(H1182),\"\")","v":""},null,null,null,null,null,null,null,null,null,2,0,null,"",{"$f":"ROWS($AC$4:AC1182)","v":1179},"",{"$f":"IFERROR(SMALL($AD$4:$AD$1642,ROWS($AD$4:AD1182)),\"\")","v":""},null,{"$f":"IFERROR(INDEX($A$4:$R$1642,$AE1182,COLUMNS($A:$B)),\"\")","v":""},{"$f":"IFERROR(INDEX($A$4:$R$1642,$AE1182,COLUMNS($A:$C)),\"\")","v":""},{"$f":"IFERROR(INDEX($A$4:$R$1642,$AE1182,COLUMNS($A:$R)),\"\")","v":""},null,"","","","",null,null,null,147]
[null,null,null,null,null,null,null,{"$f":"CONCATENATE(\"SOMMANO [\",VLOOKUP(B1179,'Elenco Prezzi2'!$A$2:$E$201,3,FALSE()),\"]\")","v":{"$error":"#N/A"}},{"$f":"IF(T1183=\"s\",V1184,SUBTOTAL(9,I1179:I1183))","v":{"$error":"#REF!"}},null,{"$f":"VLOOKUP(B1179,'Elenco Prezzi2'!$A$2:$E$201,5,FALSE)","v":{"$error":"#N/A"}},null,null,null,null,null,null,{"$f":"IFERROR(I1183*K1183,\"\")","v":""},null,"s",null,null,null,{"$f":"R1183","v":""},2,0,null,"",{"$f":"ROWS($AC$4:AC1183)","v":1180},"",{"$f":"IFERROR(SMALL($AD$4:$AD$1642,ROWS($AD$4:AD1183)),\"\")","v":""},null,{"$f":"IFERROR(INDEX($A$4:$R$1642,$AE1183,COLUMNS($A:$B)),\"\")","v":""},{"$f":"IFERROR(INDEX($A$4:$R$1642,$AE1183,COLUMNS($A:$C)),\"\")","v":""},{"$f":"IFERROR(INDEX($A$4:$R$1642,$AE1183,COLUMNS($A:$R)),\"\")","v":""},null,null,null,null,null,null,null,null,147]
[null,null,null,null,null,null,null,{"$f":"IF(I1184<0,\"a detrarre\",\"\")","v":""},{"$f":"SUMIF(I1179:I1182,\"<0\")","v":0},null,null,null,null,null,null,null,null,null,{"$f":"R1183","v":""},null,null,{"$f":"VLOOKUP(B1179,#REF!,4,FALSE)","v":{"$error":"#REF!"}},null,null,2,0,null,"",{"$f":"ROWS($AC$4:AC1184)","v":1181},"",{"$f":"IFERROR(SMALL($AD$4:$AD$1642,ROWS($AD$4:AD1184)),\"\")","v":""},null,{"$f":"IFERROR(INDEX($A$4:$R$1642,$AE1184,COLUMNS($A:$B)),\"\")","v":""},{"$f":"IFERROR(INDEX($A$4:$R$1642,$AE1184,COLUMNS($A:$C)),\"\")","v":""},{"$f":"IFERROR(INDEX($A$4:$R$1642,$AE1184,COLUMNS($A:$R)),\"\")","v":""},null,null,null,null,null,null,null,null,147]
[null,null,null,null,null,null,null,null,null,null,null,null,null,null,null,null,null,null,null,null,null,null,null,null,2,0,null,"",{"$f":"ROWS($AC$4:AC1185)","v":1182},"",{"$f":"IFERROR(SMALL($AD$4:$AD$1642,ROWS($AD$4:AD1185)),\"\")","v":""},null,{"$f":"IFERROR(INDEX($A$4:$R$1642,$AE1185,COLUMNS($A:$B)),\"\")","v":""},{"$f":"IFERROR(INDEX($A$4:$R$1642,$AE1185,COLUMNS($A:$C)),\"\")","v":""},{"$f":"IFERROR(INDEX($A$4:$R$1642,$AE1185,COLUMNS($A:$R)),\"\")","v":""},null,null,null,null,null,null,null,null,147]
[null,null,null,null,null,null,null,null,null,null,null,null,null,null,null,null,null,null,null,null,null,null,null,null,2,0,null,"",{"$f":"ROWS($AC$4:AC1186)","v":1183},"",{"$f":"IFERROR(SMALL($AD$4:$AD$1642,ROWS($AD$4:AD1186)),\"\")","v":""},null,{"$f":"IFERROR(INDEX($A$4:$R$1642,$AE1186,COLUMNS($A:$B)),\"\")","v":""},{"$f":"IFERROR(INDEX($A$4:$R$1642,$AE1186,COLUMNS($A:$C)),\"\")","v":""},{"$f":"IFERROR(INDEX($A$4:$R$1642,$AE1186,COLUMNS($A:$R)),\"\")","v":""},null,null,null,null,null,null,null,null,147]
[{"$f":"AR1187","v":148},null,{"$f":"(VLOOKUP($B1187,'Elenco Prezzi2'!$A$2:$E$201,2,FALSE))","v":{"$error":"#N/A"}},null,null,null,null,null,null,null,null,null,null,null,null,null,null,null,null,null,null,null,null,null,2,0,null,{"$f":"IF(W1187>0,\"OK\",\"\")","v":""},{"$f":"ROWS($AC$4:AC1187)","v":1184},{"$f":"IF(AB1187=\"ok\",AC1187,\"\")","v":""},{"$f":"IFERROR(SMALL($AD$4:$AD$1642,ROWS($AD$4:AD1187)),\"\")","v":""},null,{"$f":"IFERROR(INDEX($A$4:$R$1642,$AE1187,COLUMNS($A:$B)),\"\")","v":""},{"$f":"IFERROR(INDEX($A$4:$R$1642,$AE1187,COLUMNS($A:$C)),\"\")","v":""},{"$f":"IFERROR(INDEX($A$4:$R$1642,$AE1187,COLUMNS($A:$R)),\"\")","v":""},null,null,null,null,null,null,null,1,{"$f":"IF(AQ1187=\"\",AR1186,AR1186+AQ1187)","v":148}]
[null,null,null,{"$f":"CONCATENATE(AK1188&AL1188&AM1188&AN1188)","v":""},null,null,null,null,{"$f":"IFERROR(IF(PRODUCT(E1188:H1188)=0,\"\",PRODUCT(E1188:H1188)),\"\")","v":""},{"$f":"I1188","v":""},null,{"$f":"IF(E1188>0,\" (p/u) \"&Modulo2.GetFormula(E1188),\"\")","v":""},{"$f":"IF(F1188>0,\" (lu) \"&Modulo2.GetFormula(F1188),\"\")","v":""},{"$f":"IF(G1188>0,\" (la) \"&Modulo2.GetFormula(G1188),\"\")","v":""},{"$f":"IF(H1188>0,\" (H) \"&Modulo2.GetFormula(H1188),\"\")","v":""},null,null,null,null,null,null,null,null,null,{"$f":"IF(AO1188=\"\",Y1187,Y1187+AO1188)","v":2},{"$f":"IF(AP1188=\"\",Z1187,Z1187+AP1188)","v":0},null,"",{"$f":"ROWS($AC$4:AC1188)","v":1185},"",{"$f":"IFERROR(SMALL($AD$4:$AD$1642,ROWS($AD$4:AD1188)),\"\")","v":""},null,{"$f":"IFERROR(INDEX($A$4:$R$1642,$AE1188,COLUMNS($A:$B)),\"\")","v":""},{"$f":"IFERROR(INDEX($A$4:$R$1642,$AE1188,COLUMNS($A:$C)),\"\")","v":""},{"$f":"IFERROR(INDEX($A$4:$R$1642,$AE1188,COLUMNS($A:$R)),\"\")","v":""},null,{"$f":"IFERROR(IF(SEARCH(\"=\",L1188),L1188,\"\"),\"\")","v":""},{"$f":"IFERROR(IF(SEARCH(\"=\",M1188),M1188,\"\"),\"\")","v":""},{"$f":"IFERROR(IF(SEARCH(\"=\",N1188),N1188,\"\"),\"\")","v":""},{"$f":"IFERROR(IF(SEARCH(\"=\",O1188),O1188,\"\"),\"\")","v":""},null,null,null,148]
[null,null,null,"",null,null,null,null,"","",null,{"$f":"IF(E1189>0,\" (p/u) \"&Modulo2.GetFormula(E1189),\"\")","v":""},{"$f":"IF(F1189>0,\" (lu) \"&Modulo2.GetFormula(F1189),\"\")","v":""},{"$f":"IF(G1189>0,\" (la) \"&Modulo2.GetFormula(G1189),\"\")","v":""},{"$f":"IF(H1189>0,\" (H) \"&Modulo2.GetFormula(H1189),\"\")","v":""},null,null,null,null,null,null,null,null,null,2,0,null,"",{"$f":"ROWS($AC$4:AC1189)","v":1186},"",{"$f":"IFERROR(SMALL($AD$4:$AD$1642,ROWS($AD$4:AD1189)),\"\")","v":""},null,{"$f":"IFERROR(INDEX($A$4:$R$1642,$AE1189,COLUMNS($A:$B)),\"\")","v":""},{"$f":"IFERROR(INDEX($A$4:$R$1642,$AE1189,COLUMNS($A:$C)),\"\")","v":""},{"$f":"IFERROR(INDEX($A$4:$R$1642,$AE1189,COLUMNS($A:$R)),\"\")","v":""},null,"","","","",null,null,null,148]
[null,null,null,"",null,null,null,null,"","",null,{"$f":"IF(E1190>0,\" (p/u) \"&Modulo2.GetFormula(E1190),\"\")","v":""},{"$f":"IF(F1190>0,\" (lu) \"&Modulo2.GetFormula(F1190),\"\")","v":""},{"$f":"IF(G1190>0,\" (la) \"&Modulo2.GetFormula(G1190),\"\")","v":""},{"$f":"IF(H1190>0,\" (H) \"&Modulo2.GetFormula(H1190),\"\")","v":""},null,null,null,null,null,null,null,null,null,2,0,null,"",{"$f":"ROWS($AC$4:AC1190)","v":1187},"",{"$f":"IFERROR(SMALL($AD$4:$AD$1642,ROWS($AD$4:AD1190)),\"\")","v":""},null,{"$f":"IFERROR(INDEX($A$4:$R$1642,$AE1190,COLUMNS($A:$B)),\"\")","v":""},{"$f":"IFERROR(INDEX($A$4:$R$1642,$AE1190,COLUMNS($A:$C)),\"\")","v":""},{"$f":"IFERROR(INDEX($A$4:$R$1642,$AE1190,COLUMNS($A:$R)),\"\")","v":""},null,"","","","",null,null,null,148]
[null,null,null,null,null,null,null,{"$f":"CONCATENATE(\"SOMMANO [\",VLOOKUP(B1187,'Elenco Prezzi2'!$A$2:$E$201,3,FALSE()),\"]\")","v":{"$error":"#N/A"}},{"$f":"IF(T1191=\"s\",V1192,SUBTOTAL(9,I1187:I1191))","v":{"$error":"#REF!"}},null,{"$f":"VLOOKUP(B1187,'Elenco Prezzi2'!$A$2:$E$201,5,FALSE)","v":{"$error":"#N/A"}},null,null,null,null,null,null,{"$f":"IFERROR(I1191*K1191,\"\")","v":""},null,"s",null,null,null,{"$f":"R1191","v":""},2,0,null,"",{"$f":"ROWS($AC$4:AC1191)","v":1188},"",{"$f":"IFERROR(SMALL($AD$4:$AD$1642,ROWS($AD$4:AD1191)),\"\")","v":""},null,{"$f":"IFERROR(INDEX($A$4:$R$1642,$AE1191,COLUMNS($A:$B)),\"\")","v":""},{"$f":"IFERROR(INDEX($A$4:$R$1642,$AE1191,COLUMNS($A:$C)),\"\")","v":""},{"$f":"IFERROR(INDEX($A$4:$R$1642,$AE1191,COLUMNS($A:$R)),\"\")","v":""},null,null,null,null,null,null,null,null,148]
[null,null,null,null,null,null,null,{"$f":"IF(I1192<0,\"a detrarre\",\"\")","v":""},{"$f":"SUMIF(I1187:I1190,\"<0\")","v":0},null,null,null,null,null,null,null,null,null,{"$f":"R1191","v":""},null,null,{"$f":"VLOOKUP(B1187,#REF!,4,FALSE)","v":{"$error":"#REF!"}},null,null,2,0,null,"",{"$f":"ROWS($AC$4:AC1192)","v":1189},"",{"$f":"IFERROR(SMALL($AD$4:$AD$1642,ROWS($AD$4:AD1192)),\"\")","v":""},null,{"$f":"IFERROR(INDEX($A$4:$R$1642,$AE1192,COLUMNS($A:$B)),\"\")","v":""},{"$f":"IFERROR(INDEX($A$4:$R$1642,$AE1192,COLUMNS($A:$C)),\"\")","v":""},{"$f":"IFERROR(INDEX($A$4:$R$1642,$AE1192,COLUMNS($A:$R)),\"\")","v":""},null,null,null,null,null,null,null,null,148]
[null,null,null,null,null,null,null,null,null,null,null,null,null,null,null,null,null,null,null,null,null,null,null,null,2,0,null,"",{"$f":"ROWS($AC$4:AC1193)","v":1190},"",{"$f":"IFERROR(SMALL($AD$4:$AD$1642,ROWS($AD$4:AD1193)),\"\")","v":""},null,{"$f":"IFERROR(INDEX($A$4:$R$1642,$AE1193,COLUMNS($A:$B)),\"\")","v":""},{"$f":"IFERROR(INDEX($A$4:$R$1642,$AE1193,COLUMNS($A:$C)),\"\")","v":""},{"$f":"IFERROR(INDEX($A$4:$R$1642,$AE1193,COLUMNS($A:$R)),\"\")","v":""},null,null,null,null,null,null,null,null,148]
[null,null,null,null,null,null,null,null,null,null,null,null,null,null,null,null,null,null,null,null,null,null,null,null,2,0,null,"",{"$f":"ROWS($AC$4:AC1194)","v":1191},"",{"$f":"IFERROR(SMALL($AD$4:$AD$1642,ROWS($AD$4:AD1194)),\"\")","v":""},null,{"$f":"IFERROR(INDEX($A$4:$R$1642,$AE1194,COLUMNS($A:$B)),\"\")","v":""},{"$f":"IFERROR(INDEX($A$4:$R$1642,$AE1194,COLUMNS($A:$C)),\"\")","v":""},{"$f":"IFERROR(INDEX($A$4:$R$1642,$AE1194,COLUMNS($A:$R)),\"\")","v":""},null,null,null,null,null,null,null,null,148]
[{"$f":"AR1195","v":149},null,{"$f":"(VLOOKUP($B1195,'Elenco Prezzi2'!$A$2:$E$201,2,FALSE))","v":{"$error":"#N/A"}},null,null,null,null,null,null,null,null,null,null,null,null,null,null,null,null,null,null,null,null,null,2,0,null,"",{"$f":"ROWS($AC$4:AC1195)","v":1192},"",{"$f":"IFERROR(SMALL($AD$4:$AD$1642,ROWS($AD$4:AD1195)),\"\")","v":""},null,{"$f":"IFERROR(INDEX($A$4:$R$1642,$AE1195,COLUMNS($A:$B)),\"\")","v":""},{"$f":"IFERROR(INDEX($A$4:$R$1642,$AE1195,COLUMNS($A:$C)),\"\")","v":""},{"$f":"IFERROR(INDEX($A$4:$R$1642,$AE1195,COLUMNS($A:$R)),\"\")","v":""},null,null,null,null,null,null,null,1,149]
[null,null,null,{"$f":"CONCATENATE(AK1196&AL1196&AM1196&AN1196)","v":""},null,null,null,null,{"$f":"IFERROR(IF(PRODUCT(E1196:H1196)=0,\"\",PRODUCT(E1196:H1196)),\"\")","v":""},{"$f":"I1196","v":""},null,{"$f":"IF(E1196>0,\" (p/u) \"&Modulo2.GetFormula(E1196),\"\")","v":""},{"$f":"IF(F1196>0,\" (lu) \"&Modulo2.GetFormula(F1196),\"\")","v":""},{"$f":"IF(G1196>0,\" (la) \"&Modulo2.GetFormula(G1196),\"\")","v":""},{"$f":"IF(H1196>0,\" (H) \"&Modulo2.GetFormula(H1196),\"\")","v":""},null,null,null,null,null,null,null,null,null,2,0,null,"",{"$f":"ROWS($AC$4:AC1196)","v":1193},"",{"$f":"IFERROR(SMALL($AD$4:$AD$1642,ROWS($AD$4:AD1196)),\"\")","v":""},null,{"$f":"IFERROR(INDEX($A$4:$R$1642,$AE1196,COLUMNS($A:$B)),\"\")","v":""},{"$f":"IFERROR(INDEX($A$4:$R$1642,$AE1196,COLUMNS($A:$C)),\"\")","v":""},{"$f":"IFERROR(INDEX($A$4:$R$1642,$AE1196,COLUMNS($A:$R)),\"\")","v":""},null,{"$f":"IFERROR(IF(SEARCH(\"=\",L1196),L1196,\"\"),\"\")","v":""},{"$f":"IFERROR(IF(SEARCH(\"=\",M1196),M1196,\"\"),\"\")","v":""},{"$f":"IFERROR(IF(SEARCH(\"=\",N1196),N1196,\"\"),\"\")","v":""},{"$f":"IFERROR(IF(SEARCH(\"=\",O1196),O1196,\"\"),\"\")","v":""},null,null,null,149]
[null,null,null,"",null,null,null,null,"","",null,{"$f":"IF(E1197>0,\" (p/u) \"&Modulo2.GetFormula(E1197),\"\")","v":""},{"$f":"IF(F1197>0,\" (lu) \"&Modulo2.GetFormula(F1197),\"\")","v":""},{"$f":"IF(G1197>0,\" (la) \"&Modulo2.GetFormula(G1197),\"\")","v":""},{"$f":"IF(H1197>0,\" (H) \"&Modulo2.GetFormula(H1197),\"\")","v":""},null,null,null,null,null,null,null,null,null,2,0,null,"",{"$f":"ROWS($AC$4:AC1197)","v":1194},"",{"$f":"IFERROR(SMALL($AD$4:$AD$1642,ROWS($AD$4:AD1197)),\"\")","v":""},null,{"$f":"IFERROR(INDEX($A$4:$R$1642,$AE1197,COLUMNS($A:$B)),\"\")","v":""},{"$f":"IFERROR(INDEX($A$4:$R$1642,$AE1197,COLUMNS($A:$C)),\"\")","v":""},{"$f":"IFERROR(INDEX($A$4:$R$1642,$AE1197,COLUMNS($A:$R)),\"\")","v":""},null,"","","","",null,null,null,149]
[null,null,null,"",null,null,null,null,"","",null,{"$f":"IF(E1198>0,\" (p/u) \"&Modulo2.GetFormula(E1198),\"\")","v":""},{"$f":"IF(F1198>0,\" (lu) \"&Modulo2.GetFormula(F1198),\"\")","v":""},{"$f":"IF(G1198>0,\" (la) \"&Modulo2.GetFormula(G1198),\"\")","v":""},{"$f":"IF(H1198>0,\" (H) \"&Modulo2.GetFormula(H1198),\"\")","v":""},null,null,null,null,null,null,null,null,null,2,0,null,"",{"$f":"ROWS($AC$4:AC1198)","v":1195},"",{"$f":"IFERROR(SMALL($AD$4:$AD$1642,ROWS($AD$4:AD1198)),\"\")","v":""},null,{"$f":"IFERROR(INDEX($A$4:$R$1642,$AE1198,COLUMNS($A:$B)),\"\")","v":""},{"$f":"IFERROR(INDEX($A$4:$R$1642,$AE1198,COLUMNS($A:$C)),\"\")","v":""},{"$f":"IFERROR(INDEX($A$4:$R$1642,$AE1198,COLUMNS($A:$R)),\"\")","v":""},null,"","","","",null,null,null,149]
[null,null,null,null,null,null,null,{"$f":"CONCATENATE(\"SOMMANO [\",VLOOKUP(B1195,'Elenco Prezzi2'!$A$2:$E$201,3,FALSE()),\"]\")","v":{"$error":"#N/A"}},{"$f":"IF(T1199=\"s\",V1200,SUBTOTAL(9,I1195:I1199))","v":{"$error":"#REF!"}},null,{"$f":"VLOOKUP(B1195,'Elenco Prezzi2'!$A$2:$E$201,5,FALSE)","v":{"$error":"#N/A"}},null,null,null,null,null,null,{"$f":"IFERROR(I1199*K1199,\"\")","v":""},null,"s",null,null,null,{"$f":"R1199","v":""},2,0,null,"",{"$f":"ROWS($AC$4:AC1199)","v":1196},"",{"$f":"IFERROR(SMALL($AD$4:$AD$1642,ROWS($AD$4:AD1199)),\"\")","v":""},null,{"$f":"IFERROR(INDEX($A$4:$R$1642,$AE1199,COLUMNS($A:$B)),\"\")","v":""},{"$f":"IFERROR(INDEX($A$4:$R$1642,$AE1199,COLUMNS($A:$C)),\"\")","v":""},{"$f":"IFERROR(INDEX($A$4:$R$1642,$AE1199,COLUMNS($A:$R)),\"\")","v":""},null,null,null,null,null,null,null,null,149]
[null,null,null,null,null,null,null,{"$f":"IF(I1200<0,\"a detrarre\",\"\")","v":""},{"$f":"SUMIF(I1195:I1198,\"<0\")","v":0},null,null,null,null,null,null,null,null,null,{"$f":"R1199","v":""},null,null,{"$f":"VLOOKUP(B1195,#REF!,4,FALSE)","v":{"$error":"#REF!"}},null,null,2,0,null,"",{"$f":"ROWS($AC$4:AC1200)","v":1197},"",{"$f":"IFERROR(SMALL($AD$4:$AD$1642,ROWS($AD$4:AD1200)),\"\")","v":""},null,{"$f":"IFERROR(INDEX($A$4:$R$1642,$AE1200,COLUMNS($A:$B)),\"\")","v":""},{"$f":"IFERROR(INDEX($A$4:$R$1642,$AE1200,COLUMNS($A:$C)),\"\")","v":""},{"$f":"IFERROR(INDEX($A$4:$R$1642,$AE1200,COLUMNS($A:$R)),\"\")","v":""},null,null,null,null,null,null,null,null,149]
[null,null,null,null,null,null,null,null,null,null,null,null,null,null,null,null,null,null,null,null,null,null,null,null,2,0,null,"",{"$f":"ROWS($AC$4:AC1201)","v":1198},"",{"$f":"IFERROR(SMALL($AD$4:$AD$1642,ROWS($AD$4:AD1201)),\"\")","v":""},null,{"$f":"IFERROR(INDEX($A$4:$R$1642,$AE1201,COLUMNS($A:$B)),\"\")","v":""},{"$f":"IFERROR(INDEX($A$4:$R$1642,$AE1201,COLUMNS($A:$C)),\"\")","v":""},{"$f":"IFERROR(INDEX($A$4:$R$1642,$AE1201,COLUMNS($A:$R)),\"\")","v":""},null,null,null,null,null,null,null,null,149]
[null,null,null,null,null,null,null,null,null,null,null,null,null,null,null,null,null,null,null,null,null,null,null,null,2,0,null,"",{"$f":"ROWS($AC$4:AC1202)","v":1199},"",{"$f":"IFERROR(SMALL($AD$4:$AD$1642,ROWS($AD$4:AD1202)),\"\")","v":""},null,{"$f":"IFERROR(INDEX($A$4:$R$1642,$AE1202,COLUMNS($A:$B)),\"\")","v":""},{"$f":"IFERROR(INDEX($A$4:$R$1642,$AE1202,COLUMNS($A:$C)),\"\")","v":""},{"$f":"IFERROR(INDEX($A$4:$R$1642,$AE1202,COLUMNS($A:$R)),\"\")","v":""},null,null,null,null,null,null,null,null,149]
[{"$f":"AR1203","v":150},null,{"$f":"(VLOOKUP($B1203,'Elenco Prezzi2'!$A$2:$E$201,2,FALSE))","v":{"$error":"#N/A"}},null,null,null,null,null,null,null,null,null,null,null,null,null,null,null,null,null,null,null,null,null,2,0,null,"",{"$f":"ROWS($AC$4:AC1203)","v":1200},"",{"$f":"IFERROR(SMALL($AD$4:$AD$1642,ROWS($AD$4:AD1203)),\"\")","v":""},null,{"$f":"IFERROR(INDEX($A$4:$R$1642,$AE1203,COLUMNS($A:$B)),\"\")","v":""},{"$f":"IFERROR(INDEX($A$4:$R$1642,$AE1203,COLUMNS($A:$C)),\"\")","v":""},{"$f":"IFERROR(INDEX($A$4:$R$1642,$AE1203,COLUMNS($A:$R)),\"\")","v":""},null,null,null,null,null,null,null,1,150]
[null,null,null,{"$f":"CONCATENATE(AK1204&AL1204&AM1204&AN1204)","v":""},null,null,null,null,{"$f":"IFERROR(IF(PRODUCT(E1204:H1204)=0,\"\",PRODUCT(E1204:H1204)),\"\")","v":""},{"$f":"I1204","v":""},null,{"$f":"IF(E1204>0,\" (p/u) \"&Modulo2.GetFormula(E1204),\"\")","v":""},{"$f":"IF(F1204>0,\" (lu) \"&Modulo2.GetFormula(F1204),\"\")","v":""},{"$f":"IF(G1204>0,\" (la) \"&Modulo2.GetFormula(G1204),\"\")","v":""},{"$f":"IF(H1204>0,\" (H) \"&Modulo2.GetFormula(H1204),\"\")","v":""},null,null,null,null,null,null,null,null,null,2,0,null,"",{"$f":"ROWS($AC$4:AC1204)","v":1201},"",{"$f":"IFERROR(SMALL($AD$4:$AD$1642,ROWS($AD$4:AD1204)),\"\")","v":""},null,{"$f":"IFERROR(INDEX($A$4:$R$1642,$AE1204,COLUMNS($A:$B)),\"\")","v":""},{"$f":"IFERROR(INDEX($A$4:$R$1642,$AE1204,COLUMNS($A:$C)),\"\")","v":""},{"$f":"IFERROR(INDEX($A$4:$R$1642,$AE1204,COLUMNS($A:$R)),\"\")","v":""},null,{"$f":"IFERROR(IF(SEARCH(\"=\",L1204),L1204,\"\"),\"\")","v":""},{"$f":"IFERROR(IF(SEARCH(\"=\",M1204),M1204,\"\"),\"\")","v":""},{"$f":"IFERROR(IF(SEARCH(\"=\",N1204),N1204,\"\"),\"\")","v":""},{"$f":"IFERROR(IF(SEARCH(\"=\",O1204),O1204,\"\"),\"\")","v":""},null,null,null,150]
[null,null,null,"",null,null,null,null,"","",null,{"$f":"IF(E1205>0,\" (p/u) \"&Modulo2.GetFormula(E1205),\"\")","v":""},{"$f":"IF(F1205>0,\" (lu) \"&Modulo2.GetFormula(F1205),\"\")","v":""},{"$f":"IF(G1205>0,\" (la) \"&Modulo2.GetFormula(G1205),\"\")","v":""},{"$f":"IF(H1205>0,\" (H) \"&Modulo2.GetFormula(H1205),\"\")","v":""},null,null,null,null,null,null,null,null,null,2,0,null,"",{"$f":"ROWS($AC$4:AC1205)","v":1202},"",{"$f":"IFERROR(SMALL($AD$4:$AD$1642,ROWS($AD$4:AD1205)),\"\")","v":""},null,{"$f":"IFERROR(INDEX($A$4:$R$1642,$AE1205,COLUMNS($A:$B)),\"\")","v":""},{"$f":"IFERROR(INDEX($A$4:$R$1642,$AE1205,COLUMNS($A:$C)),\"\")","v":""},{"$f":"IFERROR(INDEX($A$4:$R$1642,$AE1205,COLUMNS($A:$R)),\"\")","v":""},null,"","","","",null,null,null,150]
[null,null,null,"",null,null,null,null,"","",null,{"$f":"IF(E1206>0,\" (p/u) \"&Modulo2.GetFormula(E1206),\"\")","v":""},{"$f":"IF(F1206>0,\" (lu) \"&Modulo2.GetFormula(F1206),\"\")","v":""},{"$f":"IF(G1206>0,\" (la) \"&Modulo2.GetFormula(G1206),\"\")","v":""},{"$f":"IF(H1206>0,\" (H) \"&Modulo2.GetFormula(H1206),\"\")","v":""},null,null,null,null,null,null,null,null,null,2,0,null,"",{"$f":"ROWS($AC$4:AC1206)","v":1203},"",{"$f":"IFERROR(SMALL($AD$4:$AD$1642,ROWS($AD$4:AD1206)),\"\")","v":""},null,{"$f":"IFERROR(INDEX($A$4:$R$1642,$AE1206,COLUMNS($A:$B)),\"\")","v":""},{"$f":"IFERROR(INDEX($A$4:$R$1642,$AE1206,COLUMNS($A:$C)),\"\")","v":""},{"$f":"IFERROR(INDEX($A$4:$R$1642,$AE1206,COLUMNS($A:$R)),\"\")","v":""},null,"","","","",null,null,null,150]
[null,null,null,null,null,null,null,{"$f":"CONCATENATE(\"SOMMANO [\",VLOOKUP(B1203,'Elenco Prezzi2'!$A$2:$E$201,3,FALSE()),\"]\")","v":{"$error":"#N/A"}},{"$f":"IF(T1207=\"s\",V1208,SUBTOTAL(9,I1203:I1207))","v":{"$error":"#REF!"}},null,{"$f":"VLOOKUP(B1203,'Elenco Prezzi2'!$A$2:$E$201,5,FALSE)","v":{"$error":"#N/A"}},null,null,null,null,null,null,{"$f":"IFERROR(I1207*K1207,\"\")","v":""},null,"s",null,null,null,{"$f":"R1207","v":""},2,0,null,"",{"$f":"ROWS($AC$4:AC1207)","v":1204},"",{"$f":"IFERROR(SMALL($AD$4:$AD$1642,ROWS($AD$4:AD1207)),\"\")","v":""},null,{"$f":"IFERROR(INDEX($A$4:$R$1642,$AE1207,COLUMNS($A:$B)),\"\")","v":""},{"$f":"IFERROR(INDEX($A$4:$R$1642,$AE1207,COLUMNS($A:$C)),\"\")","v":""},{"$f":"IFERROR(INDEX($A$4:$R$1642,$AE1207,COLUMNS($A:$R)),\"\")","v":""},null,null,null,null,null,null,null,null,150]
[null,null,null,null,null,null,null,{"$f":"IF(I1208<0,\"a detrarre\",\"\")","v":""},{"$f":"SUMIF(I1203:I1206,\"<0\")","v":0},null,null,null,null,null,null,null,null,null,{"$f":"R1207","v":""},null,null,{"$f":"VLOOKUP(B1203,#REF!,4,FALSE)","v":{"$error":"#REF!"}},null,null,2,0,null,"",{"$f":"ROWS($AC$4:AC1208)","v":1205},"",{"$f":"IFERROR(SMALL($AD$4:$AD$1642,ROWS($AD$4:AD1208)),\"\")","v":""},null,{"$f":"IFERROR(INDEX($A$4:$R$1642,$AE1208,COLUMNS($A:$B)),\"\")","v":""},{"$f":"IFERROR(INDEX($A$4:$R$1642,$AE1208,COLUMNS($A:$C)),\"\")","v":""},{"$f":"IFERROR(INDEX($A$4:$R$1642,$AE1208,COLUMNS($A:$R)),\"\")","v":""},null,null,null,null,null,null,null,null,150]
[null,null,null,null,null,null,null,null,null,null,null,null,null,null,null,null,null,null,null,null,null,null,null,null,2,0,null,"",{"$f":"ROWS($AC$4:AC1209)","v":1206},"",{"$f":"IFERROR(SMALL($AD$4:$AD$1642,ROWS($AD$4:AD1209)),\"\")","v":""},null,{"$f":"IFERROR(INDEX($A$4:$R$1642,$AE1209,COLUMNS($A:$B)),\"\")","v":""},{"$f":"IFERROR(INDEX($A$4:$R$1642,$AE1209,COLUMNS($A:$C)),\"\")","v":""},{"$f":"IFERROR(INDEX($A$4:$R$1642,$AE1209,COLUMNS($A:$R)),\"\")","v":""},null,null,null,null,null,null,null,null,150]
[null,null,null,null,null,null,null,null,null,null,null,null,null,null,null,null,null,null,null,null,null,null,null,null,2,0,null,"",{"$f":"ROWS($AC$4:AC1210)","v":1207},"",{"$f":"IFERROR(SMALL($AD$4:$AD$1642,ROWS($AD$4:AD1210)),\"\")","v":""},null,{"$f":"IFERROR(INDEX($A$4:$R$1642,$AE1210,COLUMNS($A:$B)),\"\")","v":""},{"$f":"IFERROR(INDEX($A$4:$R$1642,$AE1210,COLUMNS($A:$C)),\"\")","v":""},{"$f":"IFERROR(INDEX($A$4:$R$1642,$AE1210,COLUMNS($A:$R)),\"\")","v":""},null,null,null,null,null,null,null,null,150]
[{"$f":"AR1211","v":151},null,{"$f":"(VLOOKUP($B1211,'Elenco Prezzi2'!$A$2:$E$201,2,FALSE))","v":{"$error":"#N/A"}},null,null,null,null,null,null,null,null,null,null,null,null,null,null,null,null,null,null,null,null,null,2,0,null,"",{"$f":"ROWS($AC$4:AC1211)","v":1208},"",{"$f":"IFERROR(SMALL($AD$4:$AD$1642,ROWS($AD$4:AD1211)),\"\")","v":""},null,{"$f":"IFERROR(INDEX($A$4:$R$1642,$AE1211,COLUMNS($A:$B)),\"\")","v":""},{"$f":"IFERROR(INDEX($A$4:$R$1642,$AE1211,COLUMNS($A:$C)),\"\")","v":""},{"$f":"IFERROR(INDEX($A$4:$R$1642,$AE1211,COLUMNS($A:$R)),\"\")","v":""},null,null,null,null,null,null,null,1,151]
[null,null,null,{"$f":"CONCATENATE(AK1212&AL1212&AM1212&AN1212)","v":""},null,null,null,null,{"$f":"IFERROR(IF(PRODUCT(E1212:H1212)=0,\"\",PRODUCT(E1212:H1212)),\"\")","v":""},{"$f":"I1212","v":""},null,{"$f":"IF(E1212>0,\" (p/u) \"&Modulo2.GetFormula(E1212),\"\")","v":""},{"$f":"IF(F1212>0,\" (lu) \"&Modulo2.GetFormula(F1212),\"\")","v":""},{"$f":"IF(G1212>0,\" (la) \"&Modulo2.GetFormula(G1212),\"\")","v":""},{"$f":"IF(H1212>0,\" (H) \"&Modulo2.GetFormula(H1212),\"\")","v":""},null,null,null,null,null,null,null,null,null,2,0,null,"",{"$f":"ROWS($AC$4:AC1212)","v":1209},"",{"$f":"IFERROR(SMALL($AD$4:$AD$1642,ROWS($AD$4:AD1212)),\"\")","v":""},null,{"$f":"IFERROR(INDEX($A$4:$R$1642,$AE1212,COLUMNS($A:$B)),\"\")","v":""},{"$f":"IFERROR(INDEX($A$4:$R$1642,$AE1212,COLUMNS($A:$C)),\"\")","v":""},{"$f":"IFERROR(INDEX($A$4:$R$1642,$AE1212,COLUMNS($A:$R)),\"\")","v":""},null,{"$f":"IFERROR(IF(SEARCH(\"=\",L1212),L1212,\"\"),\"\")","v":""},{"$f":"IFERROR(IF(SEARCH(\"=\",M1212),M1212,\"\"),\"\")","v":""},{"$f":"IFERROR(IF(SEARCH(\"=\",N1212),N1212,\"\"),\"\")","v":""},{"$f":"IFERROR(IF(SEARCH(\"=\",O1212),O1212,\"\"),\"\")","v":""},null,null,null,151]
[null,null,null,"",null,null,null,null,"","",null,{"$f":"IF(E1213>0,\" (p/u) \"&Modulo2.GetFormula(E1213),\"\")","v":""},{"$f":"IF(F1213>0,\" (lu) \"&Modulo2.GetFormula(F1213),\"\")","v":""},{"$f":"IF(G1213>0,\" (la) \"&Modulo2.GetFormula(G1213),\"\")","v":""},{"$f":"IF(H1213>0,\" (H) \"&Modulo2.GetFormula(H1213),\"\")","v":""},null,null,null,null,null,null,null,null,null,2,0,null,"",{"$f":"ROWS($AC$4:AC1213)","v":1210},"",{"$f":"IFERROR(SMALL($AD$4:$AD$1642,ROWS($AD$4:AD1213)),\"\")","v":""},null,{"$f":"IFERROR(INDEX($A$4:$R$1642,$AE1213,COLUMNS($A:$B)),\"\")","v":""},{"$f":"IFERROR(INDEX($A$4:$R$1642,$AE1213,COLUMNS($A:$C)),\"\")","v":""},{"$f":"IFERROR(INDEX($A$4:$R$1642,$AE1213,COLUMNS($A:$R)),\"\")","v":""},null,"","","","",null,null,null,151]
[null,null,null,"",null,null,null,null,"","",null,{"$f":"IF(E1214>0,\" (p/u) \"&Modulo2.GetFormula(E1214),\"\")","v":""},{"$f":"IF(F1214>0,\" (lu) \"&Modulo2.GetFormula(F1214),\"\")","v":""},{"$f":"IF(G1214>0,\" (la) \"&Modulo2.GetFormula(G1214),\"\")","v":""},{"$f":"IF(H1214>0,\" (H) \"&Modulo2.GetFormula(H1214),\"\")","v":""},null,null,null,null,null,null,null,null,null,2,0,null,"",{"$f":"ROWS($AC$4:AC1214)","v":1211},"",{"$f":"IFERROR(SMALL($AD$4:$AD$1642,ROWS($AD$4:AD1214)),\"\")","v":""},null,{"$f":"IFERROR(INDEX($A$4:$R$1642,$AE1214,COLUMNS($A:$B)),\"\")","v":""},{"$f":"IFERROR(INDEX($A$4:$R$1642,$AE1214,COLUMNS($A:$C)),\"\")","v":""},{"$f":"IFERROR(INDEX($A$4:$R$1642,$AE1214,COLUMNS($A:$R)),\"\")","v":""},null,"","","","",null,null,null,151]
[null,null,null,null,null,null,null,{"$f":"CONCATENATE(\"SOMMANO [\",VLOOKUP(B1211,'Elenco Prezzi2'!$A$2:$E$201,3,FALSE()),\"]\")","v":{"$error":"#N/A"}},{"$f":"IF(T1215=\"s\",V1216,SUBTOTAL(9,I1211:I1215))","v":{"$error":"#REF!"}},null,{"$f":"VLOOKUP(B1211,'Elenco Prezzi2'!$A$2:$E$201,5,FALSE)","v":{"$error":"#N/A"}},null,null,null,null,null,null,{"$f":"IFERROR(I1215*K1215,\"\")","v":""},null,"s",null,null,null,{"$f":"R1215","v":""},2,0,null,"",{"$f":"ROWS($AC$4:AC1215)","v":1212},"",{"$f":"IFERROR(SMALL($AD$4:$AD$1642,ROWS($AD$4:AD1215)),\"\")","v":""},null,{"$f":"IFERROR(INDEX($A$4:$R$1642,$AE1215,COLUMNS($A:$B)),\"\")","v":""},{"$f":"IFERROR(INDEX($A$4:$R$1642,$AE1215,COLUMNS($A:$C)),\"\")","v":""},{"$f":"IFERROR(INDEX($A$4:$R$1642,$AE1215,COLUMNS($A:$R)),\"\")","v":""},null,null,null,null,null,null,null,null,151]
[null,null,null,null,null,null,null,{"$f":"IF(I1216<0,\"a detrarre\",\"\")","v":""},{"$f":"SUMIF(I1211:I1214,\"<0\")","v":0},null,null,null,null,null,null,null,null,null,{"$f":"R1215","v":""},null,null,{"$f":"VLOOKUP(B1211,#REF!,4,FALSE)","v":{"$error":"#REF!"}},null,null,2,0,null,"",{"$f":"ROWS($AC$4:AC1216)","v":1213},"",{"$f":"IFERROR(SMALL($AD$4:$AD$1642,ROWS($AD$4:AD1216)),\"\")","v":""},null,{"$f":"IFERROR(INDEX($A$4:$R$1642,$AE1216,COLUMNS($A:$B)),\"\")","v":""},{"$f":"IFERROR(INDEX($A$4:$R$1642,$AE1216,COLUMNS($A:$C)),\"\")","v":""},{"$f":"IFERROR(INDEX($A$4:$R$1642,$AE1216,COLUMNS($A:$R)),\"\")","v":""},null,null,null,null,null,null,null,null,151]
[null,null,null,null,null,null,null,null,null,null,null,null,null,null,null,null,null,null,null,null,null,null,null,null,2,0,null,"",{"$f":"ROWS($AC$4:AC1217)","v":1214},"",{"$f":"IFERROR(SMALL($AD$4:$AD$1642,ROWS($AD$4:AD1217)),\"\")","v":""},null,{"$f":"IFERROR(INDEX($A$4:$R$1642,$AE1217,COLUMNS($A:$B)),\"\")","v":""},{"$f":"IFERROR(INDEX($A$4:$R$1642,$AE1217,COLUMNS($A:$C)),\"\")","v":""},{"$f":"IFERROR(INDEX($A$4:$R$1642,$AE1217,COLUMNS($A:$R)),\"\")","v":""},null,null,null,null,null,null,null,null,151]
[null,null,null,null,null,null,null,null,null,null,null,null,null,null,null,null,null,null,null,null,null,null,null,null,2,0,null,"",{"$f":"ROWS($AC$4:AC1218)","v":1215},"",{"$f":"IFERROR(SMALL($AD$4:$AD$1642,ROWS($AD$4:AD1218)),\"\")","v":""},null,{"$f":"IFERROR(INDEX($A$4:$R$1642,$AE1218,COLUMNS($A:$B)),\"\")","v":""},{"$f":"IFERROR(INDEX($A$4:$R$1642,$AE1218,COLUMNS($A:$C)),\"\")","v":""},{"$f":"IFERROR(INDEX($A$4:$R$1642,$AE1218,COLUMNS($A:$R)),\"\")","v":""},null,null,null,null,null,null,null,null,151]
[{"$f":"AR1219","v":152},null,{"$f":"(VLOOKUP($B1219,'Elenco Prezzi2'!$A$2:$E$201,2,FALSE))","v":{"$error":"#N/A"}},null,null,null,null,null,null,null,null,null,null,null,null,null,null,null,null,null,null,null,null,null,2,0,null,"",{"$f":"ROWS($AC$4:AC1219)","v":1216},"",{"$f":"IFERROR(SMALL($AD$4:$AD$1642,ROWS($AD$4:AD1219)),\"\")","v":""},null,{"$f":"IFERROR(INDEX($A$4:$R$1642,$AE1219,COLUMNS($A:$B)),\"\")","v":""},{"$f":"IFERROR(INDEX($A$4:$R$1642,$AE1219,COLUMNS($A:$C)),\"\")","v":""},{"$f":"IFERROR(INDEX($A$4:$R$1642,$AE1219,COLUMNS($A:$R)),\"\")","v":""},null,null,null,null,null,null,null,1,152]
[null,null,null,{"$f":"CONCATENATE(AK1220&AL1220&AM1220&AN1220)","v":""},null,null,null,null,{"$f":"IFERROR(IF(PRODUCT(E1220:H1220)=0,\"\",PRODUCT(E1220:H1220)),\"\")","v":""},{"$f":"I1220","v":""},null,{"$f":"IF(E1220>0,\" (p/u) \"&Modulo2.GetFormula(E1220),\"\")","v":""},{"$f":"IF(F1220>0,\" (lu) \"&Modulo2.GetFormula(F1220),\"\")","v":""},{"$f":"IF(G1220>0,\" (la) \"&Modulo2.GetFormula(G1220),\"\")","v":""},{"$f":"IF(H1220>0,\" (H) \"&Modulo2.GetFormula(H1220),\"\")","v":""},null,null,null,null,null,null,null,null,null,2,0,null,"",{"$f":"ROWS($AC$4:AC1220)","v":1217},"",{"$f":"IFERROR(SMALL($AD$4:$AD$1642,ROWS($AD$4:AD1220)),\"\")","v":""},null,{"$f":"IFERROR(INDEX($A$4:$R$1642,$AE1220,COLUMNS($A:$B)),\"\")","v":""},{"$f":"IFERROR(INDEX($A$4:$R$1642,$AE1220,COLUMNS($A:$C)),\"\")","v":""},{"$f":"IFERROR(INDEX($A$4:$R$1642,$AE1220,COLUMNS($A:$R)),\"\")","v":""},null,{"$f":"IFERROR(IF(SEARCH(\"=\",L1220),L1220,\"\"),\"\")","v":""},{"$f":"IFERROR(IF(SEARCH(\"=\",M1220),M1220,\"\"),\"\")","v":""},{"$f":"IFERROR(IF(SEARCH(\"=\",N1220),N1220,\"\"),\"\")","v":""},{"$f":"IFERROR(IF(SEARCH(\"=\",O1220),O1220,\"\"),\"\")","v":""},null,null,null,152]
[null,null,null,"",null,null,null,null,"","",null,{"$f":"IF(E1221>0,\" (p/u) \"&Modulo2.GetFormula(E1221),\"\")","v":""},{"$f":"IF(F1221>0,\" (lu) \"&Modulo2.GetFormula(F1221),\"\")","v":""},{"$f":"IF(G1221>0,\" (la) \"&Modulo2.GetFormula(G1221),\"\")","v":""},{"$f":"IF(H1221>0,\" (H) \"&Modulo2.GetFormula(H1221),\"\")","v":""},null,null,null,null,null,null,null,null,null,2,0,null,"",{"$f":"ROWS($AC$4:AC1221)","v":1218},"",{"$f":"IFERROR(SMALL($AD$4:$AD$1642,ROWS($AD$4:AD1221)),\"\")","v":""},null,{"$f":"IFERROR(INDEX($A$4:$R$1642,$AE1221,COLUMNS($A:$B)),\"\")","v":""},{"$f":"IFERROR(INDEX($A$4:$R$1642,$AE1221,COLUMNS($A:$C)),\"\")","v":""},{"$f":"IFERROR(INDEX($A$4:$R$1642,$AE1221,COLUMNS($A:$R)),\"\")","v":""},null,"","","","",null,null,null,152]
[null,null,null,"",null,null,null,null,"","",null,{"$f":"IF(E1222>0,\" (p/u) \"&Modulo2.GetFormula(E1222),\"\")","v":""},{"$f":"IF(F1222>0,\" (lu) \"&Modulo2.GetFormula(F1222),\"\")","v":""},{"$f":"IF(G1222>0,\" (la) \"&Modulo2.GetFormula(G1222),\"\")","v":""},{"$f":"IF(H1222>0,\" (H) \"&Modulo2.GetFormula(H1222),\"\")","v":""},null,null,null,null,null,null,null,null,null,2,0,null,"",{"$f":"ROWS($AC$4:AC1222)","v":1219},"",{"$f":"IFERROR(SMALL($AD$4:$AD$1642,ROWS($AD$4:AD1222)),\"\")","v":""},null,{"$f":"IFERROR(INDEX($A$4:$R$1642,$AE1222,COLUMNS($A:$B)),\"\")","v":""},{"$f":"IFERROR(INDEX($A$4:$R$1642,$AE1222,COLUMNS($A:$C)),\"\")","v":""},{"$f":"IFERROR(INDEX($A$4:$R$1642,$AE1222,COLUMNS($A:$R)),\"\")","v":""},null,"","","","",null,null,null,152]
[null,null,null,null,null,null,null,{"$f":"CONCATENATE(\"SOMMANO [\",VLOOKUP(B1219,'Elenco Prezzi2'!$A$2:$E$201,3,FALSE()),\"]\")","v":{"$error":"#N/A"}},{"$f":"IF(T1223=\"s\",V1224,SUBTOTAL(9,I1219:I1223))","v":{"$error":"#REF!"}},null,{"$f":"VLOOKUP(B1219,'Elenco Prezzi2'!$A$2:$E$201,5,FALSE)","v":{"$error":"#N/A"}},null,null,null,null,null,null,{"$f":"IFERROR(I1223*K1223,\"\")","v":""},null,"s",null,null,null,{"$f":"R1223","v":""},2,0,null,"",{"$f":"ROWS($AC$4:AC1223)","v":1220},"",{"$f":"IFERROR(SMALL($AD$4:$AD$1642,ROWS($AD$4:AD1223)),\"\")","v":""},null,{"$f":"IFERROR(INDEX($A$4:$R$1642,$AE1223,COLUMNS($A:$B)),\"\")","v":""},{"$f":"IFERROR(INDEX($A$4:$R$1642,$AE1223,COLUMNS($A:$C)),\"\")","v":""},{"$f":"IFERROR(INDEX($A$4:$R$1642,$AE1223,COLUMNS($A:$R)),\"\")","v":""},null,null,null,null,null,null,null,null,152]
[null,null,null,null,null,null,null,{"$f":"IF(I1224<0,\"a detrarre\",\"\")","v":""},{"$f":"SUMIF(I1219:I1222,\"<0\")","v":0},null,null,null,null,null,null,null,null,null,{"$f":"R1223","v":""},null,null,{"$f":"VLOOKUP(B1219,#REF!,4,FALSE)","v":{"$error":"#REF!"}},null,null,2,0,null,"",{"$f":"ROWS($AC$4:AC1224)","v":1221},"",{"$f":"IFERROR(SMALL($AD$4:$AD$1642,ROWS($AD$4:AD1224)),\"\")","v":""},null,{"$f":"IFERROR(INDEX($A$4:$R$1642,$AE1224,COLUMNS($A:$B)),\"\")","v":""},{"$f":"IFERROR(INDEX($A$4:$R$1642,$AE1224,COLUMNS($A:$C)),\"\")","v":""},{"$f":"IFERROR(INDEX($A$4:$R$1642,$AE1224,COLUMNS($A:$R)),\"\")","v":""},null,null,null,null,null,null,null,null,152]
[null,null,null,null,null,null,null,null,null,null,null,null,null,null,null,null,null,null,null,null,null,null,null,null,2,0,null,"",{"$f":"ROWS($AC$4:AC1225)","v":1222},"",{"$f":"IFERROR(SMALL($AD$4:$AD$1642,ROWS($AD$4:AD1225)),\"\")","v":""},null,{"$f":"IFERROR(INDEX($A$4:$R$1642,$AE1225,COLUMNS($A:$B)),\"\")","v":""},{"$f":"IFERROR(INDEX($A$4:$R$1642,$AE1225,COLUMNS($A:$C)),\"\")","v":""},{"$f":"IFERROR(INDEX($A$4:$R$1642,$AE1225,COLUMNS($A:$R)),\"\")","v":""},null,null,null,null,null,null,null,null,152]
[null,null,null,null,null,null,null,null,null,null,null,null,null,null,null,null,null,null,null,null,null,null,null,null,2,0,null,"",{"$f":"ROWS($AC$4:AC1226)","v":1223},"",{"$f":"IFERROR(SMALL($AD$4:$AD$1642,ROWS($AD$4:AD1226)),\"\")","v":""},null,{"$f":"IFERROR(INDEX($A$4:$R$1642,$AE1226,COLUMNS($A:$B)),\"\")","v":""},{"$f":"IFERROR(INDEX($A$4:$R$1642,$AE1226,COLUMNS($A:$C)),\"\")","v":""},{"$f":"IFERROR(INDEX($A$4:$R$1642,$AE1226,COLUMNS($A:$R)),\"\")","v":""},null,null,null,null,null,null,null,null,152]
[{"$f":"AR1227","v":153},null,{"$f":"(VLOOKUP($B1227,'Elenco Prezzi2'!$A$2:$E$201,2,FALSE))","v":{"$error":"#N/A"}},null,null,null,null,null,null,null,null,null,null,null,null,null,null,null,null,null,null,null,null,null,2,0,null,"",{"$f":"ROWS($AC$4:AC1227)","v":1224},"",{"$f":"IFERROR(SMALL($AD$4:$AD$1642,ROWS($AD$4:AD1227)),\"\")","v":""},null,{"$f":"IFERROR(INDEX($A$4:$R$1642,$AE1227,COLUMNS($A:$B)),\"\")","v":""},{"$f":"IFERROR(INDEX($A$4:$R$1642,$AE1227,COLUMNS($A:$C)),\"\")","v":""},{"$f":"IFERROR(INDEX($A$4:$R$1642,$AE1227,COLUMNS($A:$R)),\"\")","v":""},null,null,null,null,null,null,null,1,153]
[null,null,null,{"$f":"CONCATENATE(AK1228&AL1228&AM1228&AN1228)","v":""},null,null,null,null,{"$f":"IFERROR(IF(PRODUCT(E1228:H1228)=0,\"\",PRODUCT(E1228:H1228)),\"\")","v":""},{"$f":"I1228","v":""},null,{"$f":"IF(E1228>0,\" (p/u) \"&Modulo2.GetFormula(E1228),\"\")","v":""},{"$f":"IF(F1228>0,\" (lu) \"&Modulo2.GetFormula(F1228),\"\")","v":""},{"$f":"IF(G1228>0,\" (la) \"&Modulo2.GetFormula(G1228),\"\")","v":""},{"$f":"IF(H1228>0,\" (H) \"&Modulo2.GetFormula(H1228),\"\")","v":""},null,null,null,null,null,null,null,null,null,2,0,null,"",{"$f":"ROWS($AC$4:AC1228)","v":1225},"",{"$f":"IFERROR(SMALL($AD$4:$AD$1642,ROWS($AD$4:AD1228)),\"\")","v":""},null,{"$f":"IFERROR(INDEX($A$4:$R$1642,$AE1228,COLUMNS($A:$B)),\"\")","v":""},{"$f":"IFERROR(INDEX($A$4:$R$1642,$AE1228,COLUMNS($A:$C)),\"\")","v":""},{"$f":"IFERROR(INDEX($A$4:$R$1642,$AE1228,COLUMNS($A:$R)),\"\")","v":""},null,{"$f":"IFERROR(IF(SEARCH(\"=\",L1228),L1228,\"\"),\"\")","v":""},{"$f":"IFERROR(IF(SEARCH(\"=\",M1228),M1228,\"\"),\"\")","v":""},{"$f":"IFERROR(IF(SEARCH(\"=\",N1228),N1228,\"\"),\"\")","v":""},{"$f":"IFERROR(IF(SEARCH(\"=\",O1228),O1228,\"\"),\"\")","v":""},null,null,null,153]
[null,null,null,"",null,null,null,null,"","",null,{"$f":"IF(E1229>0,\" (p/u) \"&Modulo2.GetFormula(E1229),\"\")","v":""},{"$f":"IF(F1229>0,\" (lu) \"&Modulo2.GetFormula(F1229),\"\")","v":""},{"$f":"IF(G1229>0,\" (la) \"&Modulo2.GetFormula(G1229),\"\")","v":""},{"$f":"IF(H1229>0,\" (H) \"&Modulo2.GetFormula(H1229),\"\")","v":""},null,null,null,null,null,null,null,null,null,2,0,null,"",{"$f":"ROWS($AC$4:AC1229)","v":1226},"",{"$f":"IFERROR(SMALL($AD$4:$AD$1642,ROWS($AD$4:AD1229)),\"\")","v":""},null,{"$f":"IFERROR(INDEX($A$4:$R$1642,$AE1229,COLUMNS($A:$B)),\"\")","v":""},{"$f":"IFERROR(INDEX($A$4:$R$1642,$AE1229,COLUMNS($A:$C)),\"\")","v":""},{"$f":"IFERROR(INDEX($A$4:$R$1642,$AE1229,COLUMNS($A:$R)),\"\")","v":""},null,"","","","",null,null,null,153]
[null,null,null,"",null,null,null,null,"","",null,{"$f":"IF(E1230>0,\" (p/u) \"&Modulo2.GetFormula(E1230),\"\")","v":""},{"$f":"IF(F1230>0,\" (lu) \"&Modulo2.GetFormula(F1230),\"\")","v":""},{"$f":"IF(G1230>0,\" (la) \"&Modulo2.GetFormula(G1230),\"\")","v":""},{"$f":"IF(H1230>0,\" (H) \"&Modulo2.GetFormula(H1230),\"\")","v":""},null,null,null,null,null,null,null,null,null,2,0,null,"",{"$f":"ROWS($AC$4:AC1230)","v":1227},"",{"$f":"IFERROR(SMALL($AD$4:$AD$1642,ROWS($AD$4:AD1230)),\"\")","v":""},null,{"$f":"IFERROR(INDEX($A$4:$R$1642,$AE1230,COLUMNS($A:$B)),\"\")","v":""},{"$f":"IFERROR(INDEX($A$4:$R$1642,$AE1230,COLUMNS($A:$C)),\"\")","v":""},{"$f":"IFERROR(INDEX($A$4:$R$1642,$AE1230,COLUMNS($A:$R)),\"\")","v":""},null,"","","","",null,null,null,153]
[null,null,null,null,null,null,null,{"$f":"CONCATENATE(\"SOMMANO [\",VLOOKUP(B1227,'Elenco Prezzi2'!$A$2:$E$201,3,FALSE()),\"]\")","v":{"$error":"#N/A"}},{"$f":"IF(T1231=\"s\",V1232,SUBTOTAL(9,I1227:I1231))","v":{"$error":"#REF!"}},null,{"$f":"VLOOKUP(B1227,'Elenco Prezzi2'!$A$2:$E$201,5,FALSE)","v":{"$error":"#N/A"}},null,null,null,null,null,null,{"$f":"IFERROR(I1231*K1231,\"\")","v":""},null,"s",null,null,null,{"$f":"R1231","v":""},2,0,null,"",{"$f":"ROWS($AC$4:AC1231)","v":1228},"",{"$f":"IFERROR(SMALL($AD$4:$AD$1642,ROWS($AD$4:AD1231)),\"\")","v":""},null,{"$f":"IFERROR(INDEX($A$4:$R$1642,$AE1231,COLUMNS($A:$B)),\"\")","v":""},{"$f":"IFERROR(INDEX($A$4:$R$1642,$AE1231,COLUMNS($A:$C)),\"\")","v":""},{"$f":"IFERROR(INDEX($A$4:$R$1642,$AE1231,COLUMNS($A:$R)),\"\")","v":""},null,null,null,null,null,null,null,null,153]
[null,null,null,null,null,null,null,{"$f":"IF(I1232<0,\"a detrarre\",\"\")","v":""},{"$f":"SUMIF(I1227:I1230,\"<0\")","v":0},null,null,null,null,null,null,null,null,null,{"$f":"R1231","v":""},null,null,{"$f":"VLOOKUP(B1227,#REF!,4,FALSE)","v":{"$error":"#REF!"}},null,null,2,0,null,"",{"$f":"ROWS($AC$4:AC1232)","v":1229},"",{"$f":"IFERROR(SMALL($AD$4:$AD$1642,ROWS($AD$4:AD1232)),\"\")","v":""},null,{"$f":"IFERROR(INDEX($A$4:$R$1642,$AE1232,COLUMNS($A:$B)),\"\")","v":""},{"$f":"IFERROR(INDEX($A$4:$R$1642,$AE1232,COLUMNS($A:$C)),\"\")","v":""},{"$f":"IFERROR(INDEX($A$4:$R$1642,$AE1232,COLUMNS($A:$R)),\"\")","v":""},null,null,null,null,null,null,null,null,153]
[null,null,null,null,null,null,null,null,null,null,null,null,null,null,null,null,null,null,null,null,null,null,null,null,2,0,null,"",{"$f":"ROWS($AC$4:AC1233)","v":1230},"",{"$f":"IFERROR(SMALL($AD$4:$AD$1642,ROWS($AD$4:AD1233)),\"\")","v":""},null,{"$f":"IFERROR(INDEX($A$4:$R$1642,$AE1233,COLUMNS($A:$B)),\"\")","v":""},{"$f":"IFERROR(INDEX($A$4:$R$1642,$AE1233,COLUMNS($A:$C)),\"\")","v":""},{"$f":"IFERROR(INDEX($A$4:$R$1642,$AE1233,COLUMNS($A:$R)),\"\")","v":""},null,null,null,null,null,null,null,null,153]
[null,null,null,null,null,null,null,null,null,null,null,null,null,null,null,null,null,null,null,null,null,null,null,null,2,0,null,"",{"$f":"ROWS($AC$4:AC1234)","v":1231},"",{"$f":"IFERROR(SMALL($AD$4:$AD$1642,ROWS($AD$4:AD1234)),\"\")","v":""},null,{"$f":"IFERROR(INDEX($A$4:$R$1642,$AE1234,COLUMNS($A:$B)),\"\")","v":""},{"$f":"IFERROR(INDEX($A$4:$R$1642,$AE1234,COLUMNS($A:$C)),\"\")","v":""},{"$f":"IFERROR(INDEX($A$4:$R$1642,$AE1234,COLUMNS($A:$R)),\"\")","v":""},null,null,null,null,null,null,null,null,153]
[{"$f":"AR1235","v":154},null,{"$f":"(VLOOKUP($B1235,'Elenco Prezzi2'!$A$2:$E$201,2,FALSE))","v":{"$error":"#N/A"}},null,null,null,null,null,null,null,null,null,null,null,null,null,null,null,null,null,null,null,null,null,2,0,null,"",{"$f":"ROWS($AC$4:AC1235)","v":1232},"",{"$f":"IFERROR(SMALL($AD$4:$AD$1642,ROWS($AD$4:AD1235)),\"\")","v":""},null,{"$f":"IFERROR(INDEX($A$4:$R$1642,$AE1235,COLUMNS($A:$B)),\"\")","v":""},{"$f":"IFERROR(INDEX($A$4:$R$1642,$AE1235,COLUMNS($A:$C)),\"\")","v":""},{"$f":"IFERROR(INDEX($A$4:$R$1642,$AE1235,COLUMNS($A:$R)),\"\")","v":""},null,null,null,null,null,null,null,1,154]
[null,null,null,{"$f":"CONCATENATE(AK1236&AL1236&AM1236&AN1236)","v":""},null,null,null,null,{"$f":"IFERROR(IF(PRODUCT(E1236:H1236)=0,\"\",PRODUCT(E1236:H1236)),\"\")","v":""},{"$f":"I1236","v":""},null,{"$f":"IF(E1236>0,\" (p/u) \"&Modulo2.GetFormula(E1236),\"\")","v":""},{"$f":"IF(F1236>0,\" (lu) \"&Modulo2.GetFormula(F1236),\"\")","v":""},{"$f":"IF(G1236>0,\" (la) \"&Modulo2.GetFormula(G1236),\"\")","v":""},{"$f":"IF(H1236>0,\" (H) \"&Modulo2.GetFormula(H1236),\"\")","v":""},null,null,null,null,null,null,null,null,null,2,0,null,"",{"$f":"ROWS($AC$4:AC1236)","v":1233},"",{"$f":"IFERROR(SMALL($AD$4:$AD$1642,ROWS($AD$4:AD1236)),\"\")","v":""},null,{"$f":"IFERROR(INDEX($A$4:$R$1642,$AE1236,COLUMNS($A:$B)),\"\")","v":""},{"$f":"IFERROR(INDEX($A$4:$R$1642,$AE1236,COLUMNS($A:$C)),\"\")","v":""},{"$f":"IFERROR(INDEX($A$4:$R$1642,$AE1236,COLUMNS($A:$R)),\"\")","v":""},null,{"$f":"IFERROR(IF(SEARCH(\"=\",L1236),L1236,\"\"),\"\")","v":""},{"$f":"IFERROR(IF(SEARCH(\"=\",M1236),M1236,\"\"),\"\")","v":""},{"$f":"IFERROR(IF(SEARCH(\"=\",N1236),N1236,\"\"),\"\")","v":""},{"$f":"IFERROR(IF(SEARCH(\"=\",O1236),O1236,\"\"),\"\")","v":""},null,null,null,154]
[null,null,null,"",null,null,null,null,"","",null,{"$f":"IF(E1237>0,\" (p/u) \"&Modulo2.GetFormula(E1237),\"\")","v":""},{"$f":"IF(F1237>0,\" (lu) \"&Modulo2.GetFormula(F1237),\"\")","v":""},{"$f":"IF(G1237>0,\" (la) \"&Modulo2.GetFormula(G1237),\"\")","v":""},{"$f":"IF(H1237>0,\" (H) \"&Modulo2.GetFormula(H1237),\"\")","v":""},null,null,null,null,null,null,null,null,null,2,0,null,"",{"$f":"ROWS($AC$4:AC1237)","v":1234},"",{"$f":"IFERROR(SMALL($AD$4:$AD$1642,ROWS($AD$4:AD1237)),\"\")","v":""},null,{"$f":"IFERROR(INDEX($A$4:$R$1642,$AE1237,COLUMNS($A:$B)),\"\")","v":""},{"$f":"IFERROR(INDEX($A$4:$R$1642,$AE1237,COLUMNS($A:$C)),\"\")","v":""},{"$f":"IFERROR(INDEX($A$4:$R$1642,$AE1237,COLUMNS($A:$R)),\"\")","v":""},null,"","","","",null,null,null,154]
[null,null,null,"",null,null,null,null,"","",null,{"$f":"IF(E1238>0,\" (p/u) \"&Modulo2.GetFormula(E1238),\"\")","v":""},{"$f":"IF(F1238>0,\" (lu) \"&Modulo2.GetFormula(F1238),\"\")","v":""},{"$f":"IF(G1238>0,\" (la) \"&Modulo2.GetFormula(G1238),\"\")","v":""},{"$f":"IF(H1238>0,\" (H) \"&Modulo2.GetFormula(H1238),\"\")","v":""},null,null,null,null,null,null,null,null,null,2,0,null,"",{"$f":"ROWS($AC$4:AC1238)","v":1235},"",{"$f":"IFERROR(SMALL($AD$4:$AD$1642,ROWS($AD$4:AD1238)),\"\")","v":""},null,{"$f":"IFERROR(INDEX($A$4:$R$1642,$AE1238,COLUMNS($A:$B)),\"\")","v":""},{"$f":"IFERROR(INDEX($A$4:$R$1642,$AE1238,COLUMNS($A:$C)),\"\")","v":""},{"$f":"IFERROR(INDEX($A$4:$R$1642,$AE1238,COLUMNS($A:$R)),\"\")","v":""},null,"","","","",null,null,null,154]
[null,null,null,null,null,null,null,{"$f":"CONCATENATE(\"SOMMANO [\",VLOOKUP(B1235,'Elenco Prezzi2'!$A$2:$E$201,3,FALSE()),\"]\")","v":{"$error":"#N/A"}},{"$f":"IF(T1239=\"s\",V1240,SUBTOTAL(9,I1235:I1239))","v":{"$error":"#REF!"}},null,{"$f":"VLOOKUP(B1235,'Elenco Prezzi2'!$A$2:$E$201,5,FALSE)","v":{"$error":"#N/A"}},null,null,null,null,null,null,{"$f":"IFERROR(I1239*K1239,\"\")","v":""},null,"s",null,null,null,{"$f":"R1239","v":""},2,0,null,"",{"$f":"ROWS($AC$4:AC1239)","v":1236},"",{"$f":"IFERROR(SMALL($AD$4:$AD$1642,ROWS($AD$4:AD1239)),\"\")","v":""},null,{"$f":"IFERROR(INDEX($A$4:$R$1642,$AE1239,COLUMNS($A:$B)),\"\")","v":""},{"$f":"IFERROR(INDEX($A$4:$R$1642,$AE1239,COLUMNS($A:$C)),\"\")","v":""},{"$f":"IFERROR(INDEX($A$4:$R$1642,$AE1239,COLUMNS($A:$R)),\"\")","v":""},null,null,null,null,null,null,null,null,154]
[null,null,null,null,null,null,null,{"$f":"IF(I1240<0,\"a detrarre\",\"\")","v":""},{"$f":"SUMIF(I1235:I1238,\"<0\")","v":0},null,null,null,null,null,null,null,null,null,{"$f":"R1239","v":""},null,null,{"$f":"VLOOKUP(B1235,#REF!,4,FALSE)","v":{"$error":"#REF!"}},null,null,2,0,null,"",{"$f":"ROWS($AC$4:AC1240)","v":1237},"",{"$f":"IFERROR(SMALL($AD$4:$AD$1642,ROWS($AD$4:AD1240)),\"\")","v":""},null,{"$f":"IFERROR(INDEX($A$4:$R$1642,$AE1240,COLUMNS($A:$B)),\"\")","v":""},{"$f":"IFERROR(INDEX($A$4:$R$1642,$AE1240,COLUMNS($A:$C)),\"\")","v":""},{"$f":"IFERROR(INDEX($A$4:$R$1642,$AE1240,COLUMNS($A:$R)),\"\")","v":""},null,null,null,null,null,null,null,null,154]
[null,null,null,null,null,null,null,null,null,null,null,null,null,null,null,null,null,null,null,null,null,null,null,null,2,0,null,"",{"$f":"ROWS($AC$4:AC1241)","v":1238},"",{"$f":"IFERROR(SMALL($AD$4:$AD$1642,ROWS($AD$4:AD1241)),\"\")","v":""},null,{"$f":"IFERROR(INDEX($A$4:$R$1642,$AE1241,COLUMNS($A:$B)),\"\")","v":""},{"$f":"IFERROR(INDEX($A$4:$R$1642,$AE1241,COLUMNS($A:$C)),\"\")","v":""},{"$f":"IFERROR(INDEX($A$4:$R$1642,$AE1241,COLUMNS($A:$R)),\"\")","v":""},null,null,null,null,null,null,null,null,154]
[null,null,null,null,null,null,null,null,null,null,null,null,null,null,null,null,null,null,null,null,null,null,null,null,2,0,null,"",{"$f":"ROWS($AC$4:AC1242)","v":1239},"",{"$f":"IFERROR(SMALL($AD$4:$AD$1642,ROWS($AD$4:AD1242)),\"\")","v":""},null,{"$f":"IFERROR(INDEX($A$4:$R$1642,$AE1242,COLUMNS($A:$B)),\"\")","v":""},{"$f":"IFERROR(INDEX($A$4:$R$1642,$AE1242,COLUMNS($A:$C)),\"\")","v":""},{"$f":"IFERROR(INDEX($A$4:$R$1642,$AE1242,COLUMNS($A:$R)),\"\")","v":""},null,null,null,null,null,null,null,null,154]
[{"$f":"AR1243","v":155},null,{"$f":"(VLOOKUP($B1243,'Elenco Prezzi2'!$A$2:$E$201,2,FALSE))","v":{"$error":"#N/A"}},null,null,null,null,null,null,null,null,null,null,null,null,null,null,null,null,null,null,null,null,null,2,0,null,"",{"$f":"ROWS($AC$4:AC1243)","v":1240},"",{"$f":"IFERROR(SMALL($AD$4:$AD$1642,ROWS($AD$4:AD1243)),\"\")","v":""},null,{"$f":"IFERROR(INDEX($A$4:$R$1642,$AE1243,COLUMNS($A:$B)),\"\")","v":""},{"$f":"IFERROR(INDEX($A$4:$R$1642,$AE1243,COLUMNS($A:$C)),\"\")","v":""},{"$f":"IFERROR(INDEX($A$4:$R$1642,$AE1243,COLUMNS($A:$R)),\"\")","v":""},null,null,null,null,null,null,null,1,155]
[null,null,null,{"$f":"CONCATENATE(AK1244&AL1244&AM1244&AN1244)","v":""},null,null,null,null,{"$f":"IFERROR(IF(PRODUCT(E1244:H1244)=0,\"\",PRODUCT(E1244:H1244)),\"\")","v":""},{"$f":"I1244","v":""},null,{"$f":"IF(E1244>0,\" (p/u) \"&Modulo2.GetFormula(E1244),\"\")","v":""},{"$f":"IF(F1244>0,\" (lu) \"&Modulo2.GetFormula(F1244),\"\")","v":""},{"$f":"IF(G1244>0,\" (la) \"&Modulo2.GetFormula(G1244),\"\")","v":""},{"$f":"IF(H1244>0,\" (H) \"&Modulo2.GetFormula(H1244),\"\")","v":""},null,null,null,null,null,null,null,null,null,2,0,null,"",{"$f":"ROWS($AC$4:AC1244)","v":1241},"",{"$f":"IFERROR(SMALL($AD$4:$AD$1642,ROWS($AD$4:AD1244)),\"\")","v":""},null,{"$f":"IFERROR(INDEX($A$4:$R$1642,$AE1244,COLUMNS($A:$B)),\"\")","v":""},{"$f":"IFERROR(INDEX($A$4:$R$1642,$AE1244,COLUMNS($A:$C)),\"\")","v":""},{"$f":"IFERROR(INDEX($A$4:$R$1642,$AE1244,COLUMNS($A:$R)),\"\")","v":""},null,{"$f":"IFERROR(IF(SEARCH(\"=\",L1244),L1244,\"\"),\"\")","v":""},{"$f":"IFERROR(IF(SEARCH(\"=\",M1244),M1244,\"\"),\"\")","v":""},{"$f":"IFERROR(IF(SEARCH(\"=\",N1244),N1244,\"\"),\"\")","v":""},{"$f":"IFERROR(IF(SEARCH(\"=\",O1244),O1244,\"\"),\"\")","v":""},null,null,null,155]
[null,null,null,"",null,null,null,null,"","",null,{"$f":"IF(E1245>0,\" (p/u) \"&Modulo2.GetFormula(E1245),\"\")","v":""},{"$f":"IF(F1245>0,\" (lu) \"&Modulo2.GetFormula(F1245),\"\")","v":""},{"$f":"IF(G1245>0,\" (la) \"&Modulo2.GetFormula(G1245),\"\")","v":""},{"$f":"IF(H1245>0,\" (H) \"&Modulo2.GetFormula(H1245),\"\")","v":""},null,null,null,null,null,null,null,null,null,2,0,null,"",{"$f":"ROWS($AC$4:AC1245)","v":1242},"",{"$f":"IFERROR(SMALL($AD$4:$AD$1642,ROWS($AD$4:AD1245)),\"\")","v":""},null,{"$f":"IFERROR(INDEX($A$4:$R$1642,$AE1245,COLUMNS($A:$B)),\"\")","v":""},{"$f":"IFERROR(INDEX($A$4:$R$1642,$AE1245,COLUMNS($A:$C)),\"\")","v":""},{"$f":"IFERROR(INDEX($A$4:$R$1642,$AE1245,COLUMNS($A:$R)),\"\")","v":""},null,"","","","",null,null,null,155]
[null,null,null,"",null,null,null,null,"","",null,{"$f":"IF(E1246>0,\" (p/u) \"&Modulo2.GetFormula(E1246),\"\")","v":""},{"$f":"IF(F1246>0,\" (lu) \"&Modulo2.GetFormula(F1246),\"\")","v":""},{"$f":"IF(G1246>0,\" (la) \"&Modulo2.GetFormula(G1246),\"\")","v":""},{"$f":"IF(H1246>0,\" (H) \"&Modulo2.GetFormula(H1246),\"\")","v":""},null,null,null,null,null,null,null,null,null,2,0,null,"",{"$f":"ROWS($AC$4:AC1246)","v":1243},"",{"$f":"IFERROR(SMALL($AD$4:$AD$1642,ROWS($AD$4:AD1246)),\"\")","v":""},null,{"$f":"IFERROR(INDEX($A$4:$R$1642,$AE1246,COLUMNS($A:$B)),\"\")","v":""},{"$f":"IFERROR(INDEX($A$4:$R$1642,$AE1246,COLUMNS($A:$C)),\"\")","v":""},{"$f":"IFERROR(INDEX($A$4:$R$1642,$AE1246,COLUMNS($A:$R)),\"\")","v":""},null,"","","","",null,null,null,155]
[null,null,null,null,null,null,null,{"$f":"CONCATENATE(\"SOMMANO [\",VLOOKUP(B1243,'Elenco Prezzi2'!$A$2:$E$201,3,FALSE()),\"]\")","v":{"$error":"#N/A"}},{"$f":"IF(T1247=\"s\",V1248,SUBTOTAL(9,I1243:I1247))","v":{"$error":"#REF!"}},null,{"$f":"VLOOKUP(B1243,'Elenco Prezzi2'!$A$2:$E$201,5,FALSE)","v":{"$error":"#N/A"}},null,null,null,null,null,null,{"$f":"IFERROR(I1247*K1247,\"\")","v":""},null,"s",null,null,null,{"$f":"R1247","v":""},2,0,null,"",{"$f":"ROWS($AC$4:AC1247)","v":1244},"",{"$f":"IFERROR(SMALL($AD$4:$AD$1642,ROWS($AD$4:AD1247)),\"\")","v":""},null,{"$f":"IFERROR(INDEX($A$4:$R$1642,$AE1247,COLUMNS($A:$B)),\"\")","v":""},{"$f":"IFERROR(INDEX($A$4:$R$1642,$AE1247,COLUMNS($A:$C)),\"\")","v":""},{"$f":"IFERROR(INDEX($A$4:$R$1642,$AE1247,COLUMNS($A:$R)),\"\")","v":""},null,null,null,null,null,null,null,null,155]
[null,null,null,null,null,null,null,{"$f":"IF(I1248<0,\"a detrarre\",\"\")","v":""},{"$f":"SUMIF(I1243:I1246,\"<0\")","v":0},null,null,null,null,null,null,null,null,null,{"$f":"R1247","v":""},null,null,{"$f":"VLOOKUP(B1243,#REF!,4,FALSE)","v":{"$error":"#REF!"}},null,null,2,0,null,"",{"$f":"ROWS($AC$4:AC1248)","v":1245},"",{"$f":"IFERROR(SMALL($AD$4:$AD$1642,ROWS($AD$4:AD1248)),\"\")","v":""},null,{"$f":"IFERROR(INDEX($A$4:$R$1642,$AE1248,COLUMNS($A:$B)),\"\")","v":""},{"$f":"IFERROR(INDEX($A$4:$R$1642,$AE1248,COLUMNS($A:$C)),\"\")","v":""},{"$f":"IFERROR(INDEX($A$4:$R$1642,$AE1248,COLUMNS($A:$R)),\"\")","v":""},null,null,null,null,null,null,null,null,155]
[null,null,null,null,null,null,null,null,null,null,null,null,null,null,null,null,null,null,null,null,null,null,null,null,2,0,null,"",{"$f":"ROWS($AC$4:AC1249)","v":1246},"",{"$f":"IFERROR(SMALL($AD$4:$AD$1642,ROWS($AD$4:AD1249)),\"\")","v":""},null,{"$f":"IFERROR(INDEX($A$4:$R$1642,$AE1249,COLUMNS($A:$B)),\"\")","v":""},{"$f":"IFERROR(INDEX($A$4:$R$1642,$AE1249,COLUMNS($A:$C)),\"\")","v":""},{"$f":"IFERROR(INDEX($A$4:$R$1642,$AE1249,COLUMNS($A:$R)),\"\")","v":""},null,null,null,null,null,null,null,null,155]
[null,null,null,null,null,null,null,null,null,null,null,null,null,null,null,null,null,null,null,null,null,null,null,null,2,0,null,"",{"$f":"ROWS($AC$4:AC1250)","v":1247},"",{"$f":"IFERROR(SMALL($AD$4:$AD$1642,ROWS($AD$4:AD1250)),\"\")","v":""},null,{"$f":"IFERROR(INDEX($A$4:$R$1642,$AE1250,COLUMNS($A:$B)),\"\")","v":""},{"$f":"IFERROR(INDEX($A$4:$R$1642,$AE1250,COLUMNS($A:$C)),\"\")","v":""},{"$f":"IFERROR(INDEX($A$4:$R$1642,$AE1250,COLUMNS($A:$R)),\"\")","v":""},null,null,null,null,null,null,null,null,155]
[{"$f":"AR1251","v":156},null,{"$f":"(VLOOKUP($B1251,'Elenco Prezzi2'!$A$2:$E$201,2,FALSE))","v":{"$error":"#N/A"}},null,null,null,null,null,null,null,null,null,null,null,null,null,null,null,null,null,null,null,null,null,2,0,null,{"$f":"IF(W1251>0,\"OK\",\"\")","v":""},{"$f":"ROWS($AC$4:AC1251)","v":1248},{"$f":"IF(AB1251=\"ok\",AC1251,\"\")","v":""},{"$f":"IFERROR(SMALL($AD$4:$AD$1642,ROWS($AD$4:AD1251)),\"\")","v":""},null,{"$f":"IFERROR(INDEX($A$4:$R$1642,$AE1251,COLUMNS($A:$B)),\"\")","v":""},{"$f":"IFERROR(INDEX($A$4:$R$1642,$AE1251,COLUMNS($A:$C)),\"\")","v":""},{"$f":"IFERROR(INDEX($A$4:$R$1642,$AE1251,COLUMNS($A:$R)),\"\")","v":""},null,null,null,null,null,null,null,1,{"$f":"IF(AQ1251=\"\",AR1250,AR1250+AQ1251)","v":156}]
[null,null,null,{"$f":"CONCATENATE(AK1252&AL1252&AM1252&AN1252)","v":""},null,null,null,null,{"$f":"IFERROR(IF(PRODUCT(E1252:H1252)=0,\"\",PRODUCT(E1252:H1252)),\"\")","v":""},{"$f":"I1252","v":""},null,{"$f":"IF(E1252>0,\" (p/u) \"&Modulo2.GetFormula(E1252),\"\")","v":""},{"$f":"IF(F1252>0,\" (lu) \"&Modulo2.GetFormula(F1252),\"\")","v":""},{"$f":"IF(G1252>0,\" (la) \"&Modulo2.GetFormula(G1252),\"\")","v":""},{"$f":"IF(H1252>0,\" (H) \"&Modulo2.GetFormula(H1252),\"\")","v":""},null,null,null,null,null,null,null,null,null,{"$f":"IF(AO1252=\"\",Y1251,Y1251+AO1252)","v":2},{"$f":"IF(AP1252=\"\",Z1251,Z1251+AP1252)","v":0},null,"",{"$f":"ROWS($AC$4:AC1252)","v":1249},"",{"$f":"IFERROR(SMALL($AD$4:$AD$1642,ROWS($AD$4:AD1252)),\"\")","v":""},null,{"$f":"IFERROR(INDEX($A$4:$R$1642,$AE1252,COLUMNS($A:$B)),\"\")","v":""},{"$f":"IFERROR(INDEX($A$4:$R$1642,$AE1252,COLUMNS($A:$C)),\"\")","v":""},{"$f":"IFERROR(INDEX($A$4:$R$1642,$AE1252,COLUMNS($A:$R)),\"\")","v":""},null,{"$f":"IFERROR(IF(SEARCH(\"=\",L1252),L1252,\"\"),\"\")","v":""},{"$f":"IFERROR(IF(SEARCH(\"=\",M1252),M1252,\"\"),\"\")","v":""},{"$f":"IFERROR(IF(SEARCH(\"=\",N1252),N1252,\"\"),\"\")","v":""},{"$f":"IFERROR(IF(SEARCH(\"=\",O1252),O1252,\"\"),\"\")","v":""},null,null,null,156]
[null,null,null,"",null,null,null,null,"","",null,{"$f":"IF(E1253>0,\" (p/u) \"&Modulo2.GetFormula(E1253),\"\")","v":""},{"$f":"IF(F1253>0,\" (lu) \"&Modulo2.GetFormula(F1253),\"\")","v":""},{"$f":"IF(G1253>0,\" (la) \"&Modulo2.GetFormula(G1253),\"\")","v":""},{"$f":"IF(H1253>0,\" (H) \"&Modulo2.GetFormula(H1253),\"\")","v":""},null,null,null,null,null,null,null,null,null,2,0,null,"",{"$f":"ROWS($AC$4:AC1253)","v":1250},"",{"$f":"IFERROR(SMALL($AD$4:$AD$1642,ROWS($AD$4:AD1253)),\"\")","v":""},null,{"$f":"IFERROR(INDEX($A$4:$R$1642,$AE1253,COLUMNS($A:$B)),\"\")","v":""},{"$f":"IFERROR(INDEX($A$4:$R$1642,$AE1253,COLUMNS($A:$C)),\"\")","v":""},{"$f":"IFERROR(INDEX($A$4:$R$1642,$AE1253,COLUMNS($A:$R)),\"\")","v":""},null,"","","","",null,null,null,156]
[null,null,null,"",null,null,null,null,"","",null,{"$f":"IF(E1254>0,\" (p/u) \"&Modulo2.GetFormula(E1254),\"\")","v":""},{"$f":"IF(F1254>0,\" (lu) \"&Modulo2.GetFormula(F1254),\"\")","v":""},{"$f":"IF(G1254>0,\" (la) \"&Modulo2.GetFormula(G1254),\"\")","v":""},{"$f":"IF(H1254>0,\" (H) \"&Modulo2.GetFormula(H1254),\"\")","v":""},null,null,null,null,null,null,null,null,null,2,0,null,"",{"$f":"ROWS($AC$4:AC1254)","v":1251},"",{"$f":"IFERROR(SMALL($AD$4:$AD$1642,ROWS($AD$4:AD1254)),\"\")","v":""},null,{"$f":"IFERROR(INDEX($A$4:$R$1642,$AE1254,COLUMNS($A:$B)),\"\")","v":""},{"$f":"IFERROR(INDEX($A$4:$R$1642,$AE1254,COLUMNS($A:$C)),\"\")","v":""},{"$f":"IFERROR(INDEX($A$4:$R$1642,$AE1254,COLUMNS($A:$R)),\"\")","v":""},null,"","","","",null,null,null,156]
[null,null,null,null,null,null,null,{"$f":"CONCATENATE(\"SOMMANO [\",VLOOKUP(B1251,'Elenco Prezzi2'!$A$2:$E$201,3,FALSE()),\"]\")","v":{"$error":"#N/A"}},{"$f":"IF(T1255=\"s\",V1256,SUBTOTAL(9,I1251:I1255))","v":{"$error":"#REF!"}},null,{"$f":"VLOOKUP(B1251,'Elenco Prezzi2'!$A$2:$E$201,5,FALSE)","v":{"$error":"#N/A"}},null,null,null,null,null,null,{"$f":"IFERROR(I1255*K1255,\"\")","v":""},null,"s",null,null,null,{"$f":"R1255","v":""},2,0,null,"",{"$f":"ROWS($AC$4:AC1255)","v":1252},"",{"$f":"IFERROR(SMALL($AD$4:$AD$1642,ROWS($AD$4:AD1255)),\"\")","v":""},null,{"$f":"IFERROR(INDEX($A$4:$R$1642,$AE1255,COLUMNS($A:$B)),\"\")","v":""},{"$f":"IFERROR(INDEX($A$4:$R$1642,$AE1255,COLUMNS($A:$C)),\"\")","v":""},{"$f":"IFERROR(INDEX($A$4:$R$1642,$AE1255,COLUMNS($A:$R)),\"\")","v":""},null,null,null,null,null,null,null,null,156]
[null,null,null,null,null,null,null,{"$f":"IF(I1256<0,\"a detrarre\",\"\")","v":""},{"$f":"SUMIF(I1251:I1254,\"<0\")","v":0},null,null,null,null,null,null,null,null,null,{"$f":"R1255","v":""},null,null,{"$f":"VLOOKUP(B1251,#REF!,4,FALSE)","v":{"$error":"#REF!"}},null,null,2,0,null,"",{"$f":"ROWS($AC$4:AC1256)","v":1253},"",{"$f":"IFERROR(SMALL($AD$4:$AD$1642,ROWS($AD$4:AD1256)),\"\")","v":""},null,{"$f":"IFERROR(INDEX($A$4:$R$1642,$AE1256,COLUMNS($A:$B)),\"\")","v":""},{"$f":"IFERROR(INDEX($A$4:$R$1642,$AE1256,COLUMNS($A:$C)),\"\")","v":""},{"$f":"IFERROR(INDEX($A$4:$R$1642,$AE1256,COLUMNS($A:$R)),\"\")","v":""},null,null,null,null,null,null,null,null,156]
[null,null,null,null,null,null,null,null,null,null,null,null,null,null,null,null,null,null,null,null,null,null,null,null,2,0,null,"",{"$f":"ROWS($AC$4:AC1257)","v":1254},"",{"$f":"IFERROR(SMALL($AD$4:$AD$1642,ROWS($AD$4:AD1257)),\"\")","v":""},null,{"$f":"IFERROR(INDEX($A$4:$R$1642,$AE1257,COLUMNS($A:$B)),\"\")","v":""},{"$f":"IFERROR(INDEX($A$4:$R$1642,$AE1257,COLUMNS($A:$C)),\"\")","v":""},{"$f":"IFERROR(INDEX($A$4:$R$1642,$AE1257,COLUMNS($A:$R)),\"\")","v":""},null,null,null,null,null,null,null,null,156]
[null,null,null,null,null,null,null,null,null,null,null,null,null,null,null,null,null,null,null,null,null,null,null,null,2,0,null,"",{"$f":"ROWS($AC$4:AC1258)","v":1255},"",{"$f":"IFERROR(SMALL($AD$4:$AD$1642,ROWS($AD$4:AD1258)),\"\")","v":""},null,{"$f":"IFERROR(INDEX($A$4:$R$1642,$AE1258,COLUMNS($A:$B)),\"\")","v":""},{"$f":"IFERROR(INDEX($A$4:$R$1642,$AE1258,COLUMNS($A:$C)),\"\")","v":""},{"$f":"IFERROR(INDEX($A$4:$R$1642,$AE1258,COLUMNS($A:$R)),\"\")","v":""},null,null,null,null,null,null,null,null,156]
[{"$f":"AR1259","v":157},null,{"$f":"(VLOOKUP($B1259,'Elenco Prezzi2'!$A$2:$E$201,2,FALSE))","v":{"$error":"#N/A"}},null,null,null,null,null,null,null,null,null,null,null,null,null,null,null,null,null,null,null,null,null,2,0,null,"",{"$f":"ROWS($AC$4:AC1259)","v":1256},"",{"$f":"IFERROR(SMALL($AD$4:$AD$1642,ROWS($AD$4:AD1259)),\"\")","v":""},null,{"$f":"IFERROR(INDEX($A$4:$R$1642,$AE1259,COLUMNS($A:$B)),\"\")","v":""},{"$f":"IFERROR(INDEX($A$4:$R$1642,$AE1259,COLUMNS($A:$C)),\"\")","v":""},{"$f":"IFERROR(INDEX($A$4:$R$1642,$AE1259,COLUMNS($A:$R)),\"\")","v":""},null,null,null,null,null,null,null,1,157]
[null,null,null,{"$f":"CONCATENATE(AK1260&AL1260&AM1260&AN1260)","v":""},null,null,null,null,{"$f":"IFERROR(IF(PRODUCT(E1260:H1260)=0,\"\",PRODUCT(E1260:H1260)),\"\")","v":""},{"$f":"I1260","v":""},null,{"$f":"IF(E1260>0,\" (p/u) \"&Modulo2.GetFormula(E1260),\"\")","v":""},{"$f":"IF(F1260>0,\" (lu) \"&Modulo2.GetFormula(F1260),\"\")","v":""},{"$f":"IF(G1260>0,\" (la) \"&Modulo2.GetFormula(G1260),\"\")","v":""},{"$f":"IF(H1260>0,\" (H) \"&Modulo2.GetFormula(H1260),\"\")","v":""},null,null,null,null,null,null,null,null,null,2,0,null,"",{"$f":"ROWS($AC$4:AC1260)","v":1257},"",{"$f":"IFERROR(SMALL($AD$4:$AD$1642,ROWS($AD$4:AD1260)),\"\")","v":""},null,{"$f":"IFERROR(INDEX($A$4:$R$1642,$AE1260,COLUMNS($A:$B)),\"\")","v":""},{"$f":"IFERROR(INDEX($A$4:$R$1642,$AE1260,COLUMNS($A:$C)),\"\")","v":""},{"$f":"IFERROR(INDEX($A$4:$R$1642,$AE1260,COLUMNS($A:$R)),\"\")","v":""},null,{"$f":"IFERROR(IF(SEARCH(\"=\",L1260),L1260,\"\"),\"\")","v":""},{"$f":"IFERROR(IF(SEARCH(\"=\",M1260),M1260,\"\"),\"\")","v":""},{"$f":"IFERROR(IF(SEARCH(\"=\",N1260),N1260,\"\"),\"\")","v":""},{"$f":"IFERROR(IF(SEARCH(\"=\",O1260),O1260,\"\"),\"\")","v":""},null,null,null,157]
[null,null,null,"",null,null,null,null,"","",null,{"$f":"IF(E1261>0,\" (p/u) \"&Modulo2.GetFormula(E1261),\"\")","v":""},{"$f":"IF(F1261>0,\" (lu) \"&Modulo2.GetFormula(F1261),\"\")","v":""},{"$f":"IF(G1261>0,\" (la) \"&Modulo2.GetFormula(G1261),\"\")","v":""},{"$f":"IF(H1261>0,\" (H) \"&Modulo2.GetFormula(H1261),\"\")","v":""},null,null,null,null,null,null,null,null,null,2,0,null,"",{"$f":"ROWS($AC$4:AC1261)","v":1258},"",{"$f":"IFERROR(SMALL($AD$4:$AD$1642,ROWS($AD$4:AD1261)),\"\")","v":""},null,{"$f":"IFERROR(INDEX($A$4:$R$1642,$AE1261,COLUMNS($A:$B)),\"\")","v":""},{"$f":"IFERROR(INDEX($A$4:$R$1642,$AE1261,COLUMNS($A:$C)),\"\")","v":""},{"$f":"IFERROR(INDEX($A$4:$R$1642,$AE1261,COLUMNS($A:$R)),\"\")","v":""},null,"","","","",null,null,null,157]
[null,null,null,"",null,null,null,null,"","",null,{"$f":"IF(E1262>0,\" (p/u) \"&Modulo2.GetFormula(E1262),\"\")","v":""},{"$f":"IF(F1262>0,\" (lu) \"&Modulo2.GetFormula(F1262),\"\")","v":""},{"$f":"IF(G1262>0,\" (la) \"&Modulo2.GetFormula(G1262),\"\")","v":""},{"$f":"IF(H1262>0,\" (H) \"&Modulo2.GetFormula(H1262),\"\")","v":""},null,null,null,null,null,null,null,null,null,2,0,null,"",{"$f":"ROWS($AC$4:AC1262)","v":1259},"",{"$f":"IFERROR(SMALL($AD$4:$AD$1642,ROWS($AD$4:AD1262)),\"\")","v":""},null,{"$f":"IFERROR(INDEX($A$4:$R$1642,$AE1262,COLUMNS($A:$B)),\"\")","v":""},{"$f":"IFERROR(INDEX($A$4:$R$1642,$AE1262,COLUMNS($A:$C)),\"\")","v":""},{"$f":"IFERROR(INDEX($A$4:$R$1642,$AE1262,COLUMNS($A:$R)),\"\")","v":""},null,"","","","",null,null,null,157]
[null,null,null,null,null,null,null,{"$f":"CONCATENATE(\"SOMMANO [\",VLOOKUP(B1259,'Elenco Prezzi2'!$A$2:$E$201,3,FALSE()),\"]\")","v":{"$error":"#N/A"}},{"$f":"IF(T1263=\"s\",V1264,SUBTOTAL(9,I1259:I1263))","v":{"$error":"#REF!"}},null,{"$f":"VLOOKUP(B1259,'Elenco Prezzi2'!$A$2:$E$201,5,FALSE)","v":{"$error":"#N/A"}},null,null,null,null,null,null,{"$f":"IFERROR(I1263*K1263,\"\")","v":""},null,"s",null,null,null,{"$f":"R1263","v":""},2,0,null,"",{"$f":"ROWS($AC$4:AC1263)","v":1260},"",{"$f":"IFERROR(SMALL($AD$4:$AD$1642,ROWS($AD$4:AD1263)),\"\")","v":""},null,{"$f":"IFERROR(INDEX($A$4:$R$1642,$AE1263,COLUMNS($A:$B)),\"\")","v":""},{"$f":"IFERROR(INDEX($A$4:$R$1642,$AE1263,COLUMNS($A:$C)),\"\")","v":""},{"$f":"IFERROR(INDEX($A$4:$R$1642,$AE1263,COLUMNS($A:$R)),\"\")","v":""},null,null,null,null,null,null,null,null,157]
[null,null,null,null,null,null,null,{"$f":"IF(I1264<0,\"a detrarre\",\"\")","v":""},{"$f":"SUMIF(I1259:I1262,\"<0\")","v":0},null,null,null,null,null,null,null,null,null,{"$f":"R1263","v":""},null,null,{"$f":"VLOOKUP(B1259,#REF!,4,FALSE)","v":{"$error":"#REF!"}},null,null,2,0,null,"",{"$f":"ROWS($AC$4:AC1264)","v":1261},"",{"$f":"IFERROR(SMALL($AD$4:$AD$1642,ROWS($AD$4:AD1264)),\"\")","v":""},null,{"$f":"IFERROR(INDEX($A$4:$R$1642,$AE1264,COLUMNS($A:$B)),\"\")","v":""},{"$f":"IFERROR(INDEX($A$4:$R$1642,$AE1264,COLUMNS($A:$C)),\"\")","v":""},{"$f":"IFERROR(INDEX($A$4:$R$1642,$AE1264,COLUMNS($A:$R)),\"\")","v":""},null,null,null,null,null,null,null,null,157]
[null,null,null,null,null,null,null,null,null,null,null,null,null,null,null,null,null,null,null,null,null,null,null,null,2,0,null,"",{"$f":"ROWS($AC$4:AC1265)","v":1262},"",{"$f":"IFERROR(SMALL($AD$4:$AD$1642,ROWS($AD$4:AD1265)),\"\")","v":""},null,{"$f":"IFERROR(INDEX($A$4:$R$1642,$AE1265,COLUMNS($A:$B)),\"\")","v":""},{"$f":"IFERROR(INDEX($A$4:$R$1642,$AE1265,COLUMNS($A:$C)),\"\")","v":""},{"$f":"IFERROR(INDEX($A$4:$R$1642,$AE1265,COLUMNS($A:$R)),\"\")","v":""},null,null,null,null,null,null,null,null,157]
[null,null,null,null,null,null,null,null,null,null,null,null,null,null,null,null,null,null,null,null,null,null,null,null,2,0,null,"",{"$f":"ROWS($AC$4:AC1266)","v":1263},"",{"$f":"IFERROR(SMALL($AD$4:$AD$1642,ROWS($AD$4:AD1266)),\"\")","v":""},null,{"$f":"IFERROR(INDEX($A$4:$R$1642,$AE1266,COLUMNS($A:$B)),\"\")","v":""},{"$f":"IFERROR(INDEX($A$4:$R$1642,$AE1266,COLUMNS($A:$C)),\"\")","v":""},{"$f":"IFERROR(INDEX($A$4:$R$1642,$AE1266,COLUMNS($A:$R)),\"\")","v":""},null,null,null,null,null,null,null,null,157]
[{"$f":"AR1267","v":158},null,{"$f":"(VLOOKUP($B1267,'Elenco Prezzi2'!$A$2:$E$201,2,FALSE))","v":{"$error":"#N/A"}},null,null,null,null,null,null,null,null,null,null,null,null,null,null,null,null,null,null,null,null,null,2,0,null,"",{"$f":"ROWS($AC$4:AC1267)","v":1264},"",{"$f":"IFERROR(SMALL($AD$4:$AD$1642,ROWS($AD$4:AD1267)),\"\")","v":""},null,{"$f":"IFERROR(INDEX($A$4:$R$1642,$AE1267,COLUMNS($A:$B)),\"\")","v":""},{"$f":"IFERROR(INDEX($A$4:$R$1642,$AE1267,COLUMNS($A:$C)),\"\")","v":""},{"$f":"IFERROR(INDEX($A$4:$R$1642,$AE1267,COLUMNS($A:$R)),\"\")","v":""},null,null,null,null,null,null,null,1,158]
[null,null,null,{"$f":"CONCATENATE(AK1268&AL1268&AM1268&AN1268)","v":""},null,null,null,null,{"$f":"IFERROR(IF(PRODUCT(E1268:H1268)=0,\"\",PRODUCT(E1268:H1268)),\"\")","v":""},{"$f":"I1268","v":""},null,{"$f":"IF(E1268>0,\" (p/u) \"&Modulo2.GetFormula(E1268),\"\")","v":""},{"$f":"IF(F1268>0,\" (lu) \"&Modulo2.GetFormula(F1268),\"\")","v":""},{"$f":"IF(G1268>0,\" (la) \"&Modulo2.GetFormula(G1268),\"\")","v":""},{"$f":"IF(H1268>0,\" (H) \"&Modulo2.GetFormula(H1268),\"\")","v":""},null,null,null,null,null,null,null,null,null,2,0,null,"",{"$f":"ROWS($AC$4:AC1268)","v":1265},"",{"$f":"IFERROR(SMALL($AD$4:$AD$1642,ROWS($AD$4:AD1268)),\"\")","v":""},null,{"$f":"IFERROR(INDEX($A$4:$R$1642,$AE1268,COLUMNS($A:$B)),\"\")","v":""},{"$f":"IFERROR(INDEX($A$4:$R$1642,$AE1268,COLUMNS($A:$C)),\"\")","v":""},{"$f":"IFERROR(INDEX($A$4:$R$1642,$AE1268,COLUMNS($A:$R)),\"\")","v":""},null,{"$f":"IFERROR(IF(SEARCH(\"=\",L1268),L1268,\"\"),\"\")","v":""},{"$f":"IFERROR(IF(SEARCH(\"=\",M1268),M1268,\"\"),\"\")","v":""},{"$f":"IFERROR(IF(SEARCH(\"=\",N1268),N1268,\"\"),\"\")","v":""},{"$f":"IFERROR(IF(SEARCH(\"=\",O1268),O1268,\"\"),\"\")","v":""},null,null,null,158]
[null,null,null,"",null,null,null,null,"","",null,{"$f":"IF(E1269>0,\" (p/u) \"&Modulo2.GetFormula(E1269),\"\")","v":""},{"$f":"IF(F1269>0,\" (lu) \"&Modulo2.GetFormula(F1269),\"\")","v":""},{"$f":"IF(G1269>0,\" (la) \"&Modulo2.GetFormula(G1269),\"\")","v":""},{"$f":"IF(H1269>0,\" (H) \"&Modulo2.GetFormula(H1269),\"\")","v":""},null,null,null,null,null,null,null,null,null,2,0,null,"",{"$f":"ROWS($AC$4:AC1269)","v":1266},"",{"$f":"IFERROR(SMALL($AD$4:$AD$1642,ROWS($AD$4:AD1269)),\"\")","v":""},null,{"$f":"IFERROR(INDEX($A$4:$R$1642,$AE1269,COLUMNS($A:$B)),\"\")","v":""},{"$f":"IFERROR(INDEX($A$4:$R$1642,$AE1269,COLUMNS($A:$C)),\"\")","v":""},{"$f":"IFERROR(INDEX($A$4:$R$1642,$AE1269,COLUMNS($A:$R)),\"\")","v":""},null,"","","","",null,null,null,158]
[null,null,null,"",null,null,null,null,"","",null,{"$f":"IF(E1270>0,\" (p/u) \"&Modulo2.GetFormula(E1270),\"\")","v":""},{"$f":"IF(F1270>0,\" (lu) \"&Modulo2.GetFormula(F1270),\"\")","v":""},{"$f":"IF(G1270>0,\" (la) \"&Modulo2.GetFormula(G1270),\"\")","v":""},{"$f":"IF(H1270>0,\" (H) \"&Modulo2.GetFormula(H1270),\"\")","v":""},null,null,null,null,null,null,null,null,null,2,0,null,"",{"$f":"ROWS($AC$4:AC1270)","v":1267},"",{"$f":"IFERROR(SMALL($AD$4:$AD$1642,ROWS($AD$4:AD1270)),\"\")","v":""},null,{"$f":"IFERROR(INDEX($A$4:$R$1642,$AE1270,COLUMNS($A:$B)),\"\")","v":""},{"$f":"IFERROR(INDEX($A$4:$R$1642,$AE1270,COLUMNS($A:$C)),\"\")","v":""},{"$f":"IFERROR(INDEX($A$4:$R$1642,$AE1270,COLUMNS($A:$R)),\"\")","v":""},null,"","","","",null,null,null,158]
[null,null,null,null,null,null,null,{"$f":"CONCATENATE(\"SOMMANO [\",VLOOKUP(B1267,'Elenco Prezzi2'!$A$2:$E$201,3,FALSE()),\"]\")","v":{"$error":"#N/A"}},{"$f":"IF(T1271=\"s\",V1272,SUBTOTAL(9,I1267:I1271))","v":{"$error":"#REF!"}},null,{"$f":"VLOOKUP(B1267,'Elenco Prezzi2'!$A$2:$E$201,5,FALSE)","v":{"$error":"#N/A"}},null,null,null,null,null,null,{"$f":"IFERROR(I1271*K1271,\"\")","v":""},null,"s",null,null,null,{"$f":"R1271","v":""},2,0,null,"",{"$f":"ROWS($AC$4:AC1271)","v":1268},"",{"$f":"IFERROR(SMALL($AD$4:$AD$1642,ROWS($AD$4:AD1271)),\"\")","v":""},null,{"$f":"IFERROR(INDEX($A$4:$R$1642,$AE1271,COLUMNS($A:$B)),\"\")","v":""},{"$f":"IFERROR(INDEX($A$4:$R$1642,$AE1271,COLUMNS($A:$C)),\"\")","v":""},{"$f":"IFERROR(INDEX($A$4:$R$1642,$AE1271,COLUMNS($A:$R)),\"\")","v":""},null,null,null,null,null,null,null,null,158]
[null,null,null,null,null,null,null,{"$f":"IF(I1272<0,\"a detrarre\",\"\")","v":""},{"$f":"SUMIF(I1267:I1270,\"<0\")","v":0},null,null,null,null,null,null,null,null,null,{"$f":"R1271","v":""},null,null,{"$f":"VLOOKUP(B1267,#REF!,4,FALSE)","v":{"$error":"#REF!"}},null,null,2,0,null,"",{"$f":"ROWS($AC$4:AC1272)","v":1269},"",{"$f":"IFERROR(SMALL($AD$4:$AD$1642,ROWS($AD$4:AD1272)),\"\")","v":""},null,{"$f":"IFERROR(INDEX($A$4:$R$1642,$AE1272,COLUMNS($A:$B)),\"\")","v":""},{"$f":"IFERROR(INDEX($A$4:$R$1642,$AE1272,COLUMNS($A:$C)),\"\")","v":""},{"$f":"IFERROR(INDEX($A$4:$R$1642,$AE1272,COLUMNS($A:$R)),\"\")","v":""},null,null,null,null,null,null,null,null,158]
[null,null,null,null,null,null,null,null,null,null,null,null,null,null,null,null,null,null,null,null,null,null,null,null,2,0,null,"",{"$f":"ROWS($AC$4:AC1273)","v":1270},"",{"$f":"IFERROR(SMALL($AD$4:$AD$1642,ROWS($AD$4:AD1273)),\"\")","v":""},null,{"$f":"IFERROR(INDEX($A$4:$R$1642,$AE1273,COLUMNS($A:$B)),\"\")","v":""},{"$f":"IFERROR(INDEX($A$4:$R$1642,$AE1273,COLUMNS($A:$C)),\"\")","v":""},{"$f":"IFERROR(INDEX($A$4:$R$1642,$AE1273,COLUMNS($A:$R)),\"\")","v":""},null,null,null,null,null,null,null,null,158]
[null,null,null,null,null,null,null,null,null,null,null,null,null,null,null,null,null,null,null,null,null,null,null,null,2,0,null,"",{"$f":"ROWS($AC$4:AC1274)","v":1271},"",{"$f":"IFERROR(SMALL($AD$4:$AD$1642,ROWS($AD$4:AD1274)),\"\")","v":""},null,{"$f":"IFERROR(INDEX($A$4:$R$1642,$AE1274,COLUMNS($A:$B)),\"\")","v":""},{"$f":"IFERROR(INDEX($A$4:$R$1642,$AE1274,COLUMNS($A:$C)),\"\")","v":""},{"$f":"IFERROR(INDEX($A$4:$R$1642,$AE1274,COLUMNS($A:$R)),\"\")","v":""},null,null,null,null,null,null,null,null,158]
[{"$f":"AR1275","v":159},null,{"$f":"(VLOOKUP($B1275,'Elenco Prezzi2'!$A$2:$E$201,2,FALSE))","v":{"$error":"#N/A"}},null,null,null,null,null,null,null,null,null,null,null,null,null,null,null,null,null,null,null,null,null,2,0,null,"",{"$f":"ROWS($AC$4:AC1275)","v":1272},"",{"$f":"IFERROR(SMALL($AD$4:$AD$1642,ROWS($AD$4:AD1275)),\"\")","v":""},null,{"$f":"IFERROR(INDEX($A$4:$R$1642,$AE1275,COLUMNS($A:$B)),\"\")","v":""},{"$f":"IFERROR(INDEX($A$4:$R$1642,$AE1275,COLUMNS($A:$C)),\"\")","v":""},{"$f":"IFERROR(INDEX($A$4:$R$1642,$AE1275,COLUMNS($A:$R)),\"\")","v":""},null,null,null,null,null,null,null,1,159]
[null,null,null,{"$f":"CONCATENATE(AK1276&AL1276&AM1276&AN1276)","v":""},null,null,null,null,{"$f":"IFERROR(IF(PRODUCT(E1276:H1276)=0,\"\",PRODUCT(E1276:H1276)),\"\")","v":""},{"$f":"I1276","v":""},null,{"$f":"IF(E1276>0,\" (p/u) \"&Modulo2.GetFormula(E1276),\"\")","v":""},{"$f":"IF(F1276>0,\" (lu) \"&Modulo2.GetFormula(F1276),\"\")","v":""},{"$f":"IF(G1276>0,\" (la) \"&Modulo2.GetFormula(G1276),\"\")","v":""},{"$f":"IF(H1276>0,\" (H) \"&Modulo2.GetFormula(H1276),\"\")","v":""},null,null,null,null,null,null,null,null,null,2,0,null,"",{"$f":"ROWS($AC$4:AC1276)","v":1273},"",{"$f":"IFERROR(SMALL($AD$4:$AD$1642,ROWS($AD$4:AD1276)),\"\")","v":""},null,{"$f":"IFERROR(INDEX($A$4:$R$1642,$AE1276,COLUMNS($A:$B)),\"\")","v":""},{"$f":"IFERROR(INDEX($A$4:$R$1642,$AE1276,COLUMNS($A:$C)),\"\")","v":""},{"$f":"IFERROR(INDEX($A$4:$R$1642,$AE1276,COLUMNS($A:$R)),\"\")","v":""},null,{"$f":"IFERROR(IF(SEARCH(\"=\",L1276),L1276,\"\"),\"\")","v":""},{"$f":"IFERROR(IF(SEARCH(\"=\",M1276),M1276,\"\"),\"\")","v":""},{"$f":"IFERROR(IF(SEARCH(\"=\",N1276),N1276,\"\"),\"\")","v":""},{"$f":"IFERROR(IF(SEARCH(\"=\",O1276),O1276,\"\"),\"\")","v":""},null,null,null,159]
[null,null,null,"",null,null,null,null,"","",null,{"$f":"IF(E1277>0,\" (p/u) \"&Modulo2.GetFormula(E1277),\"\")","v":""},{"$f":"IF(F1277>0,\" (lu) \"&Modulo2.GetFormula(F1277),\"\")","v":""},{"$f":"IF(G1277>0,\" (la) \"&Modulo2.GetFormula(G1277),\"\")","v":""},{"$f":"IF(H1277>0,\" (H) \"&Modulo2.GetFormula(H1277),\"\")","v":""},null,null,null,null,null,null,null,null,null,2,0,null,"",{"$f":"ROWS($AC$4:AC1277)","v":1274},"",{"$f":"IFERROR(SMALL($AD$4:$AD$1642,ROWS($AD$4:AD1277)),\"\")","v":""},null,{"$f":"IFERROR(INDEX($A$4:$R$1642,$AE1277,COLUMNS($A:$B)),\"\")","v":""},{"$f":"IFERROR(INDEX($A$4:$R$1642,$AE1277,COLUMNS($A:$C)),\"\")","v":""},{"$f":"IFERROR(INDEX($A$4:$R$1642,$AE1277,COLUMNS($A:$R)),\"\")","v":""},null,"","","","",null,null,null,159]
[null,null,null,"",null,null,null,null,"","",null,{"$f":"IF(E1278>0,\" (p/u) \"&Modulo2.GetFormula(E1278),\"\")","v":""},{"$f":"IF(F1278>0,\" (lu) \"&Modulo2.GetFormula(F1278),\"\")","v":""},{"$f":"IF(G1278>0,\" (la) \"&Modulo2.GetFormula(G1278),\"\")","v":""},{"$f":"IF(H1278>0,\" (H) \"&Modulo2.GetFormula(H1278),\"\")","v":""},null,null,null,null,null,null,null,null,null,2,0,null,"",{"$f":"ROWS($AC$4:AC1278)","v":1275},"",{"$f":"IFERROR(SMALL($AD$4:$AD$1642,ROWS($AD$4:AD1278)),\"\")","v":""},null,{"$f":"IFERROR(INDEX($A$4:$R$1642,$AE1278,COLUMNS($A:$B)),\"\")","v":""},{"$f":"IFERROR(INDEX($A$4:$R$1642,$AE1278,COLUMNS($A:$C)),\"\")","v":""},{"$f":"IFERROR(INDEX($A$4:$R$1642,$AE1278,COLUMNS($A:$R)),\"\")","v":""},null,"","","","",null,null,null,159]
[null,null,null,null,null,null,null,{"$f":"CONCATENATE(\"SOMMANO [\",VLOOKUP(B1275,'Elenco Prezzi2'!$A$2:$E$201,3,FALSE()),\"]\")","v":{"$error":"#N/A"}},{"$f":"IF(T1279=\"s\",V1280,SUBTOTAL(9,I1275:I1279))","v":{"$error":"#REF!"}},null,{"$f":"VLOOKUP(B1275,'Elenco Prezzi2'!$A$2:$E$201,5,FALSE)","v":{"$error":"#N/A"}},null,null,null,null,null,null,{"$f":"IFERROR(I1279*K1279,\"\")","v":""},null,"s",null,null,null,{"$f":"R1279","v":""},2,0,null,"",{"$f":"ROWS($AC$4:AC1279)","v":1276},"",{"$f":"IFERROR(SMALL($AD$4:$AD$1642,ROWS($AD$4:AD1279)),\"\")","v":""},null,{"$f":"IFERROR(INDEX($A$4:$R$1642,$AE1279,COLUMNS($A:$B)),\"\")","v":""},{"$f":"IFERROR(INDEX($A$4:$R$1642,$AE1279,COLUMNS($A:$C)),\"\")","v":""},{"$f":"IFERROR(INDEX($A$4:$R$1642,$AE1279,COLUMNS($A:$R)),\"\")","v":""},null,null,null,null,null,null,null,null,159]
[null,null,null,null,null,null,null,{"$f":"IF(I1280<0,\"a detrarre\",\"\")","v":""},{"$f":"SUMIF(I1275:I1278,\"<0\")","v":0},null,null,null,null,null,null,null,null,null,{"$f":"R1279","v":""},null,null,{"$f":"VLOOKUP(B1275,#REF!,4,FALSE)","v":{"$error":"#REF!"}},null,null,2,0,null,"",{"$f":"ROWS($AC$4:AC1280)","v":1277},"",{"$f":"IFERROR(SMALL($AD$4:$AD$1642,ROWS($AD$4:AD1280)),\"\")","v":""},null,{"$f":"IFERROR(INDEX($A$4:$R$1642,$AE1280,COLUMNS($A:$B)),\"\")","v":""},{"$f":"IFERROR(INDEX($A$4:$R$1642,$AE1280,COLUMNS($A:$C)),\"\")","v":""},{"$f":"IFERROR(INDEX($A$4:$R$1642,$AE1280,COLUMNS($A:$R)),\"\")","v":""},null,null,null,null,null,null,null,null,159]
[null,null,null,null,null,null,null,null,null,null,null,null,null,null,null,null,null,null,null,null,null,null,null,null,2,0,null,"",{"$f":"ROWS($AC$4:AC1281)","v":1278},"",{"$f":"IFERROR(SMALL($AD$4:$AD$1642,ROWS($AD$4:AD1281)),\"\")","v":""},null,{"$f":"IFERROR(INDEX($A$4:$R$1642,$AE1281,COLUMNS($A:$B)),\"\")","v":""},{"$f":"IFERROR(INDEX($A$4:$R$1642,$AE1281,COLUMNS($A:$C)),\"\")","v":""},{"$f":"IFERROR(INDEX($A$4:$R$1642,$AE1281,COLUMNS($A:$R)),\"\")","v":""},null,null,null,null,null,null,null,null,159]
[null,null,null,null,null,null,null,null,null,null,null,null,null,null,null,null,null,null,null,null,null,null,null,null,2,0,null,"",{"$f":"ROWS($AC$4:AC1282)","v":1279},"",{"$f":"IFERROR(SMALL($AD$4:$AD$1642,ROWS($AD$4:AD1282)),\"\")","v":""},null,{"$f":"IFERROR(INDEX($A$4:$R$1642,$AE1282,COLUMNS($A:$B)),\"\")","v":""},{"$f":"IFERROR(INDEX($A$4:$R$1642,$AE1282,COLUMNS($A:$C)),\"\")","v":""},{"$f":"IFERROR(INDEX($A$4:$R$1642,$AE1282,COLUMNS($A:$R)),\"\")","v":""},null,null,null,null,null,null,null,null,159]
[{"$f":"AR1283","v":160},null,{"$f":"(VLOOKUP($B1283,'Elenco Prezzi2'!$A$2:$E$201,2,FALSE))","v":{"$error":"#N/A"}},null,null,null,null,null,null,null,null,null,null,null,null,null,null,null,null,null,null,null,null,null,2,0,null,"",{"$f":"ROWS($AC$4:AC1283)","v":1280},"",{"$f":"IFERROR(SMALL($AD$4:$AD$1642,ROWS($AD$4:AD1283)),\"\")","v":""},null,{"$f":"IFERROR(INDEX($A$4:$R$1642,$AE1283,COLUMNS($A:$B)),\"\")","v":""},{"$f":"IFERROR(INDEX($A$4:$R$1642,$AE1283,COLUMNS($A:$C)),\"\")","v":""},{"$f":"IFERROR(INDEX($A$4:$R$1642,$AE1283,COLUMNS($A:$R)),\"\")","v":""},null,null,null,null,null,null,null,1,160]
[null,null,null,{"$f":"CONCATENATE(AK1284&AL1284&AM1284&AN1284)","v":""},null,null,null,null,{"$f":"IFERROR(IF(PRODUCT(E1284:H1284)=0,\"\",PRODUCT(E1284:H1284)),\"\")","v":""},{"$f":"I1284","v":""},null,{"$f":"IF(E1284>0,\" (p/u) \"&Modulo2.GetFormula(E1284),\"\")","v":""},{"$f":"IF(F1284>0,\" (lu) \"&Modulo2.GetFormula(F1284),\"\")","v":""},{"$f":"IF(G1284>0,\" (la) \"&Modulo2.GetFormula(G1284),\"\")","v":""},{"$f":"IF(H1284>0,\" (H) \"&Modulo2.GetFormula(H1284),\"\")","v":""},null,null,null,null,null,null,null,null,null,2,0,null,"",{"$f":"ROWS($AC$4:AC1284)","v":1281},"",{"$f":"IFERROR(SMALL($AD$4:$AD$1642,ROWS($AD$4:AD1284)),\"\")","v":""},null,{"$f":"IFERROR(INDEX($A$4:$R$1642,$AE1284,COLUMNS($A:$B)),\"\")","v":""},{"$f":"IFERROR(INDEX($A$4:$R$1642,$AE1284,COLUMNS($A:$C)),\"\")","v":""},{"$f":"IFERROR(INDEX($A$4:$R$1642,$AE1284,COLUMNS($A:$R)),\"\")","v":""},null,{"$f":"IFERROR(IF(SEARCH(\"=\",L1284),L1284,\"\"),\"\")","v":""},{"$f":"IFERROR(IF(SEARCH(\"=\",M1284),M1284,\"\"),\"\")","v":""},{"$f":"IFERROR(IF(SEARCH(\"=\",N1284),N1284,\"\"),\"\")","v":""},{"$f":"IFERROR(IF(SEARCH(\"=\",O1284),O1284,\"\"),\"\")","v":""},null,null,null,160]
[null,null,null,"",null,null,null,null,"","",null,{"$f":"IF(E1285>0,\" (p/u) \"&Modulo2.GetFormula(E1285),\"\")","v":""},{"$f":"IF(F1285>0,\" (lu) \"&Modulo2.GetFormula(F1285),\"\")","v":""},{"$f":"IF(G1285>0,\" (la) \"&Modulo2.GetFormula(G1285),\"\")","v":""},{"$f":"IF(H1285>0,\" (H) \"&Modulo2.GetFormula(H1285),\"\")","v":""},null,null,null,null,null,null,null,null,null,2,0,null,"",{"$f":"ROWS($AC$4:AC1285)","v":1282},"",{"$f":"IFERROR(SMALL($AD$4:$AD$1642,ROWS($AD$4:AD1285)),\"\")","v":""},null,{"$f":"IFERROR(INDEX($A$4:$R$1642,$AE1285,COLUMNS($A:$B)),\"\")","v":""},{"$f":"IFERROR(INDEX($A$4:$R$1642,$AE1285,COLUMNS($A:$C)),\"\")","v":""},{"$f":"IFERROR(INDEX($A$4:$R$1642,$AE1285,COLUMNS($A:$R)),\"\")","v":""},null,"","","","",null,null,null,160]
[null,null,null,"",null,null,null,null,"","",null,{"$f":"IF(E1286>0,\" (p/u) \"&Modulo2.GetFormula(E1286),\"\")","v":""},{"$f":"IF(F1286>0,\" (lu) \"&Modulo2.GetFormula(F1286),\"\")","v":""},{"$f":"IF(G1286>0,\" (la) \"&Modulo2.GetFormula(G1286),\"\")","v":""},{"$f":"IF(H1286>0,\" (H) \"&Modulo2.GetFormula(H1286),\"\")","v":""},null,null,null,null,null,null,null,null,null,2,0,null,"",{"$f":"ROWS($AC$4:AC1286)","v":1283},"",{"$f":"IFERROR(SMALL($AD$4:$AD$1642,ROWS($AD$4:AD1286)),\"\")","v":""},null,{"$f":"IFERROR(INDEX($A$4:$R$1642,$AE1286,COLUMNS($A:$B)),\"\")","v":""},{"$f":"IFERROR(INDEX($A$4:$R$1642,$AE1286,COLUMNS($A:$C)),\"\")","v":""},{"$f":"IFERROR(INDEX($A$4:$R$1642,$AE1286,COLUMNS($A:$R)),\"\")","v":""},null,"","","","",null,null,null,160]
[null,null,null,null,null,null,null,{"$f":"CONCATENATE(\"SOMMANO [\",VLOOKUP(B1283,'Elenco Prezzi2'!$A$2:$E$201,3,FALSE()),\"]\")","v":{"$error":"#N/A"}},{"$f":"IF(T1287=\"s\",V1288,SUBTOTAL(9,I1283:I1287))","v":{"$error":"#REF!"}},null,{"$f":"VLOOKUP(B1283,'Elenco Prezzi2'!$A$2:$E$201,5,FALSE)","v":{"$error":"#N/A"}},null,null,null,null,null,null,{"$f":"IFERROR(I1287*K1287,\"\")","v":""},null,"s",null,null,null,{"$f":"R1287","v":""},2,0,null,"",{"$f":"ROWS($AC$4:AC1287)","v":1284},"",{"$f":"IFERROR(SMALL($AD$4:$AD$1642,ROWS($AD$4:AD1287)),\"\")","v":""},null,{"$f":"IFERROR(INDEX($A$4:$R$1642,$AE1287,COLUMNS($A:$B)),\"\")","v":""},{"$f":"IFERROR(INDEX($A$4:$R$1642,$AE1287,COLUMNS($A:$C)),\"\")","v":""},{"$f":"IFERROR(INDEX($A$4:$R$1642,$AE1287,COLUMNS($A:$R)),\"\")","v":""},null,null,null,null,null,null,null,null,160]
[null,null,null,null,null,null,null,{"$f":"IF(I1288<0,\"a detrarre\",\"\")","v":""},{"$f":"SUMIF(I1283:I1286,\"<0\")","v":0},null,null,null,null,null,null,null,null,null,{"$f":"R1287","v":""},null,null,{"$f":"VLOOKUP(B1283,#REF!,4,FALSE)","v":{"$error":"#REF!"}},null,null,2,0,null,"",{"$f":"ROWS($AC$4:AC1288)","v":1285},"",{"$f":"IFERROR(SMALL($AD$4:$AD$1642,ROWS($AD$4:AD1288)),\"\")","v":""},null,{"$f":"IFERROR(INDEX($A$4:$R$1642,$AE1288,COLUMNS($A:$B)),\"\")","v":""},{"$f":"IFERROR(INDEX($A$4:$R$1642,$AE1288,COLUMNS($A:$C)),\"\")","v":""},{"$f":"IFERROR(INDEX($A$4:$R$1642,$AE1288,COLUMNS($A:$R)),\"\")","v":""},null,null,null,null,null,null,null,null,160]
[null,null,null,null,null,null,null,null,null,null,null,null,null,null,null,null,null,null,null,null,null,null,null,null,2,0,null,"",{"$f":"ROWS($AC$4:AC1289)","v":1286},"",{"$f":"IFERROR(SMALL($AD$4:$AD$1642,ROWS($AD$4:AD1289)),\"\")","v":""},null,{"$f":"IFERROR(INDEX($A$4:$R$1642,$AE1289,COLUMNS($A:$B)),\"\")","v":""},{"$f":"IFERROR(INDEX($A$4:$R$1642,$AE1289,COLUMNS($A:$C)),\"\")","v":""},{"$f":"IFERROR(INDEX($A$4:$R$1642,$AE1289,COLUMNS($A:$R)),\"\")","v":""},null,null,null,null,null,null,null,null,160]
[null,null,null,null,null,null,null,null,null,null,null,null,null,null,null,null,null,null,null,null,null,null,null,null,2,0,null,"",{"$f":"ROWS($AC$4:AC1290)","v":1287},"",{"$f":"IFERROR(SMALL($AD$4:$AD$1642,ROWS($AD$4:AD1290)),\"\")","v":""},null,{"$f":"IFERROR(INDEX($A$4:$R$1642,$AE1290,COLUMNS($A:$B)),\"\")","v":""},{"$f":"IFERROR(INDEX($A$4:$R$1642,$AE1290,COLUMNS($A:$C)),\"\")","v":""},{"$f":"IFERROR(INDEX($A$4:$R$1642,$AE1290,COLUMNS($A:$R)),\"\")","v":""},null,null,null,null,null,null,null,null,160]
[{"$f":"AR1291","v":161},null,{"$f":"(VLOOKUP($B1291,'Elenco Prezzi2'!$A$2:$E$201,2,FALSE))","v":{"$error":"#N/A"}},null,null,null,null,null,null,null,null,null,null,null,null,null,null,null,null,null,null,null,null,null,2,0,null,"",{"$f":"ROWS($AC$4:AC1291)","v":1288},"",{"$f":"IFERROR(SMALL($AD$4:$AD$1642,ROWS($AD$4:AD1291)),\"\")","v":""},null,{"$f":"IFERROR(INDEX($A$4:$R$1642,$AE1291,COLUMNS($A:$B)),\"\")","v":""},{"$f":"IFERROR(INDEX($A$4:$R$1642,$AE1291,COLUMNS($A:$C)),\"\")","v":""},{"$f":"IFERROR(INDEX($A$4:$R$1642,$AE1291,COLUMNS($A:$R)),\"\")","v":""},null,null,null,null,null,null,null,1,161]
[null,null,null,{"$f":"CONCATENATE(AK1292&AL1292&AM1292&AN1292)","v":""},null,null,null,null,{"$f":"IFERROR(IF(PRODUCT(E1292:H1292)=0,\"\",PRODUCT(E1292:H1292)),\"\")","v":""},{"$f":"I1292","v":""},null,{"$f":"IF(E1292>0,\" (p/u) \"&Modulo2.GetFormula(E1292),\"\")","v":""},{"$f":"IF(F1292>0,\" (lu) \"&Modulo2.GetFormula(F1292),\"\")","v":""},{"$f":"IF(G1292>0,\" (la) \"&Modulo2.GetFormula(G1292),\"\")","v":""},{"$f":"IF(H1292>0,\" (H) \"&Modulo2.GetFormula(H1292),\"\")","v":""},null,null,null,null,null,null,null,null,null,2,0,null,"",{"$f":"ROWS($AC$4:AC1292)","v":1289},"",{"$f":"IFERROR(SMALL($AD$4:$AD$1642,ROWS($AD$4:AD1292)),\"\")","v":""},null,{"$f":"IFERROR(INDEX($A$4:$R$1642,$AE1292,COLUMNS($A:$B)),\"\")","v":""},{"$f":"IFERROR(INDEX($A$4:$R$1642,$AE1292,COLUMNS($A:$C)),\"\")","v":""},{"$f":"IFERROR(INDEX($A$4:$R$1642,$AE1292,COLUMNS($A:$R)),\"\")","v":""},null,{"$f":"IFERROR(IF(SEARCH(\"=\",L1292),L1292,\"\"),\"\")","v":""},{"$f":"IFERROR(IF(SEARCH(\"=\",M1292),M1292,\"\"),\"\")","v":""},{"$f":"IFERROR(IF(SEARCH(\"=\",N1292),N1292,\"\"),\"\")","v":""},{"$f":"IFERROR(IF(SEARCH(\"=\",O1292),O1292,\"\"),\"\")","v":""},null,null,null,161]
[null,null,null,"",null,null,null,null,"","",null,{"$f":"IF(E1293>0,\" (p/u) \"&Modulo2.GetFormula(E1293),\"\")","v":""},{"$f":"IF(F1293>0,\" (lu) \"&Modulo2.GetFormula(F1293),\"\")","v":""},{"$f":"IF(G1293>0,\" (la) \"&Modulo2.GetFormula(G1293),\"\")","v":""},{"$f":"IF(H1293>0,\" (H) \"&Modulo2.GetFormula(H1293),\"\")","v":""},null,null,null,null,null,null,null,null,null,2,0,null,"",{"$f":"ROWS($AC$4:AC1293)","v":1290},"",{"$f":"IFERROR(SMALL($AD$4:$AD$1642,ROWS($AD$4:AD1293)),\"\")","v":""},null,{"$f":"IFERROR(INDEX($A$4:$R$1642,$AE1293,COLUMNS($A:$B)),\"\")","v":""},{"$f":"IFERROR(INDEX($A$4:$R$1642,$AE1293,COLUMNS($A:$C)),\"\")","v":""},{"$f":"IFERROR(INDEX($A$4:$R$1642,$AE1293,COLUMNS($A:$R)),\"\")","v":""},null,"","","","",null,null,null,161]
[null,null,null,"",null,null,null,null,"","",null,{"$f":"IF(E1294>0,\" (p/u) \"&Modulo2.GetFormula(E1294),\"\")","v":""},{"$f":"IF(F1294>0,\" (lu) \"&Modulo2.GetFormula(F1294),\"\")","v":""},{"$f":"IF(G1294>0,\" (la) \"&Modulo2.GetFormula(G1294),\"\")","v":""},{"$f":"IF(H1294>0,\" (H) \"&Modulo2.GetFormula(H1294),\"\")","v":""},null,null,null,null,null,null,null,null,null,2,0,null,"",{"$f":"ROWS($AC$4:AC1294)","v":1291},"",{"$f":"IFERROR(SMALL($AD$4:$AD$1642,ROWS($AD$4:AD1294)),\"\")","v":""},null,{"$f":"IFERROR(INDEX($A$4:$R$1642,$AE1294,COLUMNS($A:$B)),\"\")","v":""},{"$f":"IFERROR(INDEX($A$4:$R$1642,$AE1294,COLUMNS($A:$C)),\"\")","v":""},{"$f":"IFERROR(INDEX($A$4:$R$1642,$AE1294,COLUMNS($A:$R)),\"\")","v":""},null,"","","","",null,null,null,161]
[null,null,null,null,null,null,null,{"$f":"CONCATENATE(\"SOMMANO [\",VLOOKUP(B1291,'Elenco Prezzi2'!$A$2:$E$201,3,FALSE()),\"]\")","v":{"$error":"#N/A"}},{"$f":"IF(T1295=\"s\",V1296,SUBTOTAL(9,I1291:I1295))","v":{"$error":"#REF!"}},null,{"$f":"VLOOKUP(B1291,'Elenco Prezzi2'!$A$2:$E$201,5,FALSE)","v":{"$error":"#N/A"}},null,null,null,null,null,null,{"$f":"IFERROR(I1295*K1295,\"\")","v":""},null,"s",null,null,null,{"$f":"R1295","v":""},2,0,null,"",{"$f":"ROWS($AC$4:AC1295)","v":1292},"",{"$f":"IFERROR(SMALL($AD$4:$AD$1642,ROWS($AD$4:AD1295)),\"\")","v":""},null,{"$f":"IFERROR(INDEX($A$4:$R$1642,$AE1295,COLUMNS($A:$B)),\"\")","v":""},{"$f":"IFERROR(INDEX($A$4:$R$1642,$AE1295,COLUMNS($A:$C)),\"\")","v":""},{"$f":"IFERROR(INDEX($A$4:$R$1642,$AE1295,COLUMNS($A:$R)),\"\")","v":""},null,null,null,null,null,null,null,null,161]
[null,null,null,null,null,null,null,{"$f":"IF(I1296<0,\"a detrarre\",\"\")","v":""},{"$f":"SUMIF(I1291:I1294,\"<0\")","v":0},null,null,null,null,null,null,null,null,null,{"$f":"R1295","v":""},null,null,{"$f":"VLOOKUP(B1291,#REF!,4,FALSE)","v":{"$error":"#REF!"}},null,null,2,0,null,"",{"$f":"ROWS($AC$4:AC1296)","v":1293},"",{"$f":"IFERROR(SMALL($AD$4:$AD$1642,ROWS($AD$4:AD1296)),\"\")","v":""},null,{"$f":"IFERROR(INDEX($A$4:$R$1642,$AE1296,COLUMNS($A:$B)),\"\")","v":""},{"$f":"IFERROR(INDEX($A$4:$R$1642,$AE1296,COLUMNS($A:$C)),\"\")","v":""},{"$f":"IFERROR(INDEX($A$4:$R$1642,$AE1296,COLUMNS($A:$R)),\"\")","v":""},null,null,null,null,null,null,null,null,161]
[null,null,null,null,null,null,null,null,null,null,null,null,null,null,null,null,null,null,null,null,null,null,null,null,2,0,null,"",{"$f":"ROWS($AC$4:AC1297)","v":1294},"",{"$f":"IFERROR(SMALL($AD$4:$AD$1642,ROWS($AD$4:AD1297)),\"\")","v":""},null,{"$f":"IFERROR(INDEX($A$4:$R$1642,$AE1297,COLUMNS($A:$B)),\"\")","v":""},{"$f":"IFERROR(INDEX($A$4:$R$1642,$AE1297,COLUMNS($A:$C)),\"\")","v":""},{"$f":"IFERROR(INDEX($A$4:$R$1642,$AE1297,COLUMNS($A:$R)),\"\")","v":""},null,null,null,null,null,null,null,null,161]
[null,null,null,null,null,null,null,null,null,null,null,null,null,null,null,null,null,null,null,null,null,null,null,null,2,0,null,"",{"$f":"ROWS($AC$4:AC1298)","v":1295},"",{"$f":"IFERROR(SMALL($AD$4:$AD$1642,ROWS($AD$4:AD1298)),\"\")","v":""},null,{"$f":"IFERROR(INDEX($A$4:$R$1642,$AE1298,COLUMNS($A:$B)),\"\")","v":""},{"$f":"IFERROR(INDEX($A$4:$R$1642,$AE1298,COLUMNS($A:$C)),\"\")","v":""},{"$f":"IFERROR(INDEX($A$4:$R$1642,$AE1298,COLUMNS($A:$R)),\"\")","v":""},null,null,null,null,null,null,null,null,161]
[{"$f":"AR1299","v":162},null,{"$f":"(VLOOKUP($B1299,'Elenco Prezzi2'!$A$2:$E$201,2,FALSE))","v":{"$error":"#N/A"}},null,null,null,null,null,null,null,null,null,null,null,null,null,null,null,null,null,null,null,null,null,2,0,null,"",{"$f":"ROWS($AC$4:AC1299)","v":1296},"",{"$f":"IFERROR(SMALL($AD$4:$AD$1642,ROWS($AD$4:AD1299)),\"\")","v":""},null,{"$f":"IFERROR(INDEX($A$4:$R$1642,$AE1299,COLUMNS($A:$B)),\"\")","v":""},{"$f":"IFERROR(INDEX($A$4:$R$1642,$AE1299,COLUMNS($A:$C)),\"\")","v":""},{"$f":"IFERROR(INDEX($A$4:$R$1642,$AE1299,COLUMNS($A:$R)),\"\")","v":""},null,null,null,null,null,null,null,1,162]
[null,null,null,{"$f":"CONCATENATE(AK1300&AL1300&AM1300&AN1300)","v":""},null,null,null,null,{"$f":"IFERROR(IF(PRODUCT(E1300:H1300)=0,\"\",PRODUCT(E1300:H1300)),\"\")","v":""},{"$f":"I1300","v":""},null,{"$f":"IF(E1300>0,\" (p/u) \"&Modulo2.GetFormula(E1300),\"\")","v":""},{"$f":"IF(F1300>0,\" (lu) \"&Modulo2.GetFormula(F1300),\"\")","v":""},{"$f":"IF(G1300>0,\" (la) \"&Modulo2.GetFormula(G1300),\"\")","v":""},{"$f":"IF(H1300>0,\" (H) \"&Modulo2.GetFormula(H1300),\"\")","v":""},null,null,null,null,null,null,null,null,null,2,0,null,"",{"$f":"ROWS($AC$4:AC1300)","v":1297},"",{"$f":"IFERROR(SMALL($AD$4:$AD$1642,ROWS($AD$4:AD1300)),\"\")","v":""},null,{"$f":"IFERROR(INDEX($A$4:$R$1642,$AE1300,COLUMNS($A:$B)),\"\")","v":""},{"$f":"IFERROR(INDEX($A$4:$R$1642,$AE1300,COLUMNS($A:$C)),\"\")","v":""},{"$f":"IFERROR(INDEX($A$4:$R$1642,$AE1300,COLUMNS($A:$R)),\"\")","v":""},null,{"$f":"IFERROR(IF(SEARCH(\"=\",L1300),L1300,\"\"),\"\")","v":""},{"$f":"IFERROR(IF(SEARCH(\"=\",M1300),M1300,\"\"),\"\")","v":""},{"$f":"IFERROR(IF(SEARCH(\"=\",N1300),N1300,\"\"),\"\")","v":""},{"$f":"IFERROR(IF(SEARCH(\"=\",O1300),O1300,\"\"),\"\")","v":""},null,null,null,162]
[null,null,null,"",null,null,null,null,"","",null,{"$f":"IF(E1301>0,\" (p/u) \"&Modulo2.GetFormula(E1301),\"\")","v":""},{"$f":"IF(F1301>0,\" (lu) \"&Modulo2.GetFormula(F1301),\"\")","v":""},{"$f":"IF(G1301>0,\" (la) \"&Modulo2.GetFormula(G1301),\"\")","v":""},{"$f":"IF(H1301>0,\" (H) \"&Modulo2.GetFormula(H1301),\"\")","v":""},null,null,null,null,null,null,null,null,null,2,0,null,"",{"$f":"ROWS($AC$4:AC1301)","v":1298},"",{"$f":"IFERROR(SMALL($AD$4:$AD$1642,ROWS($AD$4:AD1301)),\"\")","v":""},null,{"$f":"IFERROR(INDEX($A$4:$R$1642,$AE1301,COLUMNS($A:$B)),\"\")","v":""},{"$f":"IFERROR(INDEX($A$4:$R$1642,$AE1301,COLUMNS($A:$C)),\"\")","v":""},{"$f":"IFERROR(INDEX($A$4:$R$1642,$AE1301,COLUMNS($A:$R)),\"\")","v":""},null,"","","","",null,null,null,162]
[null,null,null,"",null,null,null,null,"","",null,{"$f":"IF(E1302>0,\" (p/u) \"&Modulo2.GetFormula(E1302),\"\")","v":""},{"$f":"IF(F1302>0,\" (lu) \"&Modulo2.GetFormula(F1302),\"\")","v":""},{"$f":"IF(G1302>0,\" (la) \"&Modulo2.GetFormula(G1302),\"\")","v":""},{"$f":"IF(H1302>0,\" (H) \"&Modulo2.GetFormula(H1302),\"\")","v":""},null,null,null,null,null,null,null,null,null,2,0,null,"",{"$f":"ROWS($AC$4:AC1302)","v":1299},"",{"$f":"IFERROR(SMALL($AD$4:$AD$1642,ROWS($AD$4:AD1302)),\"\")","v":""},null,{"$f":"IFERROR(INDEX($A$4:$R$1642,$AE1302,COLUMNS($A:$B)),\"\")","v":""},{"$f":"IFERROR(INDEX($A$4:$R$1642,$AE1302,COLUMNS($A:$C)),\"\")","v":""},{"$f":"IFERROR(INDEX($A$4:$R$1642,$AE1302,COLUMNS($A:$R)),\"\")","v":""},null,"","","","",null,null,null,162]
[null,null,null,null,null,null,null,{"$f":"CONCATENATE(\"SOMMANO [\",VLOOKUP(B1299,'Elenco Prezzi2'!$A$2:$E$201,3,FALSE()),\"]\")","v":{"$error":"#N/A"}},{"$f":"IF(T1303=\"s\",V1304,SUBTOTAL(9,I1299:I1303))","v":{"$error":"#REF!"}},null,{"$f":"VLOOKUP(B1299,'Elenco Prezzi2'!$A$2:$E$201,5,FALSE)","v":{"$error":"#N/A"}},null,null,null,null,null,null,{"$f":"IFERROR(I1303*K1303,\"\")","v":""},null,"s",null,null,null,{"$f":"R1303","v":""},2,0,null,"",{"$f":"ROWS($AC$4:AC1303)","v":1300},"",{"$f":"IFERROR(SMALL($AD$4:$AD$1642,ROWS($AD$4:AD1303)),\"\")","v":""},null,{"$f":"IFERROR(INDEX($A$4:$R$1642,$AE1303,COLUMNS($A:$B)),\"\")","v":""},{"$f":"IFERROR(INDEX($A$4:$R$1642,$AE1303,COLUMNS($A:$C)),\"\")","v":""},{"$f":"IFERROR(INDEX($A$4:$R$1642,$AE1303,COLUMNS($A:$R)),\"\")","v":""},null,null,null,null,null,null,null,null,162]
[null,null,null,null,null,null,null,{"$f":"IF(I1304<0,\"a detrarre\",\"\")","v":""},{"$f":"SUMIF(I1299:I1302,\"<0\")","v":0},null,null,null,null,null,null,null,null,null,{"$f":"R1303","v":""},null,null,{"$f":"VLOOKUP(B1299,#REF!,4,FALSE)","v":{"$error":"#REF!"}},null,null,2,0,null,"",{"$f":"ROWS($AC$4:AC1304)","v":1301},"",{"$f":"IFERROR(SMALL($AD$4:$AD$1642,ROWS($AD$4:AD1304)),\"\")","v":""},null,{"$f":"IFERROR(INDEX($A$4:$R$1642,$AE1304,COLUMNS($A:$B)),\"\")","v":""},{"$f":"IFERROR(INDEX($A$4:$R$1642,$AE1304,COLUMNS($A:$C)),\"\")","v":""},{"$f":"IFERROR(INDEX($A$4:$R$1642,$AE1304,COLUMNS($A:$R)),\"\")","v":""},null,null,null,null,null,null,null,null,162]
[null,null,null,null,null,null,null,null,null,null,null,null,null,null,null,null,null,null,null,null,null,null,null,null,2,0,null,"",{"$f":"ROWS($AC$4:AC1305)","v":1302},"",{"$f":"IFERROR(SMALL($AD$4:$AD$1642,ROWS($AD$4:AD1305)),\"\")","v":""},null,{"$f":"IFERROR(INDEX($A$4:$R$1642,$AE1305,COLUMNS($A:$B)),\"\")","v":""},{"$f":"IFERROR(INDEX($A$4:$R$1642,$AE1305,COLUMNS($A:$C)),\"\")","v":""},{"$f":"IFERROR(INDEX($A$4:$R$1642,$AE1305,COLUMNS($A:$R)),\"\")","v":""},null,null,null,null,null,null,null,null,162]
[null,null,null,null,null,null,null,null,null,null,null,null,null,null,null,null,null,null,null,null,null,null,null,null,2,0,null,"",{"$f":"ROWS($AC$4:AC1306)","v":1303},"",{"$f":"IFERROR(SMALL($AD$4:$AD$1642,ROWS($AD$4:AD1306)),\"\")","v":""},null,{"$f":"IFERROR(INDEX($A$4:$R$1642,$AE1306,COLUMNS($A:$B)),\"\")","v":""},{"$f":"IFERROR(INDEX($A$4:$R$1642,$AE1306,COLUMNS($A:$C)),\"\")","v":""},{"$f":"IFERROR(INDEX($A$4:$R$1642,$AE1306,COLUMNS($A:$R)),\"\")","v":""},null,null,null,null,null,null,null,null,162]
[{"$f":"AR1307","v":163},null,{"$f":"(VLOOKUP($B1307,'Elenco Prezzi2'!$A$2:$E$201,2,FALSE))","v":{"$error":"#N/A"}},null,null,null,null,null,null,null,null,null,null,null,null,null,null,null,null,null,null,null,null,null,2,0,null,"",{"$f":"ROWS($AC$4:AC1307)","v":1304},"",{"$f":"IFERROR(SMALL($AD$4:$AD$1642,ROWS($AD$4:AD1307)),\"\")","v":""},null,{"$f":"IFERROR(INDEX($A$4:$R$1642,$AE1307,COLUMNS($A:$B)),\"\")","v":""},{"$f":"IFERROR(INDEX($A$4:$R$1642,$AE1307,COLUMNS($A:$C)),\"\")","v":""},{"$f":"IFERROR(INDEX($A$4:$R$1642,$AE1307,COLUMNS($A:$R)),\"\")","v":""},null,null,null,null,null,null,null,1,163]
[null,null,null,{"$f":"CONCATENATE(AK1308&AL1308&AM1308&AN1308)","v":""},null,null,null,null,{"$f":"IFERROR(IF(PRODUCT(E1308:H1308)=0,\"\",PRODUCT(E1308:H1308)),\"\")","v":""},{"$f":"I1308","v":""},null,{"$f":"IF(E1308>0,\" (p/u) \"&Modulo2.GetFormula(E1308),\"\")","v":""},{"$f":"IF(F1308>0,\" (lu) \"&Modulo2.GetFormula(F1308),\"\")","v":""},{"$f":"IF(G1308>0,\" (la) \"&Modulo2.GetFormula(G1308),\"\")","v":""},{"$f":"IF(H1308>0,\" (H) \"&Modulo2.GetFormula(H1308),\"\")","v":""},null,null,null,null,null,null,null,null,null,2,0,null,"",{"$f":"ROWS($AC$4:AC1308)","v":1305},"",{"$f":"IFERROR(SMALL($AD$4:$AD$1642,ROWS($AD$4:AD1308)),\"\")","v":""},null,{"$f":"IFERROR(INDEX($A$4:$R$1642,$AE1308,COLUMNS($A:$B)),\"\")","v":""},{"$f":"IFERROR(INDEX($A$4:$R$1642,$AE1308,COLUMNS($A:$C)),\"\")","v":""},{"$f":"IFERROR(INDEX($A$4:$R$1642,$AE1308,COLUMNS($A:$R)),\"\")","v":""},null,{"$f":"IFERROR(IF(SEARCH(\"=\",L1308),L1308,\"\"),\"\")","v":""},{"$f":"IFERROR(IF(SEARCH(\"=\",M1308),M1308,\"\"),\"\")","v":""},{"$f":"IFERROR(IF(SEARCH(\"=\",N1308),N1308,\"\"),\"\")","v":""},{"$f":"IFERROR(IF(SEARCH(\"=\",O1308),O1308,\"\"),\"\")","v":""},null,null,null,163]
[null,null,null,"",null,null,null,null,"","",null,{"$f":"IF(E1309>0,\" (p/u) \"&Modulo2.GetFormula(E1309),\"\")","v":""},{"$f":"IF(F1309>0,\" (lu) \"&Modulo2.GetFormula(F1309),\"\")","v":""},{"$f":"IF(G1309>0,\" (la) \"&Modulo2.GetFormula(G1309),\"\")","v":""},{"$f":"IF(H1309>0,\" (H) \"&Modulo2.GetFormula(H1309),\"\")","v":""},null,null,null,null,null,null,null,null,null,2,0,null,"",{"$f":"ROWS($AC$4:AC1309)","v":1306},"",{"$f":"IFERROR(SMALL($AD$4:$AD$1642,ROWS($AD$4:AD1309)),\"\")","v":""},null,{"$f":"IFERROR(INDEX($A$4:$R$1642,$AE1309,COLUMNS($A:$B)),\"\")","v":""},{"$f":"IFERROR(INDEX($A$4:$R$1642,$AE1309,COLUMNS($A:$C)),\"\")","v":""},{"$f":"IFERROR(INDEX($A$4:$R$1642,$AE1309,COLUMNS($A:$R)),\"\")","v":""},null,"","","","",null,null,null,163]
[null,null,null,"",null,null,null,null,"","",null,{"$f":"IF(E1310>0,\" (p/u) \"&Modulo2.GetFormula(E1310),\"\")","v":""},{"$f":"IF(F1310>0,\" (lu) \"&Modulo2.GetFormula(F1310),\"\")","v":""},{"$f":"IF(G1310>0,\" (la) \"&Modulo2.GetFormula(G1310),\"\")","v":""},{"$f":"IF(H1310>0,\" (H) \"&Modulo2.GetFormula(H1310),\"\")","v":""},null,null,null,null,null,null,null,null,null,2,0,null,"",{"$f":"ROWS($AC$4:AC1310)","v":1307},"",{"$f":"IFERROR(SMALL($AD$4:$AD$1642,ROWS($AD$4:AD1310)),\"\")","v":""},null,{"$f":"IFERROR(INDEX($A$4:$R$1642,$AE1310,COLUMNS($A:$B)),\"\")","v":""},{"$f":"IFERROR(INDEX($A$4:$R$1642,$AE1310,COLUMNS($A:$C)),\"\")","v":""},{"$f":"IFERROR(INDEX($A$4:$R$1642,$AE1310,COLUMNS($A:$R)),\"\")","v":""},null,"","","","",null,null,null,163]
[null,null,null,null,null,null,null,{"$f":"CONCATENATE(\"SOMMANO [\",VLOOKUP(B1307,'Elenco Prezzi2'!$A$2:$E$201,3,FALSE()),\"]\")","v":{"$error":"#N/A"}},{"$f":"IF(T1311=\"s\",V1312,SUBTOTAL(9,I1307:I1311))","v":{"$error":"#REF!"}},null,{"$f":"VLOOKUP(B1307,'Elenco Prezzi2'!$A$2:$E$201,5,FALSE)","v":{"$error":"#N/A"}},null,null,null,null,null,null,{"$f":"IFERROR(I1311*K1311,\"\")","v":""},null,"s",null,null,null,{"$f":"R1311","v":""},2,0,null,"",{"$f":"ROWS($AC$4:AC1311)","v":1308},"",{"$f":"IFERROR(SMALL($AD$4:$AD$1642,ROWS($AD$4:AD1311)),\"\")","v":""},null,{"$f":"IFERROR(INDEX($A$4:$R$1642,$AE1311,COLUMNS($A:$B)),\"\")","v":""},{"$f":"IFERROR(INDEX($A$4:$R$1642,$AE1311,COLUMNS($A:$C)),\"\")","v":""},{"$f":"IFERROR(INDEX($A$4:$R$1642,$AE1311,COLUMNS($A:$R)),\"\")","v":""},null,null,null,null,null,null,null,null,163]
[null,null,null,null,null,null,null,{"$f":"IF(I1312<0,\"a detrarre\",\"\")","v":""},{"$f":"SUMIF(I1307:I1310,\"<0\")","v":0},null,null,null,null,null,null,null,null,null,{"$f":"R1311","v":""},null,null,{"$f":"VLOOKUP(B1307,#REF!,4,FALSE)","v":{"$error":"#REF!"}},null,null,2,0,null,"",{"$f":"ROWS($AC$4:AC1312)","v":1309},"",{"$f":"IFERROR(SMALL($AD$4:$AD$1642,ROWS($AD$4:AD1312)),\"\")","v":""},null,{"$f":"IFERROR(INDEX($A$4:$R$1642,$AE1312,COLUMNS($A:$B)),\"\")","v":""},{"$f":"IFERROR(INDEX($A$4:$R$1642,$AE1312,COLUMNS($A:$C)),\"\")","v":""},{"$f":"IFERROR(INDEX($A$4:$R$1642,$AE1312,COLUMNS($A:$R)),\"\")","v":""},null,null,null,null,null,null,null,null,163]
[null,null,null,null,null,null,null,null,null,null,null,null,null,null,null,null,null,null,null,null,null,null,null,null,2,0,null,"",{"$f":"ROWS($AC$4:AC1313)","v":1310},"",{"$f":"IFERROR(SMALL($AD$4:$AD$1642,ROWS($AD$4:AD1313)),\"\")","v":""},null,{"$f":"IFERROR(INDEX($A$4:$R$1642,$AE1313,COLUMNS($A:$B)),\"\")","v":""},{"$f":"IFERROR(INDEX($A$4:$R$1642,$AE1313,COLUMNS($A:$C)),\"\")","v":""},{"$f":"IFERROR(INDEX($A$4:$R$1642,$AE1313,COLUMNS($A:$R)),\"\")","v":""},null,null,null,null,null,null,null,null,163]
[null,null,null,null,null,null,null,null,null,null,null,null,null,null,null,null,null,null,null,null,null,null,null,null,2,0,null,"",{"$f":"ROWS($AC$4:AC1314)","v":1311},"",{"$f":"IFERROR(SMALL($AD$4:$AD$1642,ROWS($AD$4:AD1314)),\"\")","v":""},null,{"$f":"IFERROR(INDEX($A$4:$R$1642,$AE1314,COLUMNS($A:$B)),\"\")","v":""},{"$f":"IFERROR(INDEX($A$4:$R$1642,$AE1314,COLUMNS($A:$C)),\"\")","v":""},{"$f":"IFERROR(INDEX($A$4:$R$1642,$AE1314,COLUMNS($A:$R)),\"\")","v":""},null,null,null,null,null,null,null,null,163]
[{"$f":"AR1315","v":164},null,{"$f":"(VLOOKUP($B1315,'Elenco Prezzi2'!$A$2:$E$201,2,FALSE))","v":{"$error":"#N/A"}},null,null,null,null,null,null,null,null,null,null,null,null,null,null,null,null,null,null,null,null,null,2,0,null,{"$f":"IF(W1315>0,\"OK\",\"\")","v":""},{"$f":"ROWS($AC$4:AC1315)","v":1312},{"$f":"IF(AB1315=\"ok\",AC1315,\"\")","v":""},{"$f":"IFERROR(SMALL($AD$4:$AD$1642,ROWS($AD$4:AD1315)),\"\")","v":""},null,{"$f":"IFERROR(INDEX($A$4:$R$1642,$AE1315,COLUMNS($A:$B)),\"\")","v":""},{"$f":"IFERROR(INDEX($A$4:$R$1642,$AE1315,COLUMNS($A:$C)),\"\")","v":""},{"$f":"IFERROR(INDEX($A$4:$R$1642,$AE1315,COLUMNS($A:$R)),\"\")","v":""},null,null,null,null,null,null,null,1,{"$f":"IF(AQ1315=\"\",AR1314,AR1314+AQ1315)","v":164}]
[null,null,null,{"$f":"CONCATENATE(AK1316&AL1316&AM1316&AN1316)","v":""},null,null,null,null,{"$f":"IFERROR(IF(PRODUCT(E1316:H1316)=0,\"\",PRODUCT(E1316:H1316)),\"\")","v":""},{"$f":"I1316","v":""},null,{"$f":"IF(E1316>0,\" (p/u) \"&Modulo2.GetFormula(E1316),\"\")","v":""},{"$f":"IF(F1316>0,\" (lu) \"&Modulo2.GetFormula(F1316),\"\")","v":""},{"$f":"IF(G1316>0,\" (la) \"&Modulo2.GetFormula(G1316),\"\")","v":""},{"$f":"IF(H1316>0,\" (H) \"&Modulo2.GetFormula(H1316),\"\")","v":""},null,null,null,null,null,null,null,null,null,{"$f":"IF(AO1316=\"\",Y1315,Y1315+AO1316)","v":2},{"$f":"IF(AP1316=\"\",Z1315,Z1315+AP1316)","v":0},null,"",{"$f":"ROWS($AC$4:AC1316)","v":1313},"",{"$f":"IFERROR(SMALL($AD$4:$AD$1642,ROWS($AD$4:AD1316)),\"\")","v":""},null,{"$f":"IFERROR(INDEX($A$4:$R$1642,$AE1316,COLUMNS($A:$B)),\"\")","v":""},{"$f":"IFERROR(INDEX($A$4:$R$1642,$AE1316,COLUMNS($A:$C)),\"\")","v":""},{"$f":"IFERROR(INDEX($A$4:$R$1642,$AE1316,COLUMNS($A:$R)),\"\")","v":""},null,{"$f":"IFERROR(IF(SEARCH(\"=\",L1316),L1316,\"\"),\"\")","v":""},{"$f":"IFERROR(IF(SEARCH(\"=\",M1316),M1316,\"\"),\"\")","v":""},{"$f":"IFERROR(IF(SEARCH(\"=\",N1316),N1316,\"\"),\"\")","v":""},{"$f":"IFERROR(IF(SEARCH(\"=\",O1316),O1316,\"\"),\"\")","v":""},null,null,null,164]
[null,null,null,"",null,null,null,null,"","",null,{"$f":"IF(E1317>0,\" (p/u) \"&Modulo2.GetFormula(E1317),\"\")","v":""},{"$f":"IF(F1317>0,\" (lu) \"&Modulo2.GetFormula(F1317),\"\")","v":""},{"$f":"IF(G1317>0,\" (la) \"&Modulo2.GetFormula(G1317),\"\")","v":""},{"$f":"IF(H1317>0,\" (H) \"&Modulo2.GetFormula(H1317),\"\")","v":""},null,null,null,null,null,null,null,null,null,2,0,null,"",{"$f":"ROWS($AC$4:AC1317)","v":1314},"",{"$f":"IFERROR(SMALL($AD$4:$AD$1642,ROWS($AD$4:AD1317)),\"\")","v":""},null,{"$f":"IFERROR(INDEX($A$4:$R$1642,$AE1317,COLUMNS($A:$B)),\"\")","v":""},{"$f":"IFERROR(INDEX($A$4:$R$1642,$AE1317,COLUMNS($A:$C)),\"\")","v":""},{"$f":"IFERROR(INDEX($A$4:$R$1642,$AE1317,COLUMNS($A:$R)),\"\")","v":""},null,"","","","",null,null,null,164]
[null,null,null,"",null,null,null,null,"","",null,{"$f":"IF(E1318>0,\" (p/u) \"&Modulo2.GetFormula(E1318),\"\")","v":""},{"$f":"IF(F1318>0,\" (lu) \"&Modulo2.GetFormula(F1318),\"\")","v":""},{"$f":"IF(G1318>0,\" (la) \"&Modulo2.GetFormula(G1318),\"\")","v":""},{"$f":"IF(H1318>0,\" (H) \"&Modulo2.GetFormula(H1318),\"\")","v":""},null,null,null,null,null,null,null,null,null,2,0,null,"",{"$f":"ROWS($AC$4:AC1318)","v":1315},"",{"$f":"IFERROR(SMALL($AD$4:$AD$1642,ROWS($AD$4:AD1318)),\"\")","v":""},null,{"$f":"IFERROR(INDEX($A$4:$R$1642,$AE1318,COLUMNS($A:$B)),\"\")","v":""},{"$f":"IFERROR(INDEX($A$4:$R$1642,$AE1318,COLUMNS($A:$C)),\"\")","v":""},{"$f":"IFERROR(INDEX($A$4:$R$1642,$AE1318,COLUMNS($A:$R)),\"\")","v":""},null,"","","","",null,null,null,164]
[null,null,null,null,null,null,null,{"$f":"CONCATENATE(\"SOMMANO [\",VLOOKUP(B1315,'Elenco Prezzi2'!$A$2:$E$201,3,FALSE()),\"]\")","v":{"$error":"#N/A"}},{"$f":"IF(T1319=\"s\",V1320,SUBTOTAL(9,I1315:I1319))","v":{"$error":"#REF!"}},null,{"$f":"VLOOKUP(B1315,'Elenco Prezzi2'!$A$2:$E$201,5,FALSE)","v":{"$error":"#N/A"}},null,null,null,null,null,null,{"$f":"IFERROR(I1319*K1319,\"\")","v":""},null,"s",null,null,null,{"$f":"R1319","v":""},2,0,null,"",{"$f":"ROWS($AC$4:AC1319)","v":1316},"",{"$f":"IFERROR(SMALL($AD$4:$AD$1642,ROWS($AD$4:AD1319)),\"\")","v":""},null,{"$f":"IFERROR(INDEX($A$4:$R$1642,$AE1319,COLUMNS($A:$B)),\"\")","v":""},{"$f":"IFERROR(INDEX($A$4:$R$1642,$AE1319,COLUMNS($A:$C)),\"\")","v":""},{"$f":"IFERROR(INDEX($A$4:$R$1642,$AE1319,COLUMNS($A:$R)),\"\")","v":""},null,null,null,null,null,null,null,null,164]
[null,null,null,null,null,null,null,{"$f":"IF(I1320<0,\"a detrarre\",\"\")","v":""},{"$f":"SUMIF(I1315:I1318,\"<0\")","v":0},null,null,null,null,null,null,null,null,null,{"$f":"R1319","v":""},null,null,{"$f":"VLOOKUP(B1315,#REF!,4,FALSE)","v":{"$error":"#REF!"}},null,null,2,0,null,"",{"$f":"ROWS($AC$4:AC1320)","v":1317},"",{"$f":"IFERROR(SMALL($AD$4:$AD$1642,ROWS($AD$4:AD1320)),\"\")","v":""},null,{"$f":"IFERROR(INDEX($A$4:$R$1642,$AE1320,COLUMNS($A:$B)),\"\")","v":""},{"$f":"IFERROR(INDEX($A$4:$R$1642,$AE1320,COLUMNS($A:$C)),\"\")","v":""},{"$f":"IFERROR(INDEX($A$4:$R$1642,$AE1320,COLUMNS($A:$R)),\"\")","v":""},null,null,null,null,null,null,null,null,164]
[null,null,null,null,null,null,null,null,null,null,null,null,null,null,null,null,null,null,null,null,null,null,null,null,2,0,null,"",{"$f":"ROWS($AC$4:AC1321)","v":1318},"",{"$f":"IFERROR(SMALL($AD$4:$AD$1642,ROWS($AD$4:AD1321)),\"\")","v":""},null,{"$f":"IFERROR(INDEX($A$4:$R$1642,$AE1321,COLUMNS($A:$B)),\"\")","v":""},{"$f":"IFERROR(INDEX($A$4:$R$1642,$AE1321,COLUMNS($A:$C)),\"\")","v":""},{"$f":"IFERROR(INDEX($A$4:$R$1642,$AE1321,COLUMNS($A:$R)),\"\")","v":""},null,null,null,null,null,null,null,null,164]
[null,null,null,null,null,null,null,null,null,null,null,null,null,null,null,null,null,null,null,null,null,null,null,null,2,0,null,"",{"$f":"ROWS($AC$4:AC1322)","v":1319},"",{"$f":"IFERROR(SMALL($AD$4:$AD$1642,ROWS($AD$4:AD1322)),\"\")","v":""},null,{"$f":"IFERROR(INDEX($A$4:$R$1642,$AE1322,COLUMNS($A:$B)),\"\")","v":""},{"$f":"IFERROR(INDEX($A$4:$R$1642,$AE1322,COLUMNS($A:$C)),\"\")","v":""},{"$f":"IFERROR(INDEX($A$4:$R$1642,$AE1322,COLUMNS($A:$R)),\"\")","v":""},null,null,null,null,null,null,null,null,164]
[{"$f":"AR1323","v":165},null,{"$f":"(VLOOKUP($B1323,'Elenco Prezzi2'!$A$2:$E$201,2,FALSE))","v":{"$error":"#N/A"}},null,null,null,null,null,null,null,null,null,null,null,null,null,null,null,null,null,null,null,null,null,2,0,null,"",{"$f":"ROWS($AC$4:AC1323)","v":1320},"",{"$f":"IFERROR(SMALL($AD$4:$AD$1642,ROWS($AD$4:AD1323)),\"\")","v":""},null,{"$f":"IFERROR(INDEX($A$4:$R$1642,$AE1323,COLUMNS($A:$B)),\"\")","v":""},{"$f":"IFERROR(INDEX($A$4:$R$1642,$AE1323,COLUMNS($A:$C)),\"\")","v":""},{"$f":"IFERROR(INDEX($A$4:$R$1642,$AE1323,COLUMNS($A:$R)),\"\")","v":""},null,null,null,null,null,null,null,1,165]
[null,null,null,{"$f":"CONCATENATE(AK1324&AL1324&AM1324&AN1324)","v":""},null,null,null,null,{"$f":"IFERROR(IF(PRODUCT(E1324:H1324)=0,\"\",PRODUCT(E1324:H1324)),\"\")","v":""},{"$f":"I1324","v":""},null,{"$f":"IF(E1324>0,\" (p/u) \"&Modulo2.GetFormula(E1324),\"\")","v":""},{"$f":"IF(F1324>0,\" (lu) \"&Modulo2.GetFormula(F1324),\"\")","v":""},{"$f":"IF(G1324>0,\" (la) \"&Modulo2.GetFormula(G1324),\"\")","v":""},{"$f":"IF(H1324>0,\" (H) \"&Modulo2.GetFormula(H1324),\"\")","v":""},null,null,null,null,null,null,null,null,null,2,0,null,"",{"$f":"ROWS($AC$4:AC1324)","v":1321},"",{"$f":"IFERROR(SMALL($AD$4:$AD$1642,ROWS($AD$4:AD1324)),\"\")","v":""},null,{"$f":"IFERROR(INDEX($A$4:$R$1642,$AE1324,COLUMNS($A:$B)),\"\")","v":""},{"$f":"IFERROR(INDEX($A$4:$R$1642,$AE1324,COLUMNS($A:$C)),\"\")","v":""},{"$f":"IFERROR(INDEX($A$4:$R$1642,$AE1324,COLUMNS($A:$R)),\"\")","v":""},null,{"$f":"IFERROR(IF(SEARCH(\"=\",L1324),L1324,\"\"),\"\")","v":""},{"$f":"IFERROR(IF(SEARCH(\"=\",M1324),M1324,\"\"),\"\")","v":""},{"$f":"IFERROR(IF(SEARCH(\"=\",N1324),N1324,\"\"),\"\")","v":""},{"$f":"IFERROR(IF(SEARCH(\"=\",O1324),O1324,\"\"),\"\")","v":""},null,null,null,165]
[null,null,null,"",null,null,null,null,"","",null,{"$f":"IF(E1325>0,\" (p/u) \"&Modulo2.GetFormula(E1325),\"\")","v":""},{"$f":"IF(F1325>0,\" (lu) \"&Modulo2.GetFormula(F1325),\"\")","v":""},{"$f":"IF(G1325>0,\" (la) \"&Modulo2.GetFormula(G1325),\"\")","v":""},{"$f":"IF(H1325>0,\" (H) \"&Modulo2.GetFormula(H1325),\"\")","v":""},null,null,null,null,null,null,null,null,null,2,0,null,"",{"$f":"ROWS($AC$4:AC1325)","v":1322},"",{"$f":"IFERROR(SMALL($AD$4:$AD$1642,ROWS($AD$4:AD1325)),\"\")","v":""},null,{"$f":"IFERROR(INDEX($A$4:$R$1642,$AE1325,COLUMNS($A:$B)),\"\")","v":""},{"$f":"IFERROR(INDEX($A$4:$R$1642,$AE1325,COLUMNS($A:$C)),\"\")","v":""},{"$f":"IFERROR(INDEX($A$4:$R$1642,$AE1325,COLUMNS($A:$R)),\"\")","v":""},null,"","","","",null,null,null,165]
[null,null,null,"",null,null,null,null,"","",null,{"$f":"IF(E1326>0,\" (p/u) \"&Modulo2.GetFormula(E1326),\"\")","v":""},{"$f":"IF(F1326>0,\" (lu) \"&Modulo2.GetFormula(F1326),\"\")","v":""},{"$f":"IF(G1326>0,\" (la) \"&Modulo2.GetFormula(G1326),\"\")","v":""},{"$f":"IF(H1326>0,\" (H) \"&Modulo2.GetFormula(H1326),\"\")","v":""},null,null,null,null,null,null,null,null,null,2,0,null,"",{"$f":"ROWS($AC$4:AC1326)","v":1323},"",{"$f":"IFERROR(SMALL($AD$4:$AD$1642,ROWS($AD$4:AD1326)),\"\")","v":""},null,{"$f":"IFERROR(INDEX($A$4:$R$1642,$AE1326,COLUMNS($A:$B)),\"\")","v":""},{"$f":"IFERROR(INDEX($A$4:$R$1642,$AE1326,COLUMNS($A:$C)),\"\")","v":""},{"$f":"IFERROR(INDEX($A$4:$R$1642,$AE1326,COLUMNS($A:$R)),\"\")","v":""},null,"","","","",null,null,null,165]
[null,null,null,null,null,null,null,{"$f":"CONCATENATE(\"SOMMANO [\",VLOOKUP(B1323,'Elenco Prezzi2'!$A$2:$E$201,3,FALSE()),\"]\")","v":{"$error":"#N/A"}},{"$f":"IF(T1327=\"s\",V1328,SUBTOTAL(9,I1323:I1327))","v":{"$error":"#REF!"}},null,{"$f":"VLOOKUP(B1323,'Elenco Prezzi2'!$A$2:$E$201,5,FALSE)","v":{"$error":"#N/A"}},null,null,null,null,null,null,{"$f":"IFERROR(I1327*K1327,\"\")","v":""},null,"s",null,null,null,{"$f":"R1327","v":""},2,0,null,"",{"$f":"ROWS($AC$4:AC1327)","v":1324},"",{"$f":"IFERROR(SMALL($AD$4:$AD$1642,ROWS($AD$4:AD1327)),\"\")","v":""},null,{"$f":"IFERROR(INDEX($A$4:$R$1642,$AE1327,COLUMNS($A:$B)),\"\")","v":""},{"$f":"IFERROR(INDEX($A$4:$R$1642,$AE1327,COLUMNS($A:$C)),\"\")","v":""},{"$f":"IFERROR(INDEX($A$4:$R$1642,$AE1327,COLUMNS($A:$R)),\"\")","v":""},null,null,null,null,null,null,null,null,165]
[null,null,null,null,null,null,null,{"$f":"IF(I1328<0,\"a detrarre\",\"\")","v":""},{"$f":"SUMIF(I1323:I1326,\"<0\")","v":0},null,null,null,null,null,null,null,null,null,{"$f":"R1327","v":""},null,null,{"$f":"VLOOKUP(B1323,#REF!,4,FALSE)","v":{"$error":"#REF!"}},null,null,2,0,null,"",{"$f":"ROWS($AC$4:AC1328)","v":1325},"",{"$f":"IFERROR(SMALL($AD$4:$AD$1642,ROWS($AD$4:AD1328)),\"\")","v":""},null,{"$f":"IFERROR(INDEX($A$4:$R$1642,$AE1328,COLUMNS($A:$B)),\"\")","v":""},{"$f":"IFERROR(INDEX($A$4:$R$1642,$AE1328,COLUMNS($A:$C)),\"\")","v":""},{"$f":"IFERROR(INDEX($A$4:$R$1642,$AE1328,COLUMNS($A:$R)),\"\")","v":""},null,null,null,null,null,null,null,null,165]
[null,null,null,null,null,null,null,null,null,null,null,null,null,null,null,null,null,null,null,null,null,null,null,null,2,0,null,"",{"$f":"ROWS($AC$4:AC1329)","v":1326},"",{"$f":"IFERROR(SMALL($AD$4:$AD$1642,ROWS($AD$4:AD1329)),\"\")","v":""},null,{"$f":"IFERROR(INDEX($A$4:$R$1642,$AE1329,COLUMNS($A:$B)),\"\")","v":""},{"$f":"IFERROR(INDEX($A$4:$R$1642,$AE1329,COLUMNS($A:$C)),\"\")","v":""},{"$f":"IFERROR(INDEX($A$4:$R$1642,$AE1329,COLUMNS($A:$R)),\"\")","v":""},null,null,null,null,null,null,null,null,165]
[null,null,null,null,null,null,null,null,null,null,null,null,null,null,null,null,null,null,null,null,null,null,null,null,2,0,null,"",{"$f":"ROWS($AC$4:AC1330)","v":1327},"",{"$f":"IFERROR(SMALL($AD$4:$AD$1642,ROWS($AD$4:AD1330)),\"\")","v":""},null,{"$f":"IFERROR(INDEX($A$4:$R$1642,$AE1330,COLUMNS($A:$B)),\"\")","v":""},{"$f":"IFERROR(INDEX($A$4:$R$1642,$AE1330,COLUMNS($A:$C)),\"\")","v":""},{"$f":"IFERROR(INDEX($A$4:$R$1642,$AE1330,COLUMNS($A:$R)),\"\")","v":""},null,null,null,null,null,null,null,null,165]
[{"$f":"AR1331","v":166},null,{"$f":"(VLOOKUP($B1331,'Elenco Prezzi2'!$A$2:$E$201,2,FALSE))","v":{"$error":"#N/A"}},null,null,null,null,null,null,null,null,null,null,null,null,null,null,null,null,null,null,null,null,null,2,0,null,"",{"$f":"ROWS($AC$4:AC1331)","v":1328},"",{"$f":"IFERROR(SMALL($AD$4:$AD$1642,ROWS($AD$4:AD1331)),\"\")","v":""},null,{"$f":"IFERROR(INDEX($A$4:$R$1642,$AE1331,COLUMNS($A:$B)),\"\")","v":""},{"$f":"IFERROR(INDEX($A$4:$R$1642,$AE1331,COLUMNS($A:$C)),\"\")","v":""},{"$f":"IFERROR(INDEX($A$4:$R$1642,$AE1331,COLUMNS($A:$R)),\"\")","v":""},null,null,null,null,null,null,null,1,166]
[null,null,null,{"$f":"CONCATENATE(AK1332&AL1332&AM1332&AN1332)","v":""},null,null,null,null,{"$f":"IFERROR(IF(PRODUCT(E1332:H1332)=0,\"\",PRODUCT(E1332:H1332)),\"\")","v":""},{"$f":"I1332","v":""},null,{"$f":"IF(E1332>0,\" (p/u) \"&Modulo2.GetFormula(E1332),\"\")","v":""},{"$f":"IF(F1332>0,\" (lu) \"&Modulo2.GetFormula(F1332),\"\")","v":""},{"$f":"IF(G1332>0,\" (la) \"&Modulo2.GetFormula(G1332),\"\")","v":""},{"$f":"IF(H1332>0,\" (H) \"&Modulo2.GetFormula(H1332),\"\")","v":""},null,null,null,null,null,null,null,null,null,2,0,null,"",{"$f":"ROWS($AC$4:AC1332)","v":1329},"",{"$f":"IFERROR(SMALL($AD$4:$AD$1642,ROWS($AD$4:AD1332)),\"\")","v":""},null,{"$f":"IFERROR(INDEX($A$4:$R$1642,$AE1332,COLUMNS($A:$B)),\"\")","v":""},{"$f":"IFERROR(INDEX($A$4:$R$1642,$AE1332,COLUMNS($A:$C)),\"\")","v":""},{"$f":"IFERROR(INDEX($A$4:$R$1642,$AE1332,COLUMNS($A:$R)),\"\")","v":""},null,{"$f":"IFERROR(IF(SEARCH(\"=\",L1332),L1332,\"\"),\"\")","v":""},{"$f":"IFERROR(IF(SEARCH(\"=\",M1332),M1332,\"\"),\"\")","v":""},{"$f":"IFERROR(IF(SEARCH(\"=\",N1332),N1332,\"\"),\"\")","v":""},{"$f":"IFERROR(IF(SEARCH(\"=\",O1332),O1332,\"\"),\"\")","v":""},null,null,null,166]
[null,null,null,"",null,null,null,null,"","",null,{"$f":"IF(E1333>0,\" (p/u) \"&Modulo2.GetFormula(E1333),\"\")","v":""},{"$f":"IF(F1333>0,\" (lu) \"&Modulo2.GetFormula(F1333),\"\")","v":""},{"$f":"IF(G1333>0,\" (la) \"&Modulo2.GetFormula(G1333),\"\")","v":""},{"$f":"IF(H1333>0,\" (H) \"&Modulo2.GetFormula(H1333),\"\")","v":""},null,null,null,null,null,null,null,null,null,2,0,null,"",{"$f":"ROWS($AC$4:AC1333)","v":1330},"",{"$f":"IFERROR(SMALL($AD$4:$AD$1642,ROWS($AD$4:AD1333)),\"\")","v":""},null,{"$f":"IFERROR(INDEX($A$4:$R$1642,$AE1333,COLUMNS($A:$B)),\"\")","v":""},{"$f":"IFERROR(INDEX($A$4:$R$1642,$AE1333,COLUMNS($A:$C)),\"\")","v":""},{"$f":"IFERROR(INDEX($A$4:$R$1642,$AE1333,COLUMNS($A:$R)),\"\")","v":""},null,"","","","",null,null,null,166]
[null,null,null,"",null,null,null,null,"","",null,{"$f":"IF(E1334>0,\" (p/u) \"&Modulo2.GetFormula(E1334),\"\")","v":""},{"$f":"IF(F1334>0,\" (lu) \"&Modulo2.GetFormula(F1334),\"\")","v":""},{"$f":"IF(G1334>0,\" (la) \"&Modulo2.GetFormula(G1334),\"\")","v":""},{"$f":"IF(H1334>0,\" (H) \"&Modulo2.GetFormula(H1334),\"\")","v":""},null,null,null,null,null,null,null,null,null,2,0,null,"",{"$f":"ROWS($AC$4:AC1334)","v":1331},"",{"$f":"IFERROR(SMALL($AD$4:$AD$1642,ROWS($AD$4:AD1334)),\"\")","v":""},null,{"$f":"IFERROR(INDEX($A$4:$R$1642,$AE1334,COLUMNS($A:$B)),\"\")","v":""},{"$f":"IFERROR(INDEX($A$4:$R$1642,$AE1334,COLUMNS($A:$C)),\"\")","v":""},{"$f":"IFERROR(INDEX($A$4:$R$1642,$AE1334,COLUMNS($A:$R)),\"\")","v":""},null,"","","","",null,null,null,166]
[null,null,null,null,null,null,null,{"$f":"CONCATENATE(\"SOMMANO [\",VLOOKUP(B1331,'Elenco Prezzi2'!$A$2:$E$201,3,FALSE()),\"]\")","v":{"$error":"#N/A"}},{"$f":"IF(T1335=\"s\",V1336,SUBTOTAL(9,I1331:I1335))","v":{"$error":"#REF!"}},null,{"$f":"VLOOKUP(B1331,'Elenco Prezzi2'!$A$2:$E$201,5,FALSE)","v":{"$error":"#N/A"}},null,null,null,null,null,null,{"$f":"IFERROR(I1335*K1335,\"\")","v":""},null,"s",null,null,null,{"$f":"R1335","v":""},2,0,null,"",{"$f":"ROWS($AC$4:AC1335)","v":1332},"",{"$f":"IFERROR(SMALL($AD$4:$AD$1642,ROWS($AD$4:AD1335)),\"\")","v":""},null,{"$f":"IFERROR(INDEX($A$4:$R$1642,$AE1335,COLUMNS($A:$B)),\"\")","v":""},{"$f":"IFERROR(INDEX($A$4:$R$1642,$AE1335,COLUMNS($A:$C)),\"\")","v":""},{"$f":"IFERROR(INDEX($A$4:$R$1642,$AE1335,COLUMNS($A:$R)),\"\")","v":""},null,null,null,null,null,null,null,null,166]
[null,null,null,null,null,null,null,{"$f":"IF(I1336<0,\"a detrarre\",\"\")","v":""},{"$f":"SUMIF(I1331:I1334,\"<0\")","v":0},null,null,null,null,null,null,null,null,null,{"$f":"R1335","v":""},null,null,{"$f":"VLOOKUP(B1331,#REF!,4,FALSE)","v":{"$error":"#REF!"}},null,null,2,0,null,"",{"$f":"ROWS($AC$4:AC1336)","v":1333},"",{"$f":"IFERROR(SMALL($AD$4:$AD$1642,ROWS($AD$4:AD1336)),\"\")","v":""},null,{"$f":"IFERROR(INDEX($A$4:$R$1642,$AE1336,COLUMNS($A:$B)),\"\")","v":""},{"$f":"IFERROR(INDEX($A$4:$R$1642,$AE1336,COLUMNS($A:$C)),\"\")","v":""},{"$f":"IFERROR(INDEX($A$4:$R$1642,$AE1336,COLUMNS($A:$R)),\"\")","v":""},null,null,null,null,null,null,null,null,166]
[null,null,null,null,null,null,null,null,null,null,null,null,null,null,null,null,null,null,null,null,null,null,null,null,2,0,null,"",{"$f":"ROWS($AC$4:AC1337)","v":1334},"",{"$f":"IFERROR(SMALL($AD$4:$AD$1642,ROWS($AD$4:AD1337)),\"\")","v":""},null,{"$f":"IFERROR(INDEX($A$4:$R$1642,$AE1337,COLUMNS($A:$B)),\"\")","v":""},{"$f":"IFERROR(INDEX($A$4:$R$1642,$AE1337,COLUMNS($A:$C)),\"\")","v":""},{"$f":"IFERROR(INDEX($A$4:$R$1642,$AE1337,COLUMNS($A:$R)),\"\")","v":""},null,null,null,null,null,null,null,null,166]
[null,null,null,null,null,null,null,null,null,null,null,null,null,null,null,null,null,null,null,null,null,null,null,null,2,0,null,"",{"$f":"ROWS($AC$4:AC1338)","v":1335},"",{"$f":"IFERROR(SMALL($AD$4:$AD$1642,ROWS($AD$4:AD1338)),\"\")","v":""},null,{"$f":"IFERROR(INDEX($A$4:$R$1642,$AE1338,COLUMNS($A:$B)),\"\")","v":""},{"$f":"IFERROR(INDEX($A$4:$R$1642,$AE1338,COLUMNS($A:$C)),\"\")","v":""},{"$f":"IFERROR(INDEX($A$4:$R$1642,$AE1338,COLUMNS($A:$R)),\"\")","v":""},null,null,null,null,null,null,null,null,166]
[{"$f":"AR1339","v":167},null,{"$f":"(VLOOKUP($B1339,'Elenco Prezzi2'!$A$2:$E$201,2,FALSE))","v":{"$error":"#N/A"}},null,null,null,null,null,null,null,null,null,null,null,null,null,null,null,null,null,null,null,null,null,2,0,null,"",{"$f":"ROWS($AC$4:AC1339)","v":1336},"",{"$f":"IFERROR(SMALL($AD$4:$AD$1642,ROWS($AD$4:AD1339)),\"\")","v":""},null,{"$f":"IFERROR(INDEX($A$4:$R$1642,$AE1339,COLUMNS($A:$B)),\"\")","v":""},{"$f":"IFERROR(INDEX($A$4:$R$1642,$AE1339,COLUMNS($A:$C)),\"\")","v":""},{"$f":"IFERROR(INDEX($A$4:$R$1642,$AE1339,COLUMNS($A:$R)),\"\")","v":""},null,null,null,null,null,null,null,1,167]
[null,null,null,{"$f":"CONCATENATE(AK1340&AL1340&AM1340&AN1340)","v":""},null,null,null,null,{"$f":"IFERROR(IF(PRODUCT(E1340:H1340)=0,\"\",PRODUCT(E1340:H1340)),\"\")","v":""},{"$f":"I1340","v":""},null,{"$f":"IF(E1340>0,\" (p/u) \"&Modulo2.GetFormula(E1340),\"\")","v":""},{"$f":"IF(F1340>0,\" (lu) \"&Modulo2.GetFormula(F1340),\"\")","v":""},{"$f":"IF(G1340>0,\" (la) \"&Modulo2.GetFormula(G1340),\"\")","v":""},{"$f":"IF(H1340>0,\" (H) \"&Modulo2.GetFormula(H1340),\"\")","v":""},null,null,null,null,null,null,null,null,null,2,0,null,"",{"$f":"ROWS($AC$4:AC1340)","v":1337},"",{"$f":"IFERROR(SMALL($AD$4:$AD$1642,ROWS($AD$4:AD1340)),\"\")","v":""},null,{"$f":"IFERROR(INDEX($A$4:$R$1642,$AE1340,COLUMNS($A:$B)),\"\")","v":""},{"$f":"IFERROR(INDEX($A$4:$R$1642,$AE1340,COLUMNS($A:$C)),\"\")","v":""},{"$f":"IFERROR(INDEX($A$4:$R$1642,$AE1340,COLUMNS($A:$R)),\"\")","v":""},null,{"$f":"IFERROR(IF(SEARCH(\"=\",L1340),L1340,\"\"),\"\")","v":""},{"$f":"IFERROR(IF(SEARCH(\"=\",M1340),M1340,\"\"),\"\")","v":""},{"$f":"IFERROR(IF(SEARCH(\"=\",N1340),N1340,\"\"),\"\")","v":""},{"$f":"IFERROR(IF(SEARCH(\"=\",O1340),O1340,\"\"),\"\")","v":""},null,null,null,167]
[null,null,null,"",null,null,null,null,"","",null,{"$f":"IF(E1341>0,\" (p/u) \"&Modulo2.GetFormula(E1341),\"\")","v":""},{"$f":"IF(F1341>0,\" (lu) \"&Modulo2.GetFormula(F1341),\"\")","v":""},{"$f":"IF(G1341>0,\" (la) \"&Modulo2.GetFormula(G1341),\"\")","v":""},{"$f":"IF(H1341>0,\" (H) \"&Modulo2.GetFormula(H1341),\"\")","v":""},null,null,null,null,null,null,null,null,null,2,0,null,"",{"$f":"ROWS($AC$4:AC1341)","v":1338},"",{"$f":"IFERROR(SMALL($AD$4:$AD$1642,ROWS($AD$4:AD1341)),\"\")","v":""},null,{"$f":"IFERROR(INDEX($A$4:$R$1642,$AE1341,COLUMNS($A:$B)),\"\")","v":""},{"$f":"IFERROR(INDEX($A$4:$R$1642,$AE1341,COLUMNS($A:$C)),\"\")","v":""},{"$f":"IFERROR(INDEX($A$4:$R$1642,$AE1341,COLUMNS($A:$R)),\"\")","v":""},null,"","","","",null,null,null,167]
[null,null,null,"",null,null,null,null,"","",null,{"$f":"IF(E1342>0,\" (p/u) \"&Modulo2.GetFormula(E1342),\"\")","v":""},{"$f":"IF(F1342>0,\" (lu) \"&Modulo2.GetFormula(F1342),\"\")","v":""},{"$f":"IF(G1342>0,\" (la) \"&Modulo2.GetFormula(G1342),\"\")","v":""},{"$f":"IF(H1342>0,\" (H) \"&Modulo2.GetFormula(H1342),\"\")","v":""},null,null,null,null,null,null,null,null,null,2,0,null,"",{"$f":"ROWS($AC$4:AC1342)","v":1339},"",{"$f":"IFERROR(SMALL($AD$4:$AD$1642,ROWS($AD$4:AD1342)),\"\")","v":""},null,{"$f":"IFERROR(INDEX($A$4:$R$1642,$AE1342,COLUMNS($A:$B)),\"\")","v":""},{"$f":"IFERROR(INDEX($A$4:$R$1642,$AE1342,COLUMNS($A:$C)),\"\")","v":""},{"$f":"IFERROR(INDEX($A$4:$R$1642,$AE1342,COLUMNS($A:$R)),\"\")","v":""},null,"","","","",null,null,null,167]
[null,null,null,null,null,null,null,{"$f":"CONCATENATE(\"SOMMANO [\",VLOOKUP(B1339,'Elenco Prezzi2'!$A$2:$E$201,3,FALSE()),\"]\")","v":{"$error":"#N/A"}},{"$f":"IF(T1343=\"s\",V1344,SUBTOTAL(9,I1339:I1343))","v":{"$error":"#REF!"}},null,{"$f":"VLOOKUP(B1339,'Elenco Prezzi2'!$A$2:$E$201,5,FALSE)","v":{"$error":"#N/A"}},null,null,null,null,null,null,{"$f":"IFERROR(I1343*K1343,\"\")","v":""},null,"s",null,null,null,{"$f":"R1343","v":""},2,0,null,"",{"$f":"ROWS($AC$4:AC1343)","v":1340},"",{"$f":"IFERROR(SMALL($AD$4:$AD$1642,ROWS($AD$4:AD1343)),\"\")","v":""},null,{"$f":"IFERROR(INDEX($A$4:$R$1642,$AE1343,COLUMNS($A:$B)),\"\")","v":""},{"$f":"IFERROR(INDEX($A$4:$R$1642,$AE1343,COLUMNS($A:$C)),\"\")","v":""},{"$f":"IFERROR(INDEX($A$4:$R$1642,$AE1343,COLUMNS($A:$R)),\"\")","v":""},null,null,null,null,null,null,null,null,167]
[null,null,null,null,null,null,null,{"$f":"IF(I1344<0,\"a detrarre\",\"\")","v":""},{"$f":"SUMIF(I1339:I1342,\"<0\")","v":0},null,null,null,null,null,null,null,null,null,{"$f":"R1343","v":""},null,null,{"$f":"VLOOKUP(B1339,#REF!,4,FALSE)","v":{"$error":"#REF!"}},null,null,2,0,null,"",{"$f":"ROWS($AC$4:AC1344)","v":1341},"",{"$f":"IFERROR(SMALL($AD$4:$AD$1642,ROWS($AD$4:AD1344)),\"\")","v":""},null,{"$f":"IFERROR(INDEX($A$4:$R$1642,$AE1344,COLUMNS($A:$B)),\"\")","v":""},{"$f":"IFERROR(INDEX($A$4:$R$1642,$AE1344,COLUMNS($A:$C)),\"\")","v":""},{"$f":"IFERROR(INDEX($A$4:$R$1642,$AE1344,COLUMNS($A:$R)),\"\")","v":""},null,null,null,null,null,null,null,null,167]
[null,null,null,null,null,null,null,null,null,null,null,null,null,null,null,null,null,null,null,null,null,null,null,null,2,0,null,"",{"$f":"ROWS($AC$4:AC1345)","v":1342},"",{"$f":"IFERROR(SMALL($AD$4:$AD$1642,ROWS($AD$4:AD1345)),\"\")","v":""},null,{"$f":"IFERROR(INDEX($A$4:$R$1642,$AE1345,COLUMNS($A:$B)),\"\")","v":""},{"$f":"IFERROR(INDEX($A$4:$R$1642,$AE1345,COLUMNS($A:$C)),\"\")","v":""},{"$f":"IFERROR(INDEX($A$4:$R$1642,$AE1345,COLUMNS($A:$R)),\"\")","v":""},null,null,null,null,null,null,null,null,167]
[null,null,null,null,null,null,null,null,null,null,null,null,null,null,null,null,null,null,null,null,null,null,null,null,2,0,null,"",{"$f":"ROWS($AC$4:AC1346)","v":1343},"",{"$f":"IFERROR(SMALL($AD$4:$AD$1642,ROWS($AD$4:AD1346)),\"\")","v":""},null,{"$f":"IFERROR(INDEX($A$4:$R$1642,$AE1346,COLUMNS($A:$B)),\"\")","v":""},{"$f":"IFERROR(INDEX($A$4:$R$1642,$AE1346,COLUMNS($A:$C)),\"\")","v":""},{"$f":"IFERROR(INDEX($A$4:$R$1642,$AE1346,COLUMNS($A:$R)),\"\")","v":""},null,null,null,null,null,null,null,null,167]
[{"$f":"AR1347","v":168},null,{"$f":"(VLOOKUP($B1347,'Elenco Prezzi2'!$A$2:$E$201,2,FALSE))","v":{"$error":"#N/A"}},null,null,null,null,null,null,null,null,null,null,null,null,null,null,null,null,null,null,null,null,null,2,0,null,"",{"$f":"ROWS($AC$4:AC1347)","v":1344},"",{"$f":"IFERROR(SMALL($AD$4:$AD$1642,ROWS($AD$4:AD1347)),\"\")","v":""},null,{"$f":"IFERROR(INDEX($A$4:$R$1642,$AE1347,COLUMNS($A:$B)),\"\")","v":""},{"$f":"IFERROR(INDEX($A$4:$R$1642,$AE1347,COLUMNS($A:$C)),\"\")","v":""},{"$f":"IFERROR(INDEX($A$4:$R$1642,$AE1347,COLUMNS($A:$R)),\"\")","v":""},null,null,null,null,null,null,null,1,168]
[null,null,null,{"$f":"CONCATENATE(AK1348&AL1348&AM1348&AN1348)","v":""},null,null,null,null,{"$f":"IFERROR(IF(PRODUCT(E1348:H1348)=0,\"\",PRODUCT(E1348:H1348)),\"\")","v":""},{"$f":"I1348","v":""},null,{"$f":"IF(E1348>0,\" (p/u) \"&Modulo2.GetFormula(E1348),\"\")","v":""},{"$f":"IF(F1348>0,\" (lu) \"&Modulo2.GetFormula(F1348),\"\")","v":""},{"$f":"IF(G1348>0,\" (la) \"&Modulo2.GetFormula(G1348),\"\")","v":""},{"$f":"IF(H1348>0,\" (H) \"&Modulo2.GetFormula(H1348),\"\")","v":""},null,null,null,null,null,null,null,null,null,2,0,null,"",{"$f":"ROWS($AC$4:AC1348)","v":1345},"",{"$f":"IFERROR(SMALL($AD$4:$AD$1642,ROWS($AD$4:AD1348)),\"\")","v":""},null,{"$f":"IFERROR(INDEX($A$4:$R$1642,$AE1348,COLUMNS($A:$B)),\"\")","v":""},{"$f":"IFERROR(INDEX($A$4:$R$1642,$AE1348,COLUMNS($A:$C)),\"\")","v":""},{"$f":"IFERROR(INDEX($A$4:$R$1642,$AE1348,COLUMNS($A:$R)),\"\")","v":""},null,{"$f":"IFERROR(IF(SEARCH(\"=\",L1348),L1348,\"\"),\"\")","v":""},{"$f":"IFERROR(IF(SEARCH(\"=\",M1348),M1348,\"\"),\"\")","v":""},{"$f":"IFERROR(IF(SEARCH(\"=\",N1348),N1348,\"\"),\"\")","v":""},{"$f":"IFERROR(IF(SEARCH(\"=\",O1348),O1348,\"\"),\"\")","v":""},null,null,null,168]
[null,null,null,"",null,null,null,null,"","",null,{"$f":"IF(E1349>0,\" (p/u) \"&Modulo2.GetFormula(E1349),\"\")","v":""},{"$f":"IF(F1349>0,\" (lu) \"&Modulo2.GetFormula(F1349),\"\")","v":""},{"$f":"IF(G1349>0,\" (la) \"&Modulo2.GetFormula(G1349),\"\")","v":""},{"$f":"IF(H1349>0,\" (H) \"&Modulo2.GetFormula(H1349),\"\")","v":""},null,null,null,null,null,null,null,null,null,2,0,null,"",{"$f":"ROWS($AC$4:AC1349)","v":1346},"",{"$f":"IFERROR(SMALL($AD$4:$AD$1642,ROWS($AD$4:AD1349)),\"\")","v":""},null,{"$f":"IFERROR(INDEX($A$4:$R$1642,$AE1349,COLUMNS($A:$B)),\"\")","v":""},{"$f":"IFERROR(INDEX($A$4:$R$1642,$AE1349,COLUMNS($A:$C)),\"\")","v":""},{"$f":"IFERROR(INDEX($A$4:$R$1642,$AE1349,COLUMNS($A:$R)),\"\")","v":""},null,"","","","",null,null,null,168]
[null,null,null,"",null,null,null,null,"","",null,{"$f":"IF(E1350>0,\" (p/u) \"&Modulo2.GetFormula(E1350),\"\")","v":""},{"$f":"IF(F1350>0,\" (lu) \"&Modulo2.GetFormula(F1350),\"\")","v":""},{"$f":"IF(G1350>0,\" (la) \"&Modulo2.GetFormula(G1350),\"\")","v":""},{"$f":"IF(H1350>0,\" (H) \"&Modulo2.GetFormula(H1350),\"\")","v":""},null,null,null,null,null,null,null,null,null,2,0,null,"",{"$f":"ROWS($AC$4:AC1350)","v":1347},"",{"$f":"IFERROR(SMALL($AD$4:$AD$1642,ROWS($AD$4:AD1350)),\"\")","v":""},null,{"$f":"IFERROR(INDEX($A$4:$R$1642,$AE1350,COLUMNS($A:$B)),\"\")","v":""},{"$f":"IFERROR(INDEX($A$4:$R$1642,$AE1350,COLUMNS($A:$C)),\"\")","v":""},{"$f":"IFERROR(INDEX($A$4:$R$1642,$AE1350,COLUMNS($A:$R)),\"\")","v":""},null,"","","","",null,null,null,168]
[null,null,null,null,null,null,null,{"$f":"CONCATENATE(\"SOMMANO [\",VLOOKUP(B1347,'Elenco Prezzi2'!$A$2:$E$201,3,FALSE()),\"]\")","v":{"$error":"#N/A"}},{"$f":"IF(T1351=\"s\",V1352,SUBTOTAL(9,I1347:I1351))","v":{"$error":"#REF!"}},null,{"$f":"VLOOKUP(B1347,'Elenco Prezzi2'!$A$2:$E$201,5,FALSE)","v":{"$error":"#N/A"}},null,null,null,null,null,null,{"$f":"IFERROR(I1351*K1351,\"\")","v":""},null,"s",null,null,null,{"$f":"R1351","v":""},2,0,null,"",{"$f":"ROWS($AC$4:AC1351)","v":1348},"",{"$f":"IFERROR(SMALL($AD$4:$AD$1642,ROWS($AD$4:AD1351)),\"\")","v":""},null,{"$f":"IFERROR(INDEX($A$4:$R$1642,$AE1351,COLUMNS($A:$B)),\"\")","v":""},{"$f":"IFERROR(INDEX($A$4:$R$1642,$AE1351,COLUMNS($A:$C)),\"\")","v":""},{"$f":"IFERROR(INDEX($A$4:$R$1642,$AE1351,COLUMNS($A:$R)),\"\")","v":""},null,null,null,null,null,null,null,null,168]
[null,null,null,null,null,null,null,{"$f":"IF(I1352<0,\"a detrarre\",\"\")","v":""},{"$f":"SUMIF(I1347:I1350,\"<0\")","v":0},null,null,null,null,null,null,null,null,null,{"$f":"R1351","v":""},null,null,{"$f":"VLOOKUP(B1347,#REF!,4,FALSE)","v":{"$error":"#REF!"}},null,null,2,0,null,"",{"$f":"ROWS($AC$4:AC1352)","v":1349},"",{"$f":"IFERROR(SMALL($AD$4:$AD$1642,ROWS($AD$4:AD1352)),\"\")","v":""},null,{"$f":"IFERROR(INDEX($A$4:$R$1642,$AE1352,COLUMNS($A:$B)),\"\")","v":""},{"$f":"IFERROR(INDEX($A$4:$R$1642,$AE1352,COLUMNS($A:$C)),\"\")","v":""},{"$f":"IFERROR(INDEX($A$4:$R$1642,$AE1352,COLUMNS($A:$R)),\"\")","v":""},null,null,null,null,null,null,null,null,168]
[null,null,null,null,null,null,null,null,null,null,null,null,null,null,null,null,null,null,null,null,null,null,null,null,2,0,null,"",{"$f":"ROWS($AC$4:AC1353)","v":1350},"",{"$f":"IFERROR(SMALL($AD$4:$AD$1642,ROWS($AD$4:AD1353)),\"\")","v":""},null,{"$f":"IFERROR(INDEX($A$4:$R$1642,$AE1353,COLUMNS($A:$B)),\"\")","v":""},{"$f":"IFERROR(INDEX($A$4:$R$1642,$AE1353,COLUMNS($A:$C)),\"\")","v":""},{"$f":"IFERROR(INDEX($A$4:$R$1642,$AE1353,COLUMNS($A:$R)),\"\")","v":""},null,null,null,null,null,null,null,null,168]
[null,null,null,null,null,null,null,null,null,null,null,null,null,null,null,null,null,null,null,null,null,null,null,null,2,0,null,"",{"$f":"ROWS($AC$4:AC1354)","v":1351},"",{"$f":"IFERROR(SMALL($AD$4:$AD$1642,ROWS($AD$4:AD1354)),\"\")","v":""},null,{"$f":"IFERROR(INDEX($A$4:$R$1642,$AE1354,COLUMNS($A:$B)),\"\")","v":""},{"$f":"IFERROR(INDEX($A$4:$R$1642,$AE1354,COLUMNS($A:$C)),\"\")","v":""},{"$f":"IFERROR(INDEX($A$4:$R$1642,$AE1354,COLUMNS($A:$R)),\"\")","v":""},null,null,null,null,null,null,null,null,168]
[{"$f":"AR1355","v":169},null,{"$f":"(VLOOKUP($B1355,'Elenco Prezzi2'!$A$2:$E$201,2,FALSE))","v":{"$error":"#N/A"}},null,null,null,null,null,null,null,null,null,null,null,null,null,null,null,null,null,null,null,null,null,2,0,null,"",{"$f":"ROWS($AC$4:AC1355)","v":1352},"",{"$f":"IFERROR(SMALL($AD$4:$AD$1642,ROWS($AD$4:AD1355)),\"\")","v":""},null,{"$f":"IFERROR(INDEX($A$4:$R$1642,$AE1355,COLUMNS($A:$B)),\"\")","v":""},{"$f":"IFERROR(INDEX($A$4:$R$1642,$AE1355,COLUMNS($A:$C)),\"\")","v":""},{"$f":"IFERROR(INDEX($A$4:$R$1642,$AE1355,COLUMNS($A:$R)),\"\")","v":""},null,null,null,null,null,null,null,1,169]
[null,null,null,{"$f":"CONCATENATE(AK1356&AL1356&AM1356&AN1356)","v":""},null,null,null,null,{"$f":"IFERROR(IF(PRODUCT(E1356:H1356)=0,\"\",PRODUCT(E1356:H1356)),\"\")","v":""},{"$f":"I1356","v":""},null,{"$f":"IF(E1356>0,\" (p/u) \"&Modulo2.GetFormula(E1356),\"\")","v":""},{"$f":"IF(F1356>0,\" (lu) \"&Modulo2.GetFormula(F1356),\"\")","v":""},{"$f":"IF(G1356>0,\" (la) \"&Modulo2.GetFormula(G1356),\"\")","v":""},{"$f":"IF(H1356>0,\" (H) \"&Modulo2.GetFormula(H1356),\"\")","v":""},null,null,null,null,null,null,null,null,null,2,0,null,"",{"$f":"ROWS($AC$4:AC1356)","v":1353},"",{"$f":"IFERROR(SMALL($AD$4:$AD$1642,ROWS($AD$4:AD1356)),\"\")","v":""},null,{"$f":"IFERROR(INDEX($A$4:$R$1642,$AE1356,COLUMNS($A:$B)),\"\")","v":""},{"$f":"IFERROR(INDEX($A$4:$R$1642,$AE1356,COLUMNS($A:$C)),\"\")","v":""},{"$f":"IFERROR(INDEX($A$4:$R$1642,$AE1356,COLUMNS($A:$R)),\"\")","v":""},null,{"$f":"IFERROR(IF(SEARCH(\"=\",L1356),L1356,\"\"),\"\")","v":""},{"$f":"IFERROR(IF(SEARCH(\"=\",M1356),M1356,\"\"),\"\")","v":""},{"$f":"IFERROR(IF(SEARCH(\"=\",N1356),N1356,\"\"),\"\")","v":""},{"$f":"IFERROR(IF(SEARCH(\"=\",O1356),O1356,\"\"),\"\")","v":""},null,null,null,169]
[null,null,null,"",null,null,null,null,"","",null,{"$f":"IF(E1357>0,\" (p/u) \"&Modulo2.GetFormula(E1357),\"\")","v":""},{"$f":"IF(F1357>0,\" (lu) \"&Modulo2.GetFormula(F1357),\"\")","v":""},{"$f":"IF(G1357>0,\" (la) \"&Modulo2.GetFormula(G1357),\"\")","v":""},{"$f":"IF(H1357>0,\" (H) \"&Modulo2.GetFormula(H1357),\"\")","v":""},null,null,null,null,null,null,null,null,null,2,0,null,"",{"$f":"ROWS($AC$4:AC1357)","v":1354},"",{"$f":"IFERROR(SMALL($AD$4:$AD$1642,ROWS($AD$4:AD1357)),\"\")","v":""},null,{"$f":"IFERROR(INDEX($A$4:$R$1642,$AE1357,COLUMNS($A:$B)),\"\")","v":""},{"$f":"IFERROR(INDEX($A$4:$R$1642,$AE1357,COLUMNS($A:$C)),\"\")","v":""},{"$f":"IFERROR(INDEX($A$4:$R$1642,$AE1357,COLUMNS($A:$R)),\"\")","v":""},null,"","","","",null,null,null,169]
[null,null,null,"",null,null,null,null,"","",null,{"$f":"IF(E1358>0,\" (p/u) \"&Modulo2.GetFormula(E1358),\"\")","v":""},{"$f":"IF(F1358>0,\" (lu) \"&Modulo2.GetFormula(F1358),\"\")","v":""},{"$f":"IF(G1358>0,\" (la) \"&Modulo2.GetFormula(G1358),\"\")","v":""},{"$f":"IF(H1358>0,\" (H) \"&Modulo2.GetFormula(H1358),\"\")","v":""},null,null,null,null,null,null,null,null,null,2,0,null,"",{"$f":"ROWS($AC$4:AC1358)","v":1355},"",{"$f":"IFERROR(SMALL($AD$4:$AD$1642,ROWS($AD$4:AD1358)),\"\")","v":""},null,{"$f":"IFERROR(INDEX($A$4:$R$1642,$AE1358,COLUMNS($A:$B)),\"\")","v":""},{"$f":"IFERROR(INDEX($A$4:$R$1642,$AE1358,COLUMNS($A:$C)),\"\")","v":""},{"$f":"IFERROR(INDEX($A$4:$R$1642,$AE1358,COLUMNS($A:$R)),\"\")","v":""},null,"","","","",null,null,null,169]
[null,null,null,null,null,null,null,{"$f":"CONCATENATE(\"SOMMANO [\",VLOOKUP(B1355,'Elenco Prezzi2'!$A$2:$E$201,3,FALSE()),\"]\")","v":{"$error":"#N/A"}},{"$f":"IF(T1359=\"s\",V1360,SUBTOTAL(9,I1355:I1359))","v":{"$error":"#REF!"}},null,{"$f":"VLOOKUP(B1355,'Elenco Prezzi2'!$A$2:$E$201,5,FALSE)","v":{"$error":"#N/A"}},null,null,null,null,null,null,{"$f":"IFERROR(I1359*K1359,\"\")","v":""},null,"s",null,null,null,{"$f":"R1359","v":""},2,0,null,"",{"$f":"ROWS($AC$4:AC1359)","v":1356},"",{"$f":"IFERROR(SMALL($AD$4:$AD$1642,ROWS($AD$4:AD1359)),\"\")","v":""},null,{"$f":"IFERROR(INDEX($A$4:$R$1642,$AE1359,COLUMNS($A:$B)),\"\")","v":""},{"$f":"IFERROR(INDEX($A$4:$R$1642,$AE1359,COLUMNS($A:$C)),\"\")","v":""},{"$f":"IFERROR(INDEX($A$4:$R$1642,$AE1359,COLUMNS($A:$R)),\"\")","v":""},null,null,null,null,null,null,null,null,169]
[null,null,null,null,null,null,null,{"$f":"IF(I1360<0,\"a detrarre\",\"\")","v":""},{"$f":"SUMIF(I1355:I1358,\"<0\")","v":0},null,null,null,null,null,null,null,null,null,{"$f":"R1359","v":""},null,null,{"$f":"VLOOKUP(B1355,#REF!,4,FALSE)","v":{"$error":"#REF!"}},null,null,2,0,null,"",{"$f":"ROWS($AC$4:AC1360)","v":1357},"",{"$f":"IFERROR(SMALL($AD$4:$AD$1642,ROWS($AD$4:AD1360)),\"\")","v":""},null,{"$f":"IFERROR(INDEX($A$4:$R$1642,$AE1360,COLUMNS($A:$B)),\"\")","v":""},{"$f":"IFERROR(INDEX($A$4:$R$1642,$AE1360,COLUMNS($A:$C)),\"\")","v":""},{"$f":"IFERROR(INDEX($A$4:$R$1642,$AE1360,COLUMNS($A:$R)),\"\")","v":""},null,null,null,null,null,null,null,null,169]
[null,null,null,null,null,null,null,null,null,null,null,null,null,null,null,null,null,null,null,null,null,null,null,null,2,0,null,"",{"$f":"ROWS($AC$4:AC1361)","v":1358},"",{"$f":"IFERROR(SMALL($AD$4:$AD$1642,ROWS($AD$4:AD1361)),\"\")","v":""},null,{"$f":"IFERROR(INDEX($A$4:$R$1642,$AE1361,COLUMNS($A:$B)),\"\")","v":""},{"$f":"IFERROR(INDEX($A$4:$R$1642,$AE1361,COLUMNS($A:$C)),\"\")","v":""},{"$f":"IFERROR(INDEX($A$4:$R$1642,$AE1361,COLUMNS($A:$R)),\"\")","v":""},null,null,null,null,null,null,null,null,169]
[null,null,null,null,null,null,null,null,null,null,null,null,null,null,null,null,null,null,null,null,null,null,null,null,2,0,null,"",{"$f":"ROWS($AC$4:AC1362)","v":1359},"",{"$f":"IFERROR(SMALL($AD$4:$AD$1642,ROWS($AD$4:AD1362)),\"\")","v":""},null,{"$f":"IFERROR(INDEX($A$4:$R$1642,$AE1362,COLUMNS($A:$B)),\"\")","v":""},{"$f":"IFERROR(INDEX($A$4:$R$1642,$AE1362,COLUMNS($A:$C)),\"\")","v":""},{"$f":"IFERROR(INDEX($A$4:$R$1642,$AE1362,COLUMNS($A:$R)),\"\")","v":""},null,null,null,null,null,null,null,null,169]
[{"$f":"AR1363","v":170},null,{"$f":"(VLOOKUP($B1363,'Elenco Prezzi2'!$A$2:$E$201,2,FALSE))","v":{"$error":"#N/A"}},null,null,null,null,null,null,null,null,null,null,null,null,null,null,null,null,null,null,null,null,null,2,0,null,"",{"$f":"ROWS($AC$4:AC1363)","v":1360},"",{"$f":"IFERROR(SMALL($AD$4:$AD$1642,ROWS($AD$4:AD1363)),\"\")","v":""},null,{"$f":"IFERROR(INDEX($A$4:$R$1642,$AE1363,COLUMNS($A:$B)),\"\")","v":""},{"$f":"IFERROR(INDEX($A$4:$R$1642,$AE1363,COLUMNS($A:$C)),\"\")","v":""},{"$f":"IFERROR(INDEX($A$4:$R$1642,$AE1363,COLUMNS($A:$R)),\"\")","v":""},null,null,null,null,null,null,null,1,170]
[null,null,null,{"$f":"CONCATENATE(AK1364&AL1364&AM1364&AN1364)","v":""},null,null,null,null,{"$f":"IFERROR(IF(PRODUCT(E1364:H1364)=0,\"\",PRODUCT(E1364:H1364)),\"\")","v":""},{"$f":"I1364","v":""},null,{"$f":"IF(E1364>0,\" (p/u) \"&Modulo2.GetFormula(E1364),\"\")","v":""},{"$f":"IF(F1364>0,\" (lu) \"&Modulo2.GetFormula(F1364),\"\")","v":""},{"$f":"IF(G1364>0,\" (la) \"&Modulo2.GetFormula(G1364),\"\")","v":""},{"$f":"IF(H1364>0,\" (H) \"&Modulo2.GetFormula(H1364),\"\")","v":""},null,null,null,null,null,null,null,null,null,2,0,null,"",{"$f":"ROWS($AC$4:AC1364)","v":1361},"",{"$f":"IFERROR(SMALL($AD$4:$AD$1642,ROWS($AD$4:AD1364)),\"\")","v":""},null,{"$f":"IFERROR(INDEX($A$4:$R$1642,$AE1364,COLUMNS($A:$B)),\"\")","v":""},{"$f":"IFERROR(INDEX($A$4:$R$1642,$AE1364,COLUMNS($A:$C)),\"\")","v":""},{"$f":"IFERROR(INDEX($A$4:$R$1642,$AE1364,COLUMNS($A:$R)),\"\")","v":""},null,{"$f":"IFERROR(IF(SEARCH(\"=\",L1364),L1364,\"\"),\"\")","v":""},{"$f":"IFERROR(IF(SEARCH(\"=\",M1364),M1364,\"\"),\"\")","v":""},{"$f":"IFERROR(IF(SEARCH(\"=\",N1364),N1364,\"\"),\"\")","v":""},{"$f":"IFERROR(IF(SEARCH(\"=\",O1364),O1364,\"\"),\"\")","v":""},null,null,null,170]
[null,null,null,"",null,null,null,null,"","",null,{"$f":"IF(E1365>0,\" (p/u) \"&Modulo2.GetFormula(E1365),\"\")","v":""},{"$f":"IF(F1365>0,\" (lu) \"&Modulo2.GetFormula(F1365),\"\")","v":""},{"$f":"IF(G1365>0,\" (la) \"&Modulo2.GetFormula(G1365),\"\")","v":""},{"$f":"IF(H1365>0,\" (H) \"&Modulo2.GetFormula(H1365),\"\")","v":""},null,null,null,null,null,null,null,null,null,2,0,null,"",{"$f":"ROWS($AC$4:AC1365)","v":1362},"",{"$f":"IFERROR(SMALL($AD$4:$AD$1642,ROWS($AD$4:AD1365)),\"\")","v":""},null,{"$f":"IFERROR(INDEX($A$4:$R$1642,$AE1365,COLUMNS($A:$B)),\"\")","v":""},{"$f":"IFERROR(INDEX($A$4:$R$1642,$AE1365,COLUMNS($A:$C)),\"\")","v":""},{"$f":"IFERROR(INDEX($A$4:$R$1642,$AE1365,COLUMNS($A:$R)),\"\")","v":""},null,"","","","",null,null,null,170]
[null,null,null,"",null,null,null,null,"","",null,{"$f":"IF(E1366>0,\" (p/u) \"&Modulo2.GetFormula(E1366),\"\")","v":""},{"$f":"IF(F1366>0,\" (lu) \"&Modulo2.GetFormula(F1366),\"\")","v":""},{"$f":"IF(G1366>0,\" (la) \"&Modulo2.GetFormula(G1366),\"\")","v":""},{"$f":"IF(H1366>0,\" (H) \"&Modulo2.GetFormula(H1366),\"\")","v":""},null,null,null,null,null,null,null,null,null,2,0,null,"",{"$f":"ROWS($AC$4:AC1366)","v":1363},"",{"$f":"IFERROR(SMALL($AD$4:$AD$1642,ROWS($AD$4:AD1366)),\"\")","v":""},null,{"$f":"IFERROR(INDEX($A$4:$R$1642,$AE1366,COLUMNS($A:$B)),\"\")","v":""},{"$f":"IFERROR(INDEX($A$4:$R$1642,$AE1366,COLUMNS($A:$C)),\"\")","v":""},{"$f":"IFERROR(INDEX($A$4:$R$1642,$AE1366,COLUMNS($A:$R)),\"\")","v":""},null,"","","","",null,null,null,170]
[null,null,null,null,null,null,null,{"$f":"CONCATENATE(\"SOMMANO [\",VLOOKUP(B1363,'Elenco Prezzi2'!$A$2:$E$201,3,FALSE()),\"]\")","v":{"$error":"#N/A"}},{"$f":"IF(T1367=\"s\",V1368,SUBTOTAL(9,I1363:I1367))","v":{"$error":"#REF!"}},null,{"$f":"VLOOKUP(B1363,'Elenco Prezzi2'!$A$2:$E$201,5,FALSE)","v":{"$error":"#N/A"}},null,null,null,null,null,null,{"$f":"IFERROR(I1367*K1367,\"\")","v":""},null,"s",null,null,null,{"$f":"R1367","v":""},2,0,null,"",{"$f":"ROWS($AC$4:AC1367)","v":1364},"",{"$f":"IFERROR(SMALL($AD$4:$AD$1642,ROWS($AD$4:AD1367)),\"\")","v":""},null,{"$f":"IFERROR(INDEX($A$4:$R$1642,$AE1367,COLUMNS($A:$B)),\"\")","v":""},{"$f":"IFERROR(INDEX($A$4:$R$1642,$AE1367,COLUMNS($A:$C)),\"\")","v":""},{"$f":"IFERROR(INDEX($A$4:$R$1642,$AE1367,COLUMNS($A:$R)),\"\")","v":""},null,null,null,null,null,null,null,null,170]
[null,null,null,null,null,null,null,{"$f":"IF(I1368<0,\"a detrarre\",\"\")","v":""},{"$f":"SUMIF(I1363:I1366,\"<0\")","v":0},null,null,null,null,null,null,null,null,null,{"$f":"R1367","v":""},null,null,{"$f":"VLOOKUP(B1363,#REF!,4,FALSE)","v":{"$error":"#REF!"}},null,null,2,0,null,"",{"$f":"ROWS($AC$4:AC1368)","v":1365},"",{"$f":"IFERROR(SMALL($AD$4:$AD$1642,ROWS($AD$4:AD1368)),\"\")","v":""},null,{"$f":"IFERROR(INDEX($A$4:$R$1642,$AE1368,COLUMNS($A:$B)),\"\")","v":""},{"$f":"IFERROR(INDEX($A$4:$R$1642,$AE1368,COLUMNS($A:$C)),\"\")","v":""},{"$f":"IFERROR(INDEX($A$4:$R$1642,$AE1368,COLUMNS($A:$R)),\"\")","v":""},null,null,null,null,null,null,null,null,170]
[null,null,null,null,null,null,null,null,null,null,null,null,null,null,null,null,null,null,null,null,null,null,null,null,2,0,null,"",{"$f":"ROWS($AC$4:AC1369)","v":1366},"",{"$f":"IFERROR(SMALL($AD$4:$AD$1642,ROWS($AD$4:AD1369)),\"\")","v":""},null,{"$f":"IFERROR(INDEX($A$4:$R$1642,$AE1369,COLUMNS($A:$B)),\"\")","v":""},{"$f":"IFERROR(INDEX($A$4:$R$1642,$AE1369,COLUMNS($A:$C)),\"\")","v":""},{"$f":"IFERROR(INDEX($A$4:$R$1642,$AE1369,COLUMNS($A:$R)),\"\")","v":""},null,null,null,null,null,null,null,null,170]
[null,null,null,null,null,null,null,null,null,null,null,null,null,null,null,null,null,null,null,null,null,null,null,null,2,0,null,"",{"$f":"ROWS($AC$4:AC1370)","v":1367},"",{"$f":"IFERROR(SMALL($AD$4:$AD$1642,ROWS($AD$4:AD1370)),\"\")","v":""},null,{"$f":"IFERROR(INDEX($A$4:$R$1642,$AE1370,COLUMNS($A:$B)),\"\")","v":""},{"$f":"IFERROR(INDEX($A$4:$R$1642,$AE1370,COLUMNS($A:$C)),\"\")","v":""},{"$f":"IFERROR(INDEX($A$4:$R$1642,$AE1370,COLUMNS($A:$R)),\"\")","v":""},null,null,null,null,null,null,null,null,170]
[{"$f":"AR1371","v":171},null,{"$f":"(VLOOKUP($B1371,'Elenco Prezzi2'!$A$2:$E$201,2,FALSE))","v":{"$error":"#N/A"}},null,null,null,null,null,null,null,null,null,null,null,null,null,null,null,null,null,null,null,null,null,2,0,null,"",{"$f":"ROWS($AC$4:AC1371)","v":1368},"",{"$f":"IFERROR(SMALL($AD$4:$AD$1642,ROWS($AD$4:AD1371)),\"\")","v":""},null,{"$f":"IFERROR(INDEX($A$4:$R$1642,$AE1371,COLUMNS($A:$B)),\"\")","v":""},{"$f":"IFERROR(INDEX($A$4:$R$1642,$AE1371,COLUMNS($A:$C)),\"\")","v":""},{"$f":"IFERROR(INDEX($A$4:$R$1642,$AE1371,COLUMNS($A:$R)),\"\")","v":""},null,null,null,null,null,null,null,1,171]
[null,null,null,{"$f":"CONCATENATE(AK1372&AL1372&AM1372&AN1372)","v":""},null,null,null,null,{"$f":"IFERROR(IF(PRODUCT(E1372:H1372)=0,\"\",PRODUCT(E1372:H1372)),\"\")","v":""},{"$f":"I1372","v":""},null,{"$f":"IF(E1372>0,\" (p/u) \"&Modulo2.GetFormula(E1372),\"\")","v":""},{"$f":"IF(F1372>0,\" (lu) \"&Modulo2.GetFormula(F1372),\"\")","v":""},{"$f":"IF(G1372>0,\" (la) \"&Modulo2.GetFormula(G1372),\"\")","v":""},{"$f":"IF(H1372>0,\" (H) \"&Modulo2.GetFormula(H1372),\"\")","v":""},null,null,null,null,null,null,null,null,null,2,0,null,"",{"$f":"ROWS($AC$4:AC1372)","v":1369},"",{"$f":"IFERROR(SMALL($AD$4:$AD$1642,ROWS($AD$4:AD1372)),\"\")","v":""},null,{"$f":"IFERROR(INDEX($A$4:$R$1642,$AE1372,COLUMNS($A:$B)),\"\")","v":""},{"$f":"IFERROR(INDEX($A$4:$R$1642,$AE1372,COLUMNS($A:$C)),\"\")","v":""},{"$f":"IFERROR(INDEX($A$4:$R$1642,$AE1372,COLUMNS($A:$R)),\"\")","v":""},null,{"$f":"IFERROR(IF(SEARCH(\"=\",L1372),L1372,\"\"),\"\")","v":""},{"$f":"IFERROR(IF(SEARCH(\"=\",M1372),M1372,\"\"),\"\")","v":""},{"$f":"IFERROR(IF(SEARCH(\"=\",N1372),N1372,\"\"),\"\")","v":""},{"$f":"IFERROR(IF(SEARCH(\"=\",O1372),O1372,\"\"),\"\")","v":""},null,null,null,171]
[null,null,null,"",null,null,null,null,"","",null,{"$f":"IF(E1373>0,\" (p/u) \"&Modulo2.GetFormula(E1373),\"\")","v":""},{"$f":"IF(F1373>0,\" (lu) \"&Modulo2.GetFormula(F1373),\"\")","v":""},{"$f":"IF(G1373>0,\" (la) \"&Modulo2.GetFormula(G1373),\"\")","v":""},{"$f":"IF(H1373>0,\" (H) \"&Modulo2.GetFormula(H1373),\"\")","v":""},null,null,null,null,null,null,null,null,null,2,0,null,"",{"$f":"ROWS($AC$4:AC1373)","v":1370},"",{"$f":"IFERROR(SMALL($AD$4:$AD$1642,ROWS($AD$4:AD1373)),\"\")","v":""},null,{"$f":"IFERROR(INDEX($A$4:$R$1642,$AE1373,COLUMNS($A:$B)),\"\")","v":""},{"$f":"IFERROR(INDEX($A$4:$R$1642,$AE1373,COLUMNS($A:$C)),\"\")","v":""},{"$f":"IFERROR(INDEX($A$4:$R$1642,$AE1373,COLUMNS($A:$R)),\"\")","v":""},null,"","","","",null,null,null,171]
[null,null,null,"",null,null,null,null,"","",null,{"$f":"IF(E1374>0,\" (p/u) \"&Modulo2.GetFormula(E1374),\"\")","v":""},{"$f":"IF(F1374>0,\" (lu) \"&Modulo2.GetFormula(F1374),\"\")","v":""},{"$f":"IF(G1374>0,\" (la) \"&Modulo2.GetFormula(G1374),\"\")","v":""},{"$f":"IF(H1374>0,\" (H) \"&Modulo2.GetFormula(H1374),\"\")","v":""},null,null,null,null,null,null,null,null,null,2,0,null,"",{"$f":"ROWS($AC$4:AC1374)","v":1371},"",{"$f":"IFERROR(SMALL($AD$4:$AD$1642,ROWS($AD$4:AD1374)),\"\")","v":""},null,{"$f":"IFERROR(INDEX($A$4:$R$1642,$AE1374,COLUMNS($A:$B)),\"\")","v":""},{"$f":"IFERROR(INDEX($A$4:$R$1642,$AE1374,COLUMNS($A:$C)),\"\")","v":""},{"$f":"IFERROR(INDEX($A$4:$R$1642,$AE1374,COLUMNS($A:$R)),\"\")","v":""},null,"","","","",null,null,null,171]
[null,null,null,null,null,null,null,{"$f":"CONCATENATE(\"SOMMANO [\",VLOOKUP(B1371,'Elenco Prezzi2'!$A$2:$E$201,3,FALSE()),\"]\")","v":{"$error":"#N/A"}},{"$f":"IF(T1375=\"s\",V1376,SUBTOTAL(9,I1371:I1375))","v":{"$error":"#REF!"}},null,{"$f":"VLOOKUP(B1371,'Elenco Prezzi2'!$A$2:$E$201,5,FALSE)","v":{"$error":"#N/A"}},null,null,null,null,null,null,{"$f":"IFERROR(I1375*K1375,\"\")","v":""},null,"s",null,null,null,{"$f":"R1375","v":""},2,0,null,"",{"$f":"ROWS($AC$4:AC1375)","v":1372},"",{"$f":"IFERROR(SMALL($AD$4:$AD$1642,ROWS($AD$4:AD1375)),\"\")","v":""},null,{"$f":"IFERROR(INDEX($A$4:$R$1642,$AE1375,COLUMNS($A:$B)),\"\")","v":""},{"$f":"IFERROR(INDEX($A$4:$R$1642,$AE1375,COLUMNS($A:$C)),\"\")","v":""},{"$f":"IFERROR(INDEX($A$4:$R$1642,$AE1375,COLUMNS($A:$R)),\"\")","v":""},null,null,null,null,null,null,null,null,171]
[null,null,null,null,null,null,null,{"$f":"IF(I1376<0,\"a detrarre\",\"\")","v":""},{"$f":"SUMIF(I1371:I1374,\"<0\")","v":0},null,null,null,null,null,null,null,null,null,{"$f":"R1375","v":""},null,null,{"$f":"VLOOKUP(B1371,#REF!,4,FALSE)","v":{"$error":"#REF!"}},null,null,2,0,null,"",{"$f":"ROWS($AC$4:AC1376)","v":1373},"",{"$f":"IFERROR(SMALL($AD$4:$AD$1642,ROWS($AD$4:AD1376)),\"\")","v":""},null,{"$f":"IFERROR(INDEX($A$4:$R$1642,$AE1376,COLUMNS($A:$B)),\"\")","v":""},{"$f":"IFERROR(INDEX($A$4:$R$1642,$AE1376,COLUMNS($A:$C)),\"\")","v":""},{"$f":"IFERROR(INDEX($A$4:$R$1642,$AE1376,COLUMNS($A:$R)),\"\")","v":""},null,null,null,null,null,null,null,null,171]
[null,null,null,null,null,null,null,null,null,null,null,null,null,null,null,null,null,null,null,null,null,null,null,null,2,0,null,"",{"$f":"ROWS($AC$4:AC1377)","v":1374},"",{"$f":"IFERROR(SMALL($AD$4:$AD$1642,ROWS($AD$4:AD1377)),\"\")","v":""},null,{"$f":"IFERROR(INDEX($A$4:$R$1642,$AE1377,COLUMNS($A:$B)),\"\")","v":""},{"$f":"IFERROR(INDEX($A$4:$R$1642,$AE1377,COLUMNS($A:$C)),\"\")","v":""},{"$f":"IFERROR(INDEX($A$4:$R$1642,$AE1377,COLUMNS($A:$R)),\"\")","v":""},null,null,null,null,null,null,null,null,171]
[null,null,null,null,null,null,null,null,null,null,null,null,null,null,null,null,null,null,null,null,null,null,null,null,2,0,null,"",{"$f":"ROWS($AC$4:AC1378)","v":1375},"",{"$f":"IFERROR(SMALL($AD$4:$AD$1642,ROWS($AD$4:AD1378)),\"\")","v":""},null,{"$f":"IFERROR(INDEX($A$4:$R$1642,$AE1378,COLUMNS($A:$B)),\"\")","v":""},{"$f":"IFERROR(INDEX($A$4:$R$1642,$AE1378,COLUMNS($A:$C)),\"\")","v":""},{"$f":"IFERROR(INDEX($A$4:$R$1642,$AE1378,COLUMNS($A:$R)),\"\")","v":""},null,null,null,null,null,null,null,null,171]
[{"$f":"AR1379","v":172},null,{"$f":"(VLOOKUP($B1379,'Elenco Prezzi2'!$A$2:$E$201,2,FALSE))","v":{"$error":"#N/A"}},null,null,null,null,null,null,null,null,null,null,null,null,null,null,null,null,null,null,null,null,null,2,0,null,{"$f":"IF(W1379>0,\"OK\",\"\")","v":""},{"$f":"ROWS($AC$4:AC1379)","v":1376},{"$f":"IF(AB1379=\"ok\",AC1379,\"\")","v":""},{"$f":"IFERROR(SMALL($AD$4:$AD$1642,ROWS($AD$4:AD1379)),\"\")","v":""},null,{"$f":"IFERROR(INDEX($A$4:$R$1642,$AE1379,COLUMNS($A:$B)),\"\")","v":""},{"$f":"IFERROR(INDEX($A$4:$R$1642,$AE1379,COLUMNS($A:$C)),\"\")","v":""},{"$f":"IFERROR(INDEX($A$4:$R$1642,$AE1379,COLUMNS($A:$R)),\"\")","v":""},null,null,null,null,null,null,null,1,{"$f":"IF(AQ1379=\"\",AR1378,AR1378+AQ1379)","v":172}]
[null,null,null,{"$f":"CONCATENATE(AK1380&AL1380&AM1380&AN1380)","v":""},null,null,null,null,{"$f":"IFERROR(IF(PRODUCT(E1380:H1380)=0,\"\",PRODUCT(E1380:H1380)),\"\")","v":""},{"$f":"I1380","v":""},null,{"$f":"IF(E1380>0,\" (p/u) \"&Modulo2.GetFormula(E1380),\"\")","v":""},{"$f":"IF(F1380>0,\" (lu) \"&Modulo2.GetFormula(F1380),\"\")","v":""},{"$f":"IF(G1380>0,\" (la) \"&Modulo2.GetFormula(G1380),\"\")","v":""},{"$f":"IF(H1380>0,\" (H) \"&Modulo2.GetFormula(H1380),\"\")","v":""},null,null,null,null,null,null,null,null,null,{"$f":"IF(AO1380=\"\",Y1379,Y1379+AO1380)","v":2},{"$f":"IF(AP1380=\"\",Z1379,Z1379+AP1380)","v":0},null,"",{"$f":"ROWS($AC$4:AC1380)","v":1377},"",{"$f":"IFERROR(SMALL($AD$4:$AD$1642,ROWS($AD$4:AD1380)),\"\")","v":""},null,{"$f":"IFERROR(INDEX($A$4:$R$1642,$AE1380,COLUMNS($A:$B)),\"\")","v":""},{"$f":"IFERROR(INDEX($A$4:$R$1642,$AE1380,COLUMNS($A:$C)),\"\")","v":""},{"$f":"IFERROR(INDEX($A$4:$R$1642,$AE1380,COLUMNS($A:$R)),\"\")","v":""},null,{"$f":"IFERROR(IF(SEARCH(\"=\",L1380),L1380,\"\"),\"\")","v":""},{"$f":"IFERROR(IF(SEARCH(\"=\",M1380),M1380,\"\"),\"\")","v":""},{"$f":"IFERROR(IF(SEARCH(\"=\",N1380),N1380,\"\"),\"\")","v":""},{"$f":"IFERROR(IF(SEARCH(\"=\",O1380),O1380,\"\"),\"\")","v":""},null,null,null,172]
[null,null,null,"",null,null,null,null,"","",null,{"$f":"IF(E1381>0,\" (p/u) \"&Modulo2.GetFormula(E1381),\"\")","v":""},{"$f":"IF(F1381>0,\" (lu) \"&Modulo2.GetFormula(F1381),\"\")","v":""},{"$f":"IF(G1381>0,\" (la) \"&Modulo2.GetFormula(G1381),\"\")","v":""},{"$f":"IF(H1381>0,\" (H) \"&Modulo2.GetFormula(H1381),\"\")","v":""},null,null,null,null,null,null,null,null,null,2,0,null,"",{"$f":"ROWS($AC$4:AC1381)","v":1378},"",{"$f":"IFERROR(SMALL($AD$4:$AD$1642,ROWS($AD$4:AD1381)),\"\")","v":""},null,{"$f":"IFERROR(INDEX($A$4:$R$1642,$AE1381,COLUMNS($A:$B)),\"\")","v":""},{"$f":"IFERROR(INDEX($A$4:$R$1642,$AE1381,COLUMNS($A:$C)),\"\")","v":""},{"$f":"IFERROR(INDEX($A$4:$R$1642,$AE1381,COLUMNS($A:$R)),\"\")","v":""},null,"","","","",null,null,null,172]
[null,null,null,"",null,null,null,null,"","",null,{"$f":"IF(E1382>0,\" (p/u) \"&Modulo2.GetFormula(E1382),\"\")","v":""},{"$f":"IF(F1382>0,\" (lu) \"&Modulo2.GetFormula(F1382),\"\")","v":""},{"$f":"IF(G1382>0,\" (la) \"&Modulo2.GetFormula(G1382),\"\")","v":""},{"$f":"IF(H1382>0,\" (H) \"&Modulo2.GetFormula(H1382),\"\")","v":""},null,null,null,null,null,null,null,null,null,2,0,null,"",{"$f":"ROWS($AC$4:AC1382)","v":1379},"",{"$f":"IFERROR(SMALL($AD$4:$AD$1642,ROWS($AD$4:AD1382)),\"\")","v":""},null,{"$f":"IFERROR(INDEX($A$4:$R$1642,$AE1382,COLUMNS($A:$B)),\"\")","v":""},{"$f":"IFERROR(INDEX($A$4:$R$1642,$AE1382,COLUMNS($A:$C)),\"\")","v":""},{"$f":"IFERROR(INDEX($A$4:$R$1642,$AE1382,COLUMNS($A:$R)),\"\")","v":""},null,"","","","",null,null,null,172]
[null,null,null,null,null,null,null,{"$f":"CONCATENATE(\"SOMMANO [\",VLOOKUP(B1379,'Elenco Prezzi2'!$A$2:$E$201,3,FALSE()),\"]\")","v":{"$error":"#N/A"}},{"$f":"IF(T1383=\"s\",V1384,SUBTOTAL(9,I1379:I1383))","v":{"$error":"#REF!"}},null,{"$f":"VLOOKUP(B1379,'Elenco Prezzi2'!$A$2:$E$201,5,FALSE)","v":{"$error":"#N/A"}},null,null,null,null,null,null,{"$f":"IFERROR(I1383*K1383,\"\")","v":""},null,"s",null,null,null,{"$f":"R1383","v":""},2,0,null,"",{"$f":"ROWS($AC$4:AC1383)","v":1380},"",{"$f":"IFERROR(SMALL($AD$4:$AD$1642,ROWS($AD$4:AD1383)),\"\")","v":""},null,{"$f":"IFERROR(INDEX($A$4:$R$1642,$AE1383,COLUMNS($A:$B)),\"\")","v":""},{"$f":"IFERROR(INDEX($A$4:$R$1642,$AE1383,COLUMNS($A:$C)),\"\")","v":""},{"$f":"IFERROR(INDEX($A$4:$R$1642,$AE1383,COLUMNS($A:$R)),\"\")","v":""},null,null,null,null,null,null,null,null,172]
[null,null,null,null,null,null,null,{"$f":"IF(I1384<0,\"a detrarre\",\"\")","v":""},{"$f":"SUMIF(I1379:I1382,\"<0\")","v":0},null,null,null,null,null,null,null,null,null,{"$f":"R1383","v":""},null,null,{"$f":"VLOOKUP(B1379,#REF!,4,FALSE)","v":{"$error":"#REF!"}},null,null,2,0,null,"",{"$f":"ROWS($AC$4:AC1384)","v":1381},"",{"$f":"IFERROR(SMALL($AD$4:$AD$1642,ROWS($AD$4:AD1384)),\"\")","v":""},null,{"$f":"IFERROR(INDEX($A$4:$R$1642,$AE1384,COLUMNS($A:$B)),\"\")","v":""},{"$f":"IFERROR(INDEX($A$4:$R$1642,$AE1384,COLUMNS($A:$C)),\"\")","v":""},{"$f":"IFERROR(INDEX($A$4:$R$1642,$AE1384,COLUMNS($A:$R)),\"\")","v":""},null,null,null,null,null,null,null,null,172]
[null,null,null,null,null,null,null,null,null,null,null,null,null,null,null,null,null,null,null,null,null,null,null,null,2,0,null,"",{"$f":"ROWS($AC$4:AC1385)","v":1382},"",{"$f":"IFERROR(SMALL($AD$4:$AD$1642,ROWS($AD$4:AD1385)),\"\")","v":""},null,{"$f":"IFERROR(INDEX($A$4:$R$1642,$AE1385,COLUMNS($A:$B)),\"\")","v":""},{"$f":"IFERROR(INDEX($A$4:$R$1642,$AE1385,COLUMNS($A:$C)),\"\")","v":""},{"$f":"IFERROR(INDEX($A$4:$R$1642,$AE1385,COLUMNS($A:$R)),\"\")","v":""},null,null,null,null,null,null,null,null,172]
[null,null,null,null,null,null,null,null,null,null,null,null,null,null,null,null,null,null,null,null,null,null,null,null,2,0,null,"",{"$f":"ROWS($AC$4:AC1386)","v":1383},"",{"$f":"IFERROR(SMALL($AD$4:$AD$1642,ROWS($AD$4:AD1386)),\"\")","v":""},null,{"$f":"IFERROR(INDEX($A$4:$R$1642,$AE1386,COLUMNS($A:$B)),\"\")","v":""},{"$f":"IFERROR(INDEX($A$4:$R$1642,$AE1386,COLUMNS($A:$C)),\"\")","v":""},{"$f":"IFERROR(INDEX($A$4:$R$1642,$AE1386,COLUMNS($A:$R)),\"\")","v":""},null,null,null,null,null,null,null,null,172]
[{"$f":"AR1387","v":173},null,{"$f":"(VLOOKUP($B1387,'Elenco Prezzi2'!$A$2:$E$201,2,FALSE))","v":{"$error":"#N/A"}},null,null,null,null,null,null,null,null,null,null,null,null,null,null,null,null,null,null,null,null,null,2,0,null,"",{"$f":"ROWS($AC$4:AC1387)","v":1384},"",{"$f":"IFERROR(SMALL($AD$4:$AD$1642,ROWS($AD$4:AD1387)),\"\")","v":""},null,{"$f":"IFERROR(INDEX($A$4:$R$1642,$AE1387,COLUMNS($A:$B)),\"\")","v":""},{"$f":"IFERROR(INDEX($A$4:$R$1642,$AE1387,COLUMNS($A:$C)),\"\")","v":""},{"$f":"IFERROR(INDEX($A$4:$R$1642,$AE1387,COLUMNS($A:$R)),\"\")","v":""},null,null,null,null,null,null,null,1,173]
[null,null,null,{"$f":"CONCATENATE(AK1388&AL1388&AM1388&AN1388)","v":""},null,null,null,null,{"$f":"IFERROR(IF(PRODUCT(E1388:H1388)=0,\"\",PRODUCT(E1388:H1388)),\"\")","v":""},{"$f":"I1388","v":""},null,{"$f":"IF(E1388>0,\" (p/u) \"&Modulo2.GetFormula(E1388),\"\")","v":""},{"$f":"IF(F1388>0,\" (lu) \"&Modulo2.GetFormula(F1388),\"\")","v":""},{"$f":"IF(G1388>0,\" (la) \"&Modulo2.GetFormula(G1388),\"\")","v":""},{"$f":"IF(H1388>0,\" (H) \"&Modulo2.GetFormula(H1388),\"\")","v":""},null,null,null,null,null,null,null,null,null,2,0,null,"",{"$f":"ROWS($AC$4:AC1388)","v":1385},"",{"$f":"IFERROR(SMALL($AD$4:$AD$1642,ROWS($AD$4:AD1388)),\"\")","v":""},null,{"$f":"IFERROR(INDEX($A$4:$R$1642,$AE1388,COLUMNS($A:$B)),\"\")","v":""},{"$f":"IFERROR(INDEX($A$4:$R$1642,$AE1388,COLUMNS($A:$C)),\"\")","v":""},{"$f":"IFERROR(INDEX($A$4:$R$1642,$AE1388,COLUMNS($A:$R)),\"\")","v":""},null,{"$f":"IFERROR(IF(SEARCH(\"=\",L1388),L1388,\"\"),\"\")","v":""},{"$f":"IFERROR(IF(SEARCH(\"=\",M1388),M1388,\"\"),\"\")","v":""},{"$f":"IFERROR(IF(SEARCH(\"=\",N1388),N1388,\"\"),\"\")","v":""},{"$f":"IFERROR(IF(SEARCH(\"=\",O1388),O1388,\"\"),\"\")","v":""},null,null,null,173]
[null,null,null,"",null,null,null,null,"","",null,{"$f":"IF(E1389>0,\" (p/u) \"&Modulo2.GetFormula(E1389),\"\")","v":""},{"$f":"IF(F1389>0,\" (lu) \"&Modulo2.GetFormula(F1389),\"\")","v":""},{"$f":"IF(G1389>0,\" (la) \"&Modulo2.GetFormula(G1389),\"\")","v":""},{"$f":"IF(H1389>0,\" (H) \"&Modulo2.GetFormula(H1389),\"\")","v":""},null,null,null,null,null,null,null,null,null,2,0,null,"",{"$f":"ROWS($AC$4:AC1389)","v":1386},"",{"$f":"IFERROR(SMALL($AD$4:$AD$1642,ROWS($AD$4:AD1389)),\"\")","v":""},null,{"$f":"IFERROR(INDEX($A$4:$R$1642,$AE1389,COLUMNS($A:$B)),\"\")","v":""},{"$f":"IFERROR(INDEX($A$4:$R$1642,$AE1389,COLUMNS($A:$C)),\"\")","v":""},{"$f":"IFERROR(INDEX($A$4:$R$1642,$AE1389,COLUMNS($A:$R)),\"\")","v":""},null,"","","","",null,null,null,173]
[null,null,null,"",null,null,null,null,"","",null,{"$f":"IF(E1390>0,\" (p/u) \"&Modulo2.GetFormula(E1390),\"\")","v":""},{"$f":"IF(F1390>0,\" (lu) \"&Modulo2.GetFormula(F1390),\"\")","v":""},{"$f":"IF(G1390>0,\" (la) \"&Modulo2.GetFormula(G1390),\"\")","v":""},{"$f":"IF(H1390>0,\" (H) \"&Modulo2.GetFormula(H1390),\"\")","v":""},null,null,null,null,null,null,null,null,null,2,0,null,"",{"$f":"ROWS($AC$4:AC1390)","v":1387},"",{"$f":"IFERROR(SMALL($AD$4:$AD$1642,ROWS($AD$4:AD1390)),\"\")","v":""},null,{"$f":"IFERROR(INDEX($A$4:$R$1642,$AE1390,COLUMNS($A:$B)),\"\")","v":""},{"$f":"IFERROR(INDEX($A$4:$R$1642,$AE1390,COLUMNS($A:$C)),\"\")","v":""},{"$f":"IFERROR(INDEX($A$4:$R$1642,$AE1390,COLUMNS($A:$R)),\"\")","v":""},null,"","","","",null,null,null,173]
[null,null,null,null,null,null,null,{"$f":"CONCATENATE(\"SOMMANO [\",VLOOKUP(B1387,'Elenco Prezzi2'!$A$2:$E$201,3,FALSE()),\"]\")","v":{"$error":"#N/A"}},{"$f":"IF(T1391=\"s\",V1392,SUBTOTAL(9,I1387:I1391))","v":{"$error":"#REF!"}},null,{"$f":"VLOOKUP(B1387,'Elenco Prezzi2'!$A$2:$E$201,5,FALSE)","v":{"$error":"#N/A"}},null,null,null,null,null,null,{"$f":"IFERROR(I1391*K1391,\"\")","v":""},null,"s",null,null,null,{"$f":"R1391","v":""},2,0,null,"",{"$f":"ROWS($AC$4:AC1391)","v":1388},"",{"$f":"IFERROR(SMALL($AD$4:$AD$1642,ROWS($AD$4:AD1391)),\"\")","v":""},null,{"$f":"IFERROR(INDEX($A$4:$R$1642,$AE1391,COLUMNS($A:$B)),\"\")","v":""},{"$f":"IFERROR(INDEX($A$4:$R$1642,$AE1391,COLUMNS($A:$C)),\"\")","v":""},{"$f":"IFERROR(INDEX($A$4:$R$1642,$AE1391,COLUMNS($A:$R)),\"\")","v":""},null,null,null,null,null,null,null,null,173]
[null,null,null,null,null,null,null,{"$f":"IF(I1392<0,\"a detrarre\",\"\")","v":""},{"$f":"SUMIF(I1387:I1390,\"<0\")","v":0},null,null,null,null,null,null,null,null,null,{"$f":"R1391","v":""},null,null,{"$f":"VLOOKUP(B1387,#REF!,4,FALSE)","v":{"$error":"#REF!"}},null,null,2,0,null,"",{"$f":"ROWS($AC$4:AC1392)","v":1389},"",{"$f":"IFERROR(SMALL($AD$4:$AD$1642,ROWS($AD$4:AD1392)),\"\")","v":""},null,{"$f":"IFERROR(INDEX($A$4:$R$1642,$AE1392,COLUMNS($A:$B)),\"\")","v":""},{"$f":"IFERROR(INDEX($A$4:$R$1642,$AE1392,COLUMNS($A:$C)),\"\")","v":""},{"$f":"IFERROR(INDEX($A$4:$R$1642,$AE1392,COLUMNS($A:$R)),\"\")","v":""},null,null,null,null,null,null,null,null,173]
[null,null,null,null,null,null,null,null,null,null,null,null,null,null,null,null,null,null,null,null,null,null,null,null,2,0,null,"",{"$f":"ROWS($AC$4:AC1393)","v":1390},"",{"$f":"IFERROR(SMALL($AD$4:$AD$1642,ROWS($AD$4:AD1393)),\"\")","v":""},null,{"$f":"IFERROR(INDEX($A$4:$R$1642,$AE1393,COLUMNS($A:$B)),\"\")","v":""},{"$f":"IFERROR(INDEX($A$4:$R$1642,$AE1393,COLUMNS($A:$C)),\"\")","v":""},{"$f":"IFERROR(INDEX($A$4:$R$1642,$AE1393,COLUMNS($A:$R)),\"\")","v":""},null,null,null,null,null,null,null,null,173]
[null,null,null,null,null,null,null,null,null,null,null,null,null,null,null,null,null,null,null,null,null,null,null,null,2,0,null,"",{"$f":"ROWS($AC$4:AC1394)","v":1391},"",{"$f":"IFERROR(SMALL($AD$4:$AD$1642,ROWS($AD$4:AD1394)),\"\")","v":""},null,{"$f":"IFERROR(INDEX($A$4:$R$1642,$AE1394,COLUMNS($A:$B)),\"\")","v":""},{"$f":"IFERROR(INDEX($A$4:$R$1642,$AE1394,COLUMNS($A:$C)),\"\")","v":""},{"$f":"IFERROR(INDEX($A$4:$R$1642,$AE1394,COLUMNS($A:$R)),\"\")","v":""},null,null,null,null,null,null,null,null,173]
[{"$f":"AR1395","v":174},null,{"$f":"(VLOOKUP($B1395,'Elenco Prezzi2'!$A$2:$E$201,2,FALSE))","v":{"$error":"#N/A"}},null,null,null,null,null,null,null,null,null,null,null,null,null,null,null,null,null,null,null,null,null,2,0,null,"",{"$f":"ROWS($AC$4:AC1395)","v":1392},"",{"$f":"IFERROR(SMALL($AD$4:$AD$1642,ROWS($AD$4:AD1395)),\"\")","v":""},null,{"$f":"IFERROR(INDEX($A$4:$R$1642,$AE1395,COLUMNS($A:$B)),\"\")","v":""},{"$f":"IFERROR(INDEX($A$4:$R$1642,$AE1395,COLUMNS($A:$C)),\"\")","v":""},{"$f":"IFERROR(INDEX($A$4:$R$1642,$AE1395,COLUMNS($A:$R)),\"\")","v":""},null,null,null,null,null,null,null,1,174]
[null,null,null,{"$f":"CONCATENATE(AK1396&AL1396&AM1396&AN1396)","v":""},null,null,null,null,{"$f":"IFERROR(IF(PRODUCT(E1396:H1396)=0,\"\",PRODUCT(E1396:H1396)),\"\")","v":""},{"$f":"I1396","v":""},null,{"$f":"IF(E1396>0,\" (p/u) \"&Modulo2.GetFormula(E1396),\"\")","v":""},{"$f":"IF(F1396>0,\" (lu) \"&Modulo2.GetFormula(F1396),\"\")","v":""},{"$f":"IF(G1396>0,\" (la) \"&Modulo2.GetFormula(G1396),\"\")","v":""},{"$f":"IF(H1396>0,\" (H) \"&Modulo2.GetFormula(H1396),\"\")","v":""},null,null,null,null,null,null,null,null,null,2,0,null,"",{"$f":"ROWS($AC$4:AC1396)","v":1393},"",{"$f":"IFERROR(SMALL($AD$4:$AD$1642,ROWS($AD$4:AD1396)),\"\")","v":""},null,{"$f":"IFERROR(INDEX($A$4:$R$1642,$AE1396,COLUMNS($A:$B)),\"\")","v":""},{"$f":"IFERROR(INDEX($A$4:$R$1642,$AE1396,COLUMNS($A:$C)),\"\")","v":""},{"$f":"IFERROR(INDEX($A$4:$R$1642,$AE1396,COLUMNS($A:$R)),\"\")","v":""},null,{"$f":"IFERROR(IF(SEARCH(\"=\",L1396),L1396,\"\"),\"\")","v":""},{"$f":"IFERROR(IF(SEARCH(\"=\",M1396),M1396,\"\"),\"\")","v":""},{"$f":"IFERROR(IF(SEARCH(\"=\",N1396),N1396,\"\"),\"\")","v":""},{"$f":"IFERROR(IF(SEARCH(\"=\",O1396),O1396,\"\"),\"\")","v":""},null,null,null,174]
[null,null,null,"",null,null,null,null,"","",null,{"$f":"IF(E1397>0,\" (p/u) \"&Modulo2.GetFormula(E1397),\"\")","v":""},{"$f":"IF(F1397>0,\" (lu) \"&Modulo2.GetFormula(F1397),\"\")","v":""},{"$f":"IF(G1397>0,\" (la) \"&Modulo2.GetFormula(G1397),\"\")","v":""},{"$f":"IF(H1397>0,\" (H) \"&Modulo2.GetFormula(H1397),\"\")","v":""},null,null,null,null,null,null,null,null,null,2,0,null,"",{"$f":"ROWS($AC$4:AC1397)","v":1394},"",{"$f":"IFERROR(SMALL($AD$4:$AD$1642,ROWS($AD$4:AD1397)),\"\")","v":""},null,{"$f":"IFERROR(INDEX($A$4:$R$1642,$AE1397,COLUMNS($A:$B)),\"\")","v":""},{"$f":"IFERROR(INDEX($A$4:$R$1642,$AE1397,COLUMNS($A:$C)),\"\")","v":""},{"$f":"IFERROR(INDEX($A$4:$R$1642,$AE1397,COLUMNS($A:$R)),\"\")","v":""},null,"","","","",null,null,null,174]
[null,null,null,"",null,null,null,null,"","",null,{"$f":"IF(E1398>0,\" (p/u) \"&Modulo2.GetFormula(E1398),\"\")","v":""},{"$f":"IF(F1398>0,\" (lu) \"&Modulo2.GetFormula(F1398),\"\")","v":""},{"$f":"IF(G1398>0,\" (la) \"&Modulo2.GetFormula(G1398),\"\")","v":""},{"$f":"IF(H1398>0,\" (H) \"&Modulo2.GetFormula(H1398),\"\")","v":""},null,null,null,null,null,null,null,null,null,2,0,null,"",{"$f":"ROWS($AC$4:AC1398)","v":1395},"",{"$f":"IFERROR(SMALL($AD$4:$AD$1642,ROWS($AD$4:AD1398)),\"\")","v":""},null,{"$f":"IFERROR(INDEX($A$4:$R$1642,$AE1398,COLUMNS($A:$B)),\"\")","v":""},{"$f":"IFERROR(INDEX($A$4:$R$1642,$AE1398,COLUMNS($A:$C)),\"\")","v":""},{"$f":"IFERROR(INDEX($A$4:$R$1642,$AE1398,COLUMNS($A:$R)),\"\")","v":""},null,"","","","",null,null,null,174]
[null,null,null,null,null,null,null,{"$f":"CONCATENATE(\"SOMMANO [\",VLOOKUP(B1395,'Elenco Prezzi2'!$A$2:$E$201,3,FALSE()),\"]\")","v":{"$error":"#N/A"}},{"$f":"IF(T1399=\"s\",V1400,SUBTOTAL(9,I1395:I1399))","v":{"$error":"#REF!"}},null,{"$f":"VLOOKUP(B1395,'Elenco Prezzi2'!$A$2:$E$201,5,FALSE)","v":{"$error":"#N/A"}},null,null,null,null,null,null,{"$f":"IFERROR(I1399*K1399,\"\")","v":""},null,"s",null,null,null,{"$f":"R1399","v":""},2,0,null,"",{"$f":"ROWS($AC$4:AC1399)","v":1396},"",{"$f":"IFERROR(SMALL($AD$4:$AD$1642,ROWS($AD$4:AD1399)),\"\")","v":""},null,{"$f":"IFERROR(INDEX($A$4:$R$1642,$AE1399,COLUMNS($A:$B)),\"\")","v":""},{"$f":"IFERROR(INDEX($A$4:$R$1642,$AE1399,COLUMNS($A:$C)),\"\")","v":""},{"$f":"IFERROR(INDEX($A$4:$R$1642,$AE1399,COLUMNS($A:$R)),\"\")","v":""},null,null,null,null,null,null,null,null,174]
[null,null,null,null,null,null,null,{"$f":"IF(I1400<0,\"a detrarre\",\"\")","v":""},{"$f":"SUMIF(I1395:I1398,\"<0\")","v":0},null,null,null,null,null,null,null,null,null,{"$f":"R1399","v":""},null,null,{"$f":"VLOOKUP(B1395,#REF!,4,FALSE)","v":{"$error":"#REF!"}},null,null,2,0,null,"",{"$f":"ROWS($AC$4:AC1400)","v":1397},"",{"$f":"IFERROR(SMALL($AD$4:$AD$1642,ROWS($AD$4:AD1400)),\"\")","v":""},null,{"$f":"IFERROR(INDEX($A$4:$R$1642,$AE1400,COLUMNS($A:$B)),\"\")","v":""},{"$f":"IFERROR(INDEX($A$4:$R$1642,$AE1400,COLUMNS($A:$C)),\"\")","v":""},{"$f":"IFERROR(INDEX($A$4:$R$1642,$AE1400,COLUMNS($A:$R)),\"\")","v":""},null,null,null,null,null,null,null,null,174]
[null,null,null,null,null,null,null,null,null,null,null,null,null,null,null,null,null,null,null,null,null,null,null,null,2,0,null,"",{"$f":"ROWS($AC$4:AC1401)","v":1398},"",{"$f":"IFERROR(SMALL($AD$4:$AD$1642,ROWS($AD$4:AD1401)),\"\")","v":""},null,{"$f":"IFERROR(INDEX($A$4:$R$1642,$AE1401,COLUMNS($A:$B)),\"\")","v":""},{"$f":"IFERROR(INDEX($A$4:$R$1642,$AE1401,COLUMNS($A:$C)),\"\")","v":""},{"$f":"IFERROR(INDEX($A$4:$R$1642,$AE1401,COLUMNS($A:$R)),\"\")","v":""},null,null,null,null,null,null,null,null,174]
[null,null,null,null,null,null,null,null,null,null,null,null,null,null,null,null,null,null,null,null,null,null,null,null,2,0,null,"",{"$f":"ROWS($AC$4:AC1402)","v":1399},"",{"$f":"IFERROR(SMALL($AD$4:$AD$1642,ROWS($AD$4:AD1402)),\"\")","v":""},null,{"$f":"IFERROR(INDEX($A$4:$R$1642,$AE1402,COLUMNS($A:$B)),\"\")","v":""},{"$f":"IFERROR(INDEX($A$4:$R$1642,$AE1402,COLUMNS($A:$C)),\"\")","v":""},{"$f":"IFERROR(INDEX($A$4:$R$1642,$AE1402,COLUMNS($A:$R)),\"\")","v":""},null,null,null,null,null,null,null,null,174]
[{"$f":"AR1403","v":175},null,{"$f":"(VLOOKUP($B1403,'Elenco Prezzi2'!$A$2:$E$201,2,FALSE))","v":{"$error":"#N/A"}},null,null,null,null,null,null,null,null,null,null,null,null,null,null,null,null,null,null,null,null,null,2,0,null,"",{"$f":"ROWS($AC$4:AC1403)","v":1400},"",{"$f":"IFERROR(SMALL($AD$4:$AD$1642,ROWS($AD$4:AD1403)),\"\")","v":""},null,{"$f":"IFERROR(INDEX($A$4:$R$1642,$AE1403,COLUMNS($A:$B)),\"\")","v":""},{"$f":"IFERROR(INDEX($A$4:$R$1642,$AE1403,COLUMNS($A:$C)),\"\")","v":""},{"$f":"IFERROR(INDEX($A$4:$R$1642,$AE1403,COLUMNS($A:$R)),\"\")","v":""},null,null,null,null,null,null,null,1,175]
[null,null,null,{"$f":"CONCATENATE(AK1404&AL1404&AM1404&AN1404)","v":""},null,null,null,null,{"$f":"IFERROR(IF(PRODUCT(E1404:H1404)=0,\"\",PRODUCT(E1404:H1404)),\"\")","v":""},{"$f":"I1404","v":""},null,{"$f":"IF(E1404>0,\" (p/u) \"&Modulo2.GetFormula(E1404),\"\")","v":""},{"$f":"IF(F1404>0,\" (lu) \"&Modulo2.GetFormula(F1404),\"\")","v":""},{"$f":"IF(G1404>0,\" (la) \"&Modulo2.GetFormula(G1404),\"\")","v":""},{"$f":"IF(H1404>0,\" (H) \"&Modulo2.GetFormula(H1404),\"\")","v":""},null,null,null,null,null,null,null,null,null,2,0,null,"",{"$f":"ROWS($AC$4:AC1404)","v":1401},"",{"$f":"IFERROR(SMALL($AD$4:$AD$1642,ROWS($AD$4:AD1404)),\"\")","v":""},null,{"$f":"IFERROR(INDEX($A$4:$R$1642,$AE1404,COLUMNS($A:$B)),\"\")","v":""},{"$f":"IFERROR(INDEX($A$4:$R$1642,$AE1404,COLUMNS($A:$C)),\"\")","v":""},{"$f":"IFERROR(INDEX($A$4:$R$1642,$AE1404,COLUMNS($A:$R)),\"\")","v":""},null,{"$f":"IFERROR(IF(SEARCH(\"=\",L1404),L1404,\"\"),\"\")","v":""},{"$f":"IFERROR(IF(SEARCH(\"=\",M1404),M1404,\"\"),\"\")","v":""},{"$f":"IFERROR(IF(SEARCH(\"=\",N1404),N1404,\"\"),\"\")","v":""},{"$f":"IFERROR(IF(SEARCH(\"=\",O1404),O1404,\"\"),\"\")","v":""},null,null,null,175]
[null,null,null,"",null,null,null,null,"","",null,{"$f":"IF(E1405>0,\" (p/u) \"&Modulo2.GetFormula(E1405),\"\")","v":""},{"$f":"IF(F1405>0,\" (lu) \"&Modulo2.GetFormula(F1405),\"\")","v":""},{"$f":"IF(G1405>0,\" (la) \"&Modulo2.GetFormula(G1405),\"\")","v":""},{"$f":"IF(H1405>0,\" (H) \"&Modulo2.GetFormula(H1405),\"\")","v":""},null,null,null,null,null,null,null,null,null,2,0,null,"",{"$f":"ROWS($AC$4:AC1405)","v":1402},"",{"$f":"IFERROR(SMALL($AD$4:$AD$1642,ROWS($AD$4:AD1405)),\"\")","v":""},null,{"$f":"IFERROR(INDEX($A$4:$R$1642,$AE1405,COLUMNS($A:$B)),\"\")","v":""},{"$f":"IFERROR(INDEX($A$4:$R$1642,$AE1405,COLUMNS($A:$C)),\"\")","v":""},{"$f":"IFERROR(INDEX($A$4:$R$1642,$AE1405,COLUMNS($A:$R)),\"\")","v":""},null,"","","","",null,null,null,175]
[null,null,null,"",null,null,null,null,"","",null,{"$f":"IF(E1406>0,\" (p/u) \"&Modulo2.GetFormula(E1406),\"\")","v":""},{"$f":"IF(F1406>0,\" (lu) \"&Modulo2.GetFormula(F1406),\"\")","v":""},{"$f":"IF(G1406>0,\" (la) \"&Modulo2.GetFormula(G1406),\"\")","v":""},{"$f":"IF(H1406>0,\" (H) \"&Modulo2.GetFormula(H1406),\"\")","v":""},null,null,null,null,null,null,null,null,null,2,0,null,"",{"$f":"ROWS($AC$4:AC1406)","v":1403},"",{"$f":"IFERROR(SMALL($AD$4:$AD$1642,ROWS($AD$4:AD1406)),\"\")","v":""},null,{"$f":"IFERROR(INDEX($A$4:$R$1642,$AE1406,COLUMNS($A:$B)),\"\")","v":""},{"$f":"IFERROR(INDEX($A$4:$R$1642,$AE1406,COLUMNS($A:$C)),\"\")","v":""},{"$f":"IFERROR(INDEX($A$4:$R$1642,$AE1406,COLUMNS($A:$R)),\"\")","v":""},null,"","","","",null,null,null,175]
[null,null,null,null,null,null,null,{"$f":"CONCATENATE(\"SOMMANO [\",VLOOKUP(B1403,'Elenco Prezzi2'!$A$2:$E$201,3,FALSE()),\"]\")","v":{"$error":"#N/A"}},{"$f":"IF(T1407=\"s\",V1408,SUBTOTAL(9,I1403:I1407))","v":{"$error":"#REF!"}},null,{"$f":"VLOOKUP(B1403,'Elenco Prezzi2'!$A$2:$E$201,5,FALSE)","v":{"$error":"#N/A"}},null,null,null,null,null,null,{"$f":"IFERROR(I1407*K1407,\"\")","v":""},null,"s",null,null,null,{"$f":"R1407","v":""},2,0,null,"",{"$f":"ROWS($AC$4:AC1407)","v":1404},"",{"$f":"IFERROR(SMALL($AD$4:$AD$1642,ROWS($AD$4:AD1407)),\"\")","v":""},null,{"$f":"IFERROR(INDEX($A$4:$R$1642,$AE1407,COLUMNS($A:$B)),\"\")","v":""},{"$f":"IFERROR(INDEX($A$4:$R$1642,$AE1407,COLUMNS($A:$C)),\"\")","v":""},{"$f":"IFERROR(INDEX($A$4:$R$1642,$AE1407,COLUMNS($A:$R)),\"\")","v":""},null,null,null,null,null,null,null,null,175]
[null,null,null,null,null,null,null,{"$f":"IF(I1408<0,\"a detrarre\",\"\")","v":""},{"$f":"SUMIF(I1403:I1406,\"<0\")","v":0},null,null,null,null,null,null,null,null,null,{"$f":"R1407","v":""},null,null,{"$f":"VLOOKUP(B1403,#REF!,4,FALSE)","v":{"$error":"#REF!"}},null,null,2,0,null,"",{"$f":"ROWS($AC$4:AC1408)","v":1405},"",{"$f":"IFERROR(SMALL($AD$4:$AD$1642,ROWS($AD$4:AD1408)),\"\")","v":""},null,{"$f":"IFERROR(INDEX($A$4:$R$1642,$AE1408,COLUMNS($A:$B)),\"\")","v":""},{"$f":"IFERROR(INDEX($A$4:$R$1642,$AE1408,COLUMNS($A:$C)),\"\")","v":""},{"$f":"IFERROR(INDEX($A$4:$R$1642,$AE1408,COLUMNS($A:$R)),\"\")","v":""},null,null,null,null,null,null,null,null,175]
[null,null,null,null,null,null,null,null,null,null,null,null,null,null,null,null,null,null,null,null,null,null,null,null,2,0,null,"",{"$f":"ROWS($AC$4:AC1409)","v":1406},"",{"$f":"IFERROR(SMALL($AD$4:$AD$1642,ROWS($AD$4:AD1409)),\"\")","v":""},null,{"$f":"IFERROR(INDEX($A$4:$R$1642,$AE1409,COLUMNS($A:$B)),\"\")","v":""},{"$f":"IFERROR(INDEX($A$4:$R$1642,$AE1409,COLUMNS($A:$C)),\"\")","v":""},{"$f":"IFERROR(INDEX($A$4:$R$1642,$AE1409,COLUMNS($A:$R)),\"\")","v":""},null,null,null,null,null,null,null,null,175]
[null,null,null,null,null,null,null,null,null,null,null,null,null,null,null,null,null,null,null,null,null,null,null,null,2,0,null,"",{"$f":"ROWS($AC$4:AC1410)","v":1407},"",{"$f":"IFERROR(SMALL($AD$4:$AD$1642,ROWS($AD$4:AD1410)),\"\")","v":""},null,{"$f":"IFERROR(INDEX($A$4:$R$1642,$AE1410,COLUMNS($A:$B)),\"\")","v":""},{"$f":"IFERROR(INDEX($A$4:$R$1642,$AE1410,COLUMNS($A:$C)),\"\")","v":""},{"$f":"IFERROR(INDEX($A$4:$R$1642,$AE1410,COLUMNS($A:$R)),\"\")","v":""},null,null,null,null,null,null,null,null,175]
[{"$f":"AR1411","v":176},null,{"$f":"(VLOOKUP($B1411,'Elenco Prezzi2'!$A$2:$E$201,2,FALSE))","v":{"$error":"#N/A"}},null,null,null,null,null,null,null,null,null,null,null,null,null,null,null,null,null,null,null,null,null,2,0,null,"",{"$f":"ROWS($AC$4:AC1411)","v":1408},"",{"$f":"IFERROR(SMALL($AD$4:$AD$1642,ROWS($AD$4:AD1411)),\"\")","v":""},null,{"$f":"IFERROR(INDEX($A$4:$R$1642,$AE1411,COLUMNS($A:$B)),\"\")","v":""},{"$f":"IFERROR(INDEX($A$4:$R$1642,$AE1411,COLUMNS($A:$C)),\"\")","v":""},{"$f":"IFERROR(INDEX($A$4:$R$1642,$AE1411,COLUMNS($A:$R)),\"\")","v":""},null,null,null,null,null,null,null,1,176]
[null,null,null,{"$f":"CONCATENATE(AK1412&AL1412&AM1412&AN1412)","v":""},null,null,null,null,{"$f":"IFERROR(IF(PRODUCT(E1412:H1412)=0,\"\",PRODUCT(E1412:H1412)),\"\")","v":""},{"$f":"I1412","v":""},null,{"$f":"IF(E1412>0,\" (p/u) \"&Modulo2.GetFormula(E1412),\"\")","v":""},{"$f":"IF(F1412>0,\" (lu) \"&Modulo2.GetFormula(F1412),\"\")","v":""},{"$f":"IF(G1412>0,\" (la) \"&Modulo2.GetFormula(G1412),\"\")","v":""},{"$f":"IF(H1412>0,\" (H) \"&Modulo2.GetFormula(H1412),\"\")","v":""},null,null,null,null,null,null,null,null,null,2,0,null,"",{"$f":"ROWS($AC$4:AC1412)","v":1409},"",{"$f":"IFERROR(SMALL($AD$4:$AD$1642,ROWS($AD$4:AD1412)),\"\")","v":""},null,{"$f":"IFERROR(INDEX($A$4:$R$1642,$AE1412,COLUMNS($A:$B)),\"\")","v":""},{"$f":"IFERROR(INDEX($A$4:$R$1642,$AE1412,COLUMNS($A:$C)),\"\")","v":""},{"$f":"IFERROR(INDEX($A$4:$R$1642,$AE1412,COLUMNS($A:$R)),\"\")","v":""},null,{"$f":"IFERROR(IF(SEARCH(\"=\",L1412),L1412,\"\"),\"\")","v":""},{"$f":"IFERROR(IF(SEARCH(\"=\",M1412),M1412,\"\"),\"\")","v":""},{"$f":"IFERROR(IF(SEARCH(\"=\",N1412),N1412,\"\"),\"\")","v":""},{"$f":"IFERROR(IF(SEARCH(\"=\",O1412),O1412,\"\"),\"\")","v":""},null,null,null,176]
[null,null,null,"",null,null,null,null,"","",null,{"$f":"IF(E1413>0,\" (p/u) \"&Modulo2.GetFormula(E1413),\"\")","v":""},{"$f":"IF(F1413>0,\" (lu) \"&Modulo2.GetFormula(F1413),\"\")","v":""},{"$f":"IF(G1413>0,\" (la) \"&Modulo2.GetFormula(G1413),\"\")","v":""},{"$f":"IF(H1413>0,\" (H) \"&Modulo2.GetFormula(H1413),\"\")","v":""},null,null,null,null,null,null,null,null,null,2,0,null,"",{"$f":"ROWS($AC$4:AC1413)","v":1410},"",{"$f":"IFERROR(SMALL($AD$4:$AD$1642,ROWS($AD$4:AD1413)),\"\")","v":""},null,{"$f":"IFERROR(INDEX($A$4:$R$1642,$AE1413,COLUMNS($A:$B)),\"\")","v":""},{"$f":"IFERROR(INDEX($A$4:$R$1642,$AE1413,COLUMNS($A:$C)),\"\")","v":""},{"$f":"IFERROR(INDEX($A$4:$R$1642,$AE1413,COLUMNS($A:$R)),\"\")","v":""},null,"","","","",null,null,null,176]
[null,null,null,"",null,null,null,null,"","",null,{"$f":"IF(E1414>0,\" (p/u) \"&Modulo2.GetFormula(E1414),\"\")","v":""},{"$f":"IF(F1414>0,\" (lu) \"&Modulo2.GetFormula(F1414),\"\")","v":""},{"$f":"IF(G1414>0,\" (la) \"&Modulo2.GetFormula(G1414),\"\")","v":""},{"$f":"IF(H1414>0,\" (H) \"&Modulo2.GetFormula(H1414),\"\")","v":""},null,null,null,null,null,null,null,null,null,2,0,null,"",{"$f":"ROWS($AC$4:AC1414)","v":1411},"",{"$f":"IFERROR(SMALL($AD$4:$AD$1642,ROWS($AD$4:AD1414)),\"\")","v":""},null,{"$f":"IFERROR(INDEX($A$4:$R$1642,$AE1414,COLUMNS($A:$B)),\"\")","v":""},{"$f":"IFERROR(INDEX($A$4:$R$1642,$AE1414,COLUMNS($A:$C)),\"\")","v":""},{"$f":"IFERROR(INDEX($A$4:$R$1642,$AE1414,COLUMNS($A:$R)),\"\")","v":""},null,"","","","",null,null,null,176]
[null,null,null,null,null,null,null,{"$f":"CONCATENATE(\"SOMMANO [\",VLOOKUP(B1411,'Elenco Prezzi2'!$A$2:$E$201,3,FALSE()),\"]\")","v":{"$error":"#N/A"}},{"$f":"IF(T1415=\"s\",V1416,SUBTOTAL(9,I1411:I1415))","v":{"$error":"#REF!"}},null,{"$f":"VLOOKUP(B1411,'Elenco Prezzi2'!$A$2:$E$201,5,FALSE)","v":{"$error":"#N/A"}},null,null,null,null,null,null,{"$f":"IFERROR(I1415*K1415,\"\")","v":""},null,"s",null,null,null,{"$f":"R1415","v":""},2,0,null,"",{"$f":"ROWS($AC$4:AC1415)","v":1412},"",{"$f":"IFERROR(SMALL($AD$4:$AD$1642,ROWS($AD$4:AD1415)),\"\")","v":""},null,{"$f":"IFERROR(INDEX($A$4:$R$1642,$AE1415,COLUMNS($A:$B)),\"\")","v":""},{"$f":"IFERROR(INDEX($A$4:$R$1642,$AE1415,COLUMNS($A:$C)),\"\")","v":""},{"$f":"IFERROR(INDEX($A$4:$R$1642,$AE1415,COLUMNS($A:$R)),\"\")","v":""},null,null,null,null,null,null,null,null,176]
[null,null,null,null,null,null,null,{"$f":"IF(I1416<0,\"a detrarre\",\"\")","v":""},{"$f":"SUMIF(I1411:I1414,\"<0\")","v":0},null,null,null,null,null,null,null,null,null,{"$f":"R1415","v":""},null,null,{"$f":"VLOOKUP(B1411,#REF!,4,FALSE)","v":{"$error":"#REF!"}},null,null,2,0,null,"",{"$f":"ROWS($AC$4:AC1416)","v":1413},"",{"$f":"IFERROR(SMALL($AD$4:$AD$1642,ROWS($AD$4:AD1416)),\"\")","v":""},null,{"$f":"IFERROR(INDEX($A$4:$R$1642,$AE1416,COLUMNS($A:$B)),\"\")","v":""},{"$f":"IFERROR(INDEX($A$4:$R$1642,$AE1416,COLUMNS($A:$C)),\"\")","v":""},{"$f":"IFERROR(INDEX($A$4:$R$1642,$AE1416,COLUMNS($A:$R)),\"\")","v":""},null,null,null,null,null,null,null,null,176]
[null,null,null,null,null,null,null,null,null,null,null,null,null,null,null,null,null,null,null,null,null,null,null,null,2,0,null,"",{"$f":"ROWS($AC$4:AC1417)","v":1414},"",{"$f":"IFERROR(SMALL($AD$4:$AD$1642,ROWS($AD$4:AD1417)),\"\")","v":""},null,{"$f":"IFERROR(INDEX($A$4:$R$1642,$AE1417,COLUMNS($A:$B)),\"\")","v":""},{"$f":"IFERROR(INDEX($A$4:$R$1642,$AE1417,COLUMNS($A:$C)),\"\")","v":""},{"$f":"IFERROR(INDEX($A$4:$R$1642,$AE1417,COLUMNS($A:$R)),\"\")","v":""},null,null,null,null,null,null,null,null,176]
[null,null,null,null,null,null,null,null,null,null,null,null,null,null,null,null,null,null,null,null,null,null,null,null,2,0,null,"",{"$f":"ROWS($AC$4:AC1418)","v":1415},"",{"$f":"IFERROR(SMALL($AD$4:$AD$1642,ROWS($AD$4:AD1418)),\"\")","v":""},null,{"$f":"IFERROR(INDEX($A$4:$R$1642,$AE1418,COLUMNS($A:$B)),\"\")","v":""},{"$f":"IFERROR(INDEX($A$4:$R$1642,$AE1418,COLUMNS($A:$C)),\"\")","v":""},{"$f":"IFERROR(INDEX($A$4:$R$1642,$AE1418,COLUMNS($A:$R)),\"\")","v":""},null,null,null,null,null,null,null,null,176]
[{"$f":"AR1419","v":177},null,{"$f":"(VLOOKUP($B1419,'Elenco Prezzi2'!$A$2:$E$201,2,FALSE))","v":{"$error":"#N/A"}},null,null,null,null,null,null,null,null,null,null,null,null,null,null,null,null,null,null,null,null,null,2,0,null,"",{"$f":"ROWS($AC$4:AC1419)","v":1416},"",{"$f":"IFERROR(SMALL($AD$4:$AD$1642,ROWS($AD$4:AD1419)),\"\")","v":""},null,{"$f":"IFERROR(INDEX($A$4:$R$1642,$AE1419,COLUMNS($A:$B)),\"\")","v":""},{"$f":"IFERROR(INDEX($A$4:$R$1642,$AE1419,COLUMNS($A:$C)),\"\")","v":""},{"$f":"IFERROR(INDEX($A$4:$R$1642,$AE1419,COLUMNS($A:$R)),\"\")","v":""},null,null,null,null,null,null,null,1,177]
[null,null,null,{"$f":"CONCATENATE(AK1420&AL1420&AM1420&AN1420)","v":""},null,null,null,null,{"$f":"IFERROR(IF(PRODUCT(E1420:H1420)=0,\"\",PRODUCT(E1420:H1420)),\"\")","v":""},{"$f":"I1420","v":""},null,{"$f":"IF(E1420>0,\" (p/u) \"&Modulo2.GetFormula(E1420),\"\")","v":""},{"$f":"IF(F1420>0,\" (lu) \"&Modulo2.GetFormula(F1420),\"\")","v":""},{"$f":"IF(G1420>0,\" (la) \"&Modulo2.GetFormula(G1420),\"\")","v":""},{"$f":"IF(H1420>0,\" (H) \"&Modulo2.GetFormula(H1420),\"\")","v":""},null,null,null,null,null,null,null,null,null,2,0,null,"",{"$f":"ROWS($AC$4:AC1420)","v":1417},"",{"$f":"IFERROR(SMALL($AD$4:$AD$1642,ROWS($AD$4:AD1420)),\"\")","v":""},null,{"$f":"IFERROR(INDEX($A$4:$R$1642,$AE1420,COLUMNS($A:$B)),\"\")","v":""},{"$f":"IFERROR(INDEX($A$4:$R$1642,$AE1420,COLUMNS($A:$C)),\"\")","v":""},{"$f":"IFERROR(INDEX($A$4:$R$1642,$AE1420,COLUMNS($A:$R)),\"\")","v":""},null,{"$f":"IFERROR(IF(SEARCH(\"=\",L1420),L1420,\"\"),\"\")","v":""},{"$f":"IFERROR(IF(SEARCH(\"=\",M1420),M1420,\"\"),\"\")","v":""},{"$f":"IFERROR(IF(SEARCH(\"=\",N1420),N1420,\"\"),\"\")","v":""},{"$f":"IFERROR(IF(SEARCH(\"=\",O1420),O1420,\"\"),\"\")","v":""},null,null,null,177]
[null,null,null,"",null,null,null,null,"","",null,{"$f":"IF(E1421>0,\" (p/u) \"&Modulo2.GetFormula(E1421),\"\")","v":""},{"$f":"IF(F1421>0,\" (lu) \"&Modulo2.GetFormula(F1421),\"\")","v":""},{"$f":"IF(G1421>0,\" (la) \"&Modulo2.GetFormula(G1421),\"\")","v":""},{"$f":"IF(H1421>0,\" (H) \"&Modulo2.GetFormula(H1421),\"\")","v":""},null,null,null,null,null,null,null,null,null,2,0,null,"",{"$f":"ROWS($AC$4:AC1421)","v":1418},"",{"$f":"IFERROR(SMALL($AD$4:$AD$1642,ROWS($AD$4:AD1421)),\"\")","v":""},null,{"$f":"IFERROR(INDEX($A$4:$R$1642,$AE1421,COLUMNS($A:$B)),\"\")","v":""},{"$f":"IFERROR(INDEX($A$4:$R$1642,$AE1421,COLUMNS($A:$C)),\"\")","v":""},{"$f":"IFERROR(INDEX($A$4:$R$1642,$AE1421,COLUMNS($A:$R)),\"\")","v":""},null,"","","","",null,null,null,177]
[null,null,null,"",null,null,null,null,"","",null,{"$f":"IF(E1422>0,\" (p/u) \"&Modulo2.GetFormula(E1422),\"\")","v":""},{"$f":"IF(F1422>0,\" (lu) \"&Modulo2.GetFormula(F1422),\"\")","v":""},{"$f":"IF(G1422>0,\" (la) \"&Modulo2.GetFormula(G1422),\"\")","v":""},{"$f":"IF(H1422>0,\" (H) \"&Modulo2.GetFormula(H1422),\"\")","v":""},null,null,null,null,null,null,null,null,null,2,0,null,"",{"$f":"ROWS($AC$4:AC1422)","v":1419},"",{"$f":"IFERROR(SMALL($AD$4:$AD$1642,ROWS($AD$4:AD1422)),\"\")","v":""},null,{"$f":"IFERROR(INDEX($A$4:$R$1642,$AE1422,COLUMNS($A:$B)),\"\")","v":""},{"$f":"IFERROR(INDEX($A$4:$R$1642,$AE1422,COLUMNS($A:$C)),\"\")","v":""},{"$f":"IFERROR(INDEX($A$4:$R$1642,$AE1422,COLUMNS($A:$R)),\"\")","v":""},null,"","","","",null,null,null,177]
[null,null,null,null,null,null,null,{"$f":"CONCATENATE(\"SOMMANO [\",VLOOKUP(B1419,'Elenco Prezzi2'!$A$2:$E$201,3,FALSE()),\"]\")","v":{"$error":"#N/A"}},{"$f":"IF(T1423=\"s\",V1424,SUBTOTAL(9,I1419:I1423))","v":{"$error":"#REF!"}},null,{"$f":"VLOOKUP(B1419,'Elenco Prezzi2'!$A$2:$E$201,5,FALSE)","v":{"$error":"#N/A"}},null,null,null,null,null,null,{"$f":"IFERROR(I1423*K1423,\"\")","v":""},null,"s",null,null,null,{"$f":"R1423","v":""},2,0,null,"",{"$f":"ROWS($AC$4:AC1423)","v":1420},"",{"$f":"IFERROR(SMALL($AD$4:$AD$1642,ROWS($AD$4:AD1423)),\"\")","v":""},null,{"$f":"IFERROR(INDEX($A$4:$R$1642,$AE1423,COLUMNS($A:$B)),\"\")","v":""},{"$f":"IFERROR(INDEX($A$4:$R$1642,$AE1423,COLUMNS($A:$C)),\"\")","v":""},{"$f":"IFERROR(INDEX($A$4:$R$1642,$AE1423,COLUMNS($A:$R)),\"\")","v":""},null,null,null,null,null,null,null,null,177]
[null,null,null,null,null,null,null,{"$f":"IF(I1424<0,\"a detrarre\",\"\")","v":""},{"$f":"SUMIF(I1419:I1422,\"<0\")","v":0},null,null,null,null,null,null,null,null,null,{"$f":"R1423","v":""},null,null,{"$f":"VLOOKUP(B1419,#REF!,4,FALSE)","v":{"$error":"#REF!"}},null,null,2,0,null,"",{"$f":"ROWS($AC$4:AC1424)","v":1421},"",{"$f":"IFERROR(SMALL($AD$4:$AD$1642,ROWS($AD$4:AD1424)),\"\")","v":""},null,{"$f":"IFERROR(INDEX($A$4:$R$1642,$AE1424,COLUMNS($A:$B)),\"\")","v":""},{"$f":"IFERROR(INDEX($A$4:$R$1642,$AE1424,COLUMNS($A:$C)),\"\")","v":""},{"$f":"IFERROR(INDEX($A$4:$R$1642,$AE1424,COLUMNS($A:$R)),\"\")","v":""},null,null,null,null,null,null,null,null,177]
[null,null,null,null,null,null,null,null,null,null,null,null,null,null,null,null,null,null,null,null,null,null,null,null,2,0,null,"",{"$f":"ROWS($AC$4:AC1425)","v":1422},"",{"$f":"IFERROR(SMALL($AD$4:$AD$1642,ROWS($AD$4:AD1425)),\"\")","v":""},null,{"$f":"IFERROR(INDEX($A$4:$R$1642,$AE1425,COLUMNS($A:$B)),\"\")","v":""},{"$f":"IFERROR(INDEX($A$4:$R$1642,$AE1425,COLUMNS($A:$C)),\"\")","v":""},{"$f":"IFERROR(INDEX($A$4:$R$1642,$AE1425,COLUMNS($A:$R)),\"\")","v":""},null,null,null,null,null,null,null,null,177]
[null,null,null,null,null,null,null,null,null,null,null,null,null,null,null,null,null,null,null,null,null,null,null,null,2,0,null,"",{"$f":"ROWS($AC$4:AC1426)","v":1423},"",{"$f":"IFERROR(SMALL($AD$4:$AD$1642,ROWS($AD$4:AD1426)),\"\")","v":""},null,{"$f":"IFERROR(INDEX($A$4:$R$1642,$AE1426,COLUMNS($A:$B)),\"\")","v":""},{"$f":"IFERROR(INDEX($A$4:$R$1642,$AE1426,COLUMNS($A:$C)),\"\")","v":""},{"$f":"IFERROR(INDEX($A$4:$R$1642,$AE1426,COLUMNS($A:$R)),\"\")","v":""},null,null,null,null,null,null,null,null,177]
[{"$f":"AR1427","v":178},null,{"$f":"(VLOOKUP($B1427,'Elenco Prezzi2'!$A$2:$E$201,2,FALSE))","v":{"$error":"#N/A"}},null,null,null,null,null,null,null,null,null,null,null,null,null,null,null,null,null,null,null,null,null,2,0,null,"",{"$f":"ROWS($AC$4:AC1427)","v":1424},"",{"$f":"IFERROR(SMALL($AD$4:$AD$1642,ROWS($AD$4:AD1427)),\"\")","v":""},null,{"$f":"IFERROR(INDEX($A$4:$R$1642,$AE1427,COLUMNS($A:$B)),\"\")","v":""},{"$f":"IFERROR(INDEX($A$4:$R$1642,$AE1427,COLUMNS($A:$C)),\"\")","v":""},{"$f":"IFERROR(INDEX($A$4:$R$1642,$AE1427,COLUMNS($A:$R)),\"\")","v":""},null,null,null,null,null,null,null,1,178]
[null,null,null,{"$f":"CONCATENATE(AK1428&AL1428&AM1428&AN1428)","v":""},null,null,null,null,{"$f":"IFERROR(IF(PRODUCT(E1428:H1428)=0,\"\",PRODUCT(E1428:H1428)),\"\")","v":""},{"$f":"I1428","v":""},null,{"$f":"IF(E1428>0,\" (p/u) \"&Modulo2.GetFormula(E1428),\"\")","v":""},{"$f":"IF(F1428>0,\" (lu) \"&Modulo2.GetFormula(F1428),\"\")","v":""},{"$f":"IF(G1428>0,\" (la) \"&Modulo2.GetFormula(G1428),\"\")","v":""},{"$f":"IF(H1428>0,\" (H) \"&Modulo2.GetFormula(H1428),\"\")","v":""},null,null,null,null,null,null,null,null,null,2,0,null,"",{"$f":"ROWS($AC$4:AC1428)","v":1425},"",{"$f":"IFERROR(SMALL($AD$4:$AD$1642,ROWS($AD$4:AD1428)),\"\")","v":""},null,{"$f":"IFERROR(INDEX($A$4:$R$1642,$AE1428,COLUMNS($A:$B)),\"\")","v":""},{"$f":"IFERROR(INDEX($A$4:$R$1642,$AE1428,COLUMNS($A:$C)),\"\")","v":""},{"$f":"IFERROR(INDEX($A$4:$R$1642,$AE1428,COLUMNS($A:$R)),\"\")","v":""},null,{"$f":"IFERROR(IF(SEARCH(\"=\",L1428),L1428,\"\"),\"\")","v":""},{"$f":"IFERROR(IF(SEARCH(\"=\",M1428),M1428,\"\"),\"\")","v":""},{"$f":"IFERROR(IF(SEARCH(\"=\",N1428),N1428,\"\"),\"\")","v":""},{"$f":"IFERROR(IF(SEARCH(\"=\",O1428),O1428,\"\"),\"\")","v":""},null,null,null,178]
[null,null,null,"",null,null,null,null,"","",null,{"$f":"IF(E1429>0,\" (p/u) \"&Modulo2.GetFormula(E1429),\"\")","v":""},{"$f":"IF(F1429>0,\" (lu) \"&Modulo2.GetFormula(F1429),\"\")","v":""},{"$f":"IF(G1429>0,\" (la) \"&Modulo2.GetFormula(G1429),\"\")","v":""},{"$f":"IF(H1429>0,\" (H) \"&Modulo2.GetFormula(H1429),\"\")","v":""},null,null,null,null,null,null,null,null,null,2,0,null,"",{"$f":"ROWS($AC$4:AC1429)","v":1426},"",{"$f":"IFERROR(SMALL($AD$4:$AD$1642,ROWS($AD$4:AD1429)),\"\")","v":""},null,{"$f":"IFERROR(INDEX($A$4:$R$1642,$AE1429,COLUMNS($A:$B)),\"\")","v":""},{"$f":"IFERROR(INDEX($A$4:$R$1642,$AE1429,COLUMNS($A:$C)),\"\")","v":""},{"$f":"IFERROR(INDEX($A$4:$R$1642,$AE1429,COLUMNS($A:$R)),\"\")","v":""},null,"","","","",null,null,null,178]
[null,null,null,"",null,null,null,null,"","",null,{"$f":"IF(E1430>0,\" (p/u) \"&Modulo2.GetFormula(E1430),\"\")","v":""},{"$f":"IF(F1430>0,\" (lu) \"&Modulo2.GetFormula(F1430),\"\")","v":""},{"$f":"IF(G1430>0,\" (la) \"&Modulo2.GetFormula(G1430),\"\")","v":""},{"$f":"IF(H1430>0,\" (H) \"&Modulo2.GetFormula(H1430),\"\")","v":""},null,null,null,null,null,null,null,null,null,2,0,null,"",{"$f":"ROWS($AC$4:AC1430)","v":1427},"",{"$f":"IFERROR(SMALL($AD$4:$AD$1642,ROWS($AD$4:AD1430)),\"\")","v":""},null,{"$f":"IFERROR(INDEX($A$4:$R$1642,$AE1430,COLUMNS($A:$B)),\"\")","v":""},{"$f":"IFERROR(INDEX($A$4:$R$1642,$AE1430,COLUMNS($A:$C)),\"\")","v":""},{"$f":"IFERROR(INDEX($A$4:$R$1642,$AE1430,COLUMNS($A:$R)),\"\")","v":""},null,"","","","",null,null,null,178]
[null,null,null,null,null,null,null,{"$f":"CONCATENATE(\"SOMMANO [\",VLOOKUP(B1427,'Elenco Prezzi2'!$A$2:$E$201,3,FALSE()),\"]\")","v":{"$error":"#N/A"}},{"$f":"IF(T1431=\"s\",V1432,SUBTOTAL(9,I1427:I1431))","v":{"$error":"#REF!"}},null,{"$f":"VLOOKUP(B1427,'Elenco Prezzi2'!$A$2:$E$201,5,FALSE)","v":{"$error":"#N/A"}},null,null,null,null,null,null,{"$f":"IFERROR(I1431*K1431,\"\")","v":""},null,"s",null,null,null,{"$f":"R1431","v":""},2,0,null,"",{"$f":"ROWS($AC$4:AC1431)","v":1428},"",{"$f":"IFERROR(SMALL($AD$4:$AD$1642,ROWS($AD$4:AD1431)),\"\")","v":""},null,{"$f":"IFERROR(INDEX($A$4:$R$1642,$AE1431,COLUMNS($A:$B)),\"\")","v":""},{"$f":"IFERROR(INDEX($A$4:$R$1642,$AE1431,COLUMNS($A:$C)),\"\")","v":""},{"$f":"IFERROR(INDEX($A$4:$R$1642,$AE1431,COLUMNS($A:$R)),\"\")","v":""},null,null,null,null,null,null,null,null,178]
[null,null,null,null,null,null,null,{"$f":"IF(I1432<0,\"a detrarre\",\"\")","v":""},{"$f":"SUMIF(I1427:I1430,\"<0\")","v":0},null,null,null,null,null,null,null,null,null,{"$f":"R1431","v":""},null,null,{"$f":"VLOOKUP(B1427,#REF!,4,FALSE)","v":{"$error":"#REF!"}},null,null,2,0,null,"",{"$f":"ROWS($AC$4:AC1432)","v":1429},"",{"$f":"IFERROR(SMALL($AD$4:$AD$1642,ROWS($AD$4:AD1432)),\"\")","v":""},null,{"$f":"IFERROR(INDEX($A$4:$R$1642,$AE1432,COLUMNS($A:$B)),\"\")","v":""},{"$f":"IFERROR(INDEX($A$4:$R$1642,$AE1432,COLUMNS($A:$C)),\"\")","v":""},{"$f":"IFERROR(INDEX($A$4:$R$1642,$AE1432,COLUMNS($A:$R)),\"\")","v":""},null,null,null,null,null,null,null,null,178]
[null,null,null,null,null,null,null,null,null,null,null,null,null,null,null,null,null,null,null,null,null,null,null,null,2,0,null,"",{"$f":"ROWS($AC$4:AC1433)","v":1430},"",{"$f":"IFERROR(SMALL($AD$4:$AD$1642,ROWS($AD$4:AD1433)),\"\")","v":""},null,{"$f":"IFERROR(INDEX($A$4:$R$1642,$AE1433,COLUMNS($A:$B)),\"\")","v":""},{"$f":"IFERROR(INDEX($A$4:$R$1642,$AE1433,COLUMNS($A:$C)),\"\")","v":""},{"$f":"IFERROR(INDEX($A$4:$R$1642,$AE1433,COLUMNS($A:$R)),\"\")","v":""},null,null,null,null,null,null,null,null,178]
[null,null,null,null,null,null,null,null,null,null,null,null,null,null,null,null,null,null,null,null,null,null,null,null,2,0,null,"",{"$f":"ROWS($AC$4:AC1434)","v":1431},"",{"$f":"IFERROR(SMALL($AD$4:$AD$1642,ROWS($AD$4:AD1434)),\"\")","v":""},null,{"$f":"IFERROR(INDEX($A$4:$R$1642,$AE1434,COLUMNS($A:$B)),\"\")","v":""},{"$f":"IFERROR(INDEX($A$4:$R$1642,$AE1434,COLUMNS($A:$C)),\"\")","v":""},{"$f":"IFERROR(INDEX($A$4:$R$1642,$AE1434,COLUMNS($A:$R)),\"\")","v":""},null,null,null,null,null,null,null,null,178]
[{"$f":"AR1435","v":179},null,{"$f":"(VLOOKUP($B1435,'Elenco Prezzi2'!$A$2:$E$201,2,FALSE))","v":{"$error":"#N/A"}},null,null,null,null,null,null,null,null,null,null,null,null,null,null,null,null,null,null,null,null,null,2,0,null,"",{"$f":"ROWS($AC$4:AC1435)","v":1432},"",{"$f":"IFERROR(SMALL($AD$4:$AD$1642,ROWS($AD$4:AD1435)),\"\")","v":""},null,{"$f":"IFERROR(INDEX($A$4:$R$1642,$AE1435,COLUMNS($A:$B)),\"\")","v":""},{"$f":"IFERROR(INDEX($A$4:$R$1642,$AE1435,COLUMNS($A:$C)),\"\")","v":""},{"$f":"IFERROR(INDEX($A$4:$R$1642,$AE1435,COLUMNS($A:$R)),\"\")","v":""},null,null,null,null,null,null,null,1,179]
[null,null,null,{"$f":"CONCATENATE(AK1436&AL1436&AM1436&AN1436)","v":""},null,null,null,null,{"$f":"IFERROR(IF(PRODUCT(E1436:H1436)=0,\"\",PRODUCT(E1436:H1436)),\"\")","v":""},{"$f":"I1436","v":""},null,{"$f":"IF(E1436>0,\" (p/u) \"&Modulo2.GetFormula(E1436),\"\")","v":""},{"$f":"IF(F1436>0,\" (lu) \"&Modulo2.GetFormula(F1436),\"\")","v":""},{"$f":"IF(G1436>0,\" (la) \"&Modulo2.GetFormula(G1436),\"\")","v":""},{"$f":"IF(H1436>0,\" (H) \"&Modulo2.GetFormula(H1436),\"\")","v":""},null,null,null,null,null,null,null,null,null,2,0,null,"",{"$f":"ROWS($AC$4:AC1436)","v":1433},"",{"$f":"IFERROR(SMALL($AD$4:$AD$1642,ROWS($AD$4:AD1436)),\"\")","v":""},null,{"$f":"IFERROR(INDEX($A$4:$R$1642,$AE1436,COLUMNS($A:$B)),\"\")","v":""},{"$f":"IFERROR(INDEX($A$4:$R$1642,$AE1436,COLUMNS($A:$C)),\"\")","v":""},{"$f":"IFERROR(INDEX($A$4:$R$1642,$AE1436,COLUMNS($A:$R)),\"\")","v":""},null,{"$f":"IFERROR(IF(SEARCH(\"=\",L1436),L1436,\"\"),\"\")","v":""},{"$f":"IFERROR(IF(SEARCH(\"=\",M1436),M1436,\"\"),\"\")","v":""},{"$f":"IFERROR(IF(SEARCH(\"=\",N1436),N1436,\"\"),\"\")","v":""},{"$f":"IFERROR(IF(SEARCH(\"=\",O1436),O1436,\"\"),\"\")","v":""},null,null,null,179]
[null,null,null,"",null,null,null,null,"","",null,{"$f":"IF(E1437>0,\" (p/u) \"&Modulo2.GetFormula(E1437),\"\")","v":""},{"$f":"IF(F1437>0,\" (lu) \"&Modulo2.GetFormula(F1437),\"\")","v":""},{"$f":"IF(G1437>0,\" (la) \"&Modulo2.GetFormula(G1437),\"\")","v":""},{"$f":"IF(H1437>0,\" (H) \"&Modulo2.GetFormula(H1437),\"\")","v":""},null,null,null,null,null,null,null,null,null,2,0,null,"",{"$f":"ROWS($AC$4:AC1437)","v":1434},"",{"$f":"IFERROR(SMALL($AD$4:$AD$1642,ROWS($AD$4:AD1437)),\"\")","v":""},null,{"$f":"IFERROR(INDEX($A$4:$R$1642,$AE1437,COLUMNS($A:$B)),\"\")","v":""},{"$f":"IFERROR(INDEX($A$4:$R$1642,$AE1437,COLUMNS($A:$C)),\"\")","v":""},{"$f":"IFERROR(INDEX($A$4:$R$1642,$AE1437,COLUMNS($A:$R)),\"\")","v":""},null,"","","","",null,null,null,179]
[null,null,null,"",null,null,null,null,"","",null,{"$f":"IF(E1438>0,\" (p/u) \"&Modulo2.GetFormula(E1438),\"\")","v":""},{"$f":"IF(F1438>0,\" (lu) \"&Modulo2.GetFormula(F1438),\"\")","v":""},{"$f":"IF(G1438>0,\" (la) \"&Modulo2.GetFormula(G1438),\"\")","v":""},{"$f":"IF(H1438>0,\" (H) \"&Modulo2.GetFormula(H1438),\"\")","v":""},null,null,null,null,null,null,null,null,null,2,0,null,"",{"$f":"ROWS($AC$4:AC1438)","v":1435},"",{"$f":"IFERROR(SMALL($AD$4:$AD$1642,ROWS($AD$4:AD1438)),\"\")","v":""},null,{"$f":"IFERROR(INDEX($A$4:$R$1642,$AE1438,COLUMNS($A:$B)),\"\")","v":""},{"$f":"IFERROR(INDEX($A$4:$R$1642,$AE1438,COLUMNS($A:$C)),\"\")","v":""},{"$f":"IFERROR(INDEX($A$4:$R$1642,$AE1438,COLUMNS($A:$R)),\"\")","v":""},null,"","","","",null,null,null,179]
[null,null,null,null,null,null,null,{"$f":"CONCATENATE(\"SOMMANO [\",VLOOKUP(B1435,'Elenco Prezzi2'!$A$2:$E$201,3,FALSE()),\"]\")","v":{"$error":"#N/A"}},{"$f":"IF(T1439=\"s\",V1440,SUBTOTAL(9,I1435:I1439))","v":{"$error":"#REF!"}},null,{"$f":"VLOOKUP(B1435,'Elenco Prezzi2'!$A$2:$E$201,5,FALSE)","v":{"$error":"#N/A"}},null,null,null,null,null,null,{"$f":"IFERROR(I1439*K1439,\"\")","v":""},null,"s",null,null,null,{"$f":"R1439","v":""},2,0,null,"",{"$f":"ROWS($AC$4:AC1439)","v":1436},"",{"$f":"IFERROR(SMALL($AD$4:$AD$1642,ROWS($AD$4:AD1439)),\"\")","v":""},null,{"$f":"IFERROR(INDEX($A$4:$R$1642,$AE1439,COLUMNS($A:$B)),\"\")","v":""},{"$f":"IFERROR(INDEX($A$4:$R$1642,$AE1439,COLUMNS($A:$C)),\"\")","v":""},{"$f":"IFERROR(INDEX($A$4:$R$1642,$AE1439,COLUMNS($A:$R)),\"\")","v":""},null,null,null,null,null,null,null,null,179]
[null,null,null,null,null,null,null,{"$f":"IF(I1440<0,\"a detrarre\",\"\")","v":""},{"$f":"SUMIF(I1435:I1438,\"<0\")","v":0},null,null,null,null,null,null,null,null,null,{"$f":"R1439","v":""},null,null,{"$f":"VLOOKUP(B1435,#REF!,4,FALSE)","v":{"$error":"#REF!"}},null,null,2,0,null,"",{"$f":"ROWS($AC$4:AC1440)","v":1437},"",{"$f":"IFERROR(SMALL($AD$4:$AD$1642,ROWS($AD$4:AD1440)),\"\")","v":""},null,{"$f":"IFERROR(INDEX($A$4:$R$1642,$AE1440,COLUMNS($A:$B)),\"\")","v":""},{"$f":"IFERROR(INDEX($A$4:$R$1642,$AE1440,COLUMNS($A:$C)),\"\")","v":""},{"$f":"IFERROR(INDEX($A$4:$R$1642,$AE1440,COLUMNS($A:$R)),\"\")","v":""},null,null,null,null,null,null,null,null,179]
[null,null,null,null,null,null,null,null,null,null,null,null,null,null,null,null,null,null,null,null,null,null,null,null,2,0,null,"",{"$f":"ROWS($AC$4:AC1441)","v":1438},"",{"$f":"IFERROR(SMALL($AD$4:$AD$1642,ROWS($AD$4:AD1441)),\"\")","v":""},null,{"$f":"IFERROR(INDEX($A$4:$R$1642,$AE1441,COLUMNS($A:$B)),\"\")","v":""},{"$f":"IFERROR(INDEX($A$4:$R$1642,$AE1441,COLUMNS($A:$C)),\"\")","v":""},{"$f":"IFERROR(INDEX($A$4:$R$1642,$AE1441,COLUMNS($A:$R)),\"\")","v":""},null,null,null,null,null,null,null,null,179]
[null,null,null,null,null,null,null,null,null,null,null,null,null,null,null,null,null,null,null,null,null,null,null,null,2,0,null,"",{"$f":"ROWS($AC$4:AC1442)","v":1439},"",{"$f":"IFERROR(SMALL($AD$4:$AD$1642,ROWS($AD$4:AD1442)),\"\")","v":""},null,{"$f":"IFERROR(INDEX($A$4:$R$1642,$AE1442,COLUMNS($A:$B)),\"\")","v":""},{"$f":"IFERROR(INDEX($A$4:$R$1642,$AE1442,COLUMNS($A:$C)),\"\")","v":""},{"$f":"IFERROR(INDEX($A$4:$R$1642,$AE1442,COLUMNS($A:$R)),\"\")","v":""},null,null,null,null,null,null,null,null,179]
[{"$f":"AR1443","v":180},null,{"$f":"(VLOOKUP($B1443,'Elenco Prezzi2'!$A$2:$E$201,2,FALSE))","v":{"$error":"#N/A"}},null,null,null,null,null,null,null,null,null,null,null,null,null,null,null,null,null,null,null,null,null,2,0,null,{"$f":"IF(W1443>0,\"OK\",\"\")","v":""},{"$f":"ROWS($AC$4:AC1443)","v":1440},{"$f":"IF(AB1443=\"ok\",AC1443,\"\")","v":""},{"$f":"IFERROR(SMALL($AD$4:$AD$1642,ROWS($AD$4:AD1443)),\"\")","v":""},null,{"$f":"IFERROR(INDEX($A$4:$R$1642,$AE1443,COLUMNS($A:$B)),\"\")","v":""},{"$f":"IFERROR(INDEX($A$4:$R$1642,$AE1443,COLUMNS($A:$C)),\"\")","v":""},{"$f":"IFERROR(INDEX($A$4:$R$1642,$AE1443,COLUMNS($A:$R)),\"\")","v":""},null,null,null,null,null,null,null,1,{"$f":"IF(AQ1443=\"\",AR1442,AR1442+AQ1443)","v":180}]
[null,null,null,{"$f":"CONCATENATE(AK1444&AL1444&AM1444&AN1444)","v":""},null,null,null,null,{"$f":"IFERROR(IF(PRODUCT(E1444:H1444)=0,\"\",PRODUCT(E1444:H1444)),\"\")","v":""},{"$f":"I1444","v":""},null,{"$f":"IF(E1444>0,\" (p/u) \"&Modulo2.GetFormula(E1444),\"\")","v":""},{"$f":"IF(F1444>0,\" (lu) \"&Modulo2.GetFormula(F1444),\"\")","v":""},{"$f":"IF(G1444>0,\" (la) \"&Modulo2.GetFormula(G1444),\"\")","v":""},{"$f":"IF(H1444>0,\" (H) \"&Modulo2.GetFormula(H1444),\"\")","v":""},null,null,null,null,null,null,null,null,null,{"$f":"IF(AO1444=\"\",Y1443,Y1443+AO1444)","v":2},{"$f":"IF(AP1444=\"\",Z1443,Z1443+AP1444)","v":0},null,"",{"$f":"ROWS($AC$4:AC1444)","v":1441},"",{"$f":"IFERROR(SMALL($AD$4:$AD$1642,ROWS($AD$4:AD1444)),\"\")","v":""},null,{"$f":"IFERROR(INDEX($A$4:$R$1642,$AE1444,COLUMNS($A:$B)),\"\")","v":""},{"$f":"IFERROR(INDEX($A$4:$R$1642,$AE1444,COLUMNS($A:$C)),\"\")","v":""},{"$f":"IFERROR(INDEX($A$4:$R$1642,$AE1444,COLUMNS($A:$R)),\"\")","v":""},null,{"$f":"IFERROR(IF(SEARCH(\"=\",L1444),L1444,\"\"),\"\")","v":""},{"$f":"IFERROR(IF(SEARCH(\"=\",M1444),M1444,\"\"),\"\")","v":""},{"$f":"IFERROR(IF(SEARCH(\"=\",N1444),N1444,\"\"),\"\")","v":""},{"$f":"IFERROR(IF(SEARCH(\"=\",O1444),O1444,\"\"),\"\")","v":""},null,null,null,180]
[null,null,null,"",null,null,null,null,"","",null,{"$f":"IF(E1445>0,\" (p/u) \"&Modulo2.GetFormula(E1445),\"\")","v":""},{"$f":"IF(F1445>0,\" (lu) \"&Modulo2.GetFormula(F1445),\"\")","v":""},{"$f":"IF(G1445>0,\" (la) \"&Modulo2.GetFormula(G1445),\"\")","v":""},{"$f":"IF(H1445>0,\" (H) \"&Modulo2.GetFormula(H1445),\"\")","v":""},null,null,null,null,null,null,null,null,null,2,0,null,"",{"$f":"ROWS($AC$4:AC1445)","v":1442},"",{"$f":"IFERROR(SMALL($AD$4:$AD$1642,ROWS($AD$4:AD1445)),\"\")","v":""},null,{"$f":"IFERROR(INDEX($A$4:$R$1642,$AE1445,COLUMNS($A:$B)),\"\")","v":""},{"$f":"IFERROR(INDEX($A$4:$R$1642,$AE1445,COLUMNS($A:$C)),\"\")","v":""},{"$f":"IFERROR(INDEX($A$4:$R$1642,$AE1445,COLUMNS($A:$R)),\"\")","v":""},null,"","","","",null,null,null,180]
[null,null,null,"",null,null,null,null,"","",null,{"$f":"IF(E1446>0,\" (p/u) \"&Modulo2.GetFormula(E1446),\"\")","v":""},{"$f":"IF(F1446>0,\" (lu) \"&Modulo2.GetFormula(F1446),\"\")","v":""},{"$f":"IF(G1446>0,\" (la) \"&Modulo2.GetFormula(G1446),\"\")","v":""},{"$f":"IF(H1446>0,\" (H) \"&Modulo2.GetFormula(H1446),\"\")","v":""},null,null,null,null,null,null,null,null,null,2,0,null,"",{"$f":"ROWS($AC$4:AC1446)","v":1443},"",{"$f":"IFERROR(SMALL($AD$4:$AD$1642,ROWS($AD$4:AD1446)),\"\")","v":""},null,{"$f":"IFERROR(INDEX($A$4:$R$1642,$AE1446,COLUMNS($A:$B)),\"\")","v":""},{"$f":"IFERROR(INDEX($A$4:$R$1642,$AE1446,COLUMNS($A:$C)),\"\")","v":""},{"$f":"IFERROR(INDEX($A$4:$R$1642,$AE1446,COLUMNS($A:$R)),\"\")","v":""},null,"","","","",null,null,null,180]
[null,null,null,null,null,null,null,{"$f":"CONCATENATE(\"SOMMANO [\",VLOOKUP(B1443,'Elenco Prezzi2'!$A$2:$E$201,3,FALSE()),\"]\")","v":{"$error":"#N/A"}},{"$f":"IF(T1447=\"s\",V1448,SUBTOTAL(9,I1443:I1447))","v":{"$error":"#REF!"}},null,{"$f":"VLOOKUP(B1443,'Elenco Prezzi2'!$A$2:$E$201,5,FALSE)","v":{"$error":"#N/A"}},null,null,null,null,null,null,{"$f":"IFERROR(I1447*K1447,\"\")","v":""},null,"s",null,null,null,{"$f":"R1447","v":""},2,0,null,"",{"$f":"ROWS($AC$4:AC1447)","v":1444},"",{"$f":"IFERROR(SMALL($AD$4:$AD$1642,ROWS($AD$4:AD1447)),\"\")","v":""},null,{"$f":"IFERROR(INDEX($A$4:$R$1642,$AE1447,COLUMNS($A:$B)),\"\")","v":""},{"$f":"IFERROR(INDEX($A$4:$R$1642,$AE1447,COLUMNS($A:$C)),\"\")","v":""},{"$f":"IFERROR(INDEX($A$4:$R$1642,$AE1447,COLUMNS($A:$R)),\"\")","v":""},null,null,null,null,null,null,null,null,180]
[null,null,null,null,null,null,null,{"$f":"IF(I1448<0,\"a detrarre\",\"\")","v":""},{"$f":"SUMIF(I1443:I1446,\"<0\")","v":0},null,null,null,null,null,null,null,null,null,{"$f":"R1447","v":""},null,null,{"$f":"VLOOKUP(B1443,#REF!,4,FALSE)","v":{"$error":"#REF!"}},null,null,2,0,null,"",{"$f":"ROWS($AC$4:AC1448)","v":1445},"",{"$f":"IFERROR(SMALL($AD$4:$AD$1642,ROWS($AD$4:AD1448)),\"\")","v":""},null,{"$f":"IFERROR(INDEX($A$4:$R$1642,$AE1448,COLUMNS($A:$B)),\"\")","v":""},{"$f":"IFERROR(INDEX($A$4:$R$1642,$AE1448,COLUMNS($A:$C)),\"\")","v":""},{"$f":"IFERROR(INDEX($A$4:$R$1642,$AE1448,COLUMNS($A:$R)),\"\")","v":""},null,null,null,null,null,null,null,null,180]
[null,null,null,null,null,null,null,null,null,null,null,null,null,null,null,null,null,null,null,null,null,null,null,null,2,0,null,"",{"$f":"ROWS($AC$4:AC1449)","v":1446},"",{"$f":"IFERROR(SMALL($AD$4:$AD$1642,ROWS($AD$4:AD1449)),\"\")","v":""},null,{"$f":"IFERROR(INDEX($A$4:$R$1642,$AE1449,COLUMNS($A:$B)),\"\")","v":""},{"$f":"IFERROR(INDEX($A$4:$R$1642,$AE1449,COLUMNS($A:$C)),\"\")","v":""},{"$f":"IFERROR(INDEX($A$4:$R$1642,$AE1449,COLUMNS($A:$R)),\"\")","v":""},null,null,null,null,null,null,null,null,180]
[null,null,null,null,null,null,null,null,null,null,null,null,null,null,null,null,null,null,null,null,null,null,null,null,2,0,null,"",{"$f":"ROWS($AC$4:AC1450)","v":1447},"",{"$f":"IFERROR(SMALL($AD$4:$AD$1642,ROWS($AD$4:AD1450)),\"\")","v":""},null,{"$f":"IFERROR(INDEX($A$4:$R$1642,$AE1450,COLUMNS($A:$B)),\"\")","v":""},{"$f":"IFERROR(INDEX($A$4:$R$1642,$AE1450,COLUMNS($A:$C)),\"\")","v":""},{"$f":"IFERROR(INDEX($A$4:$R$1642,$AE1450,COLUMNS($A:$R)),\"\")","v":""},null,null,null,null,null,null,null,null,180]
[{"$f":"AR1451","v":181},null,{"$f":"(VLOOKUP($B1451,'Elenco Prezzi2'!$A$2:$E$201,2,FALSE))","v":{"$error":"#N/A"}},null,null,null,null,null,null,null,null,null,null,null,null,null,null,null,null,null,null,null,null,null,2,0,null,"",{"$f":"ROWS($AC$4:AC1451)","v":1448},"",{"$f":"IFERROR(SMALL($AD$4:$AD$1642,ROWS($AD$4:AD1451)),\"\")","v":""},null,{"$f":"IFERROR(INDEX($A$4:$R$1642,$AE1451,COLUMNS($A:$B)),\"\")","v":""},{"$f":"IFERROR(INDEX($A$4:$R$1642,$AE1451,COLUMNS($A:$C)),\"\")","v":""},{"$f":"IFERROR(INDEX($A$4:$R$1642,$AE1451,COLUMNS($A:$R)),\"\")","v":""},null,null,null,null,null,null,null,1,181]
[null,null,null,{"$f":"CONCATENATE(AK1452&AL1452&AM1452&AN1452)","v":""},null,null,null,null,{"$f":"IFERROR(IF(PRODUCT(E1452:H1452)=0,\"\",PRODUCT(E1452:H1452)),\"\")","v":""},{"$f":"I1452","v":""},null,{"$f":"IF(E1452>0,\" (p/u) \"&Modulo2.GetFormula(E1452),\"\")","v":""},{"$f":"IF(F1452>0,\" (lu) \"&Modulo2.GetFormula(F1452),\"\")","v":""},{"$f":"IF(G1452>0,\" (la) \"&Modulo2.GetFormula(G1452),\"\")","v":""},{"$f":"IF(H1452>0,\" (H) \"&Modulo2.GetFormula(H1452),\"\")","v":""},null,null,null,null,null,null,null,null,null,2,0,null,"",{"$f":"ROWS($AC$4:AC1452)","v":1449},"",{"$f":"IFERROR(SMALL($AD$4:$AD$1642,ROWS($AD$4:AD1452)),\"\")","v":""},null,{"$f":"IFERROR(INDEX($A$4:$R$1642,$AE1452,COLUMNS($A:$B)),\"\")","v":""},{"$f":"IFERROR(INDEX($A$4:$R$1642,$AE1452,COLUMNS($A:$C)),\"\")","v":""},{"$f":"IFERROR(INDEX($A$4:$R$1642,$AE1452,COLUMNS($A:$R)),\"\")","v":""},null,{"$f":"IFERROR(IF(SEARCH(\"=\",L1452),L1452,\"\"),\"\")","v":""},{"$f":"IFERROR(IF(SEARCH(\"=\",M1452),M1452,\"\"),\"\")","v":""},{"$f":"IFERROR(IF(SEARCH(\"=\",N1452),N1452,\"\"),\"\")","v":""},{"$f":"IFERROR(IF(SEARCH(\"=\",O1452),O1452,\"\"),\"\")","v":""},null,null,null,181]
[null,null,null,"",null,null,null,null,"","",null,{"$f":"IF(E1453>0,\" (p/u) \"&Modulo2.GetFormula(E1453),\"\")","v":""},{"$f":"IF(F1453>0,\" (lu) \"&Modulo2.GetFormula(F1453),\"\")","v":""},{"$f":"IF(G1453>0,\" (la) \"&Modulo2.GetFormula(G1453),\"\")","v":""},{"$f":"IF(H1453>0,\" (H) \"&Modulo2.GetFormula(H1453),\"\")","v":""},null,null,null,null,null,null,null,null,null,2,0,null,"",{"$f":"ROWS($AC$4:AC1453)","v":1450},"",{"$f":"IFERROR(SMALL($AD$4:$AD$1642,ROWS($AD$4:AD1453)),\"\")","v":""},null,{"$f":"IFERROR(INDEX($A$4:$R$1642,$AE1453,COLUMNS($A:$B)),\"\")","v":""},{"$f":"IFERROR(INDEX($A$4:$R$1642,$AE1453,COLUMNS($A:$C)),\"\")","v":""},{"$f":"IFERROR(INDEX($A$4:$R$1642,$AE1453,COLUMNS($A:$R)),\"\")","v":""},null,"","","","",null,null,null,181]
[null,null,null,"",null,null,null,null,"","",null,{"$f":"IF(E1454>0,\" (p/u) \"&Modulo2.GetFormula(E1454),\"\")","v":""},{"$f":"IF(F1454>0,\" (lu) \"&Modulo2.GetFormula(F1454),\"\")","v":""},{"$f":"IF(G1454>0,\" (la) \"&Modulo2.GetFormula(G1454),\"\")","v":""},{"$f":"IF(H1454>0,\" (H) \"&Modulo2.GetFormula(H1454),\"\")","v":""},null,null,null,null,null,null,null,null,null,2,0,null,"",{"$f":"ROWS($AC$4:AC1454)","v":1451},"",{"$f":"IFERROR(SMALL($AD$4:$AD$1642,ROWS($AD$4:AD1454)),\"\")","v":""},null,{"$f":"IFERROR(INDEX($A$4:$R$1642,$AE1454,COLUMNS($A:$B)),\"\")","v":""},{"$f":"IFERROR(INDEX($A$4:$R$1642,$AE1454,COLUMNS($A:$C)),\"\")","v":""},{"$f":"IFERROR(INDEX($A$4:$R$1642,$AE1454,COLUMNS($A:$R)),\"\")","v":""},null,"","","","",null,null,null,181]
[null,null,null,null,null,null,null,{"$f":"CONCATENATE(\"SOMMANO [\",VLOOKUP(B1451,'Elenco Prezzi2'!$A$2:$E$201,3,FALSE()),\"]\")","v":{"$error":"#N/A"}},{"$f":"IF(T1455=\"s\",V1456,SUBTOTAL(9,I1451:I1455))","v":{"$error":"#REF!"}},null,{"$f":"VLOOKUP(B1451,'Elenco Prezzi2'!$A$2:$E$201,5,FALSE)","v":{"$error":"#N/A"}},null,null,null,null,null,null,{"$f":"IFERROR(I1455*K1455,\"\")","v":""},null,"s",null,null,null,{"$f":"R1455","v":""},2,0,null,"",{"$f":"ROWS($AC$4:AC1455)","v":1452},"",{"$f":"IFERROR(SMALL($AD$4:$AD$1642,ROWS($AD$4:AD1455)),\"\")","v":""},null,{"$f":"IFERROR(INDEX($A$4:$R$1642,$AE1455,COLUMNS($A:$B)),\"\")","v":""},{"$f":"IFERROR(INDEX($A$4:$R$1642,$AE1455,COLUMNS($A:$C)),\"\")","v":""},{"$f":"IFERROR(INDEX($A$4:$R$1642,$AE1455,COLUMNS($A:$R)),\"\")","v":""},null,null,null,null,null,null,null,null,181]
[null,null,null,null,null,null,null,{"$f":"IF(I1456<0,\"a detrarre\",\"\")","v":""},{"$f":"SUMIF(I1451:I1454,\"<0\")","v":0},null,null,null,null,null,null,null,null,null,{"$f":"R1455","v":""},null,null,{"$f":"VLOOKUP(B1451,#REF!,4,FALSE)","v":{"$error":"#REF!"}},null,null,2,0,null,"",{"$f":"ROWS($AC$4:AC1456)","v":1453},"",{"$f":"IFERROR(SMALL($AD$4:$AD$1642,ROWS($AD$4:AD1456)),\"\")","v":""},null,{"$f":"IFERROR(INDEX($A$4:$R$1642,$AE1456,COLUMNS($A:$B)),\"\")","v":""},{"$f":"IFERROR(INDEX($A$4:$R$1642,$AE1456,COLUMNS($A:$C)),\"\")","v":""},{"$f":"IFERROR(INDEX($A$4:$R$1642,$AE1456,COLUMNS($A:$R)),\"\")","v":""},null,null,null,null,null,null,null,null,181]
[null,null,null,null,null,null,null,null,null,null,null,null,null,null,null,null,null,null,null,null,null,null,null,null,2,0,null,"",{"$f":"ROWS($AC$4:AC1457)","v":1454},"",{"$f":"IFERROR(SMALL($AD$4:$AD$1642,ROWS($AD$4:AD1457)),\"\")","v":""},null,{"$f":"IFERROR(INDEX($A$4:$R$1642,$AE1457,COLUMNS($A:$B)),\"\")","v":""},{"$f":"IFERROR(INDEX($A$4:$R$1642,$AE1457,COLUMNS($A:$C)),\"\")","v":""},{"$f":"IFERROR(INDEX($A$4:$R$1642,$AE1457,COLUMNS($A:$R)),\"\")","v":""},null,null,null,null,null,null,null,null,181]
[null,null,null,null,null,null,null,null,null,null,null,null,null,null,null,null,null,null,null,null,null,null,null,null,2,0,null,"",{"$f":"ROWS($AC$4:AC1458)","v":1455},"",{"$f":"IFERROR(SMALL($AD$4:$AD$1642,ROWS($AD$4:AD1458)),\"\")","v":""},null,{"$f":"IFERROR(INDEX($A$4:$R$1642,$AE1458,COLUMNS($A:$B)),\"\")","v":""},{"$f":"IFERROR(INDEX($A$4:$R$1642,$AE1458,COLUMNS($A:$C)),\"\")","v":""},{"$f":"IFERROR(INDEX($A$4:$R$1642,$AE1458,COLUMNS($A:$R)),\"\")","v":""},null,null,null,null,null,null,null,null,181]
[{"$f":"AR1459","v":182},null,{"$f":"(VLOOKUP($B1459,'Elenco Prezzi2'!$A$2:$E$201,2,FALSE))","v":{"$error":"#N/A"}},null,null,null,null,null,null,null,null,null,null,null,null,null,null,null,null,null,null,null,null,null,2,0,null,"",{"$f":"ROWS($AC$4:AC1459)","v":1456},"",{"$f":"IFERROR(SMALL($AD$4:$AD$1642,ROWS($AD$4:AD1459)),\"\")","v":""},null,{"$f":"IFERROR(INDEX($A$4:$R$1642,$AE1459,COLUMNS($A:$B)),\"\")","v":""},{"$f":"IFERROR(INDEX($A$4:$R$1642,$AE1459,COLUMNS($A:$C)),\"\")","v":""},{"$f":"IFERROR(INDEX($A$4:$R$1642,$AE1459,COLUMNS($A:$R)),\"\")","v":""},null,null,null,null,null,null,null,1,182]
[null,null,null,{"$f":"CONCATENATE(AK1460&AL1460&AM1460&AN1460)","v":""},null,null,null,null,{"$f":"IFERROR(IF(PRODUCT(E1460:H1460)=0,\"\",PRODUCT(E1460:H1460)),\"\")","v":""},{"$f":"I1460","v":""},null,{"$f":"IF(E1460>0,\" (p/u) \"&Modulo2.GetFormula(E1460),\"\")","v":""},{"$f":"IF(F1460>0,\" (lu) \"&Modulo2.GetFormula(F1460),\"\")","v":""},{"$f":"IF(G1460>0,\" (la) \"&Modulo2.GetFormula(G1460),\"\")","v":""},{"$f":"IF(H1460>0,\" (H) \"&Modulo2.GetFormula(H1460),\"\")","v":""},null,null,null,null,null,null,null,null,null,2,0,null,"",{"$f":"ROWS($AC$4:AC1460)","v":1457},"",{"$f":"IFERROR(SMALL($AD$4:$AD$1642,ROWS($AD$4:AD1460)),\"\")","v":""},null,{"$f":"IFERROR(INDEX($A$4:$R$1642,$AE1460,COLUMNS($A:$B)),\"\")","v":""},{"$f":"IFERROR(INDEX($A$4:$R$1642,$AE1460,COLUMNS($A:$C)),\"\")","v":""},{"$f":"IFERROR(INDEX($A$4:$R$1642,$AE1460,COLUMNS($A:$R)),\"\")","v":""},null,{"$f":"IFERROR(IF(SEARCH(\"=\",L1460),L1460,\"\"),\"\")","v":""},{"$f":"IFERROR(IF(SEARCH(\"=\",M1460),M1460,\"\"),\"\")","v":""},{"$f":"IFERROR(IF(SEARCH(\"=\",N1460),N1460,\"\"),\"\")","v":""},{"$f":"IFERROR(IF(SEARCH(\"=\",O1460),O1460,\"\"),\"\")","v":""},null,null,null,182]
[null,null,null,"",null,null,null,null,"","",null,{"$f":"IF(E1461>0,\" (p/u) \"&Modulo2.GetFormula(E1461),\"\")","v":""},{"$f":"IF(F1461>0,\" (lu) \"&Modulo2.GetFormula(F1461),\"\")","v":""},{"$f":"IF(G1461>0,\" (la) \"&Modulo2.GetFormula(G1461),\"\")","v":""},{"$f":"IF(H1461>0,\" (H) \"&Modulo2.GetFormula(H1461),\"\")","v":""},null,null,null,null,null,null,null,null,null,2,0,null,"",{"$f":"ROWS($AC$4:AC1461)","v":1458},"",{"$f":"IFERROR(SMALL($AD$4:$AD$1642,ROWS($AD$4:AD1461)),\"\")","v":""},null,{"$f":"IFERROR(INDEX($A$4:$R$1642,$AE1461,COLUMNS($A:$B)),\"\")","v":""},{"$f":"IFERROR(INDEX($A$4:$R$1642,$AE1461,COLUMNS($A:$C)),\"\")","v":""},{"$f":"IFERROR(INDEX($A$4:$R$1642,$AE1461,COLUMNS($A:$R)),\"\")","v":""},null,"","","","",null,null,null,182]
[null,null,null,"",null,null,null,null,"","",null,{"$f":"IF(E1462>0,\" (p/u) \"&Modulo2.GetFormula(E1462),\"\")","v":""},{"$f":"IF(F1462>0,\" (lu) \"&Modulo2.GetFormula(F1462),\"\")","v":""},{"$f":"IF(G1462>0,\" (la) \"&Modulo2.GetFormula(G1462),\"\")","v":""},{"$f":"IF(H1462>0,\" (H) \"&Modulo2.GetFormula(H1462),\"\")","v":""},null,null,null,null,null,null,null,null,null,2,0,null,"",{"$f":"ROWS($AC$4:AC1462)","v":1459},"",{"$f":"IFERROR(SMALL($AD$4:$AD$1642,ROWS($AD$4:AD1462)),\"\")","v":""},null,{"$f":"IFERROR(INDEX($A$4:$R$1642,$AE1462,COLUMNS($A:$B)),\"\")","v":""},{"$f":"IFERROR(INDEX($A$4:$R$1642,$AE1462,COLUMNS($A:$C)),\"\")","v":""},{"$f":"IFERROR(INDEX($A$4:$R$1642,$AE1462,COLUMNS($A:$R)),\"\")","v":""},null,"","","","",null,null,null,182]
[null,null,null,null,null,null,null,{"$f":"CONCATENATE(\"SOMMANO [\",VLOOKUP(B1459,'Elenco Prezzi2'!$A$2:$E$201,3,FALSE()),\"]\")","v":{"$error":"#N/A"}},{"$f":"IF(T1463=\"s\",V1464,SUBTOTAL(9,I1459:I1463))","v":{"$error":"#REF!"}},null,{"$f":"VLOOKUP(B1459,'Elenco Prezzi2'!$A$2:$E$201,5,FALSE)","v":{"$error":"#N/A"}},null,null,null,null,null,null,{"$f":"IFERROR(I1463*K1463,\"\")","v":""},null,"s",null,null,null,{"$f":"R1463","v":""},2,0,null,"",{"$f":"ROWS($AC$4:AC1463)","v":1460},"",{"$f":"IFERROR(SMALL($AD$4:$AD$1642,ROWS($AD$4:AD1463)),\"\")","v":""},null,{"$f":"IFERROR(INDEX($A$4:$R$1642,$AE1463,COLUMNS($A:$B)),\"\")","v":""},{"$f":"IFERROR(INDEX($A$4:$R$1642,$AE1463,COLUMNS($A:$C)),\"\")","v":""},{"$f":"IFERROR(INDEX($A$4:$R$1642,$AE1463,COLUMNS($A:$R)),\"\")","v":""},null,null,null,null,null,null,null,null,182]
[null,null,null,null,null,null,null,{"$f":"IF(I1464<0,\"a detrarre\",\"\")","v":""},{"$f":"SUMIF(I1459:I1462,\"<0\")","v":0},null,null,null,null,null,null,null,null,null,{"$f":"R1463","v":""},null,null,{"$f":"VLOOKUP(B1459,#REF!,4,FALSE)","v":{"$error":"#REF!"}},null,null,2,0,null,"",{"$f":"ROWS($AC$4:AC1464)","v":1461},"",{"$f":"IFERROR(SMALL($AD$4:$AD$1642,ROWS($AD$4:AD1464)),\"\")","v":""},null,{"$f":"IFERROR(INDEX($A$4:$R$1642,$AE1464,COLUMNS($A:$B)),\"\")","v":""},{"$f":"IFERROR(INDEX($A$4:$R$1642,$AE1464,COLUMNS($A:$C)),\"\")","v":""},{"$f":"IFERROR(INDEX($A$4:$R$1642,$AE1464,COLUMNS($A:$R)),\"\")","v":""},null,null,null,null,null,null,null,null,182]
[null,null,null,null,null,null,null,null,null,null,null,null,null,null,null,null,null,null,null,null,null,null,null,null,2,0,null,"",{"$f":"ROWS($AC$4:AC1465)","v":1462},"",{"$f":"IFERROR(SMALL($AD$4:$AD$1642,ROWS($AD$4:AD1465)),\"\")","v":""},null,{"$f":"IFERROR(INDEX($A$4:$R$1642,$AE1465,COLUMNS($A:$B)),\"\")","v":""},{"$f":"IFERROR(INDEX($A$4:$R$1642,$AE1465,COLUMNS($A:$C)),\"\")","v":""},{"$f":"IFERROR(INDEX($A$4:$R$1642,$AE1465,COLUMNS($A:$R)),\"\")","v":""},null,null,null,null,null,null,null,null,182]
[null,null,null,null,null,null,null,null,null,null,null,null,null,null,null,null,null,null,null,null,null,null,null,null,2,0,null,"",{"$f":"ROWS($AC$4:AC1466)","v":1463},"",{"$f":"IFERROR(SMALL($AD$4:$AD$1642,ROWS($AD$4:AD1466)),\"\")","v":""},null,{"$f":"IFERROR(INDEX($A$4:$R$1642,$AE1466,COLUMNS($A:$B)),\"\")","v":""},{"$f":"IFERROR(INDEX($A$4:$R$1642,$AE1466,COLUMNS($A:$C)),\"\")","v":""},{"$f":"IFERROR(INDEX($A$4:$R$1642,$AE1466,COLUMNS($A:$R)),\"\")","v":""},null,null,null,null,null,null,null,null,182]
[{"$f":"AR1467","v":183},null,{"$f":"(VLOOKUP($B1467,'Elenco Prezzi2'!$A$2:$E$201,2,FALSE))","v":{"$error":"#N/A"}},null,null,null,null,null,null,null,null,null,null,null,null,null,null,null,null,null,null,null,null,null,2,0,null,"",{"$f":"ROWS($AC$4:AC1467)","v":1464},"",{"$f":"IFERROR(SMALL($AD$4:$AD$1642,ROWS($AD$4:AD1467)),\"\")","v":""},null,{"$f":"IFERROR(INDEX($A$4:$R$1642,$AE1467,COLUMNS($A:$B)),\"\")","v":""},{"$f":"IFERROR(INDEX($A$4:$R$1642,$AE1467,COLUMNS($A:$C)),\"\")","v":""},{"$f":"IFERROR(INDEX($A$4:$R$1642,$AE1467,COLUMNS($A:$R)),\"\")","v":""},null,null,null,null,null,null,null,1,183]
[null,null,null,{"$f":"CONCATENATE(AK1468&AL1468&AM1468&AN1468)","v":""},null,null,null,null,{"$f":"IFERROR(IF(PRODUCT(E1468:H1468)=0,\"\",PRODUCT(E1468:H1468)),\"\")","v":""},{"$f":"I1468","v":""},null,{"$f":"IF(E1468>0,\" (p/u) \"&Modulo2.GetFormula(E1468),\"\")","v":""},{"$f":"IF(F1468>0,\" (lu) \"&Modulo2.GetFormula(F1468),\"\")","v":""},{"$f":"IF(G1468>0,\" (la) \"&Modulo2.GetFormula(G1468),\"\")","v":""},{"$f":"IF(H1468>0,\" (H) \"&Modulo2.GetFormula(H1468),\"\")","v":""},null,null,null,null,null,null,null,null,null,2,0,null,"",{"$f":"ROWS($AC$4:AC1468)","v":1465},"",{"$f":"IFERROR(SMALL($AD$4:$AD$1642,ROWS($AD$4:AD1468)),\"\")","v":""},null,{"$f":"IFERROR(INDEX($A$4:$R$1642,$AE1468,COLUMNS($A:$B)),\"\")","v":""},{"$f":"IFERROR(INDEX($A$4:$R$1642,$AE1468,COLUMNS($A:$C)),\"\")","v":""},{"$f":"IFERROR(INDEX($A$4:$R$1642,$AE1468,COLUMNS($A:$R)),\"\")","v":""},null,{"$f":"IFERROR(IF(SEARCH(\"=\",L1468),L1468,\"\"),\"\")","v":""},{"$f":"IFERROR(IF(SEARCH(\"=\",M1468),M1468,\"\"),\"\")","v":""},{"$f":"IFERROR(IF(SEARCH(\"=\",N1468),N1468,\"\"),\"\")","v":""},{"$f":"IFERROR(IF(SEARCH(\"=\",O1468),O1468,\"\"),\"\")","v":""},null,null,null,183]
[null,null,null,"",null,null,null,null,"","",null,{"$f":"IF(E1469>0,\" (p/u) \"&Modulo2.GetFormula(E1469),\"\")","v":""},{"$f":"IF(F1469>0,\" (lu) \"&Modulo2.GetFormula(F1469),\"\")","v":""},{"$f":"IF(G1469>0,\" (la) \"&Modulo2.GetFormula(G1469),\"\")","v":""},{"$f":"IF(H1469>0,\" (H) \"&Modulo2.GetFormula(H1469),\"\")","v":""},null,null,null,null,null,null,null,null,null,2,0,null,"",{"$f":"ROWS($AC$4:AC1469)","v":1466},"",{"$f":"IFERROR(SMALL($AD$4:$AD$1642,ROWS($AD$4:AD1469)),\"\")","v":""},null,{"$f":"IFERROR(INDEX($A$4:$R$1642,$AE1469,COLUMNS($A:$B)),\"\")","v":""},{"$f":"IFERROR(INDEX($A$4:$R$1642,$AE1469,COLUMNS($A:$C)),\"\")","v":""},{"$f":"IFERROR(INDEX($A$4:$R$1642,$AE1469,COLUMNS($A:$R)),\"\")","v":""},null,"","","","",null,null,null,183]
[null,null,null,"",null,null,null,null,"","",null,{"$f":"IF(E1470>0,\" (p/u) \"&Modulo2.GetFormula(E1470),\"\")","v":""},{"$f":"IF(F1470>0,\" (lu) \"&Modulo2.GetFormula(F1470),\"\")","v":""},{"$f":"IF(G1470>0,\" (la) \"&Modulo2.GetFormula(G1470),\"\")","v":""},{"$f":"IF(H1470>0,\" (H) \"&Modulo2.GetFormula(H1470),\"\")","v":""},null,null,null,null,null,null,null,null,null,2,0,null,"",{"$f":"ROWS($AC$4:AC1470)","v":1467},"",{"$f":"IFERROR(SMALL($AD$4:$AD$1642,ROWS($AD$4:AD1470)),\"\")","v":""},null,{"$f":"IFERROR(INDEX($A$4:$R$1642,$AE1470,COLUMNS($A:$B)),\"\")","v":""},{"$f":"IFERROR(INDEX($A$4:$R$1642,$AE1470,COLUMNS($A:$C)),\"\")","v":""},{"$f":"IFERROR(INDEX($A$4:$R$1642,$AE1470,COLUMNS($A:$R)),\"\")","v":""},null,"","","","",null,null,null,183]
[null,null,null,null,null,null,null,{"$f":"CONCATENATE(\"SOMMANO [\",VLOOKUP(B1467,'Elenco Prezzi2'!$A$2:$E$201,3,FALSE()),\"]\")","v":{"$error":"#N/A"}},{"$f":"IF(T1471=\"s\",V1472,SUBTOTAL(9,I1467:I1471))","v":{"$error":"#REF!"}},null,{"$f":"VLOOKUP(B1467,'Elenco Prezzi2'!$A$2:$E$201,5,FALSE)","v":{"$error":"#N/A"}},null,null,null,null,null,null,{"$f":"IFERROR(I1471*K1471,\"\")","v":""},null,"s",null,null,null,{"$f":"R1471","v":""},2,0,null,"",{"$f":"ROWS($AC$4:AC1471)","v":1468},"",{"$f":"IFERROR(SMALL($AD$4:$AD$1642,ROWS($AD$4:AD1471)),\"\")","v":""},null,{"$f":"IFERROR(INDEX($A$4:$R$1642,$AE1471,COLUMNS($A:$B)),\"\")","v":""},{"$f":"IFERROR(INDEX($A$4:$R$1642,$AE1471,COLUMNS($A:$C)),\"\")","v":""},{"$f":"IFERROR(INDEX($A$4:$R$1642,$AE1471,COLUMNS($A:$R)),\"\")","v":""},null,null,null,null,null,null,null,null,183]
[null,null,null,null,null,null,null,{"$f":"IF(I1472<0,\"a detrarre\",\"\")","v":""},{"$f":"SUMIF(I1467:I1470,\"<0\")","v":0},null,null,null,null,null,null,null,null,null,{"$f":"R1471","v":""},null,null,{"$f":"VLOOKUP(B1467,#REF!,4,FALSE)","v":{"$error":"#REF!"}},null,null,2,0,null,"",{"$f":"ROWS($AC$4:AC1472)","v":1469},"",{"$f":"IFERROR(SMALL($AD$4:$AD$1642,ROWS($AD$4:AD1472)),\"\")","v":""},null,{"$f":"IFERROR(INDEX($A$4:$R$1642,$AE1472,COLUMNS($A:$B)),\"\")","v":""},{"$f":"IFERROR(INDEX($A$4:$R$1642,$AE1472,COLUMNS($A:$C)),\"\")","v":""},{"$f":"IFERROR(INDEX($A$4:$R$1642,$AE1472,COLUMNS($A:$R)),\"\")","v":""},null,null,null,null,null,null,null,null,183]
[null,null,null,null,null,null,null,null,null,null,null,null,null,null,null,null,null,null,null,null,null,null,null,null,2,0,null,"",{"$f":"ROWS($AC$4:AC1473)","v":1470},"",{"$f":"IFERROR(SMALL($AD$4:$AD$1642,ROWS($AD$4:AD1473)),\"\")","v":""},null,{"$f":"IFERROR(INDEX($A$4:$R$1642,$AE1473,COLUMNS($A:$B)),\"\")","v":""},{"$f":"IFERROR(INDEX($A$4:$R$1642,$AE1473,COLUMNS($A:$C)),\"\")","v":""},{"$f":"IFERROR(INDEX($A$4:$R$1642,$AE1473,COLUMNS($A:$R)),\"\")","v":""},null,null,null,null,null,null,null,null,183]
[null,null,null,null,null,null,null,null,null,null,null,null,null,null,null,null,null,null,null,null,null,null,null,null,2,0,null,"",{"$f":"ROWS($AC$4:AC1474)","v":1471},"",{"$f":"IFERROR(SMALL($AD$4:$AD$1642,ROWS($AD$4:AD1474)),\"\")","v":""},null,{"$f":"IFERROR(INDEX($A$4:$R$1642,$AE1474,COLUMNS($A:$B)),\"\")","v":""},{"$f":"IFERROR(INDEX($A$4:$R$1642,$AE1474,COLUMNS($A:$C)),\"\")","v":""},{"$f":"IFERROR(INDEX($A$4:$R$1642,$AE1474,COLUMNS($A:$R)),\"\")","v":""},null,null,null,null,null,null,null,null,183]
[{"$f":"AR1475","v":184},null,{"$f":"(VLOOKUP($B1475,'Elenco Prezzi2'!$A$2:$E$201,2,FALSE))","v":{"$error":"#N/A"}},null,null,null,null,null,null,null,null,null,null,null,null,null,null,null,null,null,null,null,null,null,2,0,null,"",{"$f":"ROWS($AC$4:AC1475)","v":1472},"",{"$f":"IFERROR(SMALL($AD$4:$AD$1642,ROWS($AD$4:AD1475)),\"\")","v":""},null,{"$f":"IFERROR(INDEX($A$4:$R$1642,$AE1475,COLUMNS($A:$B)),\"\")","v":""},{"$f":"IFERROR(INDEX($A$4:$R$1642,$AE1475,COLUMNS($A:$C)),\"\")","v":""},{"$f":"IFERROR(INDEX($A$4:$R$1642,$AE1475,COLUMNS($A:$R)),\"\")","v":""},null,null,null,null,null,null,null,1,184]
[null,null,null,{"$f":"CONCATENATE(AK1476&AL1476&AM1476&AN1476)","v":""},null,null,null,null,{"$f":"IFERROR(IF(PRODUCT(E1476:H1476)=0,\"\",PRODUCT(E1476:H1476)),\"\")","v":""},{"$f":"I1476","v":""},null,{"$f":"IF(E1476>0,\" (p/u) \"&Modulo2.GetFormula(E1476),\"\")","v":""},{"$f":"IF(F1476>0,\" (lu) \"&Modulo2.GetFormula(F1476),\"\")","v":""},{"$f":"IF(G1476>0,\" (la) \"&Modulo2.GetFormula(G1476),\"\")","v":""},{"$f":"IF(H1476>0,\" (H) \"&Modulo2.GetFormula(H1476),\"\")","v":""},null,null,null,null,null,null,null,null,null,2,0,null,"",{"$f":"ROWS($AC$4:AC1476)","v":1473},"",{"$f":"IFERROR(SMALL($AD$4:$AD$1642,ROWS($AD$4:AD1476)),\"\")","v":""},null,{"$f":"IFERROR(INDEX($A$4:$R$1642,$AE1476,COLUMNS($A:$B)),\"\")","v":""},{"$f":"IFERROR(INDEX($A$4:$R$1642,$AE1476,COLUMNS($A:$C)),\"\")","v":""},{"$f":"IFERROR(INDEX($A$4:$R$1642,$AE1476,COLUMNS($A:$R)),\"\")","v":""},null,{"$f":"IFERROR(IF(SEARCH(\"=\",L1476),L1476,\"\"),\"\")","v":""},{"$f":"IFERROR(IF(SEARCH(\"=\",M1476),M1476,\"\"),\"\")","v":""},{"$f":"IFERROR(IF(SEARCH(\"=\",N1476),N1476,\"\"),\"\")","v":""},{"$f":"IFERROR(IF(SEARCH(\"=\",O1476),O1476,\"\"),\"\")","v":""},null,null,null,184]
[null,null,null,"",null,null,null,null,"","",null,{"$f":"IF(E1477>0,\" (p/u) \"&Modulo2.GetFormula(E1477),\"\")","v":""},{"$f":"IF(F1477>0,\" (lu) \"&Modulo2.GetFormula(F1477),\"\")","v":""},{"$f":"IF(G1477>0,\" (la) \"&Modulo2.GetFormula(G1477),\"\")","v":""},{"$f":"IF(H1477>0,\" (H) \"&Modulo2.GetFormula(H1477),\"\")","v":""},null,null,null,null,null,null,null,null,null,2,0,null,"",{"$f":"ROWS($AC$4:AC1477)","v":1474},"",{"$f":"IFERROR(SMALL($AD$4:$AD$1642,ROWS($AD$4:AD1477)),\"\")","v":""},null,{"$f":"IFERROR(INDEX($A$4:$R$1642,$AE1477,COLUMNS($A:$B)),\"\")","v":""},{"$f":"IFERROR(INDEX($A$4:$R$1642,$AE1477,COLUMNS($A:$C)),\"\")","v":""},{"$f":"IFERROR(INDEX($A$4:$R$1642,$AE1477,COLUMNS($A:$R)),\"\")","v":""},null,"","","","",null,null,null,184]
[null,null,null,"",null,null,null,null,"","",null,{"$f":"IF(E1478>0,\" (p/u) \"&Modulo2.GetFormula(E1478),\"\")","v":""},{"$f":"IF(F1478>0,\" (lu) \"&Modulo2.GetFormula(F1478),\"\")","v":""},{"$f":"IF(G1478>0,\" (la) \"&Modulo2.GetFormula(G1478),\"\")","v":""},{"$f":"IF(H1478>0,\" (H) \"&Modulo2.GetFormula(H1478),\"\")","v":""},null,null,null,null,null,null,null,null,null,2,0,null,"",{"$f":"ROWS($AC$4:AC1478)","v":1475},"",{"$f":"IFERROR(SMALL($AD$4:$AD$1642,ROWS($AD$4:AD1478)),\"\")","v":""},null,{"$f":"IFERROR(INDEX($A$4:$R$1642,$AE1478,COLUMNS($A:$B)),\"\")","v":""},{"$f":"IFERROR(INDEX($A$4:$R$1642,$AE1478,COLUMNS($A:$C)),\"\")","v":""},{"$f":"IFERROR(INDEX($A$4:$R$1642,$AE1478,COLUMNS($A:$R)),\"\")","v":""},null,"","","","",null,null,null,184]
[null,null,null,null,null,null,null,{"$f":"CONCATENATE(\"SOMMANO [\",VLOOKUP(B1475,'Elenco Prezzi2'!$A$2:$E$201,3,FALSE()),\"]\")","v":{"$error":"#N/A"}},{"$f":"IF(T1479=\"s\",V1480,SUBTOTAL(9,I1475:I1479))","v":{"$error":"#REF!"}},null,{"$f":"VLOOKUP(B1475,'Elenco Prezzi2'!$A$2:$E$201,5,FALSE)","v":{"$error":"#N/A"}},null,null,null,null,null,null,{"$f":"IFERROR(I1479*K1479,\"\")","v":""},null,"s",null,null,null,{"$f":"R1479","v":""},2,0,null,"",{"$f":"ROWS($AC$4:AC1479)","v":1476},"",{"$f":"IFERROR(SMALL($AD$4:$AD$1642,ROWS($AD$4:AD1479)),\"\")","v":""},null,{"$f":"IFERROR(INDEX($A$4:$R$1642,$AE1479,COLUMNS($A:$B)),\"\")","v":""},{"$f":"IFERROR(INDEX($A$4:$R$1642,$AE1479,COLUMNS($A:$C)),\"\")","v":""},{"$f":"IFERROR(INDEX($A$4:$R$1642,$AE1479,COLUMNS($A:$R)),\"\")","v":""},null,null,null,null,null,null,null,null,184]
[null,null,null,null,null,null,null,{"$f":"IF(I1480<0,\"a detrarre\",\"\")","v":""},{"$f":"SUMIF(I1475:I1478,\"<0\")","v":0},null,null,null,null,null,null,null,null,null,{"$f":"R1479","v":""},null,null,{"$f":"VLOOKUP(B1475,#REF!,4,FALSE)","v":{"$error":"#REF!"}},null,null,2,0,null,"",{"$f":"ROWS($AC$4:AC1480)","v":1477},"",{"$f":"IFERROR(SMALL($AD$4:$AD$1642,ROWS($AD$4:AD1480)),\"\")","v":""},null,{"$f":"IFERROR(INDEX($A$4:$R$1642,$AE1480,COLUMNS($A:$B)),\"\")","v":""},{"$f":"IFERROR(INDEX($A$4:$R$1642,$AE1480,COLUMNS($A:$C)),\"\")","v":""},{"$f":"IFERROR(INDEX($A$4:$R$1642,$AE1480,COLUMNS($A:$R)),\"\")","v":""},null,null,null,null,null,null,null,null,184]
[null,null,null,null,null,null,null,null,null,null,null,null,null,null,null,null,null,null,null,null,null,null,null,null,2,0,null,"",{"$f":"ROWS($AC$4:AC1481)","v":1478},"",{"$f":"IFERROR(SMALL($AD$4:$AD$1642,ROWS($AD$4:AD1481)),\"\")","v":""},null,{"$f":"IFERROR(INDEX($A$4:$R$1642,$AE1481,COLUMNS($A:$B)),\"\")","v":""},{"$f":"IFERROR(INDEX($A$4:$R$1642,$AE1481,COLUMNS($A:$C)),\"\")","v":""},{"$f":"IFERROR(INDEX($A$4:$R$1642,$AE1481,COLUMNS($A:$R)),\"\")","v":""},null,null,null,null,null,null,null,null,184]
[null,null,null,null,null,null,null,null,null,null,null,null,null,null,null,null,null,null,null,null,null,null,null,null,2,0,null,"",{"$f":"ROWS($AC$4:AC1482)","v":1479},"",{"$f":"IFERROR(SMALL($AD$4:$AD$1642,ROWS($AD$4:AD1482)),\"\")","v":""},null,{"$f":"IFERROR(INDEX($A$4:$R$1642,$AE1482,COLUMNS($A:$B)),\"\")","v":""},{"$f":"IFERROR(INDEX($A$4:$R$1642,$AE1482,COLUMNS($A:$C)),\"\")","v":""},{"$f":"IFERROR(INDEX($A$4:$R$1642,$AE1482,COLUMNS($A:$R)),\"\")","v":""},null,null,null,null,null,null,null,null,184]
[{"$f":"AR1483","v":185},null,{"$f":"(VLOOKUP($B1483,'Elenco Prezzi2'!$A$2:$E$201,2,FALSE))","v":{"$error":"#N/A"}},null,null,null,null,null,null,null,null,null,null,null,null,null,null,null,null,null,null,null,null,null,2,0,null,"",{"$f":"ROWS($AC$4:AC1483)","v":1480},"",{"$f":"IFERROR(SMALL($AD$4:$AD$1642,ROWS($AD$4:AD1483)),\"\")","v":""},null,{"$f":"IFERROR(INDEX($A$4:$R$1642,$AE1483,COLUMNS($A:$B)),\"\")","v":""},{"$f":"IFERROR(INDEX($A$4:$R$1642,$AE1483,COLUMNS($A:$C)),\"\")","v":""},{"$f":"IFERROR(INDEX($A$4:$R$1642,$AE1483,COLUMNS($A:$R)),\"\")","v":""},null,null,null,null,null,null,null,1,185]
[null,null,null,{"$f":"CONCATENATE(AK1484&AL1484&AM1484&AN1484)","v":""},null,null,null,null,{"$f":"IFERROR(IF(PRODUCT(E1484:H1484)=0,\"\",PRODUCT(E1484:H1484)),\"\")","v":""},{"$f":"I1484","v":""},null,{"$f":"IF(E1484>0,\" (p/u) \"&Modulo2.GetFormula(E1484),\"\")","v":""},{"$f":"IF(F1484>0,\" (lu) \"&Modulo2.GetFormula(F1484),\"\")","v":""},{"$f":"IF(G1484>0,\" (la) \"&Modulo2.GetFormula(G1484),\"\")","v":""},{"$f":"IF(H1484>0,\" (H) \"&Modulo2.GetFormula(H1484),\"\")","v":""},null,null,null,null,null,null,null,null,null,2,0,null,"",{"$f":"ROWS($AC$4:AC1484)","v":1481},"",{"$f":"IFERROR(SMALL($AD$4:$AD$1642,ROWS($AD$4:AD1484)),\"\")","v":""},null,{"$f":"IFERROR(INDEX($A$4:$R$1642,$AE1484,COLUMNS($A:$B)),\"\")","v":""},{"$f":"IFERROR(INDEX($A$4:$R$1642,$AE1484,COLUMNS($A:$C)),\"\")","v":""},{"$f":"IFERROR(INDEX($A$4:$R$1642,$AE1484,COLUMNS($A:$R)),\"\")","v":""},null,{"$f":"IFERROR(IF(SEARCH(\"=\",L1484),L1484,\"\"),\"\")","v":""},{"$f":"IFERROR(IF(SEARCH(\"=\",M1484),M1484,\"\"),\"\")","v":""},{"$f":"IFERROR(IF(SEARCH(\"=\",N1484),N1484,\"\"),\"\")","v":""},{"$f":"IFERROR(IF(SEARCH(\"=\",O1484),O1484,\"\"),\"\")","v":""},null,null,null,185]
[null,null,null,"",null,null,null,null,"","",null,{"$f":"IF(E1485>0,\" (p/u) \"&Modulo2.GetFormula(E1485),\"\")","v":""},{"$f":"IF(F1485>0,\" (lu) \"&Modulo2.GetFormula(F1485),\"\")","v":""},{"$f":"IF(G1485>0,\" (la) \"&Modulo2.GetFormula(G1485),\"\")","v":""},{"$f":"IF(H1485>0,\" (H) \"&Modulo2.GetFormula(H1485),\"\")","v":""},null,null,null,null,null,null,null,null,null,2,0,null,"",{"$f":"ROWS($AC$4:AC1485)","v":1482},"",{"$f":"IFERROR(SMALL($AD$4:$AD$1642,ROWS($AD$4:AD1485)),\"\")","v":""},null,{"$f":"IFERROR(INDEX($A$4:$R$1642,$AE1485,COLUMNS($A:$B)),\"\")","v":""},{"$f":"IFERROR(INDEX($A$4:$R$1642,$AE1485,COLUMNS($A:$C)),\"\")","v":""},{"$f":"IFERROR(INDEX($A$4:$R$1642,$AE1485,COLUMNS($A:$R)),\"\")","v":""},null,"","","","",null,null,null,185]
[null,null,null,"",null,null,null,null,"","",null,{"$f":"IF(E1486>0,\" (p/u) \"&Modulo2.GetFormula(E1486),\"\")","v":""},{"$f":"IF(F1486>0,\" (lu) \"&Modulo2.GetFormula(F1486),\"\")","v":""},{"$f":"IF(G1486>0,\" (la) \"&Modulo2.GetFormula(G1486),\"\")","v":""},{"$f":"IF(H1486>0,\" (H) \"&Modulo2.GetFormula(H1486),\"\")","v":""},null,null,null,null,null,null,null,null,null,2,0,null,"",{"$f":"ROWS($AC$4:AC1486)","v":1483},"",{"$f":"IFERROR(SMALL($AD$4:$AD$1642,ROWS($AD$4:AD1486)),\"\")","v":""},null,{"$f":"IFERROR(INDEX($A$4:$R$1642,$AE1486,COLUMNS($A:$B)),\"\")","v":""},{"$f":"IFERROR(INDEX($A$4:$R$1642,$AE1486,COLUMNS($A:$C)),\"\")","v":""},{"$f":"IFERROR(INDEX($A$4:$R$1642,$AE1486,COLUMNS($A:$R)),\"\")","v":""},null,"","","","",null,null,null,185]
[null,null,null,null,null,null,null,{"$f":"CONCATENATE(\"SOMMANO [\",VLOOKUP(B1483,'Elenco Prezzi2'!$A$2:$E$201,3,FALSE()),\"]\")","v":{"$error":"#N/A"}},{"$f":"IF(T1487=\"s\",V1488,SUBTOTAL(9,I1483:I1487))","v":{"$error":"#REF!"}},null,{"$f":"VLOOKUP(B1483,'Elenco Prezzi2'!$A$2:$E$201,5,FALSE)","v":{"$error":"#N/A"}},null,null,null,null,null,null,{"$f":"IFERROR(I1487*K1487,\"\")","v":""},null,"s",null,null,null,{"$f":"R1487","v":""},2,0,null,"",{"$f":"ROWS($AC$4:AC1487)","v":1484},"",{"$f":"IFERROR(SMALL($AD$4:$AD$1642,ROWS($AD$4:AD1487)),\"\")","v":""},null,{"$f":"IFERROR(INDEX($A$4:$R$1642,$AE1487,COLUMNS($A:$B)),\"\")","v":""},{"$f":"IFERROR(INDEX($A$4:$R$1642,$AE1487,COLUMNS($A:$C)),\"\")","v":""},{"$f":"IFERROR(INDEX($A$4:$R$1642,$AE1487,COLUMNS($A:$R)),\"\")","v":""},null,null,null,null,null,null,null,null,185]
[null,null,null,null,null,null,null,{"$f":"IF(I1488<0,\"a detrarre\",\"\")","v":""},{"$f":"SUMIF(I1483:I1486,\"<0\")","v":0},null,null,null,null,null,null,null,null,null,{"$f":"R1487","v":""},null,null,{"$f":"VLOOKUP(B1483,#REF!,4,FALSE)","v":{"$error":"#REF!"}},null,null,2,0,null,"",{"$f":"ROWS($AC$4:AC1488)","v":1485},"",{"$f":"IFERROR(SMALL($AD$4:$AD$1642,ROWS($AD$4:AD1488)),\"\")","v":""},null,{"$f":"IFERROR(INDEX($A$4:$R$1642,$AE1488,COLUMNS($A:$B)),\"\")","v":""},{"$f":"IFERROR(INDEX($A$4:$R$1642,$AE1488,COLUMNS($A:$C)),\"\")","v":""},{"$f":"IFERROR(INDEX($A$4:$R$1642,$AE1488,COLUMNS($A:$R)),\"\")","v":""},null,null,null,null,null,null,null,null,185]
[null,null,null,null,null,null,null,null,null,null,null,null,null,null,null,null,null,null,null,null,null,null,null,null,2,0,null,"",{"$f":"ROWS($AC$4:AC1489)","v":1486},"",{"$f":"IFERROR(SMALL($AD$4:$AD$1642,ROWS($AD$4:AD1489)),\"\")","v":""},null,{"$f":"IFERROR(INDEX($A$4:$R$1642,$AE1489,COLUMNS($A:$B)),\"\")","v":""},{"$f":"IFERROR(INDEX($A$4:$R$1642,$AE1489,COLUMNS($A:$C)),\"\")","v":""},{"$f":"IFERROR(INDEX($A$4:$R$1642,$AE1489,COLUMNS($A:$R)),\"\")","v":""},null,null,null,null,null,null,null,null,185]
[null,null,null,null,null,null,null,null,null,null,null,null,null,null,null,null,null,null,null,null,null,null,null,null,2,0,null,"",{"$f":"ROWS($AC$4:AC1490)","v":1487},"",{"$f":"IFERROR(SMALL($AD$4:$AD$1642,ROWS($AD$4:AD1490)),\"\")","v":""},null,{"$f":"IFERROR(INDEX($A$4:$R$1642,$AE1490,COLUMNS($A:$B)),\"\")","v":""},{"$f":"IFERROR(INDEX($A$4:$R$1642,$AE1490,COLUMNS($A:$C)),\"\")","v":""},{"$f":"IFERROR(INDEX($A$4:$R$1642,$AE1490,COLUMNS($A:$R)),\"\")","v":""},null,null,null,null,null,null,null,null,185]
[{"$f":"AR1491","v":186},null,{"$f":"(VLOOKUP($B1491,'Elenco Prezzi2'!$A$2:$E$201,2,FALSE))","v":{"$error":"#N/A"}},null,null,null,null,null,null,null,null,null,null,null,null,null,null,null,null,null,null,null,null,null,2,0,null,"",{"$f":"ROWS($AC$4:AC1491)","v":1488},"",{"$f":"IFERROR(SMALL($AD$4:$AD$1642,ROWS($AD$4:AD1491)),\"\")","v":""},null,{"$f":"IFERROR(INDEX($A$4:$R$1642,$AE1491,COLUMNS($A:$B)),\"\")","v":""},{"$f":"IFERROR(INDEX($A$4:$R$1642,$AE1491,COLUMNS($A:$C)),\"\")","v":""},{"$f":"IFERROR(INDEX($A$4:$R$1642,$AE1491,COLUMNS($A:$R)),\"\")","v":""},null,null,null,null,null,null,null,1,186]
[null,null,null,{"$f":"CONCATENATE(AK1492&AL1492&AM1492&AN1492)","v":""},null,null,null,null,{"$f":"IFERROR(IF(PRODUCT(E1492:H1492)=0,\"\",PRODUCT(E1492:H1492)),\"\")","v":""},{"$f":"I1492","v":""},null,{"$f":"IF(E1492>0,\" (p/u) \"&Modulo2.GetFormula(E1492),\"\")","v":""},{"$f":"IF(F1492>0,\" (lu) \"&Modulo2.GetFormula(F1492),\"\")","v":""},{"$f":"IF(G1492>0,\" (la) \"&Modulo2.GetFormula(G1492),\"\")","v":""},{"$f":"IF(H1492>0,\" (H) \"&Modulo2.GetFormula(H1492),\"\")","v":""},null,null,null,null,null,null,null,null,null,2,0,null,"",{"$f":"ROWS($AC$4:AC1492)","v":1489},"",{"$f":"IFERROR(SMALL($AD$4:$AD$1642,ROWS($AD$4:AD1492)),\"\")","v":""},null,{"$f":"IFERROR(INDEX($A$4:$R$1642,$AE1492,COLUMNS($A:$B)),\"\")","v":""},{"$f":"IFERROR(INDEX($A$4:$R$1642,$AE1492,COLUMNS($A:$C)),\"\")","v":""},{"$f":"IFERROR(INDEX($A$4:$R$1642,$AE1492,COLUMNS($A:$R)),\"\")","v":""},null,{"$f":"IFERROR(IF(SEARCH(\"=\",L1492),L1492,\"\"),\"\")","v":""},{"$f":"IFERROR(IF(SEARCH(\"=\",M1492),M1492,\"\"),\"\")","v":""},{"$f":"IFERROR(IF(SEARCH(\"=\",N1492),N1492,\"\"),\"\")","v":""},{"$f":"IFERROR(IF(SEARCH(\"=\",O1492),O1492,\"\"),\"\")","v":""},null,null,null,186]
[null,null,null,"",null,null,null,null,"","",null,{"$f":"IF(E1493>0,\" (p/u) \"&Modulo2.GetFormula(E1493),\"\")","v":""},{"$f":"IF(F1493>0,\" (lu) \"&Modulo2.GetFormula(F1493),\"\")","v":""},{"$f":"IF(G1493>0,\" (la) \"&Modulo2.GetFormula(G1493),\"\")","v":""},{"$f":"IF(H1493>0,\" (H) \"&Modulo2.GetFormula(H1493),\"\")","v":""},null,null,null,null,null,null,null,null,null,2,0,null,"",{"$f":"ROWS($AC$4:AC1493)","v":1490},"",{"$f":"IFERROR(SMALL($AD$4:$AD$1642,ROWS($AD$4:AD1493)),\"\")","v":""},null,{"$f":"IFERROR(INDEX($A$4:$R$1642,$AE1493,COLUMNS($A:$B)),\"\")","v":""},{"$f":"IFERROR(INDEX($A$4:$R$1642,$AE1493,COLUMNS($A:$C)),\"\")","v":""},{"$f":"IFERROR(INDEX($A$4:$R$1642,$AE1493,COLUMNS($A:$R)),\"\")","v":""},null,"","","","",null,null,null,186]
[null,null,null,"",null,null,null,null,"","",null,{"$f":"IF(E1494>0,\" (p/u) \"&Modulo2.GetFormula(E1494),\"\")","v":""},{"$f":"IF(F1494>0,\" (lu) \"&Modulo2.GetFormula(F1494),\"\")","v":""},{"$f":"IF(G1494>0,\" (la) \"&Modulo2.GetFormula(G1494),\"\")","v":""},{"$f":"IF(H1494>0,\" (H) \"&Modulo2.GetFormula(H1494),\"\")","v":""},null,null,null,null,null,null,null,null,null,2,0,null,"",{"$f":"ROWS($AC$4:AC1494)","v":1491},"",{"$f":"IFERROR(SMALL($AD$4:$AD$1642,ROWS($AD$4:AD1494)),\"\")","v":""},null,{"$f":"IFERROR(INDEX($A$4:$R$1642,$AE1494,COLUMNS($A:$B)),\"\")","v":""},{"$f":"IFERROR(INDEX($A$4:$R$1642,$AE1494,COLUMNS($A:$C)),\"\")","v":""},{"$f":"IFERROR(INDEX($A$4:$R$1642,$AE1494,COLUMNS($A:$R)),\"\")","v":""},null,"","","","",null,null,null,186]
[null,null,null,null,null,null,null,{"$f":"CONCATENATE(\"SOMMANO [\",VLOOKUP(B1491,'Elenco Prezzi2'!$A$2:$E$201,3,FALSE()),\"]\")","v":{"$error":"#N/A"}},{"$f":"IF(T1495=\"s\",V1496,SUBTOTAL(9,I1491:I1495))","v":{"$error":"#REF!"}},null,{"$f":"VLOOKUP(B1491,'Elenco Prezzi2'!$A$2:$E$201,5,FALSE)","v":{"$error":"#N/A"}},null,null,null,null,null,null,{"$f":"IFERROR(I1495*K1495,\"\")","v":""},null,"s",null,null,null,{"$f":"R1495","v":""},2,0,null,"",{"$f":"ROWS($AC$4:AC1495)","v":1492},"",{"$f":"IFERROR(SMALL($AD$4:$AD$1642,ROWS($AD$4:AD1495)),\"\")","v":""},null,{"$f":"IFERROR(INDEX($A$4:$R$1642,$AE1495,COLUMNS($A:$B)),\"\")","v":""},{"$f":"IFERROR(INDEX($A$4:$R$1642,$AE1495,COLUMNS($A:$C)),\"\")","v":""},{"$f":"IFERROR(INDEX($A$4:$R$1642,$AE1495,COLUMNS($A:$R)),\"\")","v":""},null,null,null,null,null,null,null,null,186]
[null,null,null,null,null,null,null,{"$f":"IF(I1496<0,\"a detrarre\",\"\")","v":""},{"$f":"SUMIF(I1491:I1494,\"<0\")","v":0},null,null,null,null,null,null,null,null,null,{"$f":"R1495","v":""},null,null,{"$f":"VLOOKUP(B1491,#REF!,4,FALSE)","v":{"$error":"#REF!"}},null,null,2,0,null,"",{"$f":"ROWS($AC$4:AC1496)","v":1493},"",{"$f":"IFERROR(SMALL($AD$4:$AD$1642,ROWS($AD$4:AD1496)),\"\")","v":""},null,{"$f":"IFERROR(INDEX($A$4:$R$1642,$AE1496,COLUMNS($A:$B)),\"\")","v":""},{"$f":"IFERROR(INDEX($A$4:$R$1642,$AE1496,COLUMNS($A:$C)),\"\")","v":""},{"$f":"IFERROR(INDEX($A$4:$R$1642,$AE1496,COLUMNS($A:$R)),\"\")","v":""},null,null,null,null,null,null,null,null,186]
[null,null,null,null,null,null,null,null,null,null,null,null,null,null,null,null,null,null,null,null,null,null,null,null,2,0,null,"",{"$f":"ROWS($AC$4:AC1497)","v":1494},"",{"$f":"IFERROR(SMALL($AD$4:$AD$1642,ROWS($AD$4:AD1497)),\"\")","v":""},null,{"$f":"IFERROR(INDEX($A$4:$R$1642,$AE1497,COLUMNS($A:$B)),\"\")","v":""},{"$f":"IFERROR(INDEX($A$4:$R$1642,$AE1497,COLUMNS($A:$C)),\"\")","v":""},{"$f":"IFERROR(INDEX($A$4:$R$1642,$AE1497,COLUMNS($A:$R)),\"\")","v":""},null,null,null,null,null,null,null,null,186]
[null,null,null,null,null,null,null,null,null,null,null,null,null,null,null,null,null,null,null,null,null,null,null,null,2,0,null,"",{"$f":"ROWS($AC$4:AC1498)","v":1495},"",{"$f":"IFERROR(SMALL($AD$4:$AD$1642,ROWS($AD$4:AD1498)),\"\")","v":""},null,{"$f":"IFERROR(INDEX($A$4:$R$1642,$AE1498,COLUMNS($A:$B)),\"\")","v":""},{"$f":"IFERROR(INDEX($A$4:$R$1642,$AE1498,COLUMNS($A:$C)),\"\")","v":""},{"$f":"IFERROR(INDEX($A$4:$R$1642,$AE1498,COLUMNS($A:$R)),\"\")","v":""},null,null,null,null,null,null,null,null,186]
[{"$f":"AR1499","v":187},null,{"$f":"(VLOOKUP($B1499,'Elenco Prezzi2'!$A$2:$E$201,2,FALSE))","v":{"$error":"#N/A"}},null,null,null,null,null,null,null,null,null,null,null,null,null,null,null,null,null,null,null,null,null,2,0,null,"",{"$f":"ROWS($AC$4:AC1499)","v":1496},"",{"$f":"IFERROR(SMALL($AD$4:$AD$1642,ROWS($AD$4:AD1499)),\"\")","v":""},null,{"$f":"IFERROR(INDEX($A$4:$R$1642,$AE1499,COLUMNS($A:$B)),\"\")","v":""},{"$f":"IFERROR(INDEX($A$4:$R$1642,$AE1499,COLUMNS($A:$C)),\"\")","v":""},{"$f":"IFERROR(INDEX($A$4:$R$1642,$AE1499,COLUMNS($A:$R)),\"\")","v":""},null,null,null,null,null,null,null,1,187]
[null,null,null,{"$f":"CONCATENATE(AK1500&AL1500&AM1500&AN1500)","v":""},null,null,null,null,{"$f":"IFERROR(IF(PRODUCT(E1500:H1500)=0,\"\",PRODUCT(E1500:H1500)),\"\")","v":""},{"$f":"I1500","v":""},null,{"$f":"IF(E1500>0,\" (p/u) \"&Modulo2.GetFormula(E1500),\"\")","v":""},{"$f":"IF(F1500>0,\" (lu) \"&Modulo2.GetFormula(F1500),\"\")","v":""},{"$f":"IF(G1500>0,\" (la) \"&Modulo2.GetFormula(G1500),\"\")","v":""},{"$f":"IF(H1500>0,\" (H) \"&Modulo2.GetFormula(H1500),\"\")","v":""},null,null,null,null,null,null,null,null,null,2,0,null,"",{"$f":"ROWS($AC$4:AC1500)","v":1497},"",{"$f":"IFERROR(SMALL($AD$4:$AD$1642,ROWS($AD$4:AD1500)),\"\")","v":""},null,{"$f":"IFERROR(INDEX($A$4:$R$1642,$AE1500,COLUMNS($A:$B)),\"\")","v":""},{"$f":"IFERROR(INDEX($A$4:$R$1642,$AE1500,COLUMNS($A:$C)),\"\")","v":""},{"$f":"IFERROR(INDEX($A$4:$R$1642,$AE1500,COLUMNS($A:$R)),\"\")","v":""},null,{"$f":"IFERROR(IF(SEARCH(\"=\",L1500),L1500,\"\"),\"\")","v":""},{"$f":"IFERROR(IF(SEARCH(\"=\",M1500),M1500,\"\"),\"\")","v":""},{"$f":"IFERROR(IF(SEARCH(\"=\",N1500),N1500,\"\"),\"\")","v":""},{"$f":"IFERROR(IF(SEARCH(\"=\",O1500),O1500,\"\"),\"\")","v":""},null,null,null,187]
[null,null,null,"",null,null,null,null,"","",null,{"$f":"IF(E1501>0,\" (p/u) \"&Modulo2.GetFormula(E1501),\"\")","v":""},{"$f":"IF(F1501>0,\" (lu) \"&Modulo2.GetFormula(F1501),\"\")","v":""},{"$f":"IF(G1501>0,\" (la) \"&Modulo2.GetFormula(G1501),\"\")","v":""},{"$f":"IF(H1501>0,\" (H) \"&Modulo2.GetFormula(H1501),\"\")","v":""},null,null,null,null,null,null,null,null,null,2,0,null,"",{"$f":"ROWS($AC$4:AC1501)","v":1498},"",{"$f":"IFERROR(SMALL($AD$4:$AD$1642,ROWS($AD$4:AD1501)),\"\")","v":""},null,{"$f":"IFERROR(INDEX($A$4:$R$1642,$AE1501,COLUMNS($A:$B)),\"\")","v":""},{"$f":"IFERROR(INDEX($A$4:$R$1642,$AE1501,COLUMNS($A:$C)),\"\")","v":""},{"$f":"IFERROR(INDEX($A$4:$R$1642,$AE1501,COLUMNS($A:$R)),\"\")","v":""},null,"","","","",null,null,null,187]
[null,null,null,"",null,null,null,null,"","",null,{"$f":"IF(E1502>0,\" (p/u) \"&Modulo2.GetFormula(E1502),\"\")","v":""},{"$f":"IF(F1502>0,\" (lu) \"&Modulo2.GetFormula(F1502),\"\")","v":""},{"$f":"IF(G1502>0,\" (la) \"&Modulo2.GetFormula(G1502),\"\")","v":""},{"$f":"IF(H1502>0,\" (H) \"&Modulo2.GetFormula(H1502),\"\")","v":""},null,null,null,null,null,null,null,null,null,2,0,null,"",{"$f":"ROWS($AC$4:AC1502)","v":1499},"",{"$f":"IFERROR(SMALL($AD$4:$AD$1642,ROWS($AD$4:AD1502)),\"\")","v":""},null,{"$f":"IFERROR(INDEX($A$4:$R$1642,$AE1502,COLUMNS($A:$B)),\"\")","v":""},{"$f":"IFERROR(INDEX($A$4:$R$1642,$AE1502,COLUMNS($A:$C)),\"\")","v":""},{"$f":"IFERROR(INDEX($A$4:$R$1642,$AE1502,COLUMNS($A:$R)),\"\")","v":""},null,"","","","",null,null,null,187]
[null,null,null,null,null,null,null,{"$f":"CONCATENATE(\"SOMMANO [\",VLOOKUP(B1499,'Elenco Prezzi2'!$A$2:$E$201,3,FALSE()),\"]\")","v":{"$error":"#N/A"}},{"$f":"IF(T1503=\"s\",V1504,SUBTOTAL(9,I1499:I1503))","v":{"$error":"#REF!"}},null,{"$f":"VLOOKUP(B1499,'Elenco Prezzi2'!$A$2:$E$201,5,FALSE)","v":{"$error":"#N/A"}},null,null,null,null,null,null,{"$f":"IFERROR(I1503*K1503,\"\")","v":""},null,"s",null,null,null,{"$f":"R1503","v":""},2,0,null,"",{"$f":"ROWS($AC$4:AC1503)","v":1500},"",{"$f":"IFERROR(SMALL($AD$4:$AD$1642,ROWS($AD$4:AD1503)),\"\")","v":""},null,{"$f":"IFERROR(INDEX($A$4:$R$1642,$AE1503,COLUMNS($A:$B)),\"\")","v":""},{"$f":"IFERROR(INDEX($A$4:$R$1642,$AE1503,COLUMNS($A:$C)),\"\")","v":""},{"$f":"IFERROR(INDEX($A$4:$R$1642,$AE1503,COLUMNS($A:$R)),\"\")","v":""},null,null,null,null,null,null,null,null,187]
[null,null,null,null,null,null,null,{"$f":"IF(I1504<0,\"a detrarre\",\"\")","v":""},{"$f":"SUMIF(I1499:I1502,\"<0\")","v":0},null,null,null,null,null,null,null,null,null,{"$f":"R1503","v":""},null,null,{"$f":"VLOOKUP(B1499,#REF!,4,FALSE)","v":{"$error":"#REF!"}},null,null,2,0,null,"",{"$f":"ROWS($AC$4:AC1504)","v":1501},"",{"$f":"IFERROR(SMALL($AD$4:$AD$1642,ROWS($AD$4:AD1504)),\"\")","v":""},null,{"$f":"IFERROR(INDEX($A$4:$R$1642,$AE1504,COLUMNS($A:$B)),\"\")","v":""},{"$f":"IFERROR(INDEX($A$4:$R$1642,$AE1504,COLUMNS($A:$C)),\"\")","v":""},{"$f":"IFERROR(INDEX($A$4:$R$1642,$AE1504,COLUMNS($A:$R)),\"\")","v":""},null,null,null,null,null,null,null,null,187]
[null,null,null,null,null,null,null,null,null,null,null,null,null,null,null,null,null,null,null,null,null,null,null,null,2,0,null,"",{"$f":"ROWS($AC$4:AC1505)","v":1502},"",{"$f":"IFERROR(SMALL($AD$4:$AD$1642,ROWS($AD$4:AD1505)),\"\")","v":""},null,{"$f":"IFERROR(INDEX($A$4:$R$1642,$AE1505,COLUMNS($A:$B)),\"\")","v":""},{"$f":"IFERROR(INDEX($A$4:$R$1642,$AE1505,COLUMNS($A:$C)),\"\")","v":""},{"$f":"IFERROR(INDEX($A$4:$R$1642,$AE1505,COLUMNS($A:$R)),\"\")","v":""},null,null,null,null,null,null,null,null,187]
[null,null,null,null,null,null,null,null,null,null,null,null,null,null,null,null,null,null,null,null,null,null,null,null,2,0,null,"",{"$f":"ROWS($AC$4:AC1506)","v":1503},"",{"$f":"IFERROR(SMALL($AD$4:$AD$1642,ROWS($AD$4:AD1506)),\"\")","v":""},null,{"$f":"IFERROR(INDEX($A$4:$R$1642,$AE1506,COLUMNS($A:$B)),\"\")","v":""},{"$f":"IFERROR(INDEX($A$4:$R$1642,$AE1506,COLUMNS($A:$C)),\"\")","v":""},{"$f":"IFERROR(INDEX($A$4:$R$1642,$AE1506,COLUMNS($A:$R)),\"\")","v":""},null,null,null,null,null,null,null,null,187]
[{"$f":"AR1507","v":188},null,{"$f":"(VLOOKUP($B1507,'Elenco Prezzi2'!$A$2:$E$201,2,FALSE))","v":{"$error":"#N/A"}},null,null,null,null,null,null,null,null,null,null,null,null,null,null,null,null,null,null,null,null,null,2,0,null,{"$f":"IF(W1507>0,\"OK\",\"\")","v":""},{"$f":"ROWS($AC$4:AC1507)","v":1504},{"$f":"IF(AB1507=\"ok\",AC1507,\"\")","v":""},{"$f":"IFERROR(SMALL($AD$4:$AD$1642,ROWS($AD$4:AD1507)),\"\")","v":""},null,{"$f":"IFERROR(INDEX($A$4:$R$1642,$AE1507,COLUMNS($A:$B)),\"\")","v":""},{"$f":"IFERROR(INDEX($A$4:$R$1642,$AE1507,COLUMNS($A:$C)),\"\")","v":""},{"$f":"IFERROR(INDEX($A$4:$R$1642,$AE1507,COLUMNS($A:$R)),\"\")","v":""},null,null,null,null,null,null,null,1,{"$f":"IF(AQ1507=\"\",AR1506,AR1506+AQ1507)","v":188}]
[null,null,null,{"$f":"CONCATENATE(AK1508&AL1508&AM1508&AN1508)","v":""},null,null,null,null,{"$f":"IFERROR(IF(PRODUCT(E1508:H1508)=0,\"\",PRODUCT(E1508:H1508)),\"\")","v":""},{"$f":"I1508","v":""},null,{"$f":"IF(E1508>0,\" (p/u) \"&Modulo2.GetFormula(E1508),\"\")","v":""},{"$f":"IF(F1508>0,\" (lu) \"&Modulo2.GetFormula(F1508),\"\")","v":""},{"$f":"IF(G1508>0,\" (la) \"&Modulo2.GetFormula(G1508),\"\")","v":""},{"$f":"IF(H1508>0,\" (H) \"&Modulo2.GetFormula(H1508),\"\")","v":""},null,null,null,null,null,null,null,null,null,{"$f":"IF(AO1508=\"\",Y1507,Y1507+AO1508)","v":2},{"$f":"IF(AP1508=\"\",Z1507,Z1507+AP1508)","v":0},null,"",{"$f":"ROWS($AC$4:AC1508)","v":1505},"",{"$f":"IFERROR(SMALL($AD$4:$AD$1642,ROWS($AD$4:AD1508)),\"\")","v":""},null,{"$f":"IFERROR(INDEX($A$4:$R$1642,$AE1508,COLUMNS($A:$B)),\"\")","v":""},{"$f":"IFERROR(INDEX($A$4:$R$1642,$AE1508,COLUMNS($A:$C)),\"\")","v":""},{"$f":"IFERROR(INDEX($A$4:$R$1642,$AE1508,COLUMNS($A:$R)),\"\")","v":""},null,{"$f":"IFERROR(IF(SEARCH(\"=\",L1508),L1508,\"\"),\"\")","v":""},{"$f":"IFERROR(IF(SEARCH(\"=\",M1508),M1508,\"\"),\"\")","v":""},{"$f":"IFERROR(IF(SEARCH(\"=\",N1508),N1508,\"\"),\"\")","v":""},{"$f":"IFERROR(IF(SEARCH(\"=\",O1508),O1508,\"\"),\"\")","v":""},null,null,null,188]
[null,null,null,"",null,null,null,null,"","",null,{"$f":"IF(E1509>0,\" (p/u) \"&Modulo2.GetFormula(E1509),\"\")","v":""},{"$f":"IF(F1509>0,\" (lu) \"&Modulo2.GetFormula(F1509),\"\")","v":""},{"$f":"IF(G1509>0,\" (la) \"&Modulo2.GetFormula(G1509),\"\")","v":""},{"$f":"IF(H1509>0,\" (H) \"&Modulo2.GetFormula(H1509),\"\")","v":""},null,null,null,null,null,null,null,null,null,2,0,null,"",{"$f":"ROWS($AC$4:AC1509)","v":1506},"",{"$f":"IFERROR(SMALL($AD$4:$AD$1642,ROWS($AD$4:AD1509)),\"\")","v":""},null,{"$f":"IFERROR(INDEX($A$4:$R$1642,$AE1509,COLUMNS($A:$B)),\"\")","v":""},{"$f":"IFERROR(INDEX($A$4:$R$1642,$AE1509,COLUMNS($A:$C)),\"\")","v":""},{"$f":"IFERROR(INDEX($A$4:$R$1642,$AE1509,COLUMNS($A:$R)),\"\")","v":""},null,"","","","",null,null,null,188]
[null,null,null,"",null,null,null,null,"","",null,{"$f":"IF(E1510>0,\" (p/u) \"&Modulo2.GetFormula(E1510),\"\")","v":""},{"$f":"IF(F1510>0,\" (lu) \"&Modulo2.GetFormula(F1510),\"\")","v":""},{"$f":"IF(G1510>0,\" (la) \"&Modulo2.GetFormula(G1510),\"\")","v":""},{"$f":"IF(H1510>0,\" (H) \"&Modulo2.GetFormula(H1510),\"\")","v":""},null,null,null,null,null,null,null,null,null,2,0,null,"",{"$f":"ROWS($AC$4:AC1510)","v":1507},"",{"$f":"IFERROR(SMALL($AD$4:$AD$1642,ROWS($AD$4:AD1510)),\"\")","v":""},null,{"$f":"IFERROR(INDEX($A$4:$R$1642,$AE1510,COLUMNS($A:$B)),\"\")","v":""},{"$f":"IFERROR(INDEX($A$4:$R$1642,$AE1510,COLUMNS($A:$C)),\"\")","v":""},{"$f":"IFERROR(INDEX($A$4:$R$1642,$AE1510,COLUMNS($A:$R)),\"\")","v":""},null,"","","","",null,null,null,188]
[null,null,null,null,null,null,null,{"$f":"CONCATENATE(\"SOMMANO [\",VLOOKUP(B1507,'Elenco Prezzi2'!$A$2:$E$201,3,FALSE()),\"]\")","v":{"$error":"#N/A"}},{"$f":"IF(T1511=\"s\",V1512,SUBTOTAL(9,I1507:I1511))","v":{"$error":"#REF!"}},null,{"$f":"VLOOKUP(B1507,'Elenco Prezzi2'!$A$2:$E$201,5,FALSE)","v":{"$error":"#N/A"}},null,null,null,null,null,null,{"$f":"IFERROR(I1511*K1511,\"\")","v":""},null,"s",null,null,null,{"$f":"R1511","v":""},2,0,null,"",{"$f":"ROWS($AC$4:AC1511)","v":1508},"",{"$f":"IFERROR(SMALL($AD$4:$AD$1642,ROWS($AD$4:AD1511)),\"\")","v":""},null,{"$f":"IFERROR(INDEX($A$4:$R$1642,$AE1511,COLUMNS($A:$B)),\"\")","v":""},{"$f":"IFERROR(INDEX($A$4:$R$1642,$AE1511,COLUMNS($A:$C)),\"\")","v":""},{"$f":"IFERROR(INDEX($A$4:$R$1642,$AE1511,COLUMNS($A:$R)),\"\")","v":""},null,null,null,null,null,null,null,null,188]
[null,null,null,null,null,null,null,{"$f":"IF(I1512<0,\"a detrarre\",\"\")","v":""},{"$f":"SUMIF(I1507:I1510,\"<0\")","v":0},null,null,null,null,null,null,null,null,null,{"$f":"R1511","v":""},null,null,{"$f":"VLOOKUP(B1507,#REF!,4,FALSE)","v":{"$error":"#REF!"}},null,null,2,0,null,"",{"$f":"ROWS($AC$4:AC1512)","v":1509},"",{"$f":"IFERROR(SMALL($AD$4:$AD$1642,ROWS($AD$4:AD1512)),\"\")","v":""},null,{"$f":"IFERROR(INDEX($A$4:$R$1642,$AE1512,COLUMNS($A:$B)),\"\")","v":""},{"$f":"IFERROR(INDEX($A$4:$R$1642,$AE1512,COLUMNS($A:$C)),\"\")","v":""},{"$f":"IFERROR(INDEX($A$4:$R$1642,$AE1512,COLUMNS($A:$R)),\"\")","v":""},null,null,null,null,null,null,null,null,188]
[null,null,null,null,null,null,null,null,null,null,null,null,null,null,null,null,null,null,null,null,null,null,null,null,2,0,null,"",{"$f":"ROWS($AC$4:AC1513)","v":1510},"",{"$f":"IFERROR(SMALL($AD$4:$AD$1642,ROWS($AD$4:AD1513)),\"\")","v":""},null,{"$f":"IFERROR(INDEX($A$4:$R$1642,$AE1513,COLUMNS($A:$B)),\"\")","v":""},{"$f":"IFERROR(INDEX($A$4:$R$1642,$AE1513,COLUMNS($A:$C)),\"\")","v":""},{"$f":"IFERROR(INDEX($A$4:$R$1642,$AE1513,COLUMNS($A:$R)),\"\")","v":""},null,null,null,null,null,null,null,null,188]
[null,null,null,null,null,null,null,null,null,null,null,null,null,null,null,null,null,null,null,null,null,null,null,null,2,0,null,"",{"$f":"ROWS($AC$4:AC1514)","v":1511},"",{"$f":"IFERROR(SMALL($AD$4:$AD$1642,ROWS($AD$4:AD1514)),\"\")","v":""},null,{"$f":"IFERROR(INDEX($A$4:$R$1642,$AE1514,COLUMNS($A:$B)),\"\")","v":""},{"$f":"IFERROR(INDEX($A$4:$R$1642,$AE1514,COLUMNS($A:$C)),\"\")","v":""},{"$f":"IFERROR(INDEX($A$4:$R$1642,$AE1514,COLUMNS($A:$R)),\"\")","v":""},null,null,null,null,null,null,null,null,188]
[{"$f":"AR1515","v":189},null,{"$f":"(VLOOKUP($B1515,'Elenco Prezzi2'!$A$2:$E$201,2,FALSE))","v":{"$error":"#N/A"}},null,null,null,null,null,null,null,null,null,null,null,null,null,null,null,null,null,null,null,null,null,2,0,null,"",{"$f":"ROWS($AC$4:AC1515)","v":1512},"",{"$f":"IFERROR(SMALL($AD$4:$AD$1642,ROWS($AD$4:AD1515)),\"\")","v":""},null,{"$f":"IFERROR(INDEX($A$4:$R$1642,$AE1515,COLUMNS($A:$B)),\"\")","v":""},{"$f":"IFERROR(INDEX($A$4:$R$1642,$AE1515,COLUMNS($A:$C)),\"\")","v":""},{"$f":"IFERROR(INDEX($A$4:$R$1642,$AE1515,COLUMNS($A:$R)),\"\")","v":""},null,null,null,null,null,null,null,1,189]
[null,null,null,{"$f":"CONCATENATE(AK1516&AL1516&AM1516&AN1516)","v":""},null,null,null,null,{"$f":"IFERROR(IF(PRODUCT(E1516:H1516)=0,\"\",PRODUCT(E1516:H1516)),\"\")","v":""},{"$f":"I1516","v":""},null,{"$f":"IF(E1516>0,\" (p/u) \"&Modulo2.GetFormula(E1516),\"\")","v":""},{"$f":"IF(F1516>0,\" (lu) \"&Modulo2.GetFormula(F1516),\"\")","v":""},{"$f":"IF(G1516>0,\" (la) \"&Modulo2.GetFormula(G1516),\"\")","v":""},{"$f":"IF(H1516>0,\" (H) \"&Modulo2.GetFormula(H1516),\"\")","v":""},null,null,null,null,null,null,null,null,null,2,0,null,"",{"$f":"ROWS($AC$4:AC1516)","v":1513},"",{"$f":"IFERROR(SMALL($AD$4:$AD$1642,ROWS($AD$4:AD1516)),\"\")","v":""},null,{"$f":"IFERROR(INDEX($A$4:$R$1642,$AE1516,COLUMNS($A:$B)),\"\")","v":""},{"$f":"IFERROR(INDEX($A$4:$R$1642,$AE1516,COLUMNS($A:$C)),\"\")","v":""},{"$f":"IFERROR(INDEX($A$4:$R$1642,$AE1516,COLUMNS($A:$R)),\"\")","v":""},null,{"$f":"IFERROR(IF(SEARCH(\"=\",L1516),L1516,\"\"),\"\")","v":""},{"$f":"IFERROR(IF(SEARCH(\"=\",M1516),M1516,\"\"),\"\")","v":""},{"$f":"IFERROR(IF(SEARCH(\"=\",N1516),N1516,\"\"),\"\")","v":""},{"$f":"IFERROR(IF(SEARCH(\"=\",O1516),O1516,\"\"),\"\")","v":""},null,null,null,189]
[null,null,null,"",null,null,null,null,"","",null,{"$f":"IF(E1517>0,\" (p/u) \"&Modulo2.GetFormula(E1517),\"\")","v":""},{"$f":"IF(F1517>0,\" (lu) \"&Modulo2.GetFormula(F1517),\"\")","v":""},{"$f":"IF(G1517>0,\" (la) \"&Modulo2.GetFormula(G1517),\"\")","v":""},{"$f":"IF(H1517>0,\" (H) \"&Modulo2.GetFormula(H1517),\"\")","v":""},null,null,null,null,null,null,null,null,null,2,0,null,"",{"$f":"ROWS($AC$4:AC1517)","v":1514},"",{"$f":"IFERROR(SMALL($AD$4:$AD$1642,ROWS($AD$4:AD1517)),\"\")","v":""},null,{"$f":"IFERROR(INDEX($A$4:$R$1642,$AE1517,COLUMNS($A:$B)),\"\")","v":""},{"$f":"IFERROR(INDEX($A$4:$R$1642,$AE1517,COLUMNS($A:$C)),\"\")","v":""},{"$f":"IFERROR(INDEX($A$4:$R$1642,$AE1517,COLUMNS($A:$R)),\"\")","v":""},null,"","","","",null,null,null,189]
[null,null,null,"",null,null,null,null,"","",null,{"$f":"IF(E1518>0,\" (p/u) \"&Modulo2.GetFormula(E1518),\"\")","v":""},{"$f":"IF(F1518>0,\" (lu) \"&Modulo2.GetFormula(F1518),\"\")","v":""},{"$f":"IF(G1518>0,\" (la) \"&Modulo2.GetFormula(G1518),\"\")","v":""},{"$f":"IF(H1518>0,\" (H) \"&Modulo2.GetFormula(H1518),\"\")","v":""},null,null,null,null,null,null,null,null,null,2,0,null,"",{"$f":"ROWS($AC$4:AC1518)","v":1515},"",{"$f":"IFERROR(SMALL($AD$4:$AD$1642,ROWS($AD$4:AD1518)),\"\")","v":""},null,{"$f":"IFERROR(INDEX($A$4:$R$1642,$AE1518,COLUMNS($A:$B)),\"\")","v":""},{"$f":"IFERROR(INDEX($A$4:$R$1642,$AE1518,COLUMNS($A:$C)),\"\")","v":""},{"$f":"IFERROR(INDEX($A$4:$R$1642,$AE1518,COLUMNS($A:$R)),\"\")","v":""},null,"","","","",null,null,null,189]
[null,null,null,null,null,null,null,{"$f":"CONCATENATE(\"SOMMANO [\",VLOOKUP(B1515,'Elenco Prezzi2'!$A$2:$E$201,3,FALSE()),\"]\")","v":{"$error":"#N/A"}},{"$f":"IF(T1519=\"s\",V1520,SUBTOTAL(9,I1515:I1519))","v":{"$error":"#REF!"}},null,{"$f":"VLOOKUP(B1515,'Elenco Prezzi2'!$A$2:$E$201,5,FALSE)","v":{"$error":"#N/A"}},null,null,null,null,null,null,{"$f":"IFERROR(I1519*K1519,\"\")","v":""},null,"s",null,null,null,{"$f":"R1519","v":""},2,0,null,"",{"$f":"ROWS($AC$4:AC1519)","v":1516},"",{"$f":"IFERROR(SMALL($AD$4:$AD$1642,ROWS($AD$4:AD1519)),\"\")","v":""},null,{"$f":"IFERROR(INDEX($A$4:$R$1642,$AE1519,COLUMNS($A:$B)),\"\")","v":""},{"$f":"IFERROR(INDEX($A$4:$R$1642,$AE1519,COLUMNS($A:$C)),\"\")","v":""},{"$f":"IFERROR(INDEX($A$4:$R$1642,$AE1519,COLUMNS($A:$R)),\"\")","v":""},null,null,null,null,null,null,null,null,189]
[null,null,null,null,null,null,null,{"$f":"IF(I1520<0,\"a detrarre\",\"\")","v":""},{"$f":"SUMIF(I1515:I1518,\"<0\")","v":0},null,null,null,null,null,null,null,null,null,{"$f":"R1519","v":""},null,null,{"$f":"VLOOKUP(B1515,#REF!,4,FALSE)","v":{"$error":"#REF!"}},null,null,2,0,null,"",{"$f":"ROWS($AC$4:AC1520)","v":1517},"",{"$f":"IFERROR(SMALL($AD$4:$AD$1642,ROWS($AD$4:AD1520)),\"\")","v":""},null,{"$f":"IFERROR(INDEX($A$4:$R$1642,$AE1520,COLUMNS($A:$B)),\"\")","v":""},{"$f":"IFERROR(INDEX($A$4:$R$1642,$AE1520,COLUMNS($A:$C)),\"\")","v":""},{"$f":"IFERROR(INDEX($A$4:$R$1642,$AE1520,COLUMNS($A:$R)),\"\")","v":""},null,null,null,null,null,null,null,null,189]
[null,null,null,null,null,null,null,null,null,null,null,null,null,null,null,null,null,null,null,null,null,null,null,null,2,0,null,"",{"$f":"ROWS($AC$4:AC1521)","v":1518},"",{"$f":"IFERROR(SMALL($AD$4:$AD$1642,ROWS($AD$4:AD1521)),\"\")","v":""},null,{"$f":"IFERROR(INDEX($A$4:$R$1642,$AE1521,COLUMNS($A:$B)),\"\")","v":""},{"$f":"IFERROR(INDEX($A$4:$R$1642,$AE1521,COLUMNS($A:$C)),\"\")","v":""},{"$f":"IFERROR(INDEX($A$4:$R$1642,$AE1521,COLUMNS($A:$R)),\"\")","v":""},null,null,null,null,null,null,null,null,189]
[null,null,null,null,null,null,null,null,null,null,null,null,null,null,null,null,null,null,null,null,null,null,null,null,2,0,null,"",{"$f":"ROWS($AC$4:AC1522)","v":1519},"",{"$f":"IFERROR(SMALL($AD$4:$AD$1642,ROWS($AD$4:AD1522)),\"\")","v":""},null,{"$f":"IFERROR(INDEX($A$4:$R$1642,$AE1522,COLUMNS($A:$B)),\"\")","v":""},{"$f":"IFERROR(INDEX($A$4:$R$1642,$AE1522,COLUMNS($A:$C)),\"\")","v":""},{"$f":"IFERROR(INDEX($A$4:$R$1642,$AE1522,COLUMNS($A:$R)),\"\")","v":""},null,null,null,null,null,null,null,null,189]
[{"$f":"AR1523","v":190},null,{"$f":"(VLOOKUP($B1523,'Elenco Prezzi2'!$A$2:$E$201,2,FALSE))","v":{"$error":"#N/A"}},null,null,null,null,null,null,null,null,null,null,null,null,null,null,null,null,null,null,null,null,null,2,0,null,"",{"$f":"ROWS($AC$4:AC1523)","v":1520},"",{"$f":"IFERROR(SMALL($AD$4:$AD$1642,ROWS($AD$4:AD1523)),\"\")","v":""},null,{"$f":"IFERROR(INDEX($A$4:$R$1642,$AE1523,COLUMNS($A:$B)),\"\")","v":""},{"$f":"IFERROR(INDEX($A$4:$R$1642,$AE1523,COLUMNS($A:$C)),\"\")","v":""},{"$f":"IFERROR(INDEX($A$4:$R$1642,$AE1523,COLUMNS($A:$R)),\"\")","v":""},null,null,null,null,null,null,null,1,190]
[null,null,null,{"$f":"CONCATENATE(AK1524&AL1524&AM1524&AN1524)","v":""},null,null,null,null,{"$f":"IFERROR(IF(PRODUCT(E1524:H1524)=0,\"\",PRODUCT(E1524:H1524)),\"\")","v":""},{"$f":"I1524","v":""},null,{"$f":"IF(E1524>0,\" (p/u) \"&Modulo2.GetFormula(E1524),\"\")","v":""},{"$f":"IF(F1524>0,\" (lu) \"&Modulo2.GetFormula(F1524),\"\")","v":""},{"$f":"IF(G1524>0,\" (la) \"&Modulo2.GetFormula(G1524),\"\")","v":""},{"$f":"IF(H1524>0,\" (H) \"&Modulo2.GetFormula(H1524),\"\")","v":""},null,null,null,null,null,null,null,null,null,2,0,null,"",{"$f":"ROWS($AC$4:AC1524)","v":1521},"",{"$f":"IFERROR(SMALL($AD$4:$AD$1642,ROWS($AD$4:AD1524)),\"\")","v":""},null,{"$f":"IFERROR(INDEX($A$4:$R$1642,$AE1524,COLUMNS($A:$B)),\"\")","v":""},{"$f":"IFERROR(INDEX($A$4:$R$1642,$AE1524,COLUMNS($A:$C)),\"\")","v":""},{"$f":"IFERROR(INDEX($A$4:$R$1642,$AE1524,COLUMNS($A:$R)),\"\")","v":""},null,{"$f":"IFERROR(IF(SEARCH(\"=\",L1524),L1524,\"\"),\"\")","v":""},{"$f":"IFERROR(IF(SEARCH(\"=\",M1524),M1524,\"\"),\"\")","v":""},{"$f":"IFERROR(IF(SEARCH(\"=\",N1524),N1524,\"\"),\"\")","v":""},{"$f":"IFERROR(IF(SEARCH(\"=\",O1524),O1524,\"\"),\"\")","v":""},null,null,null,190]
[null,null,null,"",null,null,null,null,"","",null,{"$f":"IF(E1525>0,\" (p/u) \"&Modulo2.GetFormula(E1525),\"\")","v":""},{"$f":"IF(F1525>0,\" (lu) \"&Modulo2.GetFormula(F1525),\"\")","v":""},{"$f":"IF(G1525>0,\" (la) \"&Modulo2.GetFormula(G1525),\"\")","v":""},{"$f":"IF(H1525>0,\" (H) \"&Modulo2.GetFormula(H1525),\"\")","v":""},null,null,null,null,null,null,null,null,null,2,0,null,"",{"$f":"ROWS($AC$4:AC1525)","v":1522},"",{"$f":"IFERROR(SMALL($AD$4:$AD$1642,ROWS($AD$4:AD1525)),\"\")","v":""},null,{"$f":"IFERROR(INDEX($A$4:$R$1642,$AE1525,COLUMNS($A:$B)),\"\")","v":""},{"$f":"IFERROR(INDEX($A$4:$R$1642,$AE1525,COLUMNS($A:$C)),\"\")","v":""},{"$f":"IFERROR(INDEX($A$4:$R$1642,$AE1525,COLUMNS($A:$R)),\"\")","v":""},null,"","","","",null,null,null,190]
[null,null,null,"",null,null,null,null,"","",null,{"$f":"IF(E1526>0,\" (p/u) \"&Modulo2.GetFormula(E1526),\"\")","v":""},{"$f":"IF(F1526>0,\" (lu) \"&Modulo2.GetFormula(F1526),\"\")","v":""},{"$f":"IF(G1526>0,\" (la) \"&Modulo2.GetFormula(G1526),\"\")","v":""},{"$f":"IF(H1526>0,\" (H) \"&Modulo2.GetFormula(H1526),\"\")","v":""},null,null,null,null,null,null,null,null,null,2,0,null,"",{"$f":"ROWS($AC$4:AC1526)","v":1523},"",{"$f":"IFERROR(SMALL($AD$4:$AD$1642,ROWS($AD$4:AD1526)),\"\")","v":""},null,{"$f":"IFERROR(INDEX($A$4:$R$1642,$AE1526,COLUMNS($A:$B)),\"\")","v":""},{"$f":"IFERROR(INDEX($A$4:$R$1642,$AE1526,COLUMNS($A:$C)),\"\")","v":""},{"$f":"IFERROR(INDEX($A$4:$R$1642,$AE1526,COLUMNS($A:$R)),\"\")","v":""},null,"","","","",null,null,null,190]
[null,null,null,null,null,null,null,{"$f":"CONCATENATE(\"SOMMANO [\",VLOOKUP(B1523,'Elenco Prezzi2'!$A$2:$E$201,3,FALSE()),\"]\")","v":{"$error":"#N/A"}},{"$f":"IF(T1527=\"s\",V1528,SUBTOTAL(9,I1523:I1527))","v":{"$error":"#REF!"}},null,{"$f":"VLOOKUP(B1523,'Elenco Prezzi2'!$A$2:$E$201,5,FALSE)","v":{"$error":"#N/A"}},null,null,null,null,null,null,{"$f":"IFERROR(I1527*K1527,\"\")","v":""},null,"s",null,null,null,{"$f":"R1527","v":""},2,0,null,"",{"$f":"ROWS($AC$4:AC1527)","v":1524},"",{"$f":"IFERROR(SMALL($AD$4:$AD$1642,ROWS($AD$4:AD1527)),\"\")","v":""},null,{"$f":"IFERROR(INDEX($A$4:$R$1642,$AE1527,COLUMNS($A:$B)),\"\")","v":""},{"$f":"IFERROR(INDEX($A$4:$R$1642,$AE1527,COLUMNS($A:$C)),\"\")","v":""},{"$f":"IFERROR(INDEX($A$4:$R$1642,$AE1527,COLUMNS($A:$R)),\"\")","v":""},null,null,null,null,null,null,null,null,190]
[null,null,null,null,null,null,null,{"$f":"IF(I1528<0,\"a detrarre\",\"\")","v":""},{"$f":"SUMIF(I1523:I1526,\"<0\")","v":0},null,null,null,null,null,null,null,null,null,{"$f":"R1527","v":""},null,null,{"$f":"VLOOKUP(B1523,#REF!,4,FALSE)","v":{"$error":"#REF!"}},null,null,2,0,null,"",{"$f":"ROWS($AC$4:AC1528)","v":1525},"",{"$f":"IFERROR(SMALL($AD$4:$AD$1642,ROWS($AD$4:AD1528)),\"\")","v":""},null,{"$f":"IFERROR(INDEX($A$4:$R$1642,$AE1528,COLUMNS($A:$B)),\"\")","v":""},{"$f":"IFERROR(INDEX($A$4:$R$1642,$AE1528,COLUMNS($A:$C)),\"\")","v":""},{"$f":"IFERROR(INDEX($A$4:$R$1642,$AE1528,COLUMNS($A:$R)),\"\")","v":""},null,null,null,null,null,null,null,null,190]
[null,null,null,null,null,null,null,null,null,null,null,null,null,null,null,null,null,null,null,null,null,null,null,null,2,0,null,"",{"$f":"ROWS($AC$4:AC1529)","v":1526},"",{"$f":"IFERROR(SMALL($AD$4:$AD$1642,ROWS($AD$4:AD1529)),\"\")","v":""},null,{"$f":"IFERROR(INDEX($A$4:$R$1642,$AE1529,COLUMNS($A:$B)),\"\")","v":""},{"$f":"IFERROR(INDEX($A$4:$R$1642,$AE1529,COLUMNS($A:$C)),\"\")","v":""},{"$f":"IFERROR(INDEX($A$4:$R$1642,$AE1529,COLUMNS($A:$R)),\"\")","v":""},null,null,null,null,null,null,null,null,190]
[null,null,null,null,null,null,null,null,null,null,null,null,null,null,null,null,null,null,null,null,null,null,null,null,2,0,null,"",{"$f":"ROWS($AC$4:AC1530)","v":1527},"",{"$f":"IFERROR(SMALL($AD$4:$AD$1642,ROWS($AD$4:AD1530)),\"\")","v":""},null,{"$f":"IFERROR(INDEX($A$4:$R$1642,$AE1530,COLUMNS($A:$B)),\"\")","v":""},{"$f":"IFERROR(INDEX($A$4:$R$1642,$AE1530,COLUMNS($A:$C)),\"\")","v":""},{"$f":"IFERROR(INDEX($A$4:$R$1642,$AE1530,COLUMNS($A:$R)),\"\")","v":""},null,null,null,null,null,null,null,null,190]
[{"$f":"AR1531","v":191},null,{"$f":"(VLOOKUP($B1531,'Elenco Prezzi2'!$A$2:$E$201,2,FALSE))","v":{"$error":"#N/A"}},null,null,null,null,null,null,null,null,null,null,null,null,null,null,null,null,null,null,null,null,null,2,0,null,"",{"$f":"ROWS($AC$4:AC1531)","v":1528},"",{"$f":"IFERROR(SMALL($AD$4:$AD$1642,ROWS($AD$4:AD1531)),\"\")","v":""},null,{"$f":"IFERROR(INDEX($A$4:$R$1642,$AE1531,COLUMNS($A:$B)),\"\")","v":""},{"$f":"IFERROR(INDEX($A$4:$R$1642,$AE1531,COLUMNS($A:$C)),\"\")","v":""},{"$f":"IFERROR(INDEX($A$4:$R$1642,$AE1531,COLUMNS($A:$R)),\"\")","v":""},null,null,null,null,null,null,null,1,191]
[null,null,null,{"$f":"CONCATENATE(AK1532&AL1532&AM1532&AN1532)","v":""},null,null,null,null,{"$f":"IFERROR(IF(PRODUCT(E1532:H1532)=0,\"\",PRODUCT(E1532:H1532)),\"\")","v":""},{"$f":"I1532","v":""},null,{"$f":"IF(E1532>0,\" (p/u) \"&Modulo2.GetFormula(E1532),\"\")","v":""},{"$f":"IF(F1532>0,\" (lu) \"&Modulo2.GetFormula(F1532),\"\")","v":""},{"$f":"IF(G1532>0,\" (la) \"&Modulo2.GetFormula(G1532),\"\")","v":""},{"$f":"IF(H1532>0,\" (H) \"&Modulo2.GetFormula(H1532),\"\")","v":""},null,null,null,null,null,null,null,null,null,2,0,null,"",{"$f":"ROWS($AC$4:AC1532)","v":1529},"",{"$f":"IFERROR(SMALL($AD$4:$AD$1642,ROWS($AD$4:AD1532)),\"\")","v":""},null,{"$f":"IFERROR(INDEX($A$4:$R$1642,$AE1532,COLUMNS($A:$B)),\"\")","v":""},{"$f":"IFERROR(INDEX($A$4:$R$1642,$AE1532,COLUMNS($A:$C)),\"\")","v":""},{"$f":"IFERROR(INDEX($A$4:$R$1642,$AE1532,COLUMNS($A:$R)),\"\")","v":""},null,{"$f":"IFERROR(IF(SEARCH(\"=\",L1532),L1532,\"\"),\"\")","v":""},{"$f":"IFERROR(IF(SEARCH(\"=\",M1532),M1532,\"\"),\"\")","v":""},{"$f":"IFERROR(IF(SEARCH(\"=\",N1532),N1532,\"\"),\"\")","v":""},{"$f":"IFERROR(IF(SEARCH(\"=\",O1532),O1532,\"\"),\"\")","v":""},null,null,null,191]
[null,null,null,"",null,null,null,null,"","",null,{"$f":"IF(E1533>0,\" (p/u) \"&Modulo2.GetFormula(E1533),\"\")","v":""},{"$f":"IF(F1533>0,\" (lu) \"&Modulo2.GetFormula(F1533),\"\")","v":""},{"$f":"IF(G1533>0,\" (la) \"&Modulo2.GetFormula(G1533),\"\")","v":""},{"$f":"IF(H1533>0,\" (H) \"&Modulo2.GetFormula(H1533),\"\")","v":""},null,null,null,null,null,null,null,null,null,2,0,null,"",{"$f":"ROWS($AC$4:AC1533)","v":1530},"",{"$f":"IFERROR(SMALL($AD$4:$AD$1642,ROWS($AD$4:AD1533)),\"\")","v":""},null,{"$f":"IFERROR(INDEX($A$4:$R$1642,$AE1533,COLUMNS($A:$B)),\"\")","v":""},{"$f":"IFERROR(INDEX($A$4:$R$1642,$AE1533,COLUMNS($A:$C)),\"\")","v":""},{"$f":"IFERROR(INDEX($A$4:$R$1642,$AE1533,COLUMNS($A:$R)),\"\")","v":""},null,"","","","",null,null,null,191]
[null,null,null,"",null,null,null,null,"","",null,{"$f":"IF(E1534>0,\" (p/u) \"&Modulo2.GetFormula(E1534),\"\")","v":""},{"$f":"IF(F1534>0,\" (lu) \"&Modulo2.GetFormula(F1534),\"\")","v":""},{"$f":"IF(G1534>0,\" (la) \"&Modulo2.GetFormula(G1534),\"\")","v":""},{"$f":"IF(H1534>0,\" (H) \"&Modulo2.GetFormula(H1534),\"\")","v":""},null,null,null,null,null,null,null,null,null,2,0,null,"",{"$f":"ROWS($AC$4:AC1534)","v":1531},"",{"$f":"IFERROR(SMALL($AD$4:$AD$1642,ROWS($AD$4:AD1534)),\"\")","v":""},null,{"$f":"IFERROR(INDEX($A$4:$R$1642,$AE1534,COLUMNS($A:$B)),\"\")","v":""},{"$f":"IFERROR(INDEX($A$4:$R$1642,$AE1534,COLUMNS($A:$C)),\"\")","v":""},{"$f":"IFERROR(INDEX($A$4:$R$1642,$AE1534,COLUMNS($A:$R)),\"\")","v":""},null,"","","","",null,null,null,191]
[null,null,null,null,null,null,null,{"$f":"CONCATENATE(\"SOMMANO [\",VLOOKUP(B1531,'Elenco Prezzi2'!$A$2:$E$201,3,FALSE()),\"]\")","v":{"$error":"#N/A"}},{"$f":"IF(T1535=\"s\",V1536,SUBTOTAL(9,I1531:I1535))","v":{"$error":"#REF!"}},null,{"$f":"VLOOKUP(B1531,'Elenco Prezzi2'!$A$2:$E$201,5,FALSE)","v":{"$error":"#N/A"}},null,null,null,null,null,null,{"$f":"IFERROR(I1535*K1535,\"\")","v":""},null,"s",null,null,null,{"$f":"R1535","v":""},2,0,null,"",{"$f":"ROWS($AC$4:AC1535)","v":1532},"",{"$f":"IFERROR(SMALL($AD$4:$AD$1642,ROWS($AD$4:AD1535)),\"\")","v":""},null,{"$f":"IFERROR(INDEX($A$4:$R$1642,$AE1535,COLUMNS($A:$B)),\"\")","v":""},{"$f":"IFERROR(INDEX($A$4:$R$1642,$AE1535,COLUMNS($A:$C)),\"\")","v":""},{"$f":"IFERROR(INDEX($A$4:$R$1642,$AE1535,COLUMNS($A:$R)),\"\")","v":""},null,null,null,null,null,null,null,null,191]
[null,null,null,null,null,null,null,{"$f":"IF(I1536<0,\"a detrarre\",\"\")","v":""},{"$f":"SUMIF(I1531:I1534,\"<0\")","v":0},null,null,null,null,null,null,null,null,null,{"$f":"R1535","v":""},null,null,{"$f":"VLOOKUP(B1531,#REF!,4,FALSE)","v":{"$error":"#REF!"}},null,null,2,0,null,"",{"$f":"ROWS($AC$4:AC1536)","v":1533},"",{"$f":"IFERROR(SMALL($AD$4:$AD$1642,ROWS($AD$4:AD1536)),\"\")","v":""},null,{"$f":"IFERROR(INDEX($A$4:$R$1642,$AE1536,COLUMNS($A:$B)),\"\")","v":""},{"$f":"IFERROR(INDEX($A$4:$R$1642,$AE1536,COLUMNS($A:$C)),\"\")","v":""},{"$f":"IFERROR(INDEX($A$4:$R$1642,$AE1536,COLUMNS($A:$R)),\"\")","v":""},null,null,null,null,null,null,null,null,191]
[null,null,null,null,null,null,null,null,null,null,null,null,null,null,null,null,null,null,null,null,null,null,null,null,2,0,null,"",{"$f":"ROWS($AC$4:AC1537)","v":1534},"",{"$f":"IFERROR(SMALL($AD$4:$AD$1642,ROWS($AD$4:AD1537)),\"\")","v":""},null,{"$f":"IFERROR(INDEX($A$4:$R$1642,$AE1537,COLUMNS($A:$B)),\"\")","v":""},{"$f":"IFERROR(INDEX($A$4:$R$1642,$AE1537,COLUMNS($A:$C)),\"\")","v":""},{"$f":"IFERROR(INDEX($A$4:$R$1642,$AE1537,COLUMNS($A:$R)),\"\")","v":""},null,null,null,null,null,null,null,null,191]
[null,null,null,null,null,null,null,null,null,null,null,null,null,null,null,null,null,null,null,null,null,null,null,null,2,0,null,"",{"$f":"ROWS($AC$4:AC1538)","v":1535},"",{"$f":"IFERROR(SMALL($AD$4:$AD$1642,ROWS($AD$4:AD1538)),\"\")","v":""},null,{"$f":"IFERROR(INDEX($A$4:$R$1642,$AE1538,COLUMNS($A:$B)),\"\")","v":""},{"$f":"IFERROR(INDEX($A$4:$R$1642,$AE1538,COLUMNS($A:$C)),\"\")","v":""},{"$f":"IFERROR(INDEX($A$4:$R$1642,$AE1538,COLUMNS($A:$R)),\"\")","v":""},null,null,null,null,null,null,null,null,191]
[{"$f":"AR1539","v":192},null,{"$f":"(VLOOKUP($B1539,'Elenco Prezzi2'!$A$2:$E$201,2,FALSE))","v":{"$error":"#N/A"}},null,null,null,null,null,null,null,null,null,null,null,null,null,null,null,null,null,null,null,null,null,2,0,null,"",{"$f":"ROWS($AC$4:AC1539)","v":1536},"",{"$f":"IFERROR(SMALL($AD$4:$AD$1642,ROWS($AD$4:AD1539)),\"\")","v":""},null,{"$f":"IFERROR(INDEX($A$4:$R$1642,$AE1539,COLUMNS($A:$B)),\"\")","v":""},{"$f":"IFERROR(INDEX($A$4:$R$1642,$AE1539,COLUMNS($A:$C)),\"\")","v":""},{"$f":"IFERROR(INDEX($A$4:$R$1642,$AE1539,COLUMNS($A:$R)),\"\")","v":""},null,null,null,null,null,null,null,1,192]
[null,null,null,{"$f":"CONCATENATE(AK1540&AL1540&AM1540&AN1540)","v":""},null,null,null,null,{"$f":"IFERROR(IF(PRODUCT(E1540:H1540)=0,\"\",PRODUCT(E1540:H1540)),\"\")","v":""},{"$f":"I1540","v":""},null,{"$f":"IF(E1540>0,\" (p/u) \"&Modulo2.GetFormula(E1540),\"\")","v":""},{"$f":"IF(F1540>0,\" (lu) \"&Modulo2.GetFormula(F1540),\"\")","v":""},{"$f":"IF(G1540>0,\" (la) \"&Modulo2.GetFormula(G1540),\"\")","v":""},{"$f":"IF(H1540>0,\" (H) \"&Modulo2.GetFormula(H1540),\"\")","v":""},null,null,null,null,null,null,null,null,null,2,0,null,"",{"$f":"ROWS($AC$4:AC1540)","v":1537},"",{"$f":"IFERROR(SMALL($AD$4:$AD$1642,ROWS($AD$4:AD1540)),\"\")","v":""},null,{"$f":"IFERROR(INDEX($A$4:$R$1642,$AE1540,COLUMNS($A:$B)),\"\")","v":""},{"$f":"IFERROR(INDEX($A$4:$R$1642,$AE1540,COLUMNS($A:$C)),\"\")","v":""},{"$f":"IFERROR(INDEX($A$4:$R$1642,$AE1540,COLUMNS($A:$R)),\"\")","v":""},null,{"$f":"IFERROR(IF(SEARCH(\"=\",L1540),L1540,\"\"),\"\")","v":""},{"$f":"IFERROR(IF(SEARCH(\"=\",M1540),M1540,\"\"),\"\")","v":""},{"$f":"IFERROR(IF(SEARCH(\"=\",N1540),N1540,\"\"),\"\")","v":""},{"$f":"IFERROR(IF(SEARCH(\"=\",O1540),O1540,\"\"),\"\")","v":""},null,null,null,192]
[null,null,null,"",null,null,null,null,"","",null,{"$f":"IF(E1541>0,\" (p/u) \"&Modulo2.GetFormula(E1541),\"\")","v":""},{"$f":"IF(F1541>0,\" (lu) \"&Modulo2.GetFormula(F1541),\"\")","v":""},{"$f":"IF(G1541>0,\" (la) \"&Modulo2.GetFormula(G1541),\"\")","v":""},{"$f":"IF(H1541>0,\" (H) \"&Modulo2.GetFormula(H1541),\"\")","v":""},null,null,null,null,null,null,null,null,null,2,0,null,"",{"$f":"ROWS($AC$4:AC1541)","v":1538},"",{"$f":"IFERROR(SMALL($AD$4:$AD$1642,ROWS($AD$4:AD1541)),\"\")","v":""},null,{"$f":"IFERROR(INDEX($A$4:$R$1642,$AE1541,COLUMNS($A:$B)),\"\")","v":""},{"$f":"IFERROR(INDEX($A$4:$R$1642,$AE1541,COLUMNS($A:$C)),\"\")","v":""},{"$f":"IFERROR(INDEX($A$4:$R$1642,$AE1541,COLUMNS($A:$R)),\"\")","v":""},null,"","","","",null,null,null,192]
[null,null,null,"",null,null,null,null,"","",null,{"$f":"IF(E1542>0,\" (p/u) \"&Modulo2.GetFormula(E1542),\"\")","v":""},{"$f":"IF(F1542>0,\" (lu) \"&Modulo2.GetFormula(F1542),\"\")","v":""},{"$f":"IF(G1542>0,\" (la) \"&Modulo2.GetFormula(G1542),\"\")","v":""},{"$f":"IF(H1542>0,\" (H) \"&Modulo2.GetFormula(H1542),\"\")","v":""},null,null,null,null,null,null,null,null,null,2,0,null,"",{"$f":"ROWS($AC$4:AC1542)","v":1539},"",{"$f":"IFERROR(SMALL($AD$4:$AD$1642,ROWS($AD$4:AD1542)),\"\")","v":""},null,{"$f":"IFERROR(INDEX($A$4:$R$1642,$AE1542,COLUMNS($A:$B)),\"\")","v":""},{"$f":"IFERROR(INDEX($A$4:$R$1642,$AE1542,COLUMNS($A:$C)),\"\")","v":""},{"$f":"IFERROR(INDEX($A$4:$R$1642,$AE1542,COLUMNS($A:$R)),\"\")","v":""},null,"","","","",null,null,null,192]
[null,null,null,null,null,null,null,{"$f":"CONCATENATE(\"SOMMANO [\",VLOOKUP(B1539,'Elenco Prezzi2'!$A$2:$E$201,3,FALSE()),\"]\")","v":{"$error":"#N/A"}},{"$f":"IF(T1543=\"s\",V1544,SUBTOTAL(9,I1539:I1543))","v":{"$error":"#REF!"}},null,{"$f":"VLOOKUP(B1539,'Elenco Prezzi2'!$A$2:$E$201,5,FALSE)","v":{"$error":"#N/A"}},null,null,null,null,null,null,{"$f":"IFERROR(I1543*K1543,\"\")","v":""},null,"s",null,null,null,{"$f":"R1543","v":""},2,0,null,"",{"$f":"ROWS($AC$4:AC1543)","v":1540},"",{"$f":"IFERROR(SMALL($AD$4:$AD$1642,ROWS($AD$4:AD1543)),\"\")","v":""},null,{"$f":"IFERROR(INDEX($A$4:$R$1642,$AE1543,COLUMNS($A:$B)),\"\")","v":""},{"$f":"IFERROR(INDEX($A$4:$R$1642,$AE1543,COLUMNS($A:$C)),\"\")","v":""},{"$f":"IFERROR(INDEX($A$4:$R$1642,$AE1543,COLUMNS($A:$R)),\"\")","v":""},null,null,null,null,null,null,null,null,192]
[null,null,null,null,null,null,null,{"$f":"IF(I1544<0,\"a detrarre\",\"\")","v":""},{"$f":"SUMIF(I1539:I1542,\"<0\")","v":0},null,null,null,null,null,null,null,null,null,{"$f":"R1543","v":""},null,null,{"$f":"VLOOKUP(B1539,#REF!,4,FALSE)","v":{"$error":"#REF!"}},null,null,2,0,null,"",{"$f":"ROWS($AC$4:AC1544)","v":1541},"",{"$f":"IFERROR(SMALL($AD$4:$AD$1642,ROWS($AD$4:AD1544)),\"\")","v":""},null,{"$f":"IFERROR(INDEX($A$4:$R$1642,$AE1544,COLUMNS($A:$B)),\"\")","v":""},{"$f":"IFERROR(INDEX($A$4:$R$1642,$AE1544,COLUMNS($A:$C)),\"\")","v":""},{"$f":"IFERROR(INDEX($A$4:$R$1642,$AE1544,COLUMNS($A:$R)),\"\")","v":""},null,null,null,null,null,null,null,null,192]
[null,null,null,null,null,null,null,null,null,null,null,null,null,null,null,null,null,null,null,null,null,null,null,null,2,0,null,"",{"$f":"ROWS($AC$4:AC1545)","v":1542},"",{"$f":"IFERROR(SMALL($AD$4:$AD$1642,ROWS($AD$4:AD1545)),\"\")","v":""},null,{"$f":"IFERROR(INDEX($A$4:$R$1642,$AE1545,COLUMNS($A:$B)),\"\")","v":""},{"$f":"IFERROR(INDEX($A$4:$R$1642,$AE1545,COLUMNS($A:$C)),\"\")","v":""},{"$f":"IFERROR(INDEX($A$4:$R$1642,$AE1545,COLUMNS($A:$R)),\"\")","v":""},null,null,null,null,null,null,null,null,192]
[null,null,null,null,null,null,null,null,null,null,null,null,null,null,null,null,null,null,null,null,null,null,null,null,2,0,null,"",{"$f":"ROWS($AC$4:AC1546)","v":1543},"",{"$f":"IFERROR(SMALL($AD$4:$AD$1642,ROWS($AD$4:AD1546)),\"\")","v":""},null,{"$f":"IFERROR(INDEX($A$4:$R$1642,$AE1546,COLUMNS($A:$B)),\"\")","v":""},{"$f":"IFERROR(INDEX($A$4:$R$1642,$AE1546,COLUMNS($A:$C)),\"\")","v":""},{"$f":"IFERROR(INDEX($A$4:$R$1642,$AE1546,COLUMNS($A:$R)),\"\")","v":""},null,null,null,null,null,null,null,null,192]
[{"$f":"AR1547","v":193},null,{"$f":"(VLOOKUP($B1547,'Elenco Prezzi2'!$A$2:$E$201,2,FALSE))","v":{"$error":"#N/A"}},null,null,null,null,null,null,null,null,null,null,null,null,null,null,null,null,null,null,null,null,null,2,0,null,"",{"$f":"ROWS($AC$4:AC1547)","v":1544},"",{"$f":"IFERROR(SMALL($AD$4:$AD$1642,ROWS($AD$4:AD1547)),\"\")","v":""},null,{"$f":"IFERROR(INDEX($A$4:$R$1642,$AE1547,COLUMNS($A:$B)),\"\")","v":""},{"$f":"IFERROR(INDEX($A$4:$R$1642,$AE1547,COLUMNS($A:$C)),\"\")","v":""},{"$f":"IFERROR(INDEX($A$4:$R$1642,$AE1547,COLUMNS($A:$R)),\"\")","v":""},null,null,null,null,null,null,null,1,193]
[null,null,null,{"$f":"CONCATENATE(AK1548&AL1548&AM1548&AN1548)","v":""},null,null,null,null,{"$f":"IFERROR(IF(PRODUCT(E1548:H1548)=0,\"\",PRODUCT(E1548:H1548)),\"\")","v":""},{"$f":"I1548","v":""},null,{"$f":"IF(E1548>0,\" (p/u) \"&Modulo2.GetFormula(E1548),\"\")","v":""},{"$f":"IF(F1548>0,\" (lu) \"&Modulo2.GetFormula(F1548),\"\")","v":""},{"$f":"IF(G1548>0,\" (la) \"&Modulo2.GetFormula(G1548),\"\")","v":""},{"$f":"IF(H1548>0,\" (H) \"&Modulo2.GetFormula(H1548),\"\")","v":""},null,null,null,null,null,null,null,null,null,2,0,null,"",{"$f":"ROWS($AC$4:AC1548)","v":1545},"",{"$f":"IFERROR(SMALL($AD$4:$AD$1642,ROWS($AD$4:AD1548)),\"\")","v":""},null,{"$f":"IFERROR(INDEX($A$4:$R$1642,$AE1548,COLUMNS($A:$B)),\"\")","v":""},{"$f":"IFERROR(INDEX($A$4:$R$1642,$AE1548,COLUMNS($A:$C)),\"\")","v":""},{"$f":"IFERROR(INDEX($A$4:$R$1642,$AE1548,COLUMNS($A:$R)),\"\")","v":""},null,{"$f":"IFERROR(IF(SEARCH(\"=\",L1548),L1548,\"\"),\"\")","v":""},{"$f":"IFERROR(IF(SEARCH(\"=\",M1548),M1548,\"\"),\"\")","v":""},{"$f":"IFERROR(IF(SEARCH(\"=\",N1548),N1548,\"\"),\"\")","v":""},{"$f":"IFERROR(IF(SEARCH(\"=\",O1548),O1548,\"\"),\"\")","v":""},null,null,null,193]
[null,null,null,"",null,null,null,null,"","",null,{"$f":"IF(E1549>0,\" (p/u) \"&Modulo2.GetFormula(E1549),\"\")","v":""},{"$f":"IF(F1549>0,\" (lu) \"&Modulo2.GetFormula(F1549),\"\")","v":""},{"$f":"IF(G1549>0,\" (la) \"&Modulo2.GetFormula(G1549),\"\")","v":""},{"$f":"IF(H1549>0,\" (H) \"&Modulo2.GetFormula(H1549),\"\")","v":""},null,null,null,null,null,null,null,null,null,2,0,null,"",{"$f":"ROWS($AC$4:AC1549)","v":1546},"",{"$f":"IFERROR(SMALL($AD$4:$AD$1642,ROWS($AD$4:AD1549)),\"\")","v":""},null,{"$f":"IFERROR(INDEX($A$4:$R$1642,$AE1549,COLUMNS($A:$B)),\"\")","v":""},{"$f":"IFERROR(INDEX($A$4:$R$1642,$AE1549,COLUMNS($A:$C)),\"\")","v":""},{"$f":"IFERROR(INDEX($A$4:$R$1642,$AE1549,COLUMNS($A:$R)),\"\")","v":""},null,"","","","",null,null,null,193]
[null,null,null,"",null,null,null,null,"","",null,{"$f":"IF(E1550>0,\" (p/u) \"&Modulo2.GetFormula(E1550),\"\")","v":""},{"$f":"IF(F1550>0,\" (lu) \"&Modulo2.GetFormula(F1550),\"\")","v":""},{"$f":"IF(G1550>0,\" (la) \"&Modulo2.GetFormula(G1550),\"\")","v":""},{"$f":"IF(H1550>0,\" (H) \"&Modulo2.GetFormula(H1550),\"\")","v":""},null,null,null,null,null,null,null,null,null,2,0,null,"",{"$f":"ROWS($AC$4:AC1550)","v":1547},"",{"$f":"IFERROR(SMALL($AD$4:$AD$1642,ROWS($AD$4:AD1550)),\"\")","v":""},null,{"$f":"IFERROR(INDEX($A$4:$R$1642,$AE1550,COLUMNS($A:$B)),\"\")","v":""},{"$f":"IFERROR(INDEX($A$4:$R$1642,$AE1550,COLUMNS($A:$C)),\"\")","v":""},{"$f":"IFERROR(INDEX($A$4:$R$1642,$AE1550,COLUMNS($A:$R)),\"\")","v":""},null,"","","","",null,null,null,193]
[null,null,null,null,null,null,null,{"$f":"CONCATENATE(\"SOMMANO [\",VLOOKUP(B1547,'Elenco Prezzi2'!$A$2:$E$201,3,FALSE()),\"]\")","v":{"$error":"#N/A"}},{"$f":"IF(T1551=\"s\",V1552,SUBTOTAL(9,I1547:I1551))","v":{"$error":"#REF!"}},null,{"$f":"VLOOKUP(B1547,'Elenco Prezzi2'!$A$2:$E$201,5,FALSE)","v":{"$error":"#N/A"}},null,null,null,null,null,null,{"$f":"IFERROR(I1551*K1551,\"\")","v":""},null,"s",null,null,null,{"$f":"R1551","v":""},2,0,null,"",{"$f":"ROWS($AC$4:AC1551)","v":1548},"",{"$f":"IFERROR(SMALL($AD$4:$AD$1642,ROWS($AD$4:AD1551)),\"\")","v":""},null,{"$f":"IFERROR(INDEX($A$4:$R$1642,$AE1551,COLUMNS($A:$B)),\"\")","v":""},{"$f":"IFERROR(INDEX($A$4:$R$1642,$AE1551,COLUMNS($A:$C)),\"\")","v":""},{"$f":"IFERROR(INDEX($A$4:$R$1642,$AE1551,COLUMNS($A:$R)),\"\")","v":""},null,null,null,null,null,null,null,null,193]
[null,null,null,null,null,null,null,{"$f":"IF(I1552<0,\"a detrarre\",\"\")","v":""},{"$f":"SUMIF(I1547:I1550,\"<0\")","v":0},null,null,null,null,null,null,null,null,null,{"$f":"R1551","v":""},null,null,{"$f":"VLOOKUP(B1547,#REF!,4,FALSE)","v":{"$error":"#REF!"}},null,null,2,0,null,"",{"$f":"ROWS($AC$4:AC1552)","v":1549},"",{"$f":"IFERROR(SMALL($AD$4:$AD$1642,ROWS($AD$4:AD1552)),\"\")","v":""},null,{"$f":"IFERROR(INDEX($A$4:$R$1642,$AE1552,COLUMNS($A:$B)),\"\")","v":""},{"$f":"IFERROR(INDEX($A$4:$R$1642,$AE1552,COLUMNS($A:$C)),\"\")","v":""},{"$f":"IFERROR(INDEX($A$4:$R$1642,$AE1552,COLUMNS($A:$R)),\"\")","v":""},null,null,null,null,null,null,null,null,193]
[null,null,null,null,null,null,null,null,null,null,null,null,null,null,null,null,null,null,null,null,null,null,null,null,2,0,null,"",{"$f":"ROWS($AC$4:AC1553)","v":1550},"",{"$f":"IFERROR(SMALL($AD$4:$AD$1642,ROWS($AD$4:AD1553)),\"\")","v":""},null,{"$f":"IFERROR(INDEX($A$4:$R$1642,$AE1553,COLUMNS($A:$B)),\"\")","v":""},{"$f":"IFERROR(INDEX($A$4:$R$1642,$AE1553,COLUMNS($A:$C)),\"\")","v":""},{"$f":"IFERROR(INDEX($A$4:$R$1642,$AE1553,COLUMNS($A:$R)),\"\")","v":""},null,null,null,null,null,null,null,null,193]
[null,null,null,null,null,null,null,null,null,null,null,null,null,null,null,null,null,null,null,null,null,null,null,null,2,0,null,"",{"$f":"ROWS($AC$4:AC1554)","v":1551},"",{"$f":"IFERROR(SMALL($AD$4:$AD$1642,ROWS($AD$4:AD1554)),\"\")","v":""},null,{"$f":"IFERROR(INDEX($A$4:$R$1642,$AE1554,COLUMNS($A:$B)),\"\")","v":""},{"$f":"IFERROR(INDEX($A$4:$R$1642,$AE1554,COLUMNS($A:$C)),\"\")","v":""},{"$f":"IFERROR(INDEX($A$4:$R$1642,$AE1554,COLUMNS($A:$R)),\"\")","v":""},null,null,null,null,null,null,null,null,193]
[{"$f":"AR1555","v":194},null,{"$f":"(VLOOKUP($B1555,'Elenco Prezzi2'!$A$2:$E$201,2,FALSE))","v":{"$error":"#N/A"}},null,null,null,null,null,null,null,null,null,null,null,null,null,null,null,null,null,null,null,null,null,2,0,null,"",{"$f":"ROWS($AC$4:AC1555)","v":1552},"",{"$f":"IFERROR(SMALL($AD$4:$AD$1642,ROWS($AD$4:AD1555)),\"\")","v":""},null,{"$f":"IFERROR(INDEX($A$4:$R$1642,$AE1555,COLUMNS($A:$B)),\"\")","v":""},{"$f":"IFERROR(INDEX($A$4:$R$1642,$AE1555,COLUMNS($A:$C)),\"\")","v":""},{"$f":"IFERROR(INDEX($A$4:$R$1642,$AE1555,COLUMNS($A:$R)),\"\")","v":""},null,null,null,null,null,null,null,1,194]
[null,null,null,{"$f":"CONCATENATE(AK1556&AL1556&AM1556&AN1556)","v":""},null,null,null,null,{"$f":"IFERROR(IF(PRODUCT(E1556:H1556)=0,\"\",PRODUCT(E1556:H1556)),\"\")","v":""},{"$f":"I1556","v":""},null,{"$f":"IF(E1556>0,\" (p/u) \"&Modulo2.GetFormula(E1556),\"\")","v":""},{"$f":"IF(F1556>0,\" (lu) \"&Modulo2.GetFormula(F1556),\"\")","v":""},{"$f":"IF(G1556>0,\" (la) \"&Modulo2.GetFormula(G1556),\"\")","v":""},{"$f":"IF(H1556>0,\" (H) \"&Modulo2.GetFormula(H1556),\"\")","v":""},null,null,null,null,null,null,null,null,null,2,0,null,"",{"$f":"ROWS($AC$4:AC1556)","v":1553},"",{"$f":"IFERROR(SMALL($AD$4:$AD$1642,ROWS($AD$4:AD1556)),\"\")","v":""},null,{"$f":"IFERROR(INDEX($A$4:$R$1642,$AE1556,COLUMNS($A:$B)),\"\")","v":""},{"$f":"IFERROR(INDEX($A$4:$R$1642,$AE1556,COLUMNS($A:$C)),\"\")","v":""},{"$f":"IFERROR(INDEX($A$4:$R$1642,$AE1556,COLUMNS($A:$R)),\"\")","v":""},null,{"$f":"IFERROR(IF(SEARCH(\"=\",L1556),L1556,\"\"),\"\")","v":""},{"$f":"IFERROR(IF(SEARCH(\"=\",M1556),M1556,\"\"),\"\")","v":""},{"$f":"IFERROR(IF(SEARCH(\"=\",N1556),N1556,\"\"),\"\")","v":""},{"$f":"IFERROR(IF(SEARCH(\"=\",O1556),O1556,\"\"),\"\")","v":""},null,null,null,194]
[null,null,null,"",null,null,null,null,"","",null,{"$f":"IF(E1557>0,\" (p/u) \"&Modulo2.GetFormula(E1557),\"\")","v":""},{"$f":"IF(F1557>0,\" (lu) \"&Modulo2.GetFormula(F1557),\"\")","v":""},{"$f":"IF(G1557>0,\" (la) \"&Modulo2.GetFormula(G1557),\"\")","v":""},{"$f":"IF(H1557>0,\" (H) \"&Modulo2.GetFormula(H1557),\"\")","v":""},null,null,null,null,null,null,null,null,null,2,0,null,"",{"$f":"ROWS($AC$4:AC1557)","v":1554},"",{"$f":"IFERROR(SMALL($AD$4:$AD$1642,ROWS($AD$4:AD1557)),\"\")","v":""},null,{"$f":"IFERROR(INDEX($A$4:$R$1642,$AE1557,COLUMNS($A:$B)),\"\")","v":""},{"$f":"IFERROR(INDEX($A$4:$R$1642,$AE1557,COLUMNS($A:$C)),\"\")","v":""},{"$f":"IFERROR(INDEX($A$4:$R$1642,$AE1557,COLUMNS($A:$R)),\"\")","v":""},null,"","","","",null,null,null,194]
[null,null,null,"",null,null,null,null,"","",null,{"$f":"IF(E1558>0,\" (p/u) \"&Modulo2.GetFormula(E1558),\"\")","v":""},{"$f":"IF(F1558>0,\" (lu) \"&Modulo2.GetFormula(F1558),\"\")","v":""},{"$f":"IF(G1558>0,\" (la) \"&Modulo2.GetFormula(G1558),\"\")","v":""},{"$f":"IF(H1558>0,\" (H) \"&Modulo2.GetFormula(H1558),\"\")","v":""},null,null,null,null,null,null,null,null,null,2,0,null,"",{"$f":"ROWS($AC$4:AC1558)","v":1555},"",{"$f":"IFERROR(SMALL($AD$4:$AD$1642,ROWS($AD$4:AD1558)),\"\")","v":""},null,{"$f":"IFERROR(INDEX($A$4:$R$1642,$AE1558,COLUMNS($A:$B)),\"\")","v":""},{"$f":"IFERROR(INDEX($A$4:$R$1642,$AE1558,COLUMNS($A:$C)),\"\")","v":""},{"$f":"IFERROR(INDEX($A$4:$R$1642,$AE1558,COLUMNS($A:$R)),\"\")","v":""},null,"","","","",null,null,null,194]
[null,null,null,null,null,null,null,{"$f":"CONCATENATE(\"SOMMANO [\",VLOOKUP(B1555,'Elenco Prezzi2'!$A$2:$E$201,3,FALSE()),\"]\")","v":{"$error":"#N/A"}},{"$f":"IF(T1559=\"s\",V1560,SUBTOTAL(9,I1555:I1559))","v":{"$error":"#REF!"}},null,{"$f":"VLOOKUP(B1555,'Elenco Prezzi2'!$A$2:$E$201,5,FALSE)","v":{"$error":"#N/A"}},null,null,null,null,null,null,{"$f":"IFERROR(I1559*K1559,\"\")","v":""},null,"s",null,null,null,{"$f":"R1559","v":""},2,0,null,"",{"$f":"ROWS($AC$4:AC1559)","v":1556},"",{"$f":"IFERROR(SMALL($AD$4:$AD$1642,ROWS($AD$4:AD1559)),\"\")","v":""},null,{"$f":"IFERROR(INDEX($A$4:$R$1642,$AE1559,COLUMNS($A:$B)),\"\")","v":""},{"$f":"IFERROR(INDEX($A$4:$R$1642,$AE1559,COLUMNS($A:$C)),\"\")","v":""},{"$f":"IFERROR(INDEX($A$4:$R$1642,$AE1559,COLUMNS($A:$R)),\"\")","v":""},null,null,null,null,null,null,null,null,194]
[null,null,null,null,null,null,null,{"$f":"IF(I1560<0,\"a detrarre\",\"\")","v":""},{"$f":"SUMIF(I1555:I1558,\"<0\")","v":0},null,null,null,null,null,null,null,null,null,{"$f":"R1559","v":""},null,null,{"$f":"VLOOKUP(B1555,#REF!,4,FALSE)","v":{"$error":"#REF!"}},null,null,2,0,null,"",{"$f":"ROWS($AC$4:AC1560)","v":1557},"",{"$f":"IFERROR(SMALL($AD$4:$AD$1642,ROWS($AD$4:AD1560)),\"\")","v":""},null,{"$f":"IFERROR(INDEX($A$4:$R$1642,$AE1560,COLUMNS($A:$B)),\"\")","v":""},{"$f":"IFERROR(INDEX($A$4:$R$1642,$AE1560,COLUMNS($A:$C)),\"\")","v":""},{"$f":"IFERROR(INDEX($A$4:$R$1642,$AE1560,COLUMNS($A:$R)),\"\")","v":""},null,null,null,null,null,null,null,null,194]
[null,null,null,null,null,null,null,null,null,null,null,null,null,null,null,null,null,null,null,null,null,null,null,null,2,0,null,"",{"$f":"ROWS($AC$4:AC1561)","v":1558},"",{"$f":"IFERROR(SMALL($AD$4:$AD$1642,ROWS($AD$4:AD1561)),\"\")","v":""},null,{"$f":"IFERROR(INDEX($A$4:$R$1642,$AE1561,COLUMNS($A:$B)),\"\")","v":""},{"$f":"IFERROR(INDEX($A$4:$R$1642,$AE1561,COLUMNS($A:$C)),\"\")","v":""},{"$f":"IFERROR(INDEX($A$4:$R$1642,$AE1561,COLUMNS($A:$R)),\"\")","v":""},null,null,null,null,null,null,null,null,194]
[null,null,null,null,null,null,null,null,null,null,null,null,null,null,null,null,null,null,null,null,null,null,null,null,2,0,null,"",{"$f":"ROWS($AC$4:AC1562)","v":1559},"",{"$f":"IFERROR(SMALL($AD$4:$AD$1642,ROWS($AD$4:AD1562)),\"\")","v":""},null,{"$f":"IFERROR(INDEX($A$4:$R$1642,$AE1562,COLUMNS($A:$B)),\"\")","v":""},{"$f":"IFERROR(INDEX($A$4:$R$1642,$AE1562,COLUMNS($A:$C)),\"\")","v":""},{"$f":"IFERROR(INDEX($A$4:$R$1642,$AE1562,COLUMNS($A:$R)),\"\")","v":""},null,null,null,null,null,null,null,null,194]
[{"$f":"AR1563","v":195},null,{"$f":"(VLOOKUP($B1563,'Elenco Prezzi2'!$A$2:$E$201,2,FALSE))","v":{"$error":"#N/A"}},null,null,null,null,null,null,null,null,null,null,null,null,null,null,null,null,null,null,null,null,null,2,0,null,"",{"$f":"ROWS($AC$4:AC1563)","v":1560},"",{"$f":"IFERROR(SMALL($AD$4:$AD$1642,ROWS($AD$4:AD1563)),\"\")","v":""},null,{"$f":"IFERROR(INDEX($A$4:$R$1642,$AE1563,COLUMNS($A:$B)),\"\")","v":""},{"$f":"IFERROR(INDEX($A$4:$R$1642,$AE1563,COLUMNS($A:$C)),\"\")","v":""},{"$f":"IFERROR(INDEX($A$4:$R$1642,$AE1563,COLUMNS($A:$R)),\"\")","v":""},null,null,null,null,null,null,null,1,195]
[null,null,null,{"$f":"CONCATENATE(AK1564&AL1564&AM1564&AN1564)","v":""},null,null,null,null,{"$f":"IFERROR(IF(PRODUCT(E1564:H1564)=0,\"\",PRODUCT(E1564:H1564)),\"\")","v":""},{"$f":"I1564","v":""},null,{"$f":"IF(E1564>0,\" (p/u) \"&Modulo2.GetFormula(E1564),\"\")","v":""},{"$f":"IF(F1564>0,\" (lu) \"&Modulo2.GetFormula(F1564),\"\")","v":""},{"$f":"IF(G1564>0,\" (la) \"&Modulo2.GetFormula(G1564),\"\")","v":""},{"$f":"IF(H1564>0,\" (H) \"&Modulo2.GetFormula(H1564),\"\")","v":""},null,null,null,null,null,null,null,null,null,2,0,null,"",{"$f":"ROWS($AC$4:AC1564)","v":1561},"",{"$f":"IFERROR(SMALL($AD$4:$AD$1642,ROWS($AD$4:AD1564)),\"\")","v":""},null,{"$f":"IFERROR(INDEX($A$4:$R$1642,$AE1564,COLUMNS($A:$B)),\"\")","v":""},{"$f":"IFERROR(INDEX($A$4:$R$1642,$AE1564,COLUMNS($A:$C)),\"\")","v":""},{"$f":"IFERROR(INDEX($A$4:$R$1642,$AE1564,COLUMNS($A:$R)),\"\")","v":""},null,{"$f":"IFERROR(IF(SEARCH(\"=\",L1564),L1564,\"\"),\"\")","v":""},{"$f":"IFERROR(IF(SEARCH(\"=\",M1564),M1564,\"\"),\"\")","v":""},{"$f":"IFERROR(IF(SEARCH(\"=\",N1564),N1564,\"\"),\"\")","v":""},{"$f":"IFERROR(IF(SEARCH(\"=\",O1564),O1564,\"\"),\"\")","v":""},null,null,null,195]
[null,null,null,"",null,null,null,null,"","",null,{"$f":"IF(E1565>0,\" (p/u) \"&Modulo2.GetFormula(E1565),\"\")","v":""},{"$f":"IF(F1565>0,\" (lu) \"&Modulo2.GetFormula(F1565),\"\")","v":""},{"$f":"IF(G1565>0,\" (la) \"&Modulo2.GetFormula(G1565),\"\")","v":""},{"$f":"IF(H1565>0,\" (H) \"&Modulo2.GetFormula(H1565),\"\")","v":""},null,null,null,null,null,null,null,null,null,2,0,null,"",{"$f":"ROWS($AC$4:AC1565)","v":1562},"",{"$f":"IFERROR(SMALL($AD$4:$AD$1642,ROWS($AD$4:AD1565)),\"\")","v":""},null,{"$f":"IFERROR(INDEX($A$4:$R$1642,$AE1565,COLUMNS($A:$B)),\"\")","v":""},{"$f":"IFERROR(INDEX($A$4:$R$1642,$AE1565,COLUMNS($A:$C)),\"\")","v":""},{"$f":"IFERROR(INDEX($A$4:$R$1642,$AE1565,COLUMNS($A:$R)),\"\")","v":""},null,"","","","",null,null,null,195]
[null,null,null,"",null,null,null,null,"","",null,{"$f":"IF(E1566>0,\" (p/u) \"&Modulo2.GetFormula(E1566),\"\")","v":""},{"$f":"IF(F1566>0,\" (lu) \"&Modulo2.GetFormula(F1566),\"\")","v":""},{"$f":"IF(G1566>0,\" (la) \"&Modulo2.GetFormula(G1566),\"\")","v":""},{"$f":"IF(H1566>0,\" (H) \"&Modulo2.GetFormula(H1566),\"\")","v":""},null,null,null,null,null,null,null,null,null,2,0,null,"",{"$f":"ROWS($AC$4:AC1566)","v":1563},"",{"$f":"IFERROR(SMALL($AD$4:$AD$1642,ROWS($AD$4:AD1566)),\"\")","v":""},null,{"$f":"IFERROR(INDEX($A$4:$R$1642,$AE1566,COLUMNS($A:$B)),\"\")","v":""},{"$f":"IFERROR(INDEX($A$4:$R$1642,$AE1566,COLUMNS($A:$C)),\"\")","v":""},{"$f":"IFERROR(INDEX($A$4:$R$1642,$AE1566,COLUMNS($A:$R)),\"\")","v":""},null,"","","","",null,null,null,195]
[null,null,null,null,null,null,null,{"$f":"CONCATENATE(\"SOMMANO [\",VLOOKUP(B1563,'Elenco Prezzi2'!$A$2:$E$201,3,FALSE()),\"]\")","v":{"$error":"#N/A"}},{"$f":"IF(T1567=\"s\",V1568,SUBTOTAL(9,I1563:I1567))","v":{"$error":"#REF!"}},null,{"$f":"VLOOKUP(B1563,'Elenco Prezzi2'!$A$2:$E$201,5,FALSE)","v":{"$error":"#N/A"}},null,null,null,null,null,null,{"$f":"IFERROR(I1567*K1567,\"\")","v":""},null,"s",null,null,null,{"$f":"R1567","v":""},2,0,null,"",{"$f":"ROWS($AC$4:AC1567)","v":1564},"",{"$f":"IFERROR(SMALL($AD$4:$AD$1642,ROWS($AD$4:AD1567)),\"\")","v":""},null,{"$f":"IFERROR(INDEX($A$4:$R$1642,$AE1567,COLUMNS($A:$B)),\"\")","v":""},{"$f":"IFERROR(INDEX($A$4:$R$1642,$AE1567,COLUMNS($A:$C)),\"\")","v":""},{"$f":"IFERROR(INDEX($A$4:$R$1642,$AE1567,COLUMNS($A:$R)),\"\")","v":""},null,null,null,null,null,null,null,null,195]
[null,null,null,null,null,null,null,{"$f":"IF(I1568<0,\"a detrarre\",\"\")","v":""},{"$f":"SUMIF(I1563:I1566,\"<0\")","v":0},null,null,null,null,null,null,null,null,null,{"$f":"R1567","v":""},null,null,{"$f":"VLOOKUP(B1563,#REF!,4,FALSE)","v":{"$error":"#REF!"}},null,null,2,0,null,"",{"$f":"ROWS($AC$4:AC1568)","v":1565},"",{"$f":"IFERROR(SMALL($AD$4:$AD$1642,ROWS($AD$4:AD1568)),\"\")","v":""},null,{"$f":"IFERROR(INDEX($A$4:$R$1642,$AE1568,COLUMNS($A:$B)),\"\")","v":""},{"$f":"IFERROR(INDEX($A$4:$R$1642,$AE1568,COLUMNS($A:$C)),\"\")","v":""},{"$f":"IFERROR(INDEX($A$4:$R$1642,$AE1568,COLUMNS($A:$R)),\"\")","v":""},null,null,null,null,null,null,null,null,195]
[null,null,null,null,null,null,null,null,null,null,null,null,null,null,null,null,null,null,null,null,null,null,null,null,2,0,null,"",{"$f":"ROWS($AC$4:AC1569)","v":1566},"",{"$f":"IFERROR(SMALL($AD$4:$AD$1642,ROWS($AD$4:AD1569)),\"\")","v":""},null,{"$f":"IFERROR(INDEX($A$4:$R$1642,$AE1569,COLUMNS($A:$B)),\"\")","v":""},{"$f":"IFERROR(INDEX($A$4:$R$1642,$AE1569,COLUMNS($A:$C)),\"\")","v":""},{"$f":"IFERROR(INDEX($A$4:$R$1642,$AE1569,COLUMNS($A:$R)),\"\")","v":""},null,null,null,null,null,null,null,null,195]
[null,null,null,null,null,null,null,null,null,null,null,null,null,null,null,null,null,null,null,null,null,null,null,null,2,0,null,"",{"$f":"ROWS($AC$4:AC1570)","v":1567},"",{"$f":"IFERROR(SMALL($AD$4:$AD$1642,ROWS($AD$4:AD1570)),\"\")","v":""},null,{"$f":"IFERROR(INDEX($A$4:$R$1642,$AE1570,COLUMNS($A:$B)),\"\")","v":""},{"$f":"IFERROR(INDEX($A$4:$R$1642,$AE1570,COLUMNS($A:$C)),\"\")","v":""},{"$f":"IFERROR(INDEX($A$4:$R$1642,$AE1570,COLUMNS($A:$R)),\"\")","v":""},null,null,null,null,null,null,null,null,195]
[{"$f":"AR1571","v":196},null,{"$f":"(VLOOKUP($B1571,'Elenco Prezzi2'!$A$2:$E$201,2,FALSE))","v":{"$error":"#N/A"}},null,null,null,null,null,null,null,null,null,null,null,null,null,null,null,null,null,null,null,null,null,2,0,null,{"$f":"IF(W1571>0,\"OK\",\"\")","v":""},{"$f":"ROWS($AC$4:AC1571)","v":1568},{"$f":"IF(AB1571=\"ok\",AC1571,\"\")","v":""},{"$f":"IFERROR(SMALL($AD$4:$AD$1642,ROWS($AD$4:AD1571)),\"\")","v":""},null,{"$f":"IFERROR(INDEX($A$4:$R$1642,$AE1571,COLUMNS($A:$B)),\"\")","v":""},{"$f":"IFERROR(INDEX($A$4:$R$1642,$AE1571,COLUMNS($A:$C)),\"\")","v":""},{"$f":"IFERROR(INDEX($A$4:$R$1642,$AE1571,COLUMNS($A:$R)),\"\")","v":""},null,null,null,null,null,null,null,1,{"$f":"IF(AQ1571=\"\",AR1570,AR1570+AQ1571)","v":196}]
[null,null,null,{"$f":"CONCATENATE(AK1572&AL1572&AM1572&AN1572)","v":""},null,null,null,null,{"$f":"IFERROR(IF(PRODUCT(E1572:H1572)=0,\"\",PRODUCT(E1572:H1572)),\"\")","v":""},{"$f":"I1572","v":""},null,{"$f":"IF(E1572>0,\" (p/u) \"&Modulo2.GetFormula(E1572),\"\")","v":""},{"$f":"IF(F1572>0,\" (lu) \"&Modulo2.GetFormula(F1572),\"\")","v":""},{"$f":"IF(G1572>0,\" (la) \"&Modulo2.GetFormula(G1572),\"\")","v":""},{"$f":"IF(H1572>0,\" (H) \"&Modulo2.GetFormula(H1572),\"\")","v":""},null,null,null,null,null,null,null,null,null,{"$f":"IF(AO1572=\"\",Y1571,Y1571+AO1572)","v":2},{"$f":"IF(AP1572=\"\",Z1571,Z1571+AP1572)","v":0},null,"",{"$f":"ROWS($AC$4:AC1572)","v":1569},"",{"$f":"IFERROR(SMALL($AD$4:$AD$1642,ROWS($AD$4:AD1572)),\"\")","v":""},null,{"$f":"IFERROR(INDEX($A$4:$R$1642,$AE1572,COLUMNS($A:$B)),\"\")","v":""},{"$f":"IFERROR(INDEX($A$4:$R$1642,$AE1572,COLUMNS($A:$C)),\"\")","v":""},{"$f":"IFERROR(INDEX($A$4:$R$1642,$AE1572,COLUMNS($A:$R)),\"\")","v":""},null,{"$f":"IFERROR(IF(SEARCH(\"=\",L1572),L1572,\"\"),\"\")","v":""},{"$f":"IFERROR(IF(SEARCH(\"=\",M1572),M1572,\"\"),\"\")","v":""},{"$f":"IFERROR(IF(SEARCH(\"=\",N1572),N1572,\"\"),\"\")","v":""},{"$f":"IFERROR(IF(SEARCH(\"=\",O1572),O1572,\"\"),\"\")","v":""},null,null,null,196]
[null,null,null,"",null,null,null,null,"","",null,{"$f":"IF(E1573>0,\" (p/u) \"&Modulo2.GetFormula(E1573),\"\")","v":""},{"$f":"IF(F1573>0,\" (lu) \"&Modulo2.GetFormula(F1573),\"\")","v":""},{"$f":"IF(G1573>0,\" (la) \"&Modulo2.GetFormula(G1573),\"\")","v":""},{"$f":"IF(H1573>0,\" (H) \"&Modulo2.GetFormula(H1573),\"\")","v":""},null,null,null,null,null,null,null,null,null,2,0,null,"",{"$f":"ROWS($AC$4:AC1573)","v":1570},"",{"$f":"IFERROR(SMALL($AD$4:$AD$1642,ROWS($AD$4:AD1573)),\"\")","v":""},null,{"$f":"IFERROR(INDEX($A$4:$R$1642,$AE1573,COLUMNS($A:$B)),\"\")","v":""},{"$f":"IFERROR(INDEX($A$4:$R$1642,$AE1573,COLUMNS($A:$C)),\"\")","v":""},{"$f":"IFERROR(INDEX($A$4:$R$1642,$AE1573,COLUMNS($A:$R)),\"\")","v":""},null,"","","","",null,null,null,196]
[null,null,null,"",null,null,null,null,"","",null,{"$f":"IF(E1574>0,\" (p/u) \"&Modulo2.GetFormula(E1574),\"\")","v":""},{"$f":"IF(F1574>0,\" (lu) \"&Modulo2.GetFormula(F1574),\"\")","v":""},{"$f":"IF(G1574>0,\" (la) \"&Modulo2.GetFormula(G1574),\"\")","v":""},{"$f":"IF(H1574>0,\" (H) \"&Modulo2.GetFormula(H1574),\"\")","v":""},null,null,null,null,null,null,null,null,null,2,0,null,"",{"$f":"ROWS($AC$4:AC1574)","v":1571},"",{"$f":"IFERROR(SMALL($AD$4:$AD$1642,ROWS($AD$4:AD1574)),\"\")","v":""},null,{"$f":"IFERROR(INDEX($A$4:$R$1642,$AE1574,COLUMNS($A:$B)),\"\")","v":""},{"$f":"IFERROR(INDEX($A$4:$R$1642,$AE1574,COLUMNS($A:$C)),\"\")","v":""},{"$f":"IFERROR(INDEX($A$4:$R$1642,$AE1574,COLUMNS($A:$R)),\"\")","v":""},null,"","","","",null,null,null,196]
[null,null,null,null,null,null,null,{"$f":"CONCATENATE(\"SOMMANO [\",VLOOKUP(B1571,'Elenco Prezzi2'!$A$2:$E$201,3,FALSE()),\"]\")","v":{"$error":"#N/A"}},{"$f":"IF(T1575=\"s\",V1576,SUBTOTAL(9,I1571:I1575))","v":{"$error":"#REF!"}},null,{"$f":"VLOOKUP(B1571,'Elenco Prezzi2'!$A$2:$E$201,5,FALSE)","v":{"$error":"#N/A"}},null,null,null,null,null,null,{"$f":"IFERROR(I1575*K1575,\"\")","v":""},null,"s",null,null,null,{"$f":"R1575","v":""},2,0,null,"",{"$f":"ROWS($AC$4:AC1575)","v":1572},"",{"$f":"IFERROR(SMALL($AD$4:$AD$1642,ROWS($AD$4:AD1575)),\"\")","v":""},null,{"$f":"IFERROR(INDEX($A$4:$R$1642,$AE1575,COLUMNS($A:$B)),\"\")","v":""},{"$f":"IFERROR(INDEX($A$4:$R$1642,$AE1575,COLUMNS($A:$C)),\"\")","v":""},{"$f":"IFERROR(INDEX($A$4:$R$1642,$AE1575,COLUMNS($A:$R)),\"\")","v":""},null,null,null,null,null,null,null,null,196]
[null,null,null,null,null,null,null,{"$f":"IF(I1576<0,\"a detrarre\",\"\")","v":""},{"$f":"SUMIF(I1571:I1574,\"<0\")","v":0},null,null,null,null,null,null,null,null,null,{"$f":"R1575","v":""},null,null,{"$f":"VLOOKUP(B1571,#REF!,4,FALSE)","v":{"$error":"#REF!"}},null,null,2,0,null,"",{"$f":"ROWS($AC$4:AC1576)","v":1573},"",{"$f":"IFERROR(SMALL($AD$4:$AD$1642,ROWS($AD$4:AD1576)),\"\")","v":""},null,{"$f":"IFERROR(INDEX($A$4:$R$1642,$AE1576,COLUMNS($A:$B)),\"\")","v":""},{"$f":"IFERROR(INDEX($A$4:$R$1642,$AE1576,COLUMNS($A:$C)),\"\")","v":""},{"$f":"IFERROR(INDEX($A$4:$R$1642,$AE1576,COLUMNS($A:$R)),\"\")","v":""},null,null,null,null,null,null,null,null,196]
[null,null,null,null,null,null,null,null,null,null,null,null,null,null,null,null,null,null,null,null,null,null,null,null,2,0,null,"",{"$f":"ROWS($AC$4:AC1577)","v":1574},"",{"$f":"IFERROR(SMALL($AD$4:$AD$1642,ROWS($AD$4:AD1577)),\"\")","v":""},null,{"$f":"IFERROR(INDEX($A$4:$R$1642,$AE1577,COLUMNS($A:$B)),\"\")","v":""},{"$f":"IFERROR(INDEX($A$4:$R$1642,$AE1577,COLUMNS($A:$C)),\"\")","v":""},{"$f":"IFERROR(INDEX($A$4:$R$1642,$AE1577,COLUMNS($A:$R)),\"\")","v":""},null,null,null,null,null,null,null,null,196]
[null,null,null,null,null,null,null,null,null,null,null,null,null,null,null,null,null,null,null,null,null,null,null,null,2,0,null,"",{"$f":"ROWS($AC$4:AC1578)","v":1575},"",{"$f":"IFERROR(SMALL($AD$4:$AD$1642,ROWS($AD$4:AD1578)),\"\")","v":""},null,{"$f":"IFERROR(INDEX($A$4:$R$1642,$AE1578,COLUMNS($A:$B)),\"\")","v":""},{"$f":"IFERROR(INDEX($A$4:$R$1642,$AE1578,COLUMNS($A:$C)),\"\")","v":""},{"$f":"IFERROR(INDEX($A$4:$R$1642,$AE1578,COLUMNS($A:$R)),\"\")","v":""},null,null,null,null,null,null,null,null,196]
[{"$f":"AR1579","v":197},null,{"$f":"(VLOOKUP($B1579,'Elenco Prezzi2'!$A$2:$E$201,2,FALSE))","v":{"$error":"#N/A"}},null,null,null,null,null,null,null,null,null,null,null,null,null,null,null,null,null,null,null,null,null,2,0,null,"",{"$f":"ROWS($AC$4:AC1579)","v":1576},"",{"$f":"IFERROR(SMALL($AD$4:$AD$1642,ROWS($AD$4:AD1579)),\"\")","v":""},null,{"$f":"IFERROR(INDEX($A$4:$R$1642,$AE1579,COLUMNS($A:$B)),\"\")","v":""},{"$f":"IFERROR(INDEX($A$4:$R$1642,$AE1579,COLUMNS($A:$C)),\"\")","v":""},{"$f":"IFERROR(INDEX($A$4:$R$1642,$AE1579,COLUMNS($A:$R)),\"\")","v":""},null,null,null,null,null,null,null,1,197]
[null,null,null,{"$f":"CONCATENATE(AK1580&AL1580&AM1580&AN1580)","v":""},null,null,null,null,{"$f":"IFERROR(IF(PRODUCT(E1580:H1580)=0,\"\",PRODUCT(E1580:H1580)),\"\")","v":""},{"$f":"I1580","v":""},null,{"$f":"IF(E1580>0,\" (p/u) \"&Modulo2.GetFormula(E1580),\"\")","v":""},{"$f":"IF(F1580>0,\" (lu) \"&Modulo2.GetFormula(F1580),\"\")","v":""},{"$f":"IF(G1580>0,\" (la) \"&Modulo2.GetFormula(G1580),\"\")","v":""},{"$f":"IF(H1580>0,\" (H) \"&Modulo2.GetFormula(H1580),\"\")","v":""},null,null,null,null,null,null,null,null,null,2,0,null,"",{"$f":"ROWS($AC$4:AC1580)","v":1577},"",{"$f":"IFERROR(SMALL($AD$4:$AD$1642,ROWS($AD$4:AD1580)),\"\")","v":""},null,{"$f":"IFERROR(INDEX($A$4:$R$1642,$AE1580,COLUMNS($A:$B)),\"\")","v":""},{"$f":"IFERROR(INDEX($A$4:$R$1642,$AE1580,COLUMNS($A:$C)),\"\")","v":""},{"$f":"IFERROR(INDEX($A$4:$R$1642,$AE1580,COLUMNS($A:$R)),\"\")","v":""},null,{"$f":"IFERROR(IF(SEARCH(\"=\",L1580),L1580,\"\"),\"\")","v":""},{"$f":"IFERROR(IF(SEARCH(\"=\",M1580),M1580,\"\"),\"\")","v":""},{"$f":"IFERROR(IF(SEARCH(\"=\",N1580),N1580,\"\"),\"\")","v":""},{"$f":"IFERROR(IF(SEARCH(\"=\",O1580),O1580,\"\"),\"\")","v":""},null,null,null,197]
[null,null,null,"",null,null,null,null,"","",null,{"$f":"IF(E1581>0,\" (p/u) \"&Modulo2.GetFormula(E1581),\"\")","v":""},{"$f":"IF(F1581>0,\" (lu) \"&Modulo2.GetFormula(F1581),\"\")","v":""},{"$f":"IF(G1581>0,\" (la) \"&Modulo2.GetFormula(G1581),\"\")","v":""},{"$f":"IF(H1581>0,\" (H) \"&Modulo2.GetFormula(H1581),\"\")","v":""},null,null,null,null,null,null,null,null,null,2,0,null,"",{"$f":"ROWS($AC$4:AC1581)","v":1578},"",{"$f":"IFERROR(SMALL($AD$4:$AD$1642,ROWS($AD$4:AD1581)),\"\")","v":""},null,{"$f":"IFERROR(INDEX($A$4:$R$1642,$AE1581,COLUMNS($A:$B)),\"\")","v":""},{"$f":"IFERROR(INDEX($A$4:$R$1642,$AE1581,COLUMNS($A:$C)),\"\")","v":""},{"$f":"IFERROR(INDEX($A$4:$R$1642,$AE1581,COLUMNS($A:$R)),\"\")","v":""},null,"","","","",null,null,null,197]
[null,null,null,"",null,null,null,null,"","",null,{"$f":"IF(E1582>0,\" (p/u) \"&Modulo2.GetFormula(E1582),\"\")","v":""},{"$f":"IF(F1582>0,\" (lu) \"&Modulo2.GetFormula(F1582),\"\")","v":""},{"$f":"IF(G1582>0,\" (la) \"&Modulo2.GetFormula(G1582),\"\")","v":""},{"$f":"IF(H1582>0,\" (H) \"&Modulo2.GetFormula(H1582),\"\")","v":""},null,null,null,null,null,null,null,null,null,2,0,null,"",{"$f":"ROWS($AC$4:AC1582)","v":1579},"",{"$f":"IFERROR(SMALL($AD$4:$AD$1642,ROWS($AD$4:AD1582)),\"\")","v":""},null,{"$f":"IFERROR(INDEX($A$4:$R$1642,$AE1582,COLUMNS($A:$B)),\"\")","v":""},{"$f":"IFERROR(INDEX($A$4:$R$1642,$AE1582,COLUMNS($A:$C)),\"\")","v":""},{"$f":"IFERROR(INDEX($A$4:$R$1642,$AE1582,COLUMNS($A:$R)),\"\")","v":""},null,"","","","",null,null,null,197]
[null,null,null,null,null,null,null,{"$f":"CONCATENATE(\"SOMMANO [\",VLOOKUP(B1579,'Elenco Prezzi2'!$A$2:$E$201,3,FALSE()),\"]\")","v":{"$error":"#N/A"}},{"$f":"IF(T1583=\"s\",V1584,SUBTOTAL(9,I1579:I1583))","v":{"$error":"#REF!"}},null,{"$f":"VLOOKUP(B1579,'Elenco Prezzi2'!$A$2:$E$201,5,FALSE)","v":{"$error":"#N/A"}},null,null,null,null,null,null,{"$f":"IFERROR(I1583*K1583,\"\")","v":""},null,"s",null,null,null,{"$f":"R1583","v":""},2,0,null,"",{"$f":"ROWS($AC$4:AC1583)","v":1580},"",{"$f":"IFERROR(SMALL($AD$4:$AD$1642,ROWS($AD$4:AD1583)),\"\")","v":""},null,{"$f":"IFERROR(INDEX($A$4:$R$1642,$AE1583,COLUMNS($A:$B)),\"\")","v":""},{"$f":"IFERROR(INDEX($A$4:$R$1642,$AE1583,COLUMNS($A:$C)),\"\")","v":""},{"$f":"IFERROR(INDEX($A$4:$R$1642,$AE1583,COLUMNS($A:$R)),\"\")","v":""},null,null,null,null,null,null,null,null,197]
[null,null,null,null,null,null,null,{"$f":"IF(I1584<0,\"a detrarre\",\"\")","v":""},{"$f":"SUMIF(I1579:I1582,\"<0\")","v":0},null,null,null,null,null,null,null,null,null,{"$f":"R1583","v":""},null,null,{"$f":"VLOOKUP(B1579,#REF!,4,FALSE)","v":{"$error":"#REF!"}},null,null,2,0,null,"",{"$f":"ROWS($AC$4:AC1584)","v":1581},"",{"$f":"IFERROR(SMALL($AD$4:$AD$1642,ROWS($AD$4:AD1584)),\"\")","v":""},null,{"$f":"IFERROR(INDEX($A$4:$R$1642,$AE1584,COLUMNS($A:$B)),\"\")","v":""},{"$f":"IFERROR(INDEX($A$4:$R$1642,$AE1584,COLUMNS($A:$C)),\"\")","v":""},{"$f":"IFERROR(INDEX($A$4:$R$1642,$AE1584,COLUMNS($A:$R)),\"\")","v":""},null,null,null,null,null,null,null,null,197]
[null,null,null,null,null,null,null,null,null,null,null,null,null,null,null,null,null,null,null,null,null,null,null,null,2,0,null,"",{"$f":"ROWS($AC$4:AC1585)","v":1582},"",{"$f":"IFERROR(SMALL($AD$4:$AD$1642,ROWS($AD$4:AD1585)),\"\")","v":""},null,{"$f":"IFERROR(INDEX($A$4:$R$1642,$AE1585,COLUMNS($A:$B)),\"\")","v":""},{"$f":"IFERROR(INDEX($A$4:$R$1642,$AE1585,COLUMNS($A:$C)),\"\")","v":""},{"$f":"IFERROR(INDEX($A$4:$R$1642,$AE1585,COLUMNS($A:$R)),\"\")","v":""},null,null,null,null,null,null,null,null,197]
[null,null,null,null,null,null,null,null,null,null,null,null,null,null,null,null,null,null,null,null,null,null,null,null,2,0,null,"",{"$f":"ROWS($AC$4:AC1586)","v":1583},"",{"$f":"IFERROR(SMALL($AD$4:$AD$1642,ROWS($AD$4:AD1586)),\"\")","v":""},null,{"$f":"IFERROR(INDEX($A$4:$R$1642,$AE1586,COLUMNS($A:$B)),\"\")","v":""},{"$f":"IFERROR(INDEX($A$4:$R$1642,$AE1586,COLUMNS($A:$C)),\"\")","v":""},{"$f":"IFERROR(INDEX($A$4:$R$1642,$AE1586,COLUMNS($A:$R)),\"\")","v":""},null,null,null,null,null,null,null,null,197]
[{"$f":"AR1587","v":198},null,{"$f":"(VLOOKUP($B1587,'Elenco Prezzi2'!$A$2:$E$201,2,FALSE))","v":{"$error":"#N/A"}},null,null,null,null,null,null,null,null,null,null,null,null,null,null,null,null,null,null,null,null,null,2,0,null,"",{"$f":"ROWS($AC$4:AC1587)","v":1584},"",{"$f":"IFERROR(SMALL($AD$4:$AD$1642,ROWS($AD$4:AD1587)),\"\")","v":""},null,{"$f":"IFERROR(INDEX($A$4:$R$1642,$AE1587,COLUMNS($A:$B)),\"\")","v":""},{"$f":"IFERROR(INDEX($A$4:$R$1642,$AE1587,COLUMNS($A:$C)),\"\")","v":""},{"$f":"IFERROR(INDEX($A$4:$R$1642,$AE1587,COLUMNS($A:$R)),\"\")","v":""},null,null,null,null,null,null,null,1,198]
[null,null,null,{"$f":"CONCATENATE(AK1588&AL1588&AM1588&AN1588)","v":""},null,null,null,null,{"$f":"IFERROR(IF(PRODUCT(E1588:H1588)=0,\"\",PRODUCT(E1588:H1588)),\"\")","v":""},{"$f":"I1588","v":""},null,{"$f":"IF(E1588>0,\" (p/u) \"&Modulo2.GetFormula(E1588),\"\")","v":""},{"$f":"IF(F1588>0,\" (lu) \"&Modulo2.GetFormula(F1588),\"\")","v":""},{"$f":"IF(G1588>0,\" (la) \"&Modulo2.GetFormula(G1588),\"\")","v":""},{"$f":"IF(H1588>0,\" (H) \"&Modulo2.GetFormula(H1588),\"\")","v":""},null,null,null,null,null,null,null,null,null,2,0,null,"",{"$f":"ROWS($AC$4:AC1588)","v":1585},"",{"$f":"IFERROR(SMALL($AD$4:$AD$1642,ROWS($AD$4:AD1588)),\"\")","v":""},null,{"$f":"IFERROR(INDEX($A$4:$R$1642,$AE1588,COLUMNS($A:$B)),\"\")","v":""},{"$f":"IFERROR(INDEX($A$4:$R$1642,$AE1588,COLUMNS($A:$C)),\"\")","v":""},{"$f":"IFERROR(INDEX($A$4:$R$1642,$AE1588,COLUMNS($A:$R)),\"\")","v":""},null,{"$f":"IFERROR(IF(SEARCH(\"=\",L1588),L1588,\"\"),\"\")","v":""},{"$f":"IFERROR(IF(SEARCH(\"=\",M1588),M1588,\"\"),\"\")","v":""},{"$f":"IFERROR(IF(SEARCH(\"=\",N1588),N1588,\"\"),\"\")","v":""},{"$f":"IFERROR(IF(SEARCH(\"=\",O1588),O1588,\"\"),\"\")","v":""},null,null,null,198]
[null,null,null,"",null,null,null,null,"","",null,{"$f":"IF(E1589>0,\" (p/u) \"&Modulo2.GetFormula(E1589),\"\")","v":""},{"$f":"IF(F1589>0,\" (lu) \"&Modulo2.GetFormula(F1589),\"\")","v":""},{"$f":"IF(G1589>0,\" (la) \"&Modulo2.GetFormula(G1589),\"\")","v":""},{"$f":"IF(H1589>0,\" (H) \"&Modulo2.GetFormula(H1589),\"\")","v":""},null,null,null,null,null,null,null,null,null,2,0,null,"",{"$f":"ROWS($AC$4:AC1589)","v":1586},"",{"$f":"IFERROR(SMALL($AD$4:$AD$1642,ROWS($AD$4:AD1589)),\"\")","v":""},null,{"$f":"IFERROR(INDEX($A$4:$R$1642,$AE1589,COLUMNS($A:$B)),\"\")","v":""},{"$f":"IFERROR(INDEX($A$4:$R$1642,$AE1589,COLUMNS($A:$C)),\"\")","v":""},{"$f":"IFERROR(INDEX($A$4:$R$1642,$AE1589,COLUMNS($A:$R)),\"\")","v":""},null,"","","","",null,null,null,198]
[null,null,null,"",null,null,null,null,"","",null,{"$f":"IF(E1590>0,\" (p/u) \"&Modulo2.GetFormula(E1590),\"\")","v":""},{"$f":"IF(F1590>0,\" (lu) \"&Modulo2.GetFormula(F1590),\"\")","v":""},{"$f":"IF(G1590>0,\" (la) \"&Modulo2.GetFormula(G1590),\"\")","v":""},{"$f":"IF(H1590>0,\" (H) \"&Modulo2.GetFormula(H1590),\"\")","v":""},null,null,null,null,null,null,null,null,null,2,0,null,"",{"$f":"ROWS($AC$4:AC1590)","v":1587},"",{"$f":"IFERROR(SMALL($AD$4:$AD$1642,ROWS($AD$4:AD1590)),\"\")","v":""},null,{"$f":"IFERROR(INDEX($A$4:$R$1642,$AE1590,COLUMNS($A:$B)),\"\")","v":""},{"$f":"IFERROR(INDEX($A$4:$R$1642,$AE1590,COLUMNS($A:$C)),\"\")","v":""},{"$f":"IFERROR(INDEX($A$4:$R$1642,$AE1590,COLUMNS($A:$R)),\"\")","v":""},null,"","","","",null,null,null,198]
[null,null,null,null,null,null,null,{"$f":"CONCATENATE(\"SOMMANO [\",VLOOKUP(B1587,'Elenco Prezzi2'!$A$2:$E$201,3,FALSE()),\"]\")","v":{"$error":"#N/A"}},{"$f":"IF(T1591=\"s\",V1592,SUBTOTAL(9,I1587:I1591))","v":{"$error":"#REF!"}},null,{"$f":"VLOOKUP(B1587,'Elenco Prezzi2'!$A$2:$E$201,5,FALSE)","v":{"$error":"#N/A"}},null,null,null,null,null,null,{"$f":"IFERROR(I1591*K1591,\"\")","v":""},null,"s",null,null,null,{"$f":"R1591","v":""},2,0,null,"",{"$f":"ROWS($AC$4:AC1591)","v":1588},"",{"$f":"IFERROR(SMALL($AD$4:$AD$1642,ROWS($AD$4:AD1591)),\"\")","v":""},null,{"$f":"IFERROR(INDEX($A$4:$R$1642,$AE1591,COLUMNS($A:$B)),\"\")","v":""},{"$f":"IFERROR(INDEX($A$4:$R$1642,$AE1591,COLUMNS($A:$C)),\"\")","v":""},{"$f":"IFERROR(INDEX($A$4:$R$1642,$AE1591,COLUMNS($A:$R)),\"\")","v":""},null,null,null,null,null,null,null,null,198]
[null,null,null,null,null,null,null,{"$f":"IF(I1592<0,\"a detrarre\",\"\")","v":""},{"$f":"SUMIF(I1587:I1590,\"<0\")","v":0},null,null,null,null,null,null,null,null,null,{"$f":"R1591","v":""},null,null,{"$f":"VLOOKUP(B1587,#REF!,4,FALSE)","v":{"$error":"#REF!"}},null,null,2,0,null,"",{"$f":"ROWS($AC$4:AC1592)","v":1589},"",{"$f":"IFERROR(SMALL($AD$4:$AD$1642,ROWS($AD$4:AD1592)),\"\")","v":""},null,{"$f":"IFERROR(INDEX($A$4:$R$1642,$AE1592,COLUMNS($A:$B)),\"\")","v":""},{"$f":"IFERROR(INDEX($A$4:$R$1642,$AE1592,COLUMNS($A:$C)),\"\")","v":""},{"$f":"IFERROR(INDEX($A$4:$R$1642,$AE1592,COLUMNS($A:$R)),\"\")","v":""},null,null,null,null,null,null,null,null,198]
[null,null,null,null,null,null,null,null,null,null,null,null,null,null,null,null,null,null,null,null,null,null,null,null,2,0,null,"",{"$f":"ROWS($AC$4:AC1593)","v":1590},"",{"$f":"IFERROR(SMALL($AD$4:$AD$1642,ROWS($AD$4:AD1593)),\"\")","v":""},null,{"$f":"IFERROR(INDEX($A$4:$R$1642,$AE1593,COLUMNS($A:$B)),\"\")","v":""},{"$f":"IFERROR(INDEX($A$4:$R$1642,$AE1593,COLUMNS($A:$C)),\"\")","v":""},{"$f":"IFERROR(INDEX($A$4:$R$1642,$AE1593,COLUMNS($A:$R)),\"\")","v":""},null,null,null,null,null,null,null,null,198]
[null,null,null,null,null,null,null,null,null,null,null,null,null,null,null,null,null,null,null,null,null,null,null,null,2,0,null,"",{"$f":"ROWS($AC$4:AC1594)","v":1591},"",{"$f":"IFERROR(SMALL($AD$4:$AD$1642,ROWS($AD$4:AD1594)),\"\")","v":""},null,{"$f":"IFERROR(INDEX($A$4:$R$1642,$AE1594,COLUMNS($A:$B)),\"\")","v":""},{"$f":"IFERROR(INDEX($A$4:$R$1642,$AE1594,COLUMNS($A:$C)),\"\")","v":""},{"$f":"IFERROR(INDEX($A$4:$R$1642,$AE1594,COLUMNS($A:$R)),\"\")","v":""},null,null,null,null,null,null,null,null,198]
[{"$f":"AR1595","v":199},null,{"$f":"(VLOOKUP($B1595,'Elenco Prezzi2'!$A$2:$E$201,2,FALSE))","v":{"$error":"#N/A"}},null,null,null,null,null,null,null,null,null,null,null,null,null,null,null,null,null,null,null,null,null,2,0,null,"",{"$f":"ROWS($AC$4:AC1595)","v":1592},"",{"$f":"IFERROR(SMALL($AD$4:$AD$1642,ROWS($AD$4:AD1595)),\"\")","v":""},null,{"$f":"IFERROR(INDEX($A$4:$R$1642,$AE1595,COLUMNS($A:$B)),\"\")","v":""},{"$f":"IFERROR(INDEX($A$4:$R$1642,$AE1595,COLUMNS($A:$C)),\"\")","v":""},{"$f":"IFERROR(INDEX($A$4:$R$1642,$AE1595,COLUMNS($A:$R)),\"\")","v":""},null,null,null,null,null,null,null,1,199]
[null,null,null,{"$f":"CONCATENATE(AK1596&AL1596&AM1596&AN1596)","v":""},null,null,null,null,{"$f":"IFERROR(IF(PRODUCT(E1596:H1596)=0,\"\",PRODUCT(E1596:H1596)),\"\")","v":""},{"$f":"I1596","v":""},null,{"$f":"IF(E1596>0,\" (p/u) \"&Modulo2.GetFormula(E1596),\"\")","v":""},{"$f":"IF(F1596>0,\" (lu) \"&Modulo2.GetFormula(F1596),\"\")","v":""},{"$f":"IF(G1596>0,\" (la) \"&Modulo2.GetFormula(G1596),\"\")","v":""},{"$f":"IF(H1596>0,\" (H) \"&Modulo2.GetFormula(H1596),\"\")","v":""},null,null,null,null,null,null,null,null,null,2,0,null,"",{"$f":"ROWS($AC$4:AC1596)","v":1593},"",{"$f":"IFERROR(SMALL($AD$4:$AD$1642,ROWS($AD$4:AD1596)),\"\")","v":""},null,{"$f":"IFERROR(INDEX($A$4:$R$1642,$AE1596,COLUMNS($A:$B)),\"\")","v":""},{"$f":"IFERROR(INDEX($A$4:$R$1642,$AE1596,COLUMNS($A:$C)),\"\")","v":""},{"$f":"IFERROR(INDEX($A$4:$R$1642,$AE1596,COLUMNS($A:$R)),\"\")","v":""},null,{"$f":"IFERROR(IF(SEARCH(\"=\",L1596),L1596,\"\"),\"\")","v":""},{"$f":"IFERROR(IF(SEARCH(\"=\",M1596),M1596,\"\"),\"\")","v":""},{"$f":"IFERROR(IF(SEARCH(\"=\",N1596),N1596,\"\"),\"\")","v":""},{"$f":"IFERROR(IF(SEARCH(\"=\",O1596),O1596,\"\"),\"\")","v":""},null,null,null,199]
[null,null,null,"",null,null,null,null,"","",null,{"$f":"IF(E1597>0,\" (p/u) \"&Modulo2.GetFormula(E1597),\"\")","v":""},{"$f":"IF(F1597>0,\" (lu) \"&Modulo2.GetFormula(F1597),\"\")","v":""},{"$f":"IF(G1597>0,\" (la) \"&Modulo2.GetFormula(G1597),\"\")","v":""},{"$f":"IF(H1597>0,\" (H) \"&Modulo2.GetFormula(H1597),\"\")","v":""},null,null,null,null,null,null,null,null,null,2,0,null,"",{"$f":"ROWS($AC$4:AC1597)","v":1594},"",{"$f":"IFERROR(SMALL($AD$4:$AD$1642,ROWS($AD$4:AD1597)),\"\")","v":""},null,{"$f":"IFERROR(INDEX($A$4:$R$1642,$AE1597,COLUMNS($A:$B)),\"\")","v":""},{"$f":"IFERROR(INDEX($A$4:$R$1642,$AE1597,COLUMNS($A:$C)),\"\")","v":""},{"$f":"IFERROR(INDEX($A$4:$R$1642,$AE1597,COLUMNS($A:$R)),\"\")","v":""},null,"","","","",null,null,null,199]
[null,null,null,"",null,null,null,null,"","",null,{"$f":"IF(E1598>0,\" (p/u) \"&Modulo2.GetFormula(E1598),\"\")","v":""},{"$f":"IF(F1598>0,\" (lu) \"&Modulo2.GetFormula(F1598),\"\")","v":""},{"$f":"IF(G1598>0,\" (la) \"&Modulo2.GetFormula(G1598),\"\")","v":""},{"$f":"IF(H1598>0,\" (H) \"&Modulo2.GetFormula(H1598),\"\")","v":""},null,null,null,null,null,null,null,null,null,2,0,null,"",{"$f":"ROWS($AC$4:AC1598)","v":1595},"",{"$f":"IFERROR(SMALL($AD$4:$AD$1642,ROWS($AD$4:AD1598)),\"\")","v":""},null,{"$f":"IFERROR(INDEX($A$4:$R$1642,$AE1598,COLUMNS($A:$B)),\"\")","v":""},{"$f":"IFERROR(INDEX($A$4:$R$1642,$AE1598,COLUMNS($A:$C)),\"\")","v":""},{"$f":"IFERROR(INDEX($A$4:$R$1642,$AE1598,COLUMNS($A:$R)),\"\")","v":""},null,"","","","",null,null,null,199]
[null,null,null,null,null,null,null,{"$f":"CONCATENATE(\"SOMMANO [\",VLOOKUP(B1595,'Elenco Prezzi2'!$A$2:$E$201,3,FALSE()),\"]\")","v":{"$error":"#N/A"}},{"$f":"IF(T1599=\"s\",V1600,SUBTOTAL(9,I1595:I1599))","v":{"$error":"#REF!"}},null,{"$f":"VLOOKUP(B1595,'Elenco Prezzi2'!$A$2:$E$201,5,FALSE)","v":{"$error":"#N/A"}},null,null,null,null,null,null,{"$f":"IFERROR(I1599*K1599,\"\")","v":""},null,"s",null,null,null,{"$f":"R1599","v":""},2,0,null,"",{"$f":"ROWS($AC$4:AC1599)","v":1596},"",{"$f":"IFERROR(SMALL($AD$4:$AD$1642,ROWS($AD$4:AD1599)),\"\")","v":""},null,{"$f":"IFERROR(INDEX($A$4:$R$1642,$AE1599,COLUMNS($A:$B)),\"\")","v":""},{"$f":"IFERROR(INDEX($A$4:$R$1642,$AE1599,COLUMNS($A:$C)),\"\")","v":""},{"$f":"IFERROR(INDEX($A$4:$R$1642,$AE1599,COLUMNS($A:$R)),\"\")","v":""},null,null,null,null,null,null,null,null,199]
[null,null,null,null,null,null,null,{"$f":"IF(I1600<0,\"a detrarre\",\"\")","v":""},{"$f":"SUMIF(I1595:I1598,\"<0\")","v":0},null,null,null,null,null,null,null,null,null,{"$f":"R1599","v":""},null,null,{"$f":"VLOOKUP(B1595,#REF!,4,FALSE)","v":{"$error":"#REF!"}},null,null,2,0,null,"",{"$f":"ROWS($AC$4:AC1600)","v":1597},"",{"$f":"IFERROR(SMALL($AD$4:$AD$1642,ROWS($AD$4:AD1600)),\"\")","v":""},null,{"$f":"IFERROR(INDEX($A$4:$R$1642,$AE1600,COLUMNS($A:$B)),\"\")","v":""},{"$f":"IFERROR(INDEX($A$4:$R$1642,$AE1600,COLUMNS($A:$C)),\"\")","v":""},{"$f":"IFERROR(INDEX($A$4:$R$1642,$AE1600,COLUMNS($A:$R)),\"\")","v":""},null,null,null,null,null,null,null,null,199]
[null,null,null,null,null,null,null,null,null,null,null,null,null,null,null,null,null,null,null,null,null,null,null,null,2,0,null,"",{"$f":"ROWS($AC$4:AC1601)","v":1598},"",{"$f":"IFERROR(SMALL($AD$4:$AD$1642,ROWS($AD$4:AD1601)),\"\")","v":""},null,{"$f":"IFERROR(INDEX($A$4:$R$1642,$AE1601,COLUMNS($A:$B)),\"\")","v":""},{"$f":"IFERROR(INDEX($A$4:$R$1642,$AE1601,COLUMNS($A:$C)),\"\")","v":""},{"$f":"IFERROR(INDEX($A$4:$R$1642,$AE1601,COLUMNS($A:$R)),\"\")","v":""},null,null,null,null,null,null,null,null,199]
[null,null,null,null,null,null,null,null,null,null,null,null,null,null,null,null,null,null,null,null,null,null,null,null,2,0,null,"",{"$f":"ROWS($AC$4:AC1602)","v":1599},"",{"$f":"IFERROR(SMALL($AD$4:$AD$1642,ROWS($AD$4:AD1602)),\"\")","v":""},null,{"$f":"IFERROR(INDEX($A$4:$R$1642,$AE1602,COLUMNS($A:$B)),\"\")","v":""},{"$f":"IFERROR(INDEX($A$4:$R$1642,$AE1602,COLUMNS($A:$C)),\"\")","v":""},{"$f":"IFERROR(INDEX($A$4:$R$1642,$AE1602,COLUMNS($A:$R)),\"\")","v":""},null,null,null,null,null,null,null,null,199]
[{"$f":"AR1603","v":200},null,{"$f":"(VLOOKUP($B1603,'Elenco Prezzi2'!$A$2:$E$201,2,FALSE))","v":{"$error":"#N/A"}},null,null,null,null,null,null,null,null,null,null,null,null,null,null,null,null,null,null,null,null,null,2,0,null,"",{"$f":"ROWS($AC$4:AC1603)","v":1600},"",{"$f":"IFERROR(SMALL($AD$4:$AD$1642,ROWS($AD$4:AD1603)),\"\")","v":""},null,{"$f":"IFERROR(INDEX($A$4:$R$1642,$AE1603,COLUMNS($A:$B)),\"\")","v":""},{"$f":"IFERROR(INDEX($A$4:$R$1642,$AE1603,COLUMNS($A:$C)),\"\")","v":""},{"$f":"IFERROR(INDEX($A$4:$R$1642,$AE1603,COLUMNS($A:$R)),\"\")","v":""},null,null,null,null,null,null,null,1,200]
[null,null,null,{"$f":"CONCATENATE(AK1604&AL1604&AM1604&AN1604)","v":""},null,null,null,null,{"$f":"IFERROR(IF(PRODUCT(E1604:H1604)=0,\"\",PRODUCT(E1604:H1604)),\"\")","v":""},{"$f":"I1604","v":""},null,{"$f":"IF(E1604>0,\" (p/u) \"&Modulo2.GetFormula(E1604),\"\")","v":""},{"$f":"IF(F1604>0,\" (lu) \"&Modulo2.GetFormula(F1604),\"\")","v":""},{"$f":"IF(G1604>0,\" (la) \"&Modulo2.GetFormula(G1604),\"\")","v":""},{"$f":"IF(H1604>0,\" (H) \"&Modulo2.GetFormula(H1604),\"\")","v":""},null,null,null,null,null,null,null,null,null,2,0,null,"",{"$f":"ROWS($AC$4:AC1604)","v":1601},"",{"$f":"IFERROR(SMALL($AD$4:$AD$1642,ROWS($AD$4:AD1604)),\"\")","v":""},null,{"$f":"IFERROR(INDEX($A$4:$R$1642,$AE1604,COLUMNS($A:$B)),\"\")","v":""},{"$f":"IFERROR(INDEX($A$4:$R$1642,$AE1604,COLUMNS($A:$C)),\"\")","v":""},{"$f":"IFERROR(INDEX($A$4:$R$1642,$AE1604,COLUMNS($A:$R)),\"\")","v":""},null,{"$f":"IFERROR(IF(SEARCH(\"=\",L1604),L1604,\"\"),\"\")","v":""},{"$f":"IFERROR(IF(SEARCH(\"=\",M1604),M1604,\"\"),\"\")","v":""},{"$f":"IFERROR(IF(SEARCH(\"=\",N1604),N1604,\"\"),\"\")","v":""},{"$f":"IFERROR(IF(SEARCH(\"=\",O1604),O1604,\"\"),\"\")","v":""},null,null,null,200]
[null,null,null,"",null,null,null,null,"","",null,{"$f":"IF(E1605>0,\" (p/u) \"&Modulo2.GetFormula(E1605),\"\")","v":""},{"$f":"IF(F1605>0,\" (lu) \"&Modulo2.GetFormula(F1605),\"\")","v":""},{"$f":"IF(G1605>0,\" (la) \"&Modulo2.GetFormula(G1605),\"\")","v":""},{"$f":"IF(H1605>0,\" (H) \"&Modulo2.GetFormula(H1605),\"\")","v":""},null,null,null,null,null,null,null,null,null,2,0,null,"",{"$f":"ROWS($AC$4:AC1605)","v":1602},"",{"$f":"IFERROR(SMALL($AD$4:$AD$1642,ROWS($AD$4:AD1605)),\"\")","v":""},null,{"$f":"IFERROR(INDEX($A$4:$R$1642,$AE1605,COLUMNS($A:$B)),\"\")","v":""},{"$f":"IFERROR(INDEX($A$4:$R$1642,$AE1605,COLUMNS($A:$C)),\"\")","v":""},{"$f":"IFERROR(INDEX($A$4:$R$1642,$AE1605,COLUMNS($A:$R)),\"\")","v":""},null,"","","","",null,null,null,200]
[null,null,null,"",null,null,null,null,"","",null,{"$f":"IF(E1606>0,\" (p/u) \"&Modulo2.GetFormula(E1606),\"\")","v":""},{"$f":"IF(F1606>0,\" (lu) \"&Modulo2.GetFormula(F1606),\"\")","v":""},{"$f":"IF(G1606>0,\" (la) \"&Modulo2.GetFormula(G1606),\"\")","v":""},{"$f":"IF(H1606>0,\" (H) \"&Modulo2.GetFormula(H1606),\"\")","v":""},null,null,null,null,null,null,null,null,null,2,0,null,"",{"$f":"ROWS($AC$4:AC1606)","v":1603},"",{"$f":"IFERROR(SMALL($AD$4:$AD$1642,ROWS($AD$4:AD1606)),\"\")","v":""},null,{"$f":"IFERROR(INDEX($A$4:$R$1642,$AE1606,COLUMNS($A:$B)),\"\")","v":""},{"$f":"IFERROR(INDEX($A$4:$R$1642,$AE1606,COLUMNS($A:$C)),\"\")","v":""},{"$f":"IFERROR(INDEX($A$4:$R$1642,$AE1606,COLUMNS($A:$R)),\"\")","v":""},null,"","","","",null,null,null,200]
[null,null,null,null,null,null,null,{"$f":"CONCATENATE(\"SOMMANO [\",VLOOKUP(B1603,'Elenco Prezzi2'!$A$2:$E$201,3,FALSE()),\"]\")","v":{"$error":"#N/A"}},{"$f":"IF(T1607=\"s\",V1608,SUBTOTAL(9,I1603:I1607))","v":{"$error":"#REF!"}},null,{"$f":"VLOOKUP(B1603,'Elenco Prezzi2'!$A$2:$E$201,5,FALSE)","v":{"$error":"#N/A"}},null,null,null,null,null,null,{"$f":"IFERROR(I1607*K1607,\"\")","v":""},null,"s",null,null,null,{"$f":"R1607","v":""},2,0,null,"",{"$f":"ROWS($AC$4:AC1607)","v":1604},"",{"$f":"IFERROR(SMALL($AD$4:$AD$1642,ROWS($AD$4:AD1607)),\"\")","v":""},null,{"$f":"IFERROR(INDEX($A$4:$R$1642,$AE1607,COLUMNS($A:$B)),\"\")","v":""},{"$f":"IFERROR(INDEX($A$4:$R$1642,$AE1607,COLUMNS($A:$C)),\"\")","v":""},{"$f":"IFERROR(INDEX($A$4:$R$1642,$AE1607,COLUMNS($A:$R)),\"\")","v":""},null,null,null,null,null,null,null,null,200]
[null,null,null,null,null,null,null,{"$f":"IF(I1608<0,\"a detrarre\",\"\")","v":""},{"$f":"SUMIF(I1603:I1606,\"<0\")","v":0},null,null,null,null,null,null,null,null,null,{"$f":"R1607","v":""},null,null,{"$f":"VLOOKUP(B1603,#REF!,4,FALSE)","v":{"$error":"#REF!"}},null,null,2,0,null,"",{"$f":"ROWS($AC$4:AC1608)","v":1605},"",{"$f":"IFERROR(SMALL($AD$4:$AD$1642,ROWS($AD$4:AD1608)),\"\")","v":""},null,{"$f":"IFERROR(INDEX($A$4:$R$1642,$AE1608,COLUMNS($A:$B)),\"\")","v":""},{"$f":"IFERROR(INDEX($A$4:$R$1642,$AE1608,COLUMNS($A:$C)),\"\")","v":""},{"$f":"IFERROR(INDEX($A$4:$R$1642,$AE1608,COLUMNS($A:$R)),\"\")","v":""},null,null,null,null,null,null,null,null,200]
[null,null,null,null,null,null,null,null,null,null,null,null,null,null,null,null,null,null,null,null,null,null,null,null,2,0,null,"",{"$f":"ROWS($AC$4:AC1609)","v":1606},"",{"$f":"IFERROR(SMALL($AD$4:$AD$1642,ROWS($AD$4:AD1609)),\"\")","v":""},null,{"$f":"IFERROR(INDEX($A$4:$R$1642,$AE1609,COLUMNS($A:$B)),\"\")","v":""},{"$f":"IFERROR(INDEX($A$4:$R$1642,$AE1609,COLUMNS($A:$C)),\"\")","v":""},{"$f":"IFERROR(INDEX($A$4:$R$1642,$AE1609,COLUMNS($A:$R)),\"\")","v":""},null,null,null,null,null,null,null,null,200]
[null,null,null,null,null,null,null,null,null,null,null,null,null,null,null,null,null,null,null,null,null,null,null,null,2,0,null,"",{"$f":"ROWS($AC$4:AC1610)","v":1607},"",{"$f":"IFERROR(SMALL($AD$4:$AD$1642,ROWS($AD$4:AD1610)),\"\")","v":""},null,{"$f":"IFERROR(INDEX($A$4:$R$1642,$AE1610,COLUMNS($A:$B)),\"\")","v":""},{"$f":"IFERROR(INDEX($A$4:$R$1642,$AE1610,COLUMNS($A:$C)),\"\")","v":""},{"$f":"IFERROR(INDEX($A$4:$R$1642,$AE1610,COLUMNS($A:$R)),\"\")","v":""},null,null,null,null,null,null,null,null,200]
[{"$f":"AR1611","v":201},null,{"$f":"(VLOOKUP($B1611,'Elenco Prezzi2'!$A$2:$E$201,2,FALSE))","v":{"$error":"#N/A"}},null,null,null,null,null,null,null,null,null,null,null,null,null,null,null,null,null,null,null,null,null,2,0,null,"",{"$f":"ROWS($AC$4:AC1611)","v":1608},"",{"$f":"IFERROR(SMALL($AD$4:$AD$1642,ROWS($AD$4:AD1611)),\"\")","v":""},null,{"$f":"IFERROR(INDEX($A$4:$R$1642,$AE1611,COLUMNS($A:$B)),\"\")","v":""},{"$f":"IFERROR(INDEX($A$4:$R$1642,$AE1611,COLUMNS($A:$C)),\"\")","v":""},{"$f":"IFERROR(INDEX($A$4:$R$1642,$AE1611,COLUMNS($A:$R)),\"\")","v":""},null,null,null,null,null,null,null,1,201]
[null,null,null,{"$f":"CONCATENATE(AK1612&AL1612&AM1612&AN1612)","v":""},null,null,null,null,{"$f":"IFERROR(IF(PRODUCT(E1612:H1612)=0,\"\",PRODUCT(E1612:H1612)),\"\")","v":""},{"$f":"I1612","v":""},null,{"$f":"IF(E1612>0,\" (p/u) \"&Modulo2.GetFormula(E1612),\"\")","v":""},{"$f":"IF(F1612>0,\" (lu) \"&Modulo2.GetFormula(F1612),\"\")","v":""},{"$f":"IF(G1612>0,\" (la) \"&Modulo2.GetFormula(G1612),\"\")","v":""},{"$f":"IF(H1612>0,\" (H) \"&Modulo2.GetFormula(H1612),\"\")","v":""},null,null,null,null,null,null,null,null,null,2,0,null,"",{"$f":"ROWS($AC$4:AC1612)","v":1609},"",{"$f":"IFERROR(SMALL($AD$4:$AD$1642,ROWS($AD$4:AD1612)),\"\")","v":""},null,{"$f":"IFERROR(INDEX($A$4:$R$1642,$AE1612,COLUMNS($A:$B)),\"\")","v":""},{"$f":"IFERROR(INDEX($A$4:$R$1642,$AE1612,COLUMNS($A:$C)),\"\")","v":""},{"$f":"IFERROR(INDEX($A$4:$R$1642,$AE1612,COLUMNS($A:$R)),\"\")","v":""},null,{"$f":"IFERROR(IF(SEARCH(\"=\",L1612),L1612,\"\"),\"\")","v":""},{"$f":"IFERROR(IF(SEARCH(\"=\",M1612),M1612,\"\"),\"\")","v":""},{"$f":"IFERROR(IF(SEARCH(\"=\",N1612),N1612,\"\"),\"\")","v":""},{"$f":"IFERROR(IF(SEARCH(\"=\",O1612),O1612,\"\"),\"\")","v":""},null,null,null,201]
[null,null,null,"",null,null,null,null,"","",null,{"$f":"IF(E1613>0,\" (p/u) \"&Modulo2.GetFormula(E1613),\"\")","v":""},{"$f":"IF(F1613>0,\" (lu) \"&Modulo2.GetFormula(F1613),\"\")","v":""},{"$f":"IF(G1613>0,\" (la) \"&Modulo2.GetFormula(G1613),\"\")","v":""},{"$f":"IF(H1613>0,\" (H) \"&Modulo2.GetFormula(H1613),\"\")","v":""},null,null,null,null,null,null,null,null,null,2,0,null,"",{"$f":"ROWS($AC$4:AC1613)","v":1610},"",{"$f":"IFERROR(SMALL($AD$4:$AD$1642,ROWS($AD$4:AD1613)),\"\")","v":""},null,{"$f":"IFERROR(INDEX($A$4:$R$1642,$AE1613,COLUMNS($A:$B)),\"\")","v":""},{"$f":"IFERROR(INDEX($A$4:$R$1642,$AE1613,COLUMNS($A:$C)),\"\")","v":""},{"$f":"IFERROR(INDEX($A$4:$R$1642,$AE1613,COLUMNS($A:$R)),\"\")","v":""},null,"","","","",null,null,null,201]
[null,null,null,"",null,null,null,null,"","",null,{"$f":"IF(E1614>0,\" (p/u) \"&Modulo2.GetFormula(E1614),\"\")","v":""},{"$f":"IF(F1614>0,\" (lu) \"&Modulo2.GetFormula(F1614),\"\")","v":""},{"$f":"IF(G1614>0,\" (la) \"&Modulo2.GetFormula(G1614),\"\")","v":""},{"$f":"IF(H1614>0,\" (H) \"&Modulo2.GetFormula(H1614),\"\")","v":""},null,null,null,null,null,null,null,null,null,2,0,null,"",{"$f":"ROWS($AC$4:AC1614)","v":1611},"",{"$f":"IFERROR(SMALL($AD$4:$AD$1642,ROWS($AD$4:AD1614)),\"\")","v":""},null,{"$f":"IFERROR(INDEX($A$4:$R$1642,$AE1614,COLUMNS($A:$B)),\"\")","v":""},{"$f":"IFERROR(INDEX($A$4:$R$1642,$AE1614,COLUMNS($A:$C)),\"\")","v":""},{"$f":"IFERROR(INDEX($A$4:$R$1642,$AE1614,COLUMNS($A:$R)),\"\")","v":""},null,"","","","",null,null,null,201]
[null,null,null,null,null,null,null,{"$f":"CONCATENATE(\"SOMMANO [\",VLOOKUP(B1611,'Elenco Prezzi2'!$A$2:$E$201,3,FALSE()),\"]\")","v":{"$error":"#N/A"}},{"$f":"IF(T1615=\"s\",V1616,SUBTOTAL(9,I1611:I1615))","v":{"$error":"#REF!"}},null,{"$f":"VLOOKUP(B1611,'Elenco Prezzi2'!$A$2:$E$201,5,FALSE)","v":{"$error":"#N/A"}},null,null,null,null,null,null,{"$f":"IFERROR(I1615*K1615,\"\")","v":""},null,"s",null,null,null,{"$f":"R1615","v":""},2,0,null,"",{"$f":"ROWS($AC$4:AC1615)","v":1612},"",{"$f":"IFERROR(SMALL($AD$4:$AD$1642,ROWS($AD$4:AD1615)),\"\")","v":""},null,{"$f":"IFERROR(INDEX($A$4:$R$1642,$AE1615,COLUMNS($A:$B)),\"\")","v":""},{"$f":"IFERROR(INDEX($A$4:$R$1642,$AE1615,COLUMNS($A:$C)),\"\")","v":""},{"$f":"IFERROR(INDEX($A$4:$R$1642,$AE1615,COLUMNS($A:$R)),\"\")","v":""},null,null,null,null,null,null,null,null,201]
[null,null,null,null,null,null,null,{"$f":"IF(I1616<0,\"a detrarre\",\"\")","v":""},{"$f":"SUMIF(I1611:I1614,\"<0\")","v":0},null,null,null,null,null,null,null,null,null,{"$f":"R1615","v":""},null,null,{"$f":"VLOOKUP(B1611,#REF!,4,FALSE)","v":{"$error":"#REF!"}},null,null,2,0,null,"",{"$f":"ROWS($AC$4:AC1616)","v":1613},"",{"$f":"IFERROR(SMALL($AD$4:$AD$1642,ROWS($AD$4:AD1616)),\"\")","v":""},null,{"$f":"IFERROR(INDEX($A$4:$R$1642,$AE1616,COLUMNS($A:$B)),\"\")","v":""},{"$f":"IFERROR(INDEX($A$4:$R$1642,$AE1616,COLUMNS($A:$C)),\"\")","v":""},{"$f":"IFERROR(INDEX($A$4:$R$1642,$AE1616,COLUMNS($A:$R)),\"\")","v":""},null,null,null,null,null,null,null,null,201]
[null,null,null,null,null,null,null,null,null,null,null,null,null,null,null,null,null,null,null,null,null,null,null,null,2,0,null,"",{"$f":"ROWS($AC$4:AC1617)","v":1614},"",{"$f":"IFERROR(SMALL($AD$4:$AD$1642,ROWS($AD$4:AD1617)),\"\")","v":""},null,{"$f":"IFERROR(INDEX($A$4:$R$1642,$AE1617,COLUMNS($A:$B)),\"\")","v":""},{"$f":"IFERROR(INDEX($A$4:$R$1642,$AE1617,COLUMNS($A:$C)),\"\")","v":""},{"$f":"IFERROR(INDEX($A$4:$R$1642,$AE1617,COLUMNS($A:$R)),\"\")","v":""},null,null,null,null,null,null,null,null,201]
[null,null,null,null,null,null,null,null,null,null,null,null,null,null,null,null,null,null,null,null,null,null,null,null,2,0,null,"",{"$f":"ROWS($AC$4:AC1618)","v":1615},"",{"$f":"IFERROR(SMALL($AD$4:$AD$1642,ROWS($AD$4:AD1618)),\"\")","v":""},null,{"$f":"IFERROR(INDEX($A$4:$R$1642,$AE1618,COLUMNS($A:$B)),\"\")","v":""},{"$f":"IFERROR(INDEX($A$4:$R$1642,$AE1618,COLUMNS($A:$C)),\"\")","v":""},{"$f":"IFERROR(INDEX($A$4:$R$1642,$AE1618,COLUMNS($A:$R)),\"\")","v":""},null,null,null,null,null,null,null,null,201]
[{"$f":"AR1619","v":202},null,{"$f":"(VLOOKUP($B1619,'Elenco Prezzi2'!$A$2:$E$201,2,FALSE))","v":{"$error":"#N/A"}},null,null,null,null,null,null,null,null,null,null,null,null,null,null,null,null,null,null,null,null,null,2,0,null,"",{"$f":"ROWS($AC$4:AC1619)","v":1616},"",{"$f":"IFERROR(SMALL($AD$4:$AD$1642,ROWS($AD$4:AD1619)),\"\")","v":""},null,{"$f":"IFERROR(INDEX($A$4:$R$1642,$AE1619,COLUMNS($A:$B)),\"\")","v":""},{"$f":"IFERROR(INDEX($A$4:$R$1642,$AE1619,COLUMNS($A:$C)),\"\")","v":""},{"$f":"IFERROR(INDEX($A$4:$R$1642,$AE1619,COLUMNS($A:$R)),\"\")","v":""},null,null,null,null,null,null,null,1,202]
[null,null,null,{"$f":"CONCATENATE(AK1620&AL1620&AM1620&AN1620)","v":""},null,null,null,null,{"$f":"IFERROR(IF(PRODUCT(E1620:H1620)=0,\"\",PRODUCT(E1620:H1620)),\"\")","v":""},{"$f":"I1620","v":""},null,{"$f":"IF(E1620>0,\" (p/u) \"&Modulo2.GetFormula(E1620),\"\")","v":""},{"$f":"IF(F1620>0,\" (lu) \"&Modulo2.GetFormula(F1620),\"\")","v":""},{"$f":"IF(G1620>0,\" (la) \"&Modulo2.GetFormula(G1620),\"\")","v":""},{"$f":"IF(H1620>0,\" (H) \"&Modulo2.GetFormula(H1620),\"\")","v":""},null,null,null,null,null,null,null,null,null,2,0,null,"",{"$f":"ROWS($AC$4:AC1620)","v":1617},"",{"$f":"IFERROR(SMALL($AD$4:$AD$1642,ROWS($AD$4:AD1620)),\"\")","v":""},null,{"$f":"IFERROR(INDEX($A$4:$R$1642,$AE1620,COLUMNS($A:$B)),\"\")","v":""},{"$f":"IFERROR(INDEX($A$4:$R$1642,$AE1620,COLUMNS($A:$C)),\"\")","v":""},{"$f":"IFERROR(INDEX($A$4:$R$1642,$AE1620,COLUMNS($A:$R)),\"\")","v":""},null,{"$f":"IFERROR(IF(SEARCH(\"=\",L1620),L1620,\"\"),\"\")","v":""},{"$f":"IFERROR(IF(SEARCH(\"=\",M1620),M1620,\"\"),\"\")","v":""},{"$f":"IFERROR(IF(SEARCH(\"=\",N1620),N1620,\"\"),\"\")","v":""},{"$f":"IFERROR(IF(SEARCH(\"=\",O1620),O1620,\"\"),\"\")","v":""},null,null,null,202]
[null,null,null,"",null,null,null,null,"","",null,{"$f":"IF(E1621>0,\" (p/u) \"&Modulo2.GetFormula(E1621),\"\")","v":""},{"$f":"IF(F1621>0,\" (lu) \"&Modulo2.GetFormula(F1621),\"\")","v":""},{"$f":"IF(G1621>0,\" (la) \"&Modulo2.GetFormula(G1621),\"\")","v":""},{"$f":"IF(H1621>0,\" (H) \"&Modulo2.GetFormula(H1621),\"\")","v":""},null,null,null,null,null,null,null,null,null,2,0,null,"",{"$f":"ROWS($AC$4:AC1621)","v":1618},"",{"$f":"IFERROR(SMALL($AD$4:$AD$1642,ROWS($AD$4:AD1621)),\"\")","v":""},null,{"$f":"IFERROR(INDEX($A$4:$R$1642,$AE1621,COLUMNS($A:$B)),\"\")","v":""},{"$f":"IFERROR(INDEX($A$4:$R$1642,$AE1621,COLUMNS($A:$C)),\"\")","v":""},{"$f":"IFERROR(INDEX($A$4:$R$1642,$AE1621,COLUMNS($A:$R)),\"\")","v":""},null,"","","","",null,null,null,202]
[null,null,null,"",null,null,null,null,"","",null,{"$f":"IF(E1622>0,\" (p/u) \"&Modulo2.GetFormula(E1622),\"\")","v":""},{"$f":"IF(F1622>0,\" (lu) \"&Modulo2.GetFormula(F1622),\"\")","v":""},{"$f":"IF(G1622>0,\" (la) \"&Modulo2.GetFormula(G1622),\"\")","v":""},{"$f":"IF(H1622>0,\" (H) \"&Modulo2.GetFormula(H1622),\"\")","v":""},null,null,null,null,null,null,null,null,null,2,0,null,"",{"$f":"ROWS($AC$4:AC1622)","v":1619},"",{"$f":"IFERROR(SMALL($AD$4:$AD$1642,ROWS($AD$4:AD1622)),\"\")","v":""},null,{"$f":"IFERROR(INDEX($A$4:$R$1642,$AE1622,COLUMNS($A:$B)),\"\")","v":""},{"$f":"IFERROR(INDEX($A$4:$R$1642,$AE1622,COLUMNS($A:$C)),\"\")","v":""},{"$f":"IFERROR(INDEX($A$4:$R$1642,$AE1622,COLUMNS($A:$R)),\"\")","v":""},null,"","","","",null,null,null,202]
[null,null,null,null,null,null,null,{"$f":"CONCATENATE(\"SOMMANO [\",VLOOKUP(B1619,'Elenco Prezzi2'!$A$2:$E$201,3,FALSE()),\"]\")","v":{"$error":"#N/A"}},{"$f":"IF(T1623=\"s\",V1624,SUBTOTAL(9,I1619:I1623))","v":{"$error":"#REF!"}},null,{"$f":"VLOOKUP(B1619,'Elenco Prezzi2'!$A$2:$E$201,5,FALSE)","v":{"$error":"#N/A"}},null,null,null,null,null,null,{"$f":"IFERROR(I1623*K1623,\"\")","v":""},null,"s",null,null,null,{"$f":"R1623","v":""},2,0,null,"",{"$f":"ROWS($AC$4:AC1623)","v":1620},"",{"$f":"IFERROR(SMALL($AD$4:$AD$1642,ROWS($AD$4:AD1623)),\"\")","v":""},null,{"$f":"IFERROR(INDEX($A$4:$R$1642,$AE1623,COLUMNS($A:$B)),\"\")","v":""},{"$f":"IFERROR(INDEX($A$4:$R$1642,$AE1623,COLUMNS($A:$C)),\"\")","v":""},{"$f":"IFERROR(INDEX($A$4:$R$1642,$AE1623,COLUMNS($A:$R)),\"\")","v":""},null,null,null,null,null,null,null,null,202]
[null,null,null,null,null,null,null,{"$f":"IF(I1624<0,\"a detrarre\",\"\")","v":""},{"$f":"SUMIF(I1619:I1622,\"<0\")","v":0},null,null,null,null,null,null,null,null,null,{"$f":"R1623","v":""},null,null,{"$f":"VLOOKUP(B1619,#REF!,4,FALSE)","v":{"$error":"#REF!"}},null,null,2,0,null,"",{"$f":"ROWS($AC$4:AC1624)","v":1621},"",{"$f":"IFERROR(SMALL($AD$4:$AD$1642,ROWS($AD$4:AD1624)),\"\")","v":""},null,{"$f":"IFERROR(INDEX($A$4:$R$1642,$AE1624,COLUMNS($A:$B)),\"\")","v":""},{"$f":"IFERROR(INDEX($A$4:$R$1642,$AE1624,COLUMNS($A:$C)),\"\")","v":""},{"$f":"IFERROR(INDEX($A$4:$R$1642,$AE1624,COLUMNS($A:$R)),\"\")","v":""},null,null,null,null,null,null,null,null,202]
[null,null,null,null,null,null,null,null,null,null,null,null,null,null,null,null,null,null,null,null,null,null,null,null,2,0,null,"",{"$f":"ROWS($AC$4:AC1625)","v":1622},"",{"$f":"IFERROR(SMALL($AD$4:$AD$1642,ROWS($AD$4:AD1625)),\"\")","v":""},null,{"$f":"IFERROR(INDEX($A$4:$R$1642,$AE1625,COLUMNS($A:$B)),\"\")","v":""},{"$f":"IFERROR(INDEX($A$4:$R$1642,$AE1625,COLUMNS($A:$C)),\"\")","v":""},{"$f":"IFERROR(INDEX($A$4:$R$1642,$AE1625,COLUMNS($A:$R)),\"\")","v":""},null,null,null,null,null,null,null,null,202]
[null,null,null,null,null,null,null,null,null,null,null,null,null,null,null,null,null,null,null,null,null,null,null,null,2,0,null,"",{"$f":"ROWS($AC$4:AC1626)","v":1623},"",{"$f":"IFERROR(SMALL($AD$4:$AD$1642,ROWS($AD$4:AD1626)),\"\")","v":""},null,{"$f":"IFERROR(INDEX($A$4:$R$1642,$AE1626,COLUMNS($A:$B)),\"\")","v":""},{"$f":"IFERROR(INDEX($A$4:$R$1642,$AE1626,COLUMNS($A:$C)),\"\")","v":""},{"$f":"IFERROR(INDEX($A$4:$R$1642,$AE1626,COLUMNS($A:$R)),\"\")","v":""},null,null,null,null,null,null,null,null,202]
[{"$f":"AR1627","v":203},null,{"$f":"(VLOOKUP($B1627,'Elenco Prezzi2'!$A$2:$E$201,2,FALSE))","v":{"$error":"#N/A"}},null,null,null,null,null,null,null,null,null,null,null,null,null,null,null,null,null,null,null,null,null,2,0,null,"",{"$f":"ROWS($AC$4:AC1627)","v":1624},"",{"$f":"IFERROR(SMALL($AD$4:$AD$1642,ROWS($AD$4:AD1627)),\"\")","v":""},null,{"$f":"IFERROR(INDEX($A$4:$R$1642,$AE1627,COLUMNS($A:$B)),\"\")","v":""},{"$f":"IFERROR(INDEX($A$4:$R$1642,$AE1627,COLUMNS($A:$C)),\"\")","v":""},{"$f":"IFERROR(INDEX($A$4:$R$1642,$AE1627,COLUMNS($A:$R)),\"\")","v":""},null,null,null,null,null,null,null,1,203]
[null,null,null,{"$f":"CONCATENATE(AK1628&AL1628&AM1628&AN1628)","v":""},null,null,null,null,{"$f":"IFERROR(IF(PRODUCT(E1628:H1628)=0,\"\",PRODUCT(E1628:H1628)),\"\")","v":""},{"$f":"I1628","v":""},null,{"$f":"IF(E1628>0,\" (p/u) \"&Modulo2.GetFormula(E1628),\"\")","v":""},{"$f":"IF(F1628>0,\" (lu) \"&Modulo2.GetFormula(F1628),\"\")","v":""},{"$f":"IF(G1628>0,\" (la) \"&Modulo2.GetFormula(G1628),\"\")","v":""},{"$f":"IF(H1628>0,\" (H) \"&Modulo2.GetFormula(H1628),\"\")","v":""},null,null,null,null,null,null,null,null,null,2,0,null,"",{"$f":"ROWS($AC$4:AC1628)","v":1625},"",{"$f":"IFERROR(SMALL($AD$4:$AD$1642,ROWS($AD$4:AD1628)),\"\")","v":""},null,{"$f":"IFERROR(INDEX($A$4:$R$1642,$AE1628,COLUMNS($A:$B)),\"\")","v":""},{"$f":"IFERROR(INDEX($A$4:$R$1642,$AE1628,COLUMNS($A:$C)),\"\")","v":""},{"$f":"IFERROR(INDEX($A$4:$R$1642,$AE1628,COLUMNS($A:$R)),\"\")","v":""},null,{"$f":"IFERROR(IF(SEARCH(\"=\",L1628),L1628,\"\"),\"\")","v":""},{"$f":"IFERROR(IF(SEARCH(\"=\",M1628),M1628,\"\"),\"\")","v":""},{"$f":"IFERROR(IF(SEARCH(\"=\",N1628),N1628,\"\"),\"\")","v":""},{"$f":"IFERROR(IF(SEARCH(\"=\",O1628),O1628,\"\"),\"\")","v":""},null,null,null,203]
[null,null,null,"",null,null,null,null,"","",null,{"$f":"IF(E1629>0,\" (p/u) \"&Modulo2.GetFormula(E1629),\"\")","v":""},{"$f":"IF(F1629>0,\" (lu) \"&Modulo2.GetFormula(F1629),\"\")","v":""},{"$f":"IF(G1629>0,\" (la) \"&Modulo2.GetFormula(G1629),\"\")","v":""},{"$f":"IF(H1629>0,\" (H) \"&Modulo2.GetFormula(H1629),\"\")","v":""},null,null,null,null,null,null,null,null,null,2,0,null,"",{"$f":"ROWS($AC$4:AC1629)","v":1626},"",{"$f":"IFERROR(SMALL($AD$4:$AD$1642,ROWS($AD$4:AD1629)),\"\")","v":""},null,{"$f":"IFERROR(INDEX($A$4:$R$1642,$AE1629,COLUMNS($A:$B)),\"\")","v":""},{"$f":"IFERROR(INDEX($A$4:$R$1642,$AE1629,COLUMNS($A:$C)),\"\")","v":""},{"$f":"IFERROR(INDEX($A$4:$R$1642,$AE1629,COLUMNS($A:$R)),\"\")","v":""},null,"","","","",null,null,null,203]
[null,null,null,"",null,null,null,null,"","",null,{"$f":"IF(E1630>0,\" (p/u) \"&Modulo2.GetFormula(E1630),\"\")","v":""},{"$f":"IF(F1630>0,\" (lu) \"&Modulo2.GetFormula(F1630),\"\")","v":""},{"$f":"IF(G1630>0,\" (la) \"&Modulo2.GetFormula(G1630),\"\")","v":""},{"$f":"IF(H1630>0,\" (H) \"&Modulo2.GetFormula(H1630),\"\")","v":""},null,null,null,null,null,null,null,null,null,2,0,null,"",{"$f":"ROWS($AC$4:AC1630)","v":1627},"",{"$f":"IFERROR(SMALL($AD$4:$AD$1642,ROWS($AD$4:AD1630)),\"\")","v":""},null,{"$f":"IFERROR(INDEX($A$4:$R$1642,$AE1630,COLUMNS($A:$B)),\"\")","v":""},{"$f":"IFERROR(INDEX($A$4:$R$1642,$AE1630,COLUMNS($A:$C)),\"\")","v":""},{"$f":"IFERROR(INDEX($A$4:$R$1642,$AE1630,COLUMNS($A:$R)),\"\")","v":""},null,"","","","",null,null,null,203]
[null,null,null,null,null,null,null,{"$f":"CONCATENATE(\"SOMMANO [\",VLOOKUP(B1627,'Elenco Prezzi2'!$A$2:$E$201,3,FALSE()),\"]\")","v":{"$error":"#N/A"}},{"$f":"IF(T1631=\"s\",V1632,SUBTOTAL(9,I1627:I1631))","v":{"$error":"#REF!"}},null,{"$f":"VLOOKUP(B1627,'Elenco Prezzi2'!$A$2:$E$201,5,FALSE)","v":{"$error":"#N/A"}},null,null,null,null,null,null,{"$f":"IFERROR(I1631*K1631,\"\")","v":""},null,"s",null,null,null,{"$f":"R1631","v":""},2,0,null,"",{"$f":"ROWS($AC$4:AC1631)","v":1628},"",{"$f":"IFERROR(SMALL($AD$4:$AD$1642,ROWS($AD$4:AD1631)),\"\")","v":""},null,{"$f":"IFERROR(INDEX($A$4:$R$1642,$AE1631,COLUMNS($A:$B)),\"\")","v":""},{"$f":"IFERROR(INDEX($A$4:$R$1642,$AE1631,COLUMNS($A:$C)),\"\")","v":""},{"$f":"IFERROR(INDEX($A$4:$R$1642,$AE1631,COLUMNS($A:$R)),\"\")","v":""},null,null,null,null,null,null,null,null,203]
[null,null,null,null,null,null,null,{"$f":"IF(I1632<0,\"a detrarre\",\"\")","v":""},{"$f":"SUMIF(I1627:I1630,\"<0\")","v":0},null,null,null,null,null,null,null,null,null,{"$f":"R1631","v":""},null,null,{"$f":"VLOOKUP(B1627,#REF!,4,FALSE)","v":{"$error":"#REF!"}},null,null,2,0,null,"",{"$f":"ROWS($AC$4:AC1632)","v":1629},"",{"$f":"IFERROR(SMALL($AD$4:$AD$1642,ROWS($AD$4:AD1632)),\"\")","v":""},null,{"$f":"IFERROR(INDEX($A$4:$R$1642,$AE1632,COLUMNS($A:$B)),\"\")","v":""},{"$f":"IFERROR(INDEX($A$4:$R$1642,$AE1632,COLUMNS($A:$C)),\"\")","v":""},{"$f":"IFERROR(INDEX($A$4:$R$1642,$AE1632,COLUMNS($A:$R)),\"\")","v":""},null,null,null,null,null,null,null,null,203]
[null,null,null,null,null,null,null,null,null,null,null,null,null,null,null,null,null,null,null,null,null,null,null,null,2,0,null,"",{"$f":"ROWS($AC$4:AC1633)","v":1630},"",{"$f":"IFERROR(SMALL($AD$4:$AD$1642,ROWS($AD$4:AD1633)),\"\")","v":""},null,{"$f":"IFERROR(INDEX($A$4:$R$1642,$AE1633,COLUMNS($A:$B)),\"\")","v":""},{"$f":"IFERROR(INDEX($A$4:$R$1642,$AE1633,COLUMNS($A:$C)),\"\")","v":""},{"$f":"IFERROR(INDEX($A$4:$R$1642,$AE1633,COLUMNS($A:$R)),\"\")","v":""},null,null,null,null,null,null,null,null,203]
[null,null,null,null,null,null,null,null,null,null,null,null,null,null,null,null,null,null,null,null,null,null,null,null,2,0,null,"",{"$f":"ROWS($AC$4:AC1634)","v":1631},"",{"$f":"IFERROR(SMALL($AD$4:$AD$1642,ROWS($AD$4:AD1634)),\"\")","v":""},null,{"$f":"IFERROR(INDEX($A$4:$R$1642,$AE1634,COLUMNS($A:$B)),\"\")","v":""},{"$f":"IFERROR(INDEX($A$4:$R$1642,$AE1634,COLUMNS($A:$C)),\"\")","v":""},{"$f":"IFERROR(INDEX($A$4:$R$1642,$AE1634,COLUMNS($A:$R)),\"\")","v":""},null,null,null,null,null,null,null,null,203]
[{"$f":"AR1635","v":204},null,{"$f":"(VLOOKUP($B1635,'Elenco Prezzi2'!$A$2:$E$201,2,FALSE))","v":{"$error":"#N/A"}},null,null,null,null,null,null,null,null,null,null,null,null,null,null,null,null,null,null,null,null,null,2,0,null,{"$f":"IF(W1635>0,\"OK\",\"\")","v":""},{"$f":"ROWS($AC$4:AC1635)","v":1632},{"$f":"IF(AB1635=\"ok\",AC1635,\"\")","v":""},{"$f":"IFERROR(SMALL($AD$4:$AD$1642,ROWS($AD$4:AD1635)),\"\")","v":""},null,{"$f":"IFERROR(INDEX($A$4:$R$1642,$AE1635,COLUMNS($A:$B)),\"\")","v":""},{"$f":"IFERROR(INDEX($A$4:$R$1642,$AE1635,COLUMNS($A:$C)),\"\")","v":""},{"$f":"IFERROR(INDEX($A$4:$R$1642,$AE1635,COLUMNS($A:$R)),\"\")","v":""},null,null,null,null,null,null,null,1,{"$f":"IF(AQ1635=\"\",AR1634,AR1634+AQ1635)","v":204}]
[null,null,null,{"$f":"CONCATENATE(AK1636&AL1636&AM1636&AN1636)","v":""},null,null,null,null,{"$f":"IFERROR(IF(PRODUCT(E1636:H1636)=0,\"\",PRODUCT(E1636:H1636)),\"\")","v":""},{"$f":"I1636","v":""},null,{"$f":"IF(E1636>0,\" (p/u) \"&Modulo2.GetFormula(E1636),\"\")","v":""},{"$f":"IF(F1636>0,\" (lu) \"&Modulo2.GetFormula(F1636),\"\")","v":""},{"$f":"IF(G1636>0,\" (la) \"&Modulo2.GetFormula(G1636),\"\")","v":""},{"$f":"IF(H1636>0,\" (H) \"&Modulo2.GetFormula(H1636),\"\")","v":""},null,null,null,null,null,null,null,null,null,{"$f":"IF(AO1636=\"\",Y1635,Y1635+AO1636)","v":2},{"$f":"IF(AP1636=\"\",Z1635,Z1635+AP1636)","v":0},null,"",{"$f":"ROWS($AC$4:AC1636)","v":1633},"",{"$f":"IFERROR(SMALL($AD$4:$AD$1642,ROWS($AD$4:AD1636)),\"\")","v":""},null,{"$f":"IFERROR(INDEX($A$4:$R$1642,$AE1636,COLUMNS($A:$B)),\"\")","v":""},{"$f":"IFERROR(INDEX($A$4:$R$1642,$AE1636,COLUMNS($A:$C)),\"\")","v":""},{"$f":"IFERROR(INDEX($A$4:$R$1642,$AE1636,COLUMNS($A:$R)),\"\")","v":""},null,{"$f":"IFERROR(IF(SEARCH(\"=\",L1636),L1636,\"\"),\"\")","v":""},{"$f":"IFERROR(IF(SEARCH(\"=\",M1636),M1636,\"\"),\"\")","v":""},{"$f":"IFERROR(IF(SEARCH(\"=\",N1636),N1636,\"\"),\"\")","v":""},{"$f":"IFERROR(IF(SEARCH(\"=\",O1636),O1636,\"\"),\"\")","v":""},null,null,null,204]
[null,null,null,"",null,null,null,null,"","",null,{"$f":"IF(E1637>0,\" (p/u) \"&Modulo2.GetFormula(E1637),\"\")","v":""},{"$f":"IF(F1637>0,\" (lu) \"&Modulo2.GetFormula(F1637),\"\")","v":""},{"$f":"IF(G1637>0,\" (la) \"&Modulo2.GetFormula(G1637),\"\")","v":""},{"$f":"IF(H1637>0,\" (H) \"&Modulo2.GetFormula(H1637),\"\")","v":""},null,null,null,null,null,null,null,null,null,2,0,null,"",{"$f":"ROWS($AC$4:AC1637)","v":1634},"",{"$f":"IFERROR(SMALL($AD$4:$AD$1642,ROWS($AD$4:AD1637)),\"\")","v":""},null,{"$f":"IFERROR(INDEX($A$4:$R$1642,$AE1637,COLUMNS($A:$B)),\"\")","v":""},{"$f":"IFERROR(INDEX($A$4:$R$1642,$AE1637,COLUMNS($A:$C)),\"\")","v":""},{"$f":"IFERROR(INDEX($A$4:$R$1642,$AE1637,COLUMNS($A:$R)),\"\")","v":""},null,"","","","",null,null,null,204]
[null,null,null,"",null,null,null,null,"","",null,{"$f":"IF(E1638>0,\" (p/u) \"&Modulo2.GetFormula(E1638),\"\")","v":""},{"$f":"IF(F1638>0,\" (lu) \"&Modulo2.GetFormula(F1638),\"\")","v":""},{"$f":"IF(G1638>0,\" (la) \"&Modulo2.GetFormula(G1638),\"\")","v":""},{"$f":"IF(H1638>0,\" (H) \"&Modulo2.GetFormula(H1638),\"\")","v":""},null,null,null,null,null,null,null,null,null,2,0,null,"",{"$f":"ROWS($AC$4:AC1638)","v":1635},"",{"$f":"IFERROR(SMALL($AD$4:$AD$1642,ROWS($AD$4:AD1638)),\"\")","v":""},null,{"$f":"IFERROR(INDEX($A$4:$R$1642,$AE1638,COLUMNS($A:$B)),\"\")","v":""},{"$f":"IFERROR(INDEX($A$4:$R$1642,$AE1638,COLUMNS($A:$C)),\"\")","v":""},{"$f":"IFERROR(INDEX($A$4:$R$1642,$AE1638,COLUMNS($A:$R)),\"\")","v":""},null,"","","","",null,null,null,204]
[null,null,null,null,null,null,null,{"$f":"CONCATENATE(\"SOMMANO [\",VLOOKUP(B1635,'Elenco Prezzi2'!$A$2:$E$201,3,FALSE()),\"]\")","v":{"$error":"#N/A"}},{"$f":"IF(T1639=\"s\",V1640,SUBTOTAL(9,I1635:I1639))","v":0},null,{"$f":"VLOOKUP(B1635,'Elenco Prezzi2'!$A$2:$E$201,5,FALSE)","v":{"$error":"#N/A"}},null,null,null,null,null,null,{"$f":"IFERROR(I1639*K1639,\"\")","v":""},null,"s",null,null,null,{"$f":"R1639","v":""},2,0,null,"",{"$f":"ROWS($AC$4:AC1639)","v":1636},"",{"$f":"IFERROR(SMALL($AD$4:$AD$1642,ROWS($AD$4:AD1639)),\"\")","v":""},null,{"$f":"IFERROR(INDEX($A$4:$R$1642,$AE1639,COLUMNS($A:$B)),\"\")","v":""},{"$f":"IFERROR(INDEX($A$4:$R$1642,$AE1639,COLUMNS($A:$C)),\"\")","v":""},{"$f":"IFERROR(INDEX($A$4:$R$1642,$AE1639,COLUMNS($A:$R)),\"\")","v":""},null,null,null,null,null,null,null,null,204]
[null,null,"TOTALI COMPUTO",null,null,null,null,null,null,null,null,null,null,null,null,null,null,{"$f":"SUBTOTAL(9,S4:S1640)","v":200},{"$f":"R1639","v":""}]
[null,null,"Fine Computo"]
[null,"N categoria","Riepilogo strutturale delle Categorie",null,"Importi","Incidenze %",null,null,null,null,null,null,null,null,null,null,null,null,null,null,null,null,null,null,null,null,null,"criteri"]
[null,{"$f":"INDIRECT(W1643)","v":1},{"$f":"INDIRECT(X1643)","v":"dd"},null,{"$f":"INDIRECT(Y1643)","v":100},{"$f":"IFERROR(E1643/$R$1640,\"\")","v":0.5},null,null,null,null,null,null,null,null,null,null,null,null,null,null,null,null,"ag4","ah4","ai4",null,null,{"$f":"ISNUMBER(F1643)","v":true}]
[null,{"$f":"INDIRECT(W1644)","v":2},{"$f":"INDIRECT(X1644)","v":"ff"},null,100,0.5,null,null,null,null,null,null,null,null,null,null,null,null,null,null,null,null,"ag5","ah5","ai5",null,null,{"$f":"ISNUMBER(F1644)","v":true}]
[null,"","",null,"","",null,null,null,88,null,null,null,null,null,null,null,null,null,null,null,null,"ag6","ah6","ai6",null,null,false]
[null,"","",null,"","",null,null,null,null,null,null,null,null,null,null,null,null,null,null,null,null,"ag7","ah7","ai7",null,null,false]
[null,"","",null,"","",null,null,null,null,null,null,null,null,null,null,null,null,null,null,{"$f":"IFERROR(INDEX($A$51:$R$1638,#REF!,COLUMNS($A$1642:B1646)),\"\")","v":""},null,"ag8","ah8","ai8",null,null,false]
[null,"","",null,"","",null,null,null,null,null,null,null,null,null,null,null,null,null,null,{"$f":"IFERROR(INDEX($A$51:$R$1638,#REF!,COLUMNS($A$1642:B1647)),\"\")","v":""},null,"ag9","ah9","ai9",null,null,false]
[null,"","",null,"","",null,null,null,null,null,null,null,null,null,null,null,null,null,null,{"$f":"IFERROR(INDEX($A$51:$R$1638,#REF!,COLUMNS($A$1642:B1648)),\"\")","v":""},null,"ag10","ah10","ai10",null,null,false]
[null,"","",null,"","",null,null,null,null,null,null,null,null,null,null,null,null,null,null,{"$f":"IFERROR(INDEX($A$51:$R$1638,#REF!,COLUMNS($A$1642:B1649)),\"\")","v":""},null,"ag11","ah11","ai11",null,null,false]
[null,"","",null,"","",null,null,null,null,null,null,null,null,null,null,null,null,null,null,{"$f":"IFERROR(INDEX($A$51:$R$1638,#REF!,COLUMNS($A$1642:B1650)),\"\")","v":""},null,"ag12","ah12","ai12",null,null,false]
[null,"","",null,"","",null,null,null,null,null,null,null,null,null,null,null,null,null,null,{"$f":"IFERROR(INDEX($A$51:$R$1638,#REF!,COLUMNS($A$1642:B1651)),\"\")","v":""},null,"ag13","ah13","ai13",null,null,false]
[null,"","",null,"","",null,null,null,null,null,null,null,null,null,null,null,null,null,null,{"$f":"IFERROR(INDEX($A$51:$R$1638,#REF!,COLUMNS($A$1642:B1652)),\"\")","v":""},null,"ag14","ah14","ai14",null,null,false]
[null,"","",null,"","",null,null,null,null,null,null,null,null,null,null,null,null,null,null,{"$f":"IFERROR(INDEX($A$51:$R$1638,#REF!,COLUMNS($A$1642:B1653)),\"\")","v":""},null,"ag15","ah15","ai15",null,null,false]
[null,"","",null,"","",null,null,null,null,null,null,null,null,null,null,null,null,null,null,{"$f":"IFERROR(INDEX($A$51:$R$1638,#REF!,COLUMNS($A$1642:B1654)),\"\")","v":""},null,"ag16","ah16","ai16",null,null,false]
[null,"","",null,"","",null,null,null,null,null,null,null,null,null,null,null,null,null,null,{"$f":"IFERROR(INDEX($A$51:$R$1638,#REF!,COLUMNS($A$1642:B1655)),\"\")","v":""},null,"ag17","ah17","ai17",null,null,false]
[null,"","",null,"","",null,null,null,null,null,null,null,null,null,null,null,null,null,null,{"$f":"IFERROR(INDEX($A$51:$R$1638,#REF!,COLUMNS($A$1642:B1656)),\"\")","v":""},null,"ag18","ah18","ai18",null,null,false]
[null,"","",null,"","",null,null,null,null,null,null,null,null,null,null,null,null,null,null,{"$f":"IFERROR(INDEX($A$51:$R$1638,#REF!,COLUMNS($A$1642:B1657)),\"\")","v":""},null,"ag19","ah19","ai19",null,null,false]
[null,"","",null,"","",null,null,null,null,null,null,null,null,null,null,null,null,null,null,{"$f":"IFERROR(INDEX($A$51:$R$1638,#REF!,COLUMNS($A$1642:B1658)),\"\")","v":""},null,"ag20","ah20","ai20",null,null,false]
[null,{"$f":"IFERROR(INDEX($A$51:$R$1638,#REF!,COLUMNS($A$1641:B1659)),\"\")","v":""},{"$f":"IFERROR(INDEX($A$51:$R$1638,#REF!,COLUMNS($A$1641:C1659)),\"\")","v":""},null,{"$f":"IFERROR(INDEX($A$51:$R$1638,#REF!,COLUMNS($A$1641:R1659)),\"\")","v":""},"",null,null,null,null,null,null,null,null,null,null,null,null,null,null,{"$f":"IFERROR(INDEX($A$51:$R$1638,#REF!,COLUMNS($A$1642:B1659)),\"\")","v":""}]
[null,null,"Totali EURO.",null,null,null,null,null,null,88,null,null,null,null,null,null,null,{"$f":"R1640","v":200},null,null,{"$f":"IFERROR(INDEX($A$51:$R$1638,#REF!,COLUMNS($A$1642:B1660)),\"\")","v":""}]
[null,null,null,null,null,null,null,null,null,176]
[]
[null,null,"Data, 09/10/2019"]
[]
[]
[]
[]
[]
[]
[]
[]
[]
[]
[]
[]
[]
[]
[]
[]
[]
[]
[]
[]
[]
[]
[]
[]
[]
[]
[]
[]
[]
[]
[]
[]
[]
[]
[]
[]
[]
[]
[]
[]
[]
[]
[]
[]
[]
[]
[]
[]
[]
[]
[]
[]
[]
[]
[]
[]
[]
[]
[]
[]
[]
[]
[]
[]
[]
[]
[]
[]
[]
[]
[]
[]
[]
[]
[]
[]
[]
[]
[]
[]
[]
[]
[]
[]
[]
[]
[]
[]
[]
[]
[]
[]
[]
[]
[]
[]
[]
[]
[]
[]
[]
[]
[]
[]
[]
[]
[]
[]
[]
[]
[]
[null,null,null,null,null,null,null,null,null,null,null,null,null,null,null,null,null,null,null,null,null,null,null,null,{"$f":"IF(AO1776=\"\",Y1775,Y1775+AO1776)","v":0},{"$f":"IF(AP1776=\"\",Z1775,Z1775+AP1776)","v":0},null,{"$f":"IF(W1776>0,\"OK\",\"\")","v":""},{"$f":"ROWS($AC$4:AC1776)","v":1773},{"$f":"IF(AB1776=\"ok\",AC1776,\"\")","v":""},{"$f":"IFERROR(SMALL($AD$4:$AD$1642,ROWS($AD$51:AD1776)),\"\")","v":""},null,{"$f":"IFERROR(INDEX($A$4:$R$1642,$AE1776,COLUMNS($A:$B)),\"\")","v":""},{"$f":"IFERROR(INDEX($A$4:$R$1642,$AE1776,COLUMNS($A:$C)),\"\")","v":""},{"$f":"IFERROR(INDEX($A$4:$R$1642,$AE1776,COLUMNS($A:$R)),\"\")","v":""},null,null,null,null,null,null,null,null,{"$f":"IF(AQ1776=\"\",AR1775,AR1775+AQ1776)","v":0}]
[{"$f":"AR1777","v":1},null,{"$f":"(VLOOKUP($B1777,'Elenco Prezzi2'!$A$2:$E$201,2,FALSE))","v":{"$error":"#N/A"}},null,null,null,null,null,null,null,null,null,null,null,null,null,null,null,null,null,null,null,null,null,{"$f":"IF(AO1777=\"\",Y1776,Y1776+AO1777)","v":0},{"$f":"IF(AP1777=\"\",Z1776,Z1776+AP1777)","v":0},null,{"$f":"IF(W1777>0,\"OK\",\"\")","v":""},{"$f":"ROWS($AC$4:AC1777)","v":1774},"",{"$f":"IFERROR(SMALL($AD$4:$AD$1642,ROWS($AD$51:AD1777)),\"\")","v":""},null,{"$f":"IFERROR(INDEX($A$4:$R$1642,$AE1777,COLUMNS($A:$B)),\"\")","v":""},{"$f":"IFERROR(INDEX($A$4:$R$1642,$AE1777,COLUMNS($A:$C)),\"\")","v":""},{"$f":"IFERROR(INDEX($A$4:$R$1642,$AE1777,COLUMNS($A:$R)),\"\")","v":""},null,null,null,null,null,null,null,1,{"$f":"IF(AQ1777=\"\",AR1776,AR1776+AQ1777)","v":1}]
[null,null,null,{"$f":"CONCATENATE(AK1778&AL1778&AM1778&AN1778)","v":""},null,null,null,null,{"$f":"IFERROR(IF(PRODUCT(E1778:H1778)=0,\"\",PRODUCT(E1778:H1778)),\"\")","v":""},{"$f":"I1778","v":""},null,{"$f":"IF(E1778>0,\" (p/u) \"&Modulo2.GetFormula(E1778),\"\")","v":""},{"$f":"IF(F1778>0,\" (lu) \"&Modulo2.GetFormula(F1778),\"\")","v":""},{"$f":"IF(G1778>0,\" (la) \"&Modulo2.GetFormula(G1778),\"\")","v":""},{"$f":"IF(H1778>0,\" (H) \"&Modulo2.GetFormula(H1778),\"\")","v":""},null,null,null,null,null,null,null,null,null,0,0,null,"",{"$f":"ROWS($AC$4:AC1778)","v":1775},"",{"$f":"IFERROR(SMALL($AD$4:$AD$1642,ROWS($AD$51:AD1778)),\"\")","v":""},null,{"$f":"IFERROR(INDEX($A$4:$R$1642,$AE1778,COLUMNS($A:$B)),\"\")","v":""},{"$f":"IFERROR(INDEX($A$4:$R$1642,$AE1778,COLUMNS($A:$C)),\"\")","v":""},{"$f":"IFERROR(INDEX($A$4:$R$1642,$AE1778,COLUMNS($A:$R)),\"\")","v":""},null,{"$f":"IFERROR(IF(SEARCH(\"=\",L1778),L1778,\"\"),\"\")","v":""},{"$f":"IFERROR(IF(SEARCH(\"=\",M1778),M1778,\"\"),\"\")","v":""},{"$f":"IFERROR(IF(SEARCH(\"=\",N1778),N1778,\"\"),\"\")","v":""},{"$f":"IFERROR(IF(SEARCH(\"=\",O1778),O1778,\"\"),\"\")","v":""},null,null,null,1]
[null,null,null,"",null,null,null,null,"","",null,{"$f":"IF(E1779>0,\" (p/u) \"&Modulo2.GetFormula(E1779),\"\")","v":""},{"$f":"IF(F1779>0,\" (lu) \"&Modulo2.GetFormula(F1779),\"\")","v":""},{"$f":"IF(G1779>0,\" (la) \"&Modulo2.GetFormula(G1779),\"\")","v":""},{"$f":"IF(H1779>0,\" (H) \"&Modulo2.GetFormula(H1779),\"\")","v":""},null,null,null,null,null,null,null,null,null,0,0,null,"",{"$f":"ROWS($AC$4:AC1779)","v":1776},"",{"$f":"IFERROR(SMALL($AD$4:$AD$1642,ROWS($AD$51:AD1779)),\"\")","v":""},null,{"$f":"IFERROR(INDEX($A$4:$R$1642,$AE1779,COLUMNS($A:$B)),\"\")","v":""},{"$f":"IFERROR(INDEX($A$4:$R$1642,$AE1779,COLUMNS($A:$C)),\"\")","v":""},{"$f":"IFERROR(INDEX($A$4:$R$1642,$AE1779,COLUMNS($A:$R)),\"\")","v":""},null,"","","","",null,null,null,1]
[null,null,null,"",null,null,null,null,"","",null,{"$f":"IF(E1780>0,\" (p/u) \"&Modulo2.GetFormula(E1780),\"\")","v":""},{"$f":"IF(F1780>0,\" (lu) \"&Modulo2.GetFormula(F1780),\"\")","v":""},{"$f":"IF(G1780>0,\" (la) \"&Modulo2.GetFormula(G1780),\"\")","v":""},{"$f":"IF(H1780>0,\" (H) \"&Modulo2.GetFormula(H1780),\"\")","v":""},null,null,null,null,null,null,null,null,null,0,0,null,"",{"$f":"ROWS($AC$4:AC1780)","v":1777},"",{"$f":"IFERROR(SMALL($AD$4:$AD$1642,ROWS($AD$51:AD1780)),\"\")","v":""},null,{"$f":"IFERROR(INDEX($A$4:$R$1642,$AE1780,COLUMNS($A:$B)),\"\")","v":""},{"$f":"IFERROR(INDEX($A$4:$R$1642,$AE1780,COLUMNS($A:$C)),\"\")","v":""},{"$f":"IFERROR(INDEX($A$4:$R$1642,$AE1780,COLUMNS($A:$R)),\"\")","v":""},null,"","","","",null,null,null,1]
[null,null,null,null,null,null,null,{"$f":"CONCATENATE(\"SOMMANO [\",VLOOKUP(V1782,'Elenco Prezzi2'!$A$2:$E$201,3,FALSE()),\"]\")","v":{"$error":"#REF!"}},{"$f":"IF(T1781=\"s\",V1782,SUBTOTAL(9,I1777:I1781))","v":{"$error":"#REF!"}},null,{"$f":"VLOOKUP(B1777,'Elenco Prezzi2'!$A$2:$E$201,5,FALSE)","v":{"$error":"#N/A"}},null,null,null,null,null,null,{"$f":"IFERROR(I1781*K1781,\"\")","v":""},null,"s",null,null,null,{"$f":"R1781","v":""},0,0,null,"",{"$f":"ROWS($AC$4:AC1781)","v":1778},"",{"$f":"IFERROR(SMALL($AD$4:$AD$1642,ROWS($AD$51:AD1781)),\"\")","v":""},null,{"$f":"IFERROR(INDEX($A$4:$R$1642,$AE1781,COLUMNS($A:$B)),\"\")","v":""},{"$f":"IFERROR(INDEX($A$4:$R$1642,$AE1781,COLUMNS($A:$C)),\"\")","v":""},{"$f":"IFERROR(INDEX($A$4:$R$1642,$AE1781,COLUMNS($A:$R)),\"\")","v":""},null,null,null,null,null,null,null,null,1]
[null,null,null,null,null,null,null,{"$f":"IF(I1782<0,\"a detrarre\",\"\")","v":""},{"$f":"SUMIF(I1777:I1780,\"<0\")","v":0},null,null,null,null,null,null,null,null,null,{"$f":"R1781","v":""},null,null,{"$f":"VLOOKUP(B1777,#REF!,4,FALSE)","v":{"$error":"#REF!"}},null,null,0,0,null,"",{"$f":"ROWS($AC$4:AC1782)","v":1779},"",{"$f":"IFERROR(SMALL($AD$4:$AD$1642,ROWS($AD$51:AD1782)),\"\")","v":""},null,{"$f":"IFERROR(INDEX($A$4:$R$1642,$AE1782,COLUMNS($A:$B)),\"\")","v":""},{"$f":"IFERROR(INDEX($A$4:$R$1642,$AE1782,COLUMNS($A:$C)),\"\")","v":""},{"$f":"IFERROR(INDEX($A$4:$R$1642,$AE1782,COLUMNS($A:$R)),\"\")","v":""},null,null,null,null,null,null,null,null,1]
[null,null,null,null,null,null,null,null,null,null,null,null,null,null,null,null,null,null,null,null,null,null,null,null,0,0,null,"",{"$f":"ROWS($AC$4:AC1783)","v":1780},"",{"$f":"IFERROR(SMALL($AD$4:$AD$1642,ROWS($AD$51:AD1783)),\"\")","v":""},null,{"$f":"IFERROR(INDEX($A$4:$R$1642,$AE1783,COLUMNS($A:$B)),\"\")","v":""},{"$f":"IFERROR(INDEX($A$4:$R$1642,$AE1783,COLUMNS($A:$C)),\"\")","v":""},{"$f":"IFERROR(INDEX($A$4:$R$1642,$AE1783,COLUMNS($A:$R)),\"\")","v":""},null,null,null,null,null,null,null,null,1]
[null,null,null,null,null,null,null,null,null,null,null,null,null,null,null,null,null,null,null,null,null,null,null,null,0,0,null,"",{"$f":"ROWS($AC$4:AC1784)","v":1781},"",{"$f":"IFERROR(SMALL($AD$4:$AD$1642,ROWS($AD$51:AD1784)),\"\")","v":""},null,{"$f":"IFERROR(INDEX($A$4:$R$1642,$AE1784,COLUMNS($A:$B)),\"\")","v":""},{"$f":"IFERROR(INDEX($A$4:$R$1642,$AE1784,COLUMNS($A:$C)),\"\")","v":""},{"$f":"IFERROR(INDEX($A$4:$R$1642,$AE1784,COLUMNS($A:$R)),\"\")","v":""},null,null,null,null,null,null,null,null,1]

{"sheet":"Foglio1","index":2,"n_rows":12,"n_cols":5,"rows_kept":12,"cut":false,"hidden":false,"merged":[]}
["a","aaaa","aaa","b",1]
["aaa","aaa","aaa","b",2]
["aaaa","aaaa","aaaa","b",3]
[null,null,null,"b",4]
[null,null,null,"b",5]
[null,null,null,null,6]
[null,null,null,null,7]
[null,null,null,null,8]
[null,null,null,null,9]
[null,null,null,null,10]
[null,null,null,null,11]
[null,null,null,null,12]