{"text_format":"1","workbook":"xlsx","n_sheets":2,"sheets":["Classifica","Risultati"],"not_rendered":{"charts":0,"images":1,"macros":1,"external_links":0,"defined_names":0,"comments":0,"pivot_tables":0},"unopened":[],"bounds":{"document_bytes":16777216,"sheet_cells":100000,"rows_first":2000,"rows_last":500,"rows_between":2000,"halvings":0,"cell_chars":16384,"cell_head_chars":4096},"cells_cut":0,"cells_raw":0,"read":"whole","date_system":"1900"}

{"sheet":"Classifica","index":0,"n_rows":18,"n_cols":23,"rows_kept":18,"cut":false,"hidden":false,"merged":[[0,18,0,20],[0,2,0,5],[0,6,0,9],[0,10,0,13],[0,14,0,15],[0,16,0,17]]}
["Classifica ------>   ",null,"Partite In Casa",null,null,null,"Partite Fuori",null,null,null,"Totale Partite",null,null,null,"R casa",null,"R Fuori",null,"Reti Totale"]
["Squadre","Punti","Gioc.","Vint.","Pare.","Pers.","Gioc.","Vint.","Pare.","Pers.","Gioc.","Vint.","Pare.","Pers","Fat.","Sub.","Fat.","Sub.","Fat.","Sub.","Diff.","Med.Goal","Med. Ingl."]
["Empoli - ",{"$f":"L3*3+M3","v":6},{"$f":"D3+E3+F3","v":2},{"$f":"VITTORIA(Risultati!$A$1:$A$135,\"Empoli - \")+VITTORIA4(Risultati!$B$1:$B$135,\"Empoli - \")","v":2},{"$f":"PAREGGIO(Risultati!$A$1:$A$135,\"Empoli - \")+PAREGGIO4(Risultati!$B$1:$B$135,\"Empoli - \")","v":0},{"$f":"SCONFITTA(Risultati!$A$1:$A$135,\"Empoli - \")+SCONFITTA4(Risultati!$B$1:$B$135,\"Empoli - \")","v":0},{"$f":"H3+I3+J3","v":0},{"$f":"VITTORIA2(Risultati!$B$1:$B$135,\"Empoli - \")+VITTORIA3(Risultati!$A$1:$A$135,\"Empoli - \")","v":0},{"$f":"PAREGGIO2(Risultati!$B$1:$B$135,\"Empoli - \")+PAREGGIO3(Risultati!$A$1:$A$135,\"Empoli - \")","v":0},{"$f":"SCONFITTA2(Risultati!$B$1:$B$135,\"Empoli - \")+SCONFITTA3(Risultati!$A$1:$A$135,\"Empoli - \")","v":0},{"$f":"C3+G3","v":2},{"$f":"D3+H3","v":2},{"$f":"E3+I3","v":0},{"$f":"F3+J3","v":0},{"$f":"NUMERORETI(Risultati!$A$1:$A$135,\"Empoli - \")+NUMERORETI2(Risultati!$B$1:$B$135,\"Empoli - \")","v":3},{"$f":"NUMERORETISUBITO1(Risultati!$A$1:$A$135,\"Empoli - \")+NUMERORETISUBITO1(Risultati!$B$1:$B$135,\"Empoli - \")","v":0},{"$f":"NUMERORETI(Risultati!$B$1:$B$135,\"Empoli - \")+NUMERORETI2(Risultati!$A$1:$A$135,\"Empoli - \")","v":0},{"$f":"NUMERORETISUBITO2(Risultati!$B$1:$B$135,\"Empoli - \")+NUMERORETISUBITO3(Risultati!$A$1:$A$135,\"Empoli - \")","v":0},{"$f":"O3+Q3","v":3},{"$f":"P3+R3","v":0},{"$f":"S3-T3","v":3},{"$f":"IF(ISERR(S3/K3),0,S3/K3)","v":1.5},{"$f":"IF(2*H3-1*J3-2*E3-3*F3>0,\"+\"&2*H3-1*J3-2*E3-3*F3,2*H3-1*J3-2*E3-3*F3)","v":0}]
["Pistoiese - ",{"$f":"L4*3+M4","v":3},{"$f":"D4+E4+F4","v":1},{"$f":"VITTORIA(Risultati!$A$1:$A$135,\"Pistoiese - \")+VITTORIA4(Risultati!$B$1:$B$135,\"Pistoiese - \")","v":1},{"$f":"PAREGGIO(Risultati!$A$1:$A$135,\"Pistoiese - \")+PAREGGIO4(Risultati!$B$1:$B$135,\"Pistoiese - \")","v":0},{"$f":"SCONFITTA(Risultati!$A$1:$A$135,\"Pistoiese - \")+SCONFITTA4(Risultati!$B$1:$B$135,\"Pistoiese - \")","v":0},{"$f":"H4+I4+J4","v":1},{"$f":"VITTORIA2(Risultati!$B$1:$B$135,\"Pistoiese - \")+VITTORIA3(Risultati!$A$1:$A$135,\"Pistoiese - \")","v":0},{"$f":"PAREGGIO2(Risultati!$B$1:$B$135,\"Pistoiese - \")+PAREGGIO3(Risultati!$A$1:$A$135,\"Pistoiese - \")","v":0},{"$f":"SCONFITTA2(Risultati!$B$1:$B$135,\"Pistoiese - \")+SCONFITTA3(Risultati!$A$1:$A$135,\"Pistoiese - \")","v":1},{"$f":"C4+G4","v":2},{"$f":"D4+H4","v":1},{"$f":"E4+I4","v":0},{"$f":"F4+J4","v":1},{"$f":"NUMERORETI(Risultati!$A$1:$A$135,\"Pistoiese - \")+NUMERORETI2(Risultati!$B$1:$B$135,\"Pistoiese - \")","v":3},{"$f":"NUMERORETISUBITO1(Risultati!$A$1:$A$135,\"Pistoiese - \")+NUMERORETISUBITO1(Risultati!$B$1:$B$135,\"Pistoiese - \")","v":1},{"$f":"NUMERORETI(Risultati!$B$1:$B$135,\"Pistoiese - \")+NUMERORETI2(Risultati!$A$1:$A$135,\"Pistoiese - \")","v":1},{"$f":"NUMERORETISUBITO2(Risultati!$B$1:$B$135,\"Pistoiese - \")+NUMERORETISUBITO3(Risultati!$A$1:$A$135,\"Pistoiese - \")","v":3},{"$f":"O4+Q4","v":4},{"$f":"P4+R4","v":4},{"$f":"S4-T4","v":0},{"$f":"IF(ISERR(S4/K4),0,S4/K4)","v":2},{"$f":"IF(2*H4-1*J4-2*E4-3*F4>0,\"+\"&2*H4-1*J4-2*E4-3*F4,2*H4-1*J4-2*E4-3*F4)","v":-1}]
["F.Boys - ",{"$f":"L5*3+M5","v":3},{"$f":"D5+E5+F5","v":0},{"$f":"VITTORIA(Risultati!$A$1:$A$135,\"F.Boys - \")+VITTORIA4(Risultati!$B$1:$B$135,\"F.Boys - \")","v":0},{"$f":"PAREGGIO(Risultati!$A$1:$A$135,\"F.Boys - \")+PAREGGIO4(Risultati!$B$1:$B$135,\"F.Boys - \")","v":0},{"$f":"SCONFITTA(Risultati!$A$1:$A$135,\"F.Boys - \")+SCONFITTA4(Risultati!$B$1:$B$135,\"F.Boys - \")","v":0},{"$f":"H5+I5+J5","v":1},{"$f":"VITTORIA2(Risultati!$B$1:$B$135,\"F.Boys - \")+VITTORIA3(Risultati!$A$1:$A$135,\"F.Boys - \")","v":1},{"$f":"PAREGGIO2(Risultati!$B$1:$B$135,\"F.Boys - \")+PAREGGIO3(Risultati!$A$1:$A$135,\"F.Boys - \")","v":0},{"$f":"SCONFITTA2(Risultati!$B$1:$B$135,\"F.Boys - \")+SCONFITTA3(Risultati!$A$1:$A$135,\"F.Boys - \")","v":0},{"$f":"C5+G5","v":1},{"$f":"D5+H5","v":1},{"$f":"E5+I5","v":0},{"$f":"F5+J5","v":0},{"$f":"NUMERORETI(Risultati!$A$1:$A$135,\"F.Boys - \")+NUMERORETI2(Risultati!$B$1:$B$135,\"F.Boys - \")","v":0},{"$f":"NUMERORETISUBITO1(Risultati!$A$1:$A$135,\"F.Boys - \")+NUMERORETISUBITO1(Risultati!$B$1:$B$135,\"F.Boys - \")","v":0},{"$f":"NUMERORETI(Risultati!$B$1:$B$135,\"F.Boys - \")+NUMERORETI2(Risultati!$A$1:$A$135,\"F.Boys - \")","v":3},{"$f":"NUMERORETISUBITO2(Risultati!$B$1:$B$135,\"F.Boys - \")+NUMERORETISUBITO3(Risultati!$A$1:$A$135,\"F.Boys - \")","v":2},{"$f":"O5+Q5","v":3},{"$f":"P5+R5","v":2},{"$f":"S5-T5","v":1},{"$f":"IF(ISERR(S5/K5),0,S5/K5)","v":3},{"$f":"IF(2*H5-1*J5-2*E5-3*F5>0,\"+\"&2*H5-1*J5-2*E5-3*F5,2*H5-1*J5-2*E5-3*F5)","v":"+2"}]
["Vicenza - ",{"$f":"L6*3+M6","v":3},{"$f":"D6+E6+F6","v":1},{"$f":"VITTORIA(Risultati!$A$1:$A$135,\"Vicenza - \")+VITTORIA4(Risultati!$B$1:$B$135,\"Vicenza - \")","v":1},{"$f":"PAREGGIO(Risultati!$A$1:$A$135,\"Vicenza - \")+PAREGGIO4(Risultati!$B$1:$B$135,\"Vicenza - \")","v":0},{"$f":"SCONFITTA(Risultati!$A$1:$A$135,\"Vicenza - \")+SCONFITTA4(Risultati!$B$1:$B$135,\"Vicenza - \")","v":0},{"$f":"H6+I6+J6","v":1},{"$f":"VITTORIA2(Risultati!$B$1:$B$135,\"Vicenza - \")+VITTORIA3(Risultati!$A$1:$A$135,\"Vicenza - \")","v":0},{"$f":"PAREGGIO2(Risultati!$B$1:$B$135,\"Vicenza - \")+PAREGGIO3(Risultati!$A$1:$A$135,\"Vicenza - \")","v":0},{"$f":"SCONFITTA2(Risultati!$B$1:$B$135,\"Vicenza - \")+SCONFITTA3(Risultati!$A$1:$A$135,\"Vicenza - \")","v":1},{"$f":"C6+G6","v":2},{"$f":"D6+H6","v":1},{"$f":"E6+I6","v":0},{"$f":"F6+J6","v":1},{"$f":"NUMERORETI(Risultati!$A$1:$A$135,\"Vicenza - \")+NUMERORETI2(Risultati!$B$1:$B$135,\"Vicenza - \")","v":3},{"$f":"NUMERORETISUBITO1(Risultati!$A$1:$A$135,\"Vicenza - \")+NUMERORETISUBITO1(Risultati!$B$1:$B$135,\"Vicenza - \")","v":1},{"$f":"NUMERORETI(Risultati!$B$1:$B$135,\"Vicenza - \")+NUMERORETI2(Risultati!$A$1:$A$135,\"Vicenza - \")","v":0},{"$f":"NUMERORETISUBITO2(Risultati!$B$1:$B$135,\"Vicenza - \")+NUMERORETISUBITO3(Risultati!$A$1:$A$135,\"Vicenza - \")","v":2},{"$f":"O6+Q6","v":3},{"$f":"P6+R6","v":3},{"$f":"S6-T6","v":0},{"$f":"IF(ISERR(S6/K6),0,S6/K6)","v":1.5},{"$f":"IF(2*H6-1*J6-2*E6-3*F6>0,\"+\"&2*H6-1*J6-2*E6-3*F6,2*H6-1*J6-2*E6-3*F6)","v":-1}]
["Reggiana - ",{"$f":"L7*3+M7","v":3},{"$f":"D7+E7+F7","v":1},{"$f":"VITTORIA(Risultati!$A$1:$A$135,\"Reggiana - \")+VITTORIA4(Risultati!$B$1:$B$135,\"Reggiana - \")","v":1},{"$f":"PAREGGIO(Risultati!$A$1:$A$135,\"Reggiana - \")+PAREGGIO4(Risultati!$B$1:$B$135,\"Reggiana - \")","v":0},{"$f":"SCONFITTA(Risultati!$A$1:$A$135,\"Reggiana - \")+SCONFITTA4(Risultati!$B$1:$B$135,\"Reggiana - \")","v":0},{"$f":"H7+I7+J7","v":1},{"$f":"VITTORIA2(Risultati!$B$1:$B$135,\"Reggiana - \")+VITTORIA3(Risultati!$A$1:$A$135,\"Reggiana - \")","v":0},{"$f":"PAREGGIO2(Risultati!$B$1:$B$135,\"Reggiana - \")+PAREGGIO3(Risultati!$A$1:$A$135,\"Reggiana - \")","v":0},{"$f":"SCONFITTA2(Risultati!$B$1:$B$135,\"Reggiana - \")+SCONFITTA3(Risultati!$A$1:$A$135,\"Reggiana - \")","v":1},{"$f":"C7+G7","v":2},{"$f":"D7+H7","v":1},{"$f":"E7+I7","v":0},{"$f":"F7+J7","v":1},{"$f":"NUMERORETI(Risultati!$A$1:$A$135,\"Reggiana - \")+NUMERORETI2(Risultati!$B$1:$B$135,\"Reggiana - \")","v":2},{"$f":"NUMERORETISUBITO1(Risultati!$A$1:$A$135,\"Reggiana - \")+NUMERORETISUBITO1(Risultati!$B$1:$B$135,\"Reggiana - \")","v":1},{"$f":"NUMERORETI(Risultati!$B$1:$B$135,\"Reggiana - \")+NUMERORETI2(Risultati!$A$1:$A$135,\"Reggiana - \")","v":1},{"$f":"NUMERORETISUBITO2(Risultati!$B$1:$B$135,\"Reggiana - \")+NUMERORETISUBITO3(Risultati!$A$1:$A$135,\"Reggiana - \")","v":3},{"$f":"O7+Q7","v":3},{"$f":"P7+R7","v":4},{"$f":"S7-T7","v":-1},{"$f":"IF(ISERR(S7/K7),0,S7/K7)","v":1.5},{"$f":"IF(2*H7-1*J7-2*E7-3*F7>0,\"+\"&2*H7-1*J7-2*E7-3*F7,2*H7-1*J7-2*E7-3*F7)","v":-1}]
["Perugia - ",{"$f":"L8*3+M8","v":3},{"$f":"D8+E8+F8","v":1},{"$f":"VITTORIA(Risultati!$A$1:$A$135,\"Perugia - \")+VITTORIA4(Risultati!$B$1:$B$135,\"Perugia - \")","v":1},{"$f":"PAREGGIO(Risultati!$A$1:$A$135,\"Perugia - \")+PAREGGIO4(Risultati!$B$1:$B$135,\"Perugia - \")","v":0},{"$f":"SCONFITTA(Risultati!$A$1:$A$135,\"Perugia - \")+SCONFITTA4(Risultati!$B$1:$B$135,\"Perugia - \")","v":0},{"$f":"H8+I8+J8","v":0},{"$f":"VITTORIA2(Risultati!$B$1:$B$135,\"Perugia - \")+VITTORIA3(Risultati!$A$1:$A$135,\"Perugia - \")","v":0},{"$f":"PAREGGIO2(Risultati!$B$1:$B$135,\"Perugia - \")+PAREGGIO3(Risultati!$A$1:$A$135,\"Perugia - \")","v":0},{"$f":"SCONFITTA2(Risultati!$B$1:$B$135,\"Perugia - \")+SCONFITTA3(Risultati!$A$1:$A$135,\"Perugia - \")","v":0},{"$f":"C8+G8","v":1},{"$f":"D8+H8","v":1},{"$f":"E8+I8","v":0},{"$f":"F8+J8","v":0},{"$f":"NUMERORETI(Risultati!$A$1:$A$135,\"Perugia - \")+NUMERORETI2(Risultati!$B$1:$B$135,\"Perugia - \")","v":2},{"$f":"NUMERORETISUBITO1(Risultati!$A$1:$A$135,\"Perugia - \")+NUMERORETISUBITO1(Risultati!$B$1:$B$135,\"Perugia - \")","v":1},{"$f":"NUMERORETI(Risultati!$B$1:$B$135,\"Perugia - \")+NUMERORETI2(Risultati!$A$1:$A$135,\"Perugia - \")","v":0},{"$f":"NUMERORETISUBITO2(Risultati!$B$1:$B$135,\"Perugia - \")+NUMERORETISUBITO3(Risultati!$A$1:$A$135,\"Perugia - \")","v":0},{"$f":"O8+Q8","v":2},{"$f":"P8+R8","v":1},{"$f":"S8-T8","v":1},{"$f":"IF(ISERR(S8/K8),0,S8/K8)","v":2},{"$f":"IF(2*H8-1*J8-2*E8-3*F8>0,\"+\"&2*H8-1*J8-2*E8-3*F8,2*H8-1*J8-2*E8-3*F8)","v":0}]
["Pescara - ",{"$f":"L9*3+M9","v":3},{"$f":"D9+E9+F9","v":1},{"$f":"VITTORIA(Risultati!$A$1:$A$135,\"Pescara - \")+VITTORIA4(Risultati!$B$1:$B$135,\"Pescara - \")","v":1},{"$f":"PAREGGIO(Risultati!$A$1:$A$135,\"Pescara - \")+PAREGGIO4(Risultati!$B$1:$B$135,\"Pescara - \")","v":0},{"$f":"SCONFITTA(Risultati!$A$1:$A$135,\"Pescara - \")+SCONFITTA4(Risultati!$B$1:$B$135,\"Pescara - \")","v":0},{"$f":"H9+I9+J9","v":0},{"$f":"VITTORIA2(Risultati!$B$1:$B$135,\"Pescara - \")+VITTORIA3(Risultati!$A$1:$A$135,\"Pescara - \")","v":0},{"$f":"PAREGGIO2(Risultati!$B$1:$B$135,\"Pescara - \")+PAREGGIO3(Risultati!$A$1:$A$135,\"Pescara - \")","v":0},{"$f":"SCONFITTA2(Risultati!$B$1:$B$135,\"Pescara - \")+SCONFITTA3(Risultati!$A$1:$A$135,\"Pescara - \")","v":0},{"$f":"C9+G9","v":1},{"$f":"D9+H9","v":1},{"$f":"E9+I9","v":0},{"$f":"F9+J9","v":0},{"$f":"NUMERORETI(Risultati!$A$1:$A$135,\"Pescara - \")+NUMERORETI2(Risultati!$B$1:$B$135,\"Pescara - \")","v":2},{"$f":"NUMERORETISUBITO1(Risultati!$A$1:$A$135,\"Pescara - \")+NUMERORETISUBITO1(Risultati!$B$1:$B$135,\"Pescara - \")","v":1},{"$f":"NUMERORETI(Risultati!$B$1:$B$135,\"Pescara - \")+NUMERORETI2(Risultati!$A$1:$A$135,\"Pescara - \")","v":0},{"$f":"NUMERORETISUBITO2(Risultati!$B$1:$B$135,\"Pescara - \")+NUMERORETISUBITO3(Risultati!$A$1:$A$135,\"Pescara - \")","v":0},{"$f":"O9+Q9","v":2},{"$f":"P9+R9","v":1},{"$f":"S9-T9","v":1},{"$f":"IF(ISERR(S9/K9),0,S9/K9)","v":2},{"$f":"IF(2*H9-1*J9-2*E9-3*F9>0,\"+\"&2*H9-1*J9-2*E9-3*F9,2*H9-1*J9-2*E9-3*F9)","v":0}]
["Salernitana - ",{"$f":"L10*3+M10","v":3},{"$f":"D10+E10+F10","v":0},{"$f":"VITTORIA(Risultati!$A$1:$A$135,\"Salernitana - \")+VITTORIA4(Risultati!$B$1:$B$135,\"Salernitana - \")","v":0},{"$f":"PAREGGIO(Risultati!$A$1:$A$135,\"Salernitana - \")+PAREGGIO4(Risultati!$B$1:$B$135,\"Salernitana - \")","v":0},{"$f":"SCONFITTA(Risultati!$A$1:$A$135,\"Salernitana - \")+SCONFITTA4(Risultati!$B$1:$B$135,\"Salernitana - \")","v":0},{"$f":"H10+I10+J10","v":1},{"$f":"VITTORIA2(Risultati!$B$1:$B$135,\"Salernitana - \")+VITTORIA3(Risultati!$A$1:$A$135,\"Salernitana - \")","v":1},{"$f":"PAREGGIO2(Risultati!$B$1:$B$135,\"Salernitana - \")+PAREGGIO3(Risultati!$A$1:$A$135,\"Salernitana - \")","v":0},{"$f":"SCONFITTA2(Risultati!$B$1:$B$135,\"Salernitana - \")+SCONFITTA3(Risultati!$A$1:$A$135,\"Salernitana - \")","v":0},{"$f":"C10+G10","v":1},{"$f":"D10+H10","v":1},{"$f":"E10+I10","v":0},{"$f":"F10+J10","v":0},{"$f":"NUMERORETI(Risultati!$A$1:$A$135,\"Salernitana - \")+NUMERORETI2(Risultati!$B$1:$B$135,\"Salernitana - \")","v":0},{"$f":"NUMERORETISUBITO1(Risultati!$A$1:$A$135,\"Salernitana - \")+NUMERORETISUBITO1(Risultati!$B$1:$B$135,\"Salernitana - \")","v":0},{"$f":"NUMERORETI(Risultati!$B$1:$B$135,\"Salernitana - \")+NUMERORETI2(Risultati!$A$1:$A$135,\"Salernitana - \")","v":1},{"$f":"NUMERORETISUBITO2(Risultati!$B$1:$B$135,\"Salernitana - \")+NUMERORETISUBITO3(Risultati!$A$1:$A$135,\"Salernitana - \")","v":0},{"$f":"O10+Q10","v":1},{"$f":"P10+R10","v":0},{"$f":"S10-T10","v":1},{"$f":"IF(ISERR(S10/K10),0,S10/K10)","v":1},{"$f":"IF(2*H10-1*J10-2*E10-3*F10>0,\"+\"&2*H10-1*J10-2*E10-3*F10,2*H10-1*J10-2*E10-3*F10)","v":"+2"}]
["Cremonese - ",{"$f":"L11*3+M11","v":0},{"$f":"D11+E11+F11","v":1},{"$f":"VITTORIA(Risultati!$A$1:$A$135,\"Cremonese - \")+VITTORIA4(Risultati!$B$1:$B$135,\"Cremonese - \")","v":0},{"$f":"PAREGGIO(Risultati!$A$1:$A$135,\"Cremonese - \")+PAREGGIO4(Risultati!$B$1:$B$135,\"Cremonese - \")","v":0},{"$f":"SCONFITTA(Risultati!$A$1:$A$135,\"Cremonese - \")+SCONFITTA4(Risultati!$B$1:$B$135,\"Cremonese - \")","v":1},{"$f":"H11+I11+J11","v":1},{"$f":"VITTORIA2(Risultati!$B$1:$B$135,\"Cremonese - \")+VITTORIA3(Risultati!$A$1:$A$135,\"Cremonese - \")","v":0},{"$f":"PAREGGIO2(Risultati!$B$1:$B$135,\"Cremonese - \")+PAREGGIO3(Risultati!$A$1:$A$135,\"Cremonese - \")","v":0},{"$f":"SCONFITTA2(Risultati!$B$1:$B$135,\"Cremonese - \")+SCONFITTA3(Risultati!$A$1:$A$135,\"Cremonese - \")","v":1},{"$f":"C11+G11","v":2},{"$f":"D11+H11","v":0},{"$f":"E11+I11","v":0},{"$f":"F11+J11","v":2},{"$f":"NUMERORETI(Risultati!$A$1:$A$135,\"Cremonese - \")+NUMERORETI2(Risultati!$B$1:$B$135,\"Cremonese - \")","v":2},{"$f":"NUMERORETISUBITO1(Risultati!$A$1:$A$135,\"Cremonese - \")+NUMERORETISUBITO1(Risultati!$B$1:$B$135,\"Cremonese - \")","v":3},{"$f":"NUMERORETI(Risultati!$B$1:$B$135,\"Cremonese - \")+NUMERORETI2(Risultati!$A$1:$A$135,\"Cremonese - \")","v":0},{"$f":"NUMERORETISUBITO2(Risultati!$B$1:$B$135,\"Cremonese - \")+NUMERORETISUBITO3(Risultati!$A$1:$A$135,\"Cremonese - \")","v":1},{"$f":"O11+Q11","v":2},{"$f":"P11+R11","v":4},{"$f":"S11-T11","v":-2},{"$f":"IF(ISERR(S11/K11),0,S11/K11)","v":1},{"$f":"IF(2*H11-1*J11-2*E11-3*F11>0,\"+\"&2*H11-1*J11-2*E11-3*F11,2*H11-1*J11-2*E11-3*F11)","v":-4}]
["Spal - ",{"$f":"L12*3+M12","v":0},{"$f":"D12+E12+F12","v":0},{"$f":"VITTORIA(Risultati!$A$1:$A$135,\"Spal - \")+VITTORIA4(Risultati!$B$1:$B$135,\"Spal - \")","v":0},{"$f":"PAREGGIO(Risultati!$A$1:$A$135,\"Spal - \")+PAREGGIO4(Risultati!$B$1:$B$135,\"Spal - \")","v":0},{"$f":"SCONFITTA(Risultati!$A$1:$A$135,\"Spal - \")+SCONFITTA4(Risultati!$B$1:$B$135,\"Spal - \")","v":0},{"$f":"H12+I12+J12","v":1},{"$f":"VITTORIA2(Risultati!$B$1:$B$135,\"Spal - \")+VITTORIA3(Risultati!$A$1:$A$135,\"Spal - \")","v":0},{"$f":"PAREGGIO2(Risultati!$B$1:$B$135,\"Spal - \")+PAREGGIO3(Risultati!$A$1:$A$135,\"Spal - \")","v":0},{"$f":"SCONFITTA2(Risultati!$B$1:$B$135,\"Spal - \")+SCONFITTA3(Risultati!$A$1:$A$135,\"Spal - \")","v":1},{"$f":"C12+G12","v":1},{"$f":"D12+H12","v":0},{"$f":"E12+I12","v":0},{"$f":"F12+J12","v":1},{"$f":"NUMERORETI(Risultati!$A$1:$A$135,\"Spal - \")+NUMERORETI2(Risultati!$B$1:$B$135,\"Spal - \")","v":0},{"$f":"NUMERORETISUBITO1(Risultati!$A$1:$A$135,\"Spal - \")+NUMERORETISUBITO1(Risultati!$B$1:$B$135,\"Spal - \")","v":0},{"$f":"NUMERORETI(Risultati!$B$1:$B$135,\"Spal - \")+NUMERORETI2(Risultati!$A$1:$A$135,\"Spal - \")","v":1},{"$f":"NUMERORETISUBITO2(Risultati!$B$1:$B$135,\"Spal - \")+NUMERORETISUBITO3(Risultati!$A$1:$A$135,\"Spal - \")","v":2},{"$f":"O12+Q12","v":1},{"$f":"P12+R12","v":2},{"$f":"S12-T12","v":-1},{"$f":"IF(ISERR(S12/K12),0,S12/K12)","v":1},{"$f":"IF(2*H12-1*J12-2*E12-3*F12>0,\"+\"&2*H12-1*J12-2*E12-3*F12,2*H12-1*J12-2*E12-3*F12)","v":-1}]
["Taranto - ",{"$f":"L13*3+M13","v":0},{"$f":"D13+E13+F13","v":0},{"$f":"VITTORIA(Risultati!$A$1:$A$135,\"Taranto - \")+VITTORIA4(Risultati!$B$1:$B$135,\"Taranto - \")","v":0},{"$f":"PAREGGIO(Risultati!$A$1:$A$135,\"Taranto - \")+PAREGGIO4(Risultati!$B$1:$B$135,\"Taranto - \")","v":0},{"$f":"SCONFITTA(Risultati!$A$1:$A$135,\"Taranto - \")+SCONFITTA4(Risultati!$B$1:$B$135,\"Taranto - \")","v":0},{"$f":"H13+I13+J13","v":1},{"$f":"VITTORIA2(Risultati!$B$1:$B$135,\"Taranto - \")+VITTORIA3(Risultati!$A$1:$A$135,\"Taranto - \")","v":0},{"$f":"PAREGGIO2(Risultati!$B$1:$B$135,\"Taranto - \")+PAREGGIO3(Risultati!$A$1:$A$135,\"Taranto - \")","v":0},{"$f":"SCONFITTA2(Risultati!$B$1:$B$135,\"Taranto - \")+SCONFITTA3(Risultati!$A$1:$A$135,\"Taranto - \")","v":1},{"$f":"C13+G13","v":1},{"$f":"D13+H13","v":0},{"$f":"E13+I13","v":0},{"$f":"F13+J13","v":1},{"$f":"NUMERORETI(Risultati!$A$1:$A$135,\"Taranto - \")+NUMERORETI2(Risultati!$B$1:$B$135,\"Taranto - \")","v":0},{"$f":"NUMERORETISUBITO1(Risultati!$A$1:$A$135,\"Taranto - \")+NUMERORETISUBITO1(Risultati!$B$1:$B$135,\"Taranto - \")","v":0},{"$f":"NUMERORETI(Risultati!$B$1:$B$135,\"Taranto - \")+NUMERORETI2(Risultati!$A$1:$A$135,\"Taranto - \")","v":1},{"$f":"NUMERORETISUBITO2(Risultati!$B$1:$B$135,\"Taranto - \")+NUMERORETISUBITO3(Risultati!$A$1:$A$135,\"Taranto - \")","v":2},{"$f":"O13+Q13","v":1},{"$f":"P13+R13","v":2},{"$f":"S13-T13","v":-1},{"$f":"IF(ISERR(S13/K13),0,S13/K13)","v":1},{"$f":"IF(2*H13-1*J13-2*E13-3*F13>0,\"+\"&2*H13-1*J13-2*E13-3*F13,2*H13-1*J13-2*E13-3*F13)","v":-1}]
["Pisa - ",{"$f":"L14*3+M14","v":0},{"$f":"D14+E14+F14","v":1},{"$f":"VITTORIA(Risultati!$A$1:$A$135,\"Pisa - \")+VITTORIA4(Risultati!$B$1:$B$135,\"Pisa - \")","v":0},{"$f":"PAREGGIO(Risultati!$A$1:$A$135,\"Pisa - \")+PAREGGIO4(Risultati!$B$1:$B$135,\"Pisa - \")","v":0},{"$f":"SCONFITTA(Risultati!$A$1:$A$135,\"Pisa - \")+SCONFITTA4(Risultati!$B$1:$B$135,\"Pisa - \")","v":1},{"$f":"H14+I14+J14","v":1},{"$f":"VITTORIA2(Risultati!$B$1:$B$135,\"Pisa - \")+VITTORIA3(Risultati!$A$1:$A$135,\"Pisa - \")","v":0},{"$f":"PAREGGIO2(Risultati!$B$1:$B$135,\"Pisa - \")+PAREGGIO3(Risultati!$A$1:$A$135,\"Pisa - \")","v":0},{"$f":"SCONFITTA2(Risultati!$B$1:$B$135,\"Pisa - \")+SCONFITTA3(Risultati!$A$1:$A$135,\"Pisa - \")","v":1},{"$f":"C14+G14","v":2},{"$f":"D14+H14","v":0},{"$f":"E14+I14","v":0},{"$f":"F14+J14","v":2},{"$f":"NUMERORETI(Risultati!$A$1:$A$135,\"Pisa - \")+NUMERORETI2(Risultati!$B$1:$B$135,\"Pisa - \")","v":0},{"$f":"NUMERORETISUBITO1(Risultati!$A$1:$A$135,\"Pisa - \")+NUMERORETISUBITO1(Risultati!$B$1:$B$135,\"Pisa - \")","v":1},{"$f":"NUMERORETI(Risultati!$B$1:$B$135,\"Pisa - \")+NUMERORETI2(Risultati!$A$1:$A$135,\"Pisa - \")","v":1},{"$f":"NUMERORETISUBITO2(Risultati!$B$1:$B$135,\"Pisa - \")+NUMERORETISUBITO3(Risultati!$A$1:$A$135,\"Pisa - \")","v":2},{"$f":"O14+Q14","v":1},{"$f":"P14+R14","v":3},{"$f":"S14-T14","v":-2},{"$f":"IF(ISERR(S14/K14),0,S14/K14)","v":0.5},{"$f":"IF(2*H14-1*J14-2*E14-3*F14>0,\"+\"&2*H14-1*J14-2*E14-3*F14,2*H14-1*J14-2*E14-3*F14)","v":-4}]
["Monza - ",{"$f":"L15*3+M15","v":0},{"$f":"D15+E15+F15","v":0},{"$f":"VITTORIA(Risultati!$A$1:$A$135,\"Monza - \")+VITTORIA4(Risultati!$B$1:$B$135,\"Monza - \")","v":0},{"$f":"PAREGGIO(Risultati!$A$1:$A$135,\"Monza - \")+PAREGGIO4(Risultati!$B$1:$B$135,\"Monza - \")","v":0},{"$f":"SCONFITTA(Risultati!$A$1:$A$135,\"Monza - \")+SCONFITTA4(Risultati!$B$1:$B$135,\"Monza - \")","v":0},{"$f":"H15+I15+J15","v":0},{"$f":"VITTORIA2(Risultati!$B$1:$B$135,\"Monza - \")+VITTORIA3(Risultati!$A$1:$A$135,\"Monza - \")","v":0},{"$f":"PAREGGIO2(Risultati!$B$1:$B$135,\"Monza - \")+PAREGGIO3(Risultati!$A$1:$A$135,\"Monza - \")","v":0},{"$f":"SCONFITTA2(Risultati!$B$1:$B$135,\"Monza - \")+SCONFITTA3(Risultati!$A$1:$A$135,\"Monza - \")","v":0},{"$f":"C15+G15","v":0},{"$f":"D15+H15","v":0},{"$f":"E15+I15","v":0},{"$f":"F15+J15","v":0},{"$f":"NUMERORETI(Risultati!$A$1:$A$135,\"Monza - \")+NUMERORETI2(Risultati!$B$1:$B$135,\"Monza - \")","v":0},{"$f":"NUMERORETISUBITO1(Risultati!$A$1:$A$135,\"Monza - \")+NUMERORETISUBITO1(Risultati!$B$1:$B$135,\"Monza - \")","v":0},{"$f":"NUMERORETI(Risultati!$B$1:$B$135,\"Monza - \")+NUMERORETI2(Risultati!$A$1:$A$135,\"Monza - \")","v":0},{"$f":"NUMERORETISUBITO2(Risultati!$B$1:$B$135,\"Monza - \")+NUMERORETISUBITO3(Risultati!$A$1:$A$135,\"Monza - \")","v":0},{"$f":"O15+Q15","v":0},{"$f":"P15+R15","v":0},{"$f":"S15-T15","v":0},{"$f":"IF(ISERR(S15/K15),0,S15/K15)","v":0},{"$f":"IF(2*H15-1*J15-2*E15-3*F15>0,\"+\"&2*H15-1*J15-2*E15-3*F15,2*H15-1*J15-2*E15-3*F15)","v":0}]
["Padova - ",{"$f":"L16*3+M16","v":0},{"$f":"D16+E16+F16","v":0},{"$f":"VITTORIA(Risultati!$A$1:$A$135,\"Padova - \")+VITTORIA4(Risultati!$B$1:$B$135,\"Padova - \")","v":0},{"$f":"PAREGGIO(Risultati!$A$1:$A$135,\"Padova - \")+PAREGGIO4(Risultati!$B$1:$B$135,\"Padova - \")","v":0},{"$f":"SCONFITTA(Risultati!$A$1:$A$135,\"Padova - \")+SCONFITTA4(Risultati!$B$1:$B$135,\"Padova - \")","v":0},{"$f":"H16+I16+J16","v":0},{"$f":"VITTORIA2(Risultati!$B$1:$B$135,\"Padova - \")+VITTORIA3(Risultati!$A$1:$A$135,\"Padova - \")","v":0},{"$f":"PAREGGIO2(Risultati!$B$1:$B$135,\"Padova - \")+PAREGGIO3(Risultati!$A$1:$A$135,\"Padova - \")","v":0},{"$f":"SCONFITTA2(Risultati!$B$1:$B$135,\"Padova - \")+SCONFITTA3(Risultati!$A$1:$A$135,\"Padova - \")","v":0},{"$f":"C16+G16","v":0},{"$f":"D16+H16","v":0},{"$f":"E16+I16","v":0},{"$f":"F16+J16","v":0},{"$f":"NUMERORETI(Risultati!$A$1:$A$135,\"Padova - \")+NUMERORETI2(Risultati!$B$1:$B$135,\"Padova - \")","v":0},{"$f":"NUMERORETISUBITO1(Risultati!$A$1:$A$135,\"Padova - \")+NUMERORETISUBITO1(Risultati!$B$1:$B$135,\"Padova - \")","v":0},{"$f":"NUMERORETI(Risultati!$B$1:$B$135,\"Padova - \")+NUMERORETI2(Risultati!$A$1:$A$135,\"Padova - \")","v":0},{"$f":"NUMERORETISUBITO2(Risultati!$B$1:$B$135,\"Padova - \")+NUMERORETISUBITO3(Risultati!$A$1:$A$135,\"Padova - \")","v":0},{"$f":"O16+Q16","v":0},{"$f":"P16+R16","v":0},{"$f":"S16-T16","v":0},{"$f":"IF(ISERR(S16/K16),0,S16/K16)","v":0},{"$f":"IF(2*H16-1*J16-2*E16-3*F16>0,\"+\"&2*H16-1*J16-2*E16-3*F16,2*H16-1*J16-2*E16-3*F16)","v":0}]
["Ternana - ",{"$f":"L17*3+M17","v":0},{"$f":"D17+E17+F17","v":0},{"$f":"VITTORIA(Risultati!$A$1:$A$135,\"Ternana - \")+VITTORIA4(Risultati!$B$1:$B$135,\"Ternana - \")","v":0},{"$f":"PAREGGIO(Risultati!$A$1:$A$135,\"Ternana - \")+PAREGGIO4(Risultati!$B$1:$B$135,\"Ternana - \")","v":0},{"$f":"SCONFITTA(Risultati!$A$1:$A$135,\"Ternana - \")+SCONFITTA4(Risultati!$B$1:$B$135,\"Ternana - \")","v":0},{"$f":"H17+I17+J17","v":0},{"$f":"VITTORIA2(Risultati!$B$1:$B$135,\"Ternana - \")+VITTORIA3(Risultati!$A$1:$A$135,\"Ternana - \")","v":0},{"$f":"PAREGGIO2(Risultati!$B$1:$B$135,\"Ternana - \")+PAREGGIO3(Risultati!$A$1:$A$135,\"Ternana - \")","v":0},{"$f":"SCONFITTA2(Risultati!$B$1:$B$135,\"Ternana - \")+SCONFITTA3(Risultati!$A$1:$A$135,\"Ternana - \")","v":0},{"$f":"C17+G17","v":0},{"$f":"D17+H17","v":0},{"$f":"E17+I17","v":0},{"$f":"F17+J17","v":0},{"$f":"NUMERORETI(Risultati!$A$1:$A$135,\"Ternana - \")+NUMERORETI2(Risultati!$B$1:$B$135,\"Ternana - \")","v":0},{"$f":"NUMERORETISUBITO1(Risultati!$A$1:$A$135,\"Ternana - \")+NUMERORETISUBITO1(Risultati!$B$1:$B$135,\"Ternana - \")","v":0},{"$f":"NUMERORETI(Risultati!$B$1:$B$135,\"Ternana - \")+NUMERORETI2(Risultati!$A$1:$A$135,\"Ternana - \")","v":0},{"$f":"NUMERORETISUBITO2(Risultati!$B$1:$B$135,\"Ternana - \")+NUMERORETISUBITO3(Risultati!$A$1:$A$135,\"Ternana - \")","v":0},{"$f":"O17+Q17","v":0},{"$f":"P17+R17","v":0},{"$f":"S17-T17","v":0},{"$f":"IF(ISERR(S17/K17),0,S17/K17)","v":0},{"$f":"IF(2*H17-1*J17-2*E17-3*F17>0,\"+\"&2*H17-1*J17-2*E17-3*F17,2*H17-1*J17-2*E17-3*F17)","v":0}]
["Triestina - ",{"$f":"L18*3+M18","v":0},{"$f":"D18+E18+F18","v":0},{"$f":"VITTORIA(Risultati!$A$1:$A$135,\"Triestina - \")+VITTORIA4(Risultati!$B$1:$B$135,\"Triestina - \")","v":0},{"$f":"PAREGGIO(Risultati!$A$1:$A$135,\"Triestina - \")+PAREGGIO4(Risultati!$B$1:$B$135,\"Triestina - \")","v":0},{"$f":"SCONFITTA(Risultati!$A$1:$A$135,\"Triestina - \")+SCONFITTA4(Risultati!$B$1:$B$135,\"Triestina - \")","v":0},{"$f":"H18+I18+J18","v":0},{"$f":"VITTORIA2(Risultati!$B$1:$B$135,\"Triestina - \")+VITTORIA3(Risultati!$A$1:$A$135,\"Triestina - \")","v":0},{"$f":"PAREGGIO2(Risultati!$B$1:$B$135,\"Triestina - \")+PAREGGIO3(Risultati!$A$1:$A$135,\"Triestina - \")","v":0},{"$f":"SCONFITTA2(Risultati!$B$1:$B$135,\"Triestina - \")+SCONFITTA3(Risultati!$A$1:$A$135,\"Triestina - \")","v":0},{"$f":"C18+G18","v":0},{"$f":"D18+H18","v":0},{"$f":"E18+I18","v":0},{"$f":"F18+J18","v":0},{"$f":"NUMERORETI(Risultati!$A$1:$A$135,\"Triestina - \")+NUMERORETI2(Risultati!$B$1:$B$135,\"Triestina - \")","v":0},{"$f":"NUMERORETISUBITO1(Risultati!$A$1:$A$135,\"Triestina - \")+NUMERORETISUBITO1(Risultati!$B$1:$B$135,\"Triestina - \")","v":0},{"$f":"NUMERORETI(Risultati!$B$1:$B$135,\"Triestina - \")+NUMERORETI2(Risultati!$A$1:$A$135,\"Triestina - \")","v":0},{"$f":"NUMERORETISUBITO2(Risultati!$B$1:$B$135,\"Triestina - \")+NUMERORETISUBITO3(Risultati!$A$1:$A$135,\"Triestina - \")","v":0},{"$f":"O18+Q18","v":0},{"$f":"P18+R18","v":0},{"$f":"S18-T18","v":0},{"$f":"IF(ISERR(S18/K18),0,S18/K18)","v":0},{"$f":"IF(2*H18-1*J18-2*E18-3*F18>0,\"+\"&2*H18-1*J18-2*E18-3*F18,2*H18-1*J18-2*E18-3*F18)","v":0}]

{"sheet":"Risultati","index":1,"n_rows":135,"n_cols":5,"rows_kept":135,"cut":false,"hidden":false,"merged":[[0,2,0,3],[0,4,0,5]]}
["Giornata",1,"ANDATA",null,"RITORNO"]
["Empoli - ","Cremonese - ",1,0]
["Vicenza - ","Pistoiese - ",3,1]
["Reggiana - ","Pisa - ",2,1]
["Salernitana - ","Pescara - "]
["Spal - ","Perugia - "]
["Taranto - ","Padova - "]
["Ternana - ","Monza - "]
["Triestina - ","F.Boys - "]
["Giornata",2]
["Empoli - ","Vicenza - ",2,0]
["Cremonese - ","F.Boys - ",2,3]
["Pistoiese - ","Reggiana - ",3,1]
["Pisa - ","Salernitana - ",0,1]
["Pescara - ","Spal - ",2,1]
["Perugia - ","Taranto - ",2,1]
["Padova - ","Ternana - "]
["Monza - ","Triestina - "]
["Giornata",3]
["F.Boys - ","Empoli - "]
["Monza - ","Cremonese - "]
["Vicenza - ","Reggiana - "]
["Salernitana - ","Pistoiese - "]
["Spal - ","Pisa - "]
["Taranto - ","Pescara - "]
["Ternana - ","Perugia - "]
["Triestina - ","Padova - "]
["Giornata",4]
["F.Boys - ","Vicenza - "]
["Empoli - ","Monza - "]
["Cremonese - ","Padova - "]
["Reggiana - ","Salernitana - "]
["Pistoiese - ","Spal - "]
["Pisa - ","Taranto - "]
["Pescara - ","Ternana - "]
["Perugia - ","Triestina - "]
["Giornata",5]
["Monza - ","F.Boys - "]
["Padova - ","Empoli - "]
["Perugia - ","Cremonese - "]
["Vicenza - ","Salernitana - "]
["Spal - ","Reggiana - "]
["Taranto - ","Pistoiese - "]
["Ternana - ","Pisa - "]
["Triestina - ","Pescara - "]
["Giornata",6]
["Monza - ","Vicenza - "]
["F.Boys - ","Padova - "]
["Empoli - ","Perugia - "]
["Cremonese - ","Pescara - "]
["Salernitana - ","Spal - "]
["Reggiana - ","Taranto - "]
["Pistoiese - ","Ternana - "]
["Pisa - ","Triestina - "]
["Giornata",7]
["Padova - ","Monza - "]
["Perugia - ","F.Boys - "]
["Pescara - ","Empoli - "]
["Pisa - ","Cremonese - "]
["Vicenza - ","Spal - "]
["Taranto - ","Salernitana - "]
["Ternana - ","Reggiana - "]
["Triestina - ","Pistoiese - "]
["Giornata",8]
["Padova - ","Vicenza - "]
["Monza - ","Perugia - "]
["F.Boys - ","Pescara - "]
["Empoli - ","Pisa - "]
["Cremonese - ","Pistoiese - "]
["Spal - ","Taranto - "]
["Salernitana - ","Ternana - "]
["Reggiana - ","Triestina - "]
["Giornata",9]
["Perugia - ","Padova - "]
["Pescara - ","Monza - "]
["Pisa - ","F.Boys - "]
["Pistoiese - ","Empoli - "]
["Reggiana - ","Cremonese - "]
["Vicenza - ","Taranto - "]
["Ternana - ","Spal - "]
["Triestina - ","Salernitana - "]
["Giornata",10]
["Perugia - ","Vicenza - "]
["Padova - ","Pescara - "]
["Monza - ","Pisa - "]
["F.Boys - ","Pistoiese - "]
["Empoli - ","Reggiana - "]
["Cremonese - ","Salernitana - "]
["Taranto - ","Ternana - "]
["Spal - ","Triestina - "]
["Giornata",11]
["Pescara - ","Perugia - "]
["Pisa - ","Padova - "]
["Pistoiese - ","Monza - "]
["Reggiana - ","F.Boys - "]
["Salernitana - ","Empoli - "]
["Spal - ","Cremonese - "]
["Vicenza - ","Ternana - "]
["Triestina - ","Taranto - "]
["Giornata",12]
["Pescara - ","Vicenza - "]
["Perugia - ","Pisa - "]
["Padova - ","Pistoiese - "]
["Monza - ","Reggiana - "]
["F.Boys - ","Salernitana - "]
["Empoli - ","Spal - "]
["Cremonese - ","Taranto - "]
["Ternana - ","Triestina - "]
["Giornata",13]
["Pisa - ","Pescara - "]
["Pistoiese - ","Perugia - "]
["Reggiana - ","Padova - "]
["Salernitana - ","Monza - "]
["Spal - ","F.Boys - "]
["Taranto - ","Empoli - "]
["Ternana - ","Cremonese - "]
["Vicenza - ","Triestina - "]
["Giornata",14]
["Pisa - ","Vicenza - "]
["Pescara - ","Pistoiese - "]
["Perugia - ","Reggiana - "]
["Padova - ","Salernitana - "]
["Monza - ","Spal - "]
["F.Boys - ","Taranto - "]
["Empoli - ","Ternana - "]
["Cremonese - ","Triestina - "]
["Giornata",15]
["Vicenza - ","Cremonese - "]
["Pistoiese - ","Pisa - "]
["Reggiana - ","Pescara - "]
["Salernitana - ","Perugia - "]
["Spal - ","Padova - "]
["Taranto - ","Monza - "]
["Ternana - ","F.Boys - "]
["Triestina - ","Empoli - "]